Workbook

Sheet 集約用
A1: No | B1: 期間 | C1: 推薦団体 | D1: 大会区分 | E1: メダル | F1: 名前 | G1: ふりがな | H1: 所属名 | I1: 競技会① | J1: 競技種目名⑴ | K1: 成績⑴ | L1: 記録⑴ | M1: 年月日⑴ | N1: 競技種目名⑵ | O1: 成績⑵ | P1: 記録⑵ | Q1: 年月日⑵ | R1: 競技種目名⑶ | S1: 成績⑶ | T1: 記録⑶ | U1: 年月日⑶ | V1: 競技会② | W1: 競技種目名⑴ | X1: 成績⑴ | Y1: 記録⑴ | Z1: 年月日⑴ | AA1: 競技種目名⑵ | AB1: 成績⑵ | AC1: 記録⑵ | AD1: 年月日⑵ | AE1: 競技種目名⑶ | AF1: 成績⑶ | AG1: 記録⑶ | AH1: 年月日⑶ | AI1: 備考 | AJ1: 補足事項 | AK1: 事務局案 | AL1: 審査結果 | AM1: 重複推薦
A2: 1 | B2: {='1人目'!D1:D1} -> 後期 | C2: =IF('1人目'!L42="","",'1人目'!L42) | F2: =IF('1人目'!F9="","",'1人目'!F9) | G2: =IF('1人目'!F8="","",'1人目'!F8) | H2: =IF('1人目'!F12="","",'1人目'!F12) | I2: =IF('1人目'!F14="","",'1人目'!F14) | J2: =IF('1人目'!F17="","",'1人目'!F17) | K2: =IF('1人目'!F18="","",'1人目'!F18) | L2: =IF('1人目'!G19="","",'1人目'!G19) | M2: =IF('1人目'!F20="","",'1人目'!F20) | N2: =IF('1人目'!L17="","",'1人目'!L17) | O2: =IF('1人目'!L18="","",'1人目'!L18) | P2: =IF('1人目'!M19="","",'1人目'!M19) | Q2: =IF('1人目'!L20="","",'1人目'!L20) | R2: =IF('1人目'!R17="","",'1人目'!R17) | S2: =IF('1人目'!R18="","",'1人目'!R18) | T2: =IF('1人目'!S19="","",'1人目'!S19) | U2: =IF('1人目'!R20="","",'1人目'!R20) | V2: =IF('1人目'!F21="","",'1人目'!F21) | W2: =IF('1人目'!F24="","",'1人目'!F24) | X2: =IF('1人目'!F25="","",'1人目'!F25) | Y2: =IF('1人目'!G26="","",'1人目'!G26) | Z2: =IF('1人目'!F27="","",'1人目'!F27) | AA2: =IF('1人目'!L24="","",'1人目'!L24) | AB2: =IF('1人目'!L25="","",'1人目'!L25) | AC2: =IF('1人目'!M26="","",'1人目'!M26) | AD2: =IF('1人目'!L27="","",'1人目'!L27) | AE2: =IF('1人目'!R24="","",'1人目'!R24) | AF2: =IF('1人目'!R25="","",'1人目'!R25) | AG2: =IF('1人目'!S26="","",'1人目'!S26) | AH2: =IF('1人目'!R27="","",'1人目'!R27) | AM2: =IF('1人目'!U8="","",'1人目'!U8)
A3: 2 | B3: {='2人目'!D1:D1} -> 後期 | C3: =IF('2人目'!L42="","",'2人目'!L42) | F3: =IF('2人目'!F9="","",'2人目'!F9) | G3: =IF('2人目'!F8="","",'2人目'!F8) | H3: =IF('2人目'!F12="","",'2人目'!F12) | I3: =IF('2人目'!F14="","",'2人目'!F14) | J3: =IF('2人目'!F17="","",'2人目'!F17) | K3: =IF('2人目'!F18="","",'2人目'!F18) | L3: =IF('2人目'!G19="","",'2人目'!G19) | M3: =IF('2人目'!F20="","",'2人目'!F20) | N3: =IF('2人目'!L17="","",'2人目'!L17) | O3: =IF('2人目'!L18="","",'2人目'!L18) | P3: =IF('2人目'!M19="","",'2人目'!M19) | Q3: =IF('2人目'!L20="","",'2人目'!L20) | R3: =IF('2人目'!R17="","",'2人目'!R17) | S3: =IF('2人目'!R18="","",'2人目'!R18) | T3: =IF('2人目'!S19="","",'2人目'!S19) | U3: =IF('2人目'!R20="","",'2人目'!R20) | V3: =IF('2人目'!F21="","",'2人目'!F21) | W3: =IF('2人目'!F24="","",'2人目'!F24) | X3: =IF('2人目'!F25="","",'2人目'!F25) | Y3: =IF('2人目'!G26="","",'2人目'!G26) | Z3: =IF('2人目'!F27="","",'2人目'!F27) | AA3: =IF('2人目'!L24="","",'2人目'!L24) | AB3: =IF('2人目'!L25="","",'2人目'!L25) | AC3: =IF('2人目'!M26="","",'2人目'!M26) | AD3: =IF('2人目'!L27="","",'2人目'!L27) | AE3: =IF('2人目'!R24="","",'2人目'!R24) | AF3: =IF('2人目'!R25="","",'2人目'!R25) | AG3: =IF('2人目'!S26="","",'2人目'!S26) | AH3: =IF('2人目'!R27="","",'2人目'!R27) | AM3: =IF('2人目'!U8="","",'2人目'!U8)
A4: 3 | B4: {='3人目'!D1:D1} -> 後期 | C4: =IF('3人目'!L42="","",'3人目'!L42) | F4: =IF('3人目'!F9="","",'3人目'!F9) | G4: =IF('3人目'!F8="","",'3人目'!F8) | H4: =IF('3人目'!F12="","",'3人目'!F12) | I4: =IF('3人目'!F14="","",'3人目'!F14) | J4: =IF('3人目'!F17="","",'3人目'!F17) | K4: =IF('3人目'!F18="","",'3人目'!F18) | L4: =IF('3人目'!G19="","",'3人目'!G19) | M4: =IF('3人目'!F20="","",'3人目'!F20) | N4: =IF('3人目'!L17="","",'3人目'!L17) | O4: =IF('3人目'!L18="","",'3人目'!L18) | P4: =IF('3人目'!M19="","",'3人目'!M19) | Q4: =IF('3人目'!L20="","",'3人目'!L20) | R4: =IF('3人目'!R17="","",'3人目'!R17) | S4: =IF('3人目'!R18="","",'3人目'!R18) | T4: =IF('3人目'!S19="","",'3人目'!S19) | U4: =IF('3人目'!R20="","",'3人目'!R20) | V4: =IF('3人目'!F21="","",'3人目'!F21) | W4: =IF('3人目'!F24="","",'3人目'!F24) | X4: =IF('3人目'!F25="","",'3人目'!F25) | Y4: =IF('3人目'!G26="","",'3人目'!G26) | Z4: =IF('3人目'!F27="","",'3人目'!F27) | AA4: =IF('3人目'!L24="","",'3人目'!L24) | AB4: =IF('3人目'!L25="","",'3人目'!L25) | AC4: =IF('3人目'!M26="","",'3人目'!M26) | AD4: =IF('3人目'!L27="","",'3人目'!L27) | AE4: =IF('3人目'!R24="","",'3人目'!R24) | AF4: =IF('3人目'!R25="","",'3人目'!R25) | AG4: =IF('3人目'!S26="","",'3人目'!S26) | AH4: =IF('3人目'!R27="","",'3人目'!R27) | AM4: =IF('3人目'!U8="","",'3人目'!U8)
A5: 4 | B5: {='4人目'!D1:D1} -> 後期 | C5: =IF('4人目'!L42="","",'4人目'!L42) | F5: =IF('4人目'!F9="","",'4人目'!F9) | G5: =IF('4人目'!F8="","",'4人目'!F8) | H5: =IF('4人目'!F12="","",'4人目'!F12) | I5: =IF('4人目'!F14="","",'4人目'!F14) | J5: =IF('4人目'!F17="","",'4人目'!F17) | K5: =IF('4人目'!F18="","",'4人目'!F18) | L5: =IF('4人目'!G19="","",'4人目'!G19) | M5: =IF('4人目'!F20="","",'4人目'!F20) | N5: =IF('4人目'!L17="","",'4人目'!L17) | O5: =IF('4人目'!L18="","",'4人目'!L18) | P5: =IF('4人目'!M19="","",'4人目'!M19) | Q5: =IF('4人目'!L20="","",'4人目'!L20) | R5: =IF('4人目'!R17="","",'4人目'!R17) | S5: =IF('4人目'!R18="","",'4人目'!R18) | T5: =IF('4人目'!S19="","",'4人目'!S19) | U5: =IF('4人目'!R20="","",'4人目'!R20) | V5: =IF('4人目'!F21="","",'4人目'!F21) | W5: =IF('4人目'!F24="","",'4人目'!F24) | X5: =IF('4人目'!F25="","",'4人目'!F25) | Y5: =IF('4人目'!G26="","",'4人目'!G26) | Z5: =IF('4人目'!F27="","",'4人目'!F27) | AA5: =IF('4人目'!L24="","",'4人目'!L24) | AB5: =IF('4人目'!L25="","",'4人目'!L25) | AC5: =IF('4人目'!M26="","",'4人目'!M26) | AD5: =IF('4人目'!L27="","",'4人目'!L27) | AE5: =IF('4人目'!R24="","",'4人目'!R24) | AF5: =IF('4人目'!R25="","",'4人目'!R25) | AG5: =IF('4人目'!S26="","",'4人目'!S26) | AH5: =IF('4人目'!R27="","",'4人目'!R27) | AM5: =IF('4人目'!U8="","",'4人目'!U8)
A6: 5 | B6: {='5人目'!D1:D1} -> 後期 | C6: =IF('5人目'!L42="","",'5人目'!L42) | F6: =IF('5人目'!F9="","",'5人目'!F9) | G6: =IF('5人目'!F8="","",'5人目'!F8) | H6: =IF('5人目'!F12="","",'5人目'!F12) | I6: =IF('5人目'!F14="","",'5人目'!F14) | J6: =IF('5人目'!F17="","",'5人目'!F17) | K6: =IF('5人目'!F18="","",'5人目'!F18) | L6: =IF('5人目'!G19="","",'5人目'!G19) | M6: =IF('5人目'!F20="","",'5人目'!F20) | N6: =IF('5人目'!L17="","",'5人目'!L17) | O6: =IF('5人目'!L18="","",'5人目'!L18) | P6: =IF('5人目'!M19="","",'5人目'!M19) | Q6: =IF('5人目'!L20="","",'5人目'!L20) | R6: =IF('5人目'!R17="","",'5人目'!R17) | S6: =IF('5人目'!R18="","",'5人目'!R18) | T6: =IF('5人目'!S19="","",'5人目'!S19) | U6: =IF('5人目'!R20="","",'5人目'!R20) | V6: =IF('5人目'!F21="","",'5人目'!F21) | W6: =IF('5人目'!F24="","",'5人目'!F24) | X6: =IF('5人目'!F25="","",'5人目'!F25) | Y6: =IF('5人目'!G26="","",'5人目'!G26) | Z6: =IF('5人目'!F27="","",'5人目'!F27) | AA6: =IF('5人目'!L24="","",'5人目'!L24) | AB6: =IF('5人目'!L25="","",'5人目'!L25) | AC6: =IF('5人目'!M26="","",'5人目'!M26) | AD6: =IF('5人目'!L27="","",'5人目'!L27) | AE6: =IF('5人目'!R24="","",'5人目'!R24) | AF6: =IF('5人目'!R25="","",'5人目'!R25) | AG6: =IF('5人目'!S26="","",'5人目'!S26) | AH6: =IF('5人目'!R27="","",'5人目'!R27) | AM6: =IF('5人目'!U8="","",'5人目'!U8)

Sheet 1人目
A1: 様式１-１ | D1: 後期 | F1: 兵庫県スポーツ賞特別賞・優秀賞推薦書 | T1: （個人種目）
B2: 〔令和８年11月１日から令和８年12月31日に実施された表彰対象競技会に係るもの〕
R4: 経 過
R6: 審 | S6: 決 | T6: 否
A8: ふ り が な | O8: 性別 | S8: 重複推薦
A9: 選手名 | O9: 生年月日 （西暦）
A10: 現 住 所 | F10: 〒
A12: 所 属 名 | P12: 連絡先
A13: (勤務先、学校名・学年) | P13: (TEL)
B14: 大 会 名
A15: 1 | B15: (正式名称)
B16: 競技場名 | Q16: 備 考
B17: 競技種目名
B18: 成績
B19: (記録) | F19: （ | K19: ） | L19: （ | Q19: ） | R19: （ | W19: ）
B20: 樹立年月日（西暦）
B21: 大 会 名
A22: 2 | B22: (正式名称)
B23: 競技場名 | Q23: 備 考
B24: 競技種目名
B25: 成績
B26: (記録) | F26: （ | K26: ） | L26: （ | Q26: ） | R26: （ | W26: ）
B27: 樹立年月日（西暦）
A28: 特記事項等
A35: 相違ないことを認め、関係資料を添えてここに推薦いたします。
Q37: 令和 年 月 日
E39: 兵庫県知事 | N39: 様
I42: 推薦団体名
I43: 代表者名
A45: 作成者名 | K45: 住所 | M45: 〒
M47: TEL | R47: FAX
A48: ※₁ 個人情報については、スポーツ賞特別賞・優秀賞表彰に係る事務においてのみ使用します。
A49: ※₂ 選手名・所属名・大会名・競技種目名・成績は推薦書記載のとおり名簿に掲載されますので、十分にご確認ください。
A58: 優勝 | D58: 男 | E58: 有 | G58: T
A59: 準優勝 | D59: 女 | E59: 無 | G59: S
A60: ３位 | G60: H
A61: ４位
A62: ５位
A63: ６位
A64: ７位
...

Sheet 2人目
A1: 様式１-１ | D1: ='1人目'!D1 -> 後期 | F1: 兵庫県スポーツ賞特別賞・優秀賞推薦書 | T1: （個人種目）
B2: ='1人目'!B2 -> 〔令和８年11月１日から令和８年12月31日に実施された表彰対象競技会に係るもの〕
R4: 経 過
R6: 審 | S6: 決 | T6: 否
A8: ふ り が な | O8: 性別 | S8: 重複推薦
A9: 選手名 | O9: 生年月日 （西暦）
A10: 現 住 所 | F10: 〒
A12: 所 属 名 | P12: 連絡先
A13: (勤務先、学校名・学年) | P13: (TEL)
B14: 大 会 名
A15: 1 | B15: (正式名称)
B16: 競技場名 | Q16: 備 考
B17: 競技種目名
B18: 成績
B19: (記録) | F19: （ | K19: ） | L19: （ | Q19: ） | R19: （ | W19: ）
B20: 樹立年月日（西暦）
B21: 大 会 名
A22: 2 | B22: (正式名称)
B23: 競技場名 | Q23: 備 考
B24: 競技種目名
B25: 成績
B26: (記録) | F26: （ | K26: ） | L26: （ | Q26: ） | R26: （ | W26: ）
B27: 樹立年月日（西暦）
A28: 特記事項等
A35: 相違ないことを認め、関係資料を添えてここに推薦いたします。
Q37: 令和 年 月 日
E39: 兵庫県知事 | N39: 様
I42: 推薦団体名
I43: 代表者名
A45: 作成者名 | K45: 住所 | M45: 〒
M47: TEL | R47: FAX
A48: ※₁ 個人情報については、スポーツ賞特別賞・優秀賞表彰に係る事務においてのみ使用します。
A49: ※₂ 選手名・所属名・大会名・競技種目名・成績は推薦書記載のとおり名簿に掲載されますので、十分にご確認ください。
A58: 優勝 | D58: 男 | E58: 有 | G58: T
A59: 準優勝 | D59: 女 | E59: 無 | G59: S
A60: ３位 | G60: H
A61: ４位
A62: ５位
A63: ６位
A64: ７位
...

Sheet 3人目
A1: 様式１-１ | D1: ='1人目'!D1 -> 後期 | F1: 兵庫県スポーツ賞特別賞・優秀賞推薦書 | T1: （個人種目）
B2: ='1人目'!B2 -> 〔令和８年11月１日から令和８年12月31日に実施された表彰対象競技会に係るもの〕
R4: 経 過
R6: 審 | S6: 決 | T6: 否
A8: ふ り が な | O8: 性別 | S8: 重複推薦
A9: 選手名 | O9: 生年月日 （西暦）
A10: 現 住 所 | F10: 〒
A12: 所 属 名 | P12: 連絡先
A13: (勤務先、学校名・学年) | P13: (TEL)
B14: 大 会 名
A15: 1 | B15: (正式名称)
B16: 競技場名 | Q16: 備 考
B17: 競技種目名
B18: 成績
B19: (記録) | F19: （ | K19: ） | L19: （ | Q19: ） | R19: （ | W19: ）
B20: 樹立年月日（西暦）
B21: 大 会 名
A22: 2 | B22: (正式名称)
B23: 競技場名 | Q23: 備 考
B24: 競技種目名
B25: 成績
B26: (記録) | F26: （ | K26: ） | L26: （ | Q26: ） | R26: （ | W26: ）
B27: 樹立年月日（西暦）
A28: 特記事項等
A35: 相違ないことを認め、関係資料を添えてここに推薦いたします。
Q37: 令和 年 月 日
E39: 兵庫県知事 | N39: 様
I42: 推薦団体名
I43: 代表者名
A45: 作成者名 | K45: 住所 | M45: 〒
M47: TEL | R47: FAX
A48: ※₁ 個人情報については、スポーツ賞特別賞・優秀賞表彰に係る事務においてのみ使用します。
A49: ※₂ 選手名・所属名・大会名・競技種目名・成績は推薦書記載のとおり名簿に掲載されますので、十分にご確認ください。
A58: 優勝 | D58: 男 | E58: 有 | G58: T
A59: 準優勝 | D59: 女 | E59: 無 | G59: S
A60: ３位 | G60: H
A61: ４位
A62: ５位
A63: ６位
A64: ７位
...

Sheet 4人目
A1: 様式１-１ | D1: ='1人目'!D1 -> 後期 | F1: 兵庫県スポーツ賞特別賞・優秀賞推薦書 | T1: （個人種目）
B2: ='1人目'!B2 -> 〔令和８年11月１日から令和８年12月31日に実施された表彰対象競技会に係るもの〕
R4: 経 過
R6: 審 | S6: 決 | T6: 否
A8: ふ り が な | O8: 性別 | S8: 重複推薦
A9: 選手名 | O9: 生年月日 （西暦）
A10: 現 住 所 | F10: 〒
A12: 所 属 名 | P12: 連絡先
A13: (勤務先、学校名・学年) | P13: (TEL)
B14: 大 会 名
A15: 1 | B15: (正式名称)
B16: 競技場名 | Q16: 備 考
B17: 競技種目名
B18: 成績
B19: (記録) | F19: （ | K19: ） | L19: （ | Q19: ） | R19: （ | W19: ）
B20: 樹立年月日（西暦）
B21: 大 会 名
A22: 2 | B22: (正式名称)
B23: 競技場名 | Q23: 備 考
B24: 競技種目名
B25: 成績
B26: (記録) | F26: （ | K26: ） | L26: （ | Q26: ） | R26: （ | W26: ）
B27: 樹立年月日（西暦）
A28: 特記事項等
A35: 相違ないことを認め、関係資料を添えてここに推薦いたします。
Q37: 令和 年 月 日
E39: 兵庫県知事 | N39: 様
I42: 推薦団体名
I43: 代表者名
A45: 作成者名 | K45: 住所 | M45: 〒
M47: TEL | R47: FAX
A48: ※₁ 個人情報については、スポーツ賞特別賞・優秀賞表彰に係る事務においてのみ使用します。
A49: ※₂ 選手名・所属名・大会名・競技種目名・成績は推薦書記載のとおり名簿に掲載されますので、十分にご確認ください。
A58: 優勝 | D58: 男 | E58: 有 | G58: T
A59: 準優勝 | D59: 女 | E59: 無 | G59: S
A60: ３位 | G60: H
A61: ４位
A62: ５位
A63: ６位
A64: ７位
...

Sheet 5人目
A1: 様式１-１ | D1: ='1人目'!D1 -> 後期 | F1: 兵庫県スポーツ賞特別賞・優秀賞推薦書 | T1: （個人種目）
B2: ='1人目'!B2 -> 〔令和８年11月１日から令和８年12月31日に実施された表彰対象競技会に係るもの〕
R4: 経 過
R6: 審 | S6: 決 | T6: 否
A8: ふ り が な | O8: 性別 | S8: 重複推薦
A9: 選手名 | O9: 生年月日 （西暦）
A10: 現 住 所 | F10: 〒
A12: 所 属 名 | P12: 連絡先
A13: (勤務先、学校名・学年) | P13: (TEL)
B14: 大 会 名
A15: 1 | B15: (正式名称)
B16: 競技場名 | Q16: 備 考
B17: 競技種目名
B18: 成績
B19: (記録) | F19: （ | K19: ） | L19: （ | Q19: ） | R19: （ | W19: ）
B20: 樹立年月日（西暦）
B21: 大 会 名
A22: 2 | B22: (正式名称)
B23: 競技場名 | Q23: 備 考
B24: 競技種目名
B25: 成績
B26: (記録) | F26: （ | K26: ） | L26: （ | Q26: ） | R26: （ | W26: ）
B27: 樹立年月日（西暦）
A28: 特記事項等
A35: 相違ないことを認め、関係資料を添えてここに推薦いたします。
Q37: 令和 年 月 日
E39: 兵庫県知事 | N39: 様
I42: 推薦団体名
I43: 代表者名
A45: 作成者名 | K45: 住所 | M45: 〒
M47: TEL | R47: FAX
A48: ※₁ 個人情報については、スポーツ賞特別賞・優秀賞表彰に係る事務においてのみ使用します。
A49: ※₂ 選手名・所属名・大会名・競技種目名・成績は推薦書記載のとおり名簿に掲載されますので、十分にご確認ください。
A58: 優勝 | D58: 男 | E58: 有 | G58: T
A59: 準優勝 | D59: 女 | E59: 無 | G59: S
A60: ３位 | G60: H
A61: ４位
A62: ５位
A63: ６位
A64: ７位
...
