Workbook

Sheet 集約用
A1: No | B1: 期間 | C1: 推薦団体 | D1: 大会区分 | E1: メダル | F1: 名前 | G1: ふりがな | H1: 所属名 | I1: 競技会① | J1: 競技種目名⑴ | K1: 成績⑴ | L1: 記録⑴ | M1: 年月日⑴ | N1: 競技種目名⑵ | O1: 成績⑵ | P1: 記録⑵ | Q1: 年月日⑵ | R1: 競技種目名⑶ | S1: 成績⑶ | T1: 記録⑶ | U1: 年月日⑶ | V1: 競技会② | W1: 競技種目名⑴ | X1: 成績⑴ | Y1: 記録⑴ | Z1: 年月日⑴ | AA1: 競技種目名⑵ | AB1: 成績⑵ | AC1: 記録⑵ | AD1: 年月日⑵ | AE1: 競技種目名⑶ | AF1: 成績⑶ | AG1: 記録⑶ | AH1: 年月日⑶ | AI1: 備考 | AJ1: 補足事項 | AK1: 事務局案 | AL1: 審査結果 | AM1: 重複推薦
A2: 1 | B2: =IF(様式２A!$D$1="","",様式２A!$D$1) -> 前期 | C2: =IF(様式２A!$N$39="","",様式２A!$N$39) | F2: =IF(様式２A!A17="","",様式２A!A17) | G2: =IF(様式２A!A16="","",様式２A!A16) | H2: =IF(様式２A!K16="","",様式２A!K16) | I2: =IF(様式２A!$F$10="","",様式２A!$F$10) | J2: =IF(様式２A!$F$12="","",様式２A!$F$12) | K2: =IF(様式２A!$T$12="","",様式２A!$T$12) | L2: =IF(様式２A!$T$13="","",様式２A!$T$13) | M2: =IF(様式２A!$F$13="","",様式２A!$F$13) | AM2: =IF(様式２A!X16="","",様式２A!X16)
A3: 2 | B3: =IF(様式２A!$D$1="","",様式２A!$D$1) -> 前期 | C3: =IF(様式２A!$N$39="","",様式２A!$N$39) | F3: =IF(様式２A!A19="","",様式２A!A19) | G3: =IF(様式２A!A18="","",様式２A!A18) | H3: =IF(様式２A!K18="","",様式２A!K18) | I3: =IF(様式２A!$F$10="","",様式２A!$F$10) | J3: =IF(様式２A!$F$12="","",様式２A!$F$12) | K3: =IF(様式２A!$T$12="","",様式２A!$T$12) | L3: =IF(様式２A!$T$13="","",様式２A!$T$13) | M3: =IF(様式２A!$F$13="","",様式２A!$F$13) | AM3: =IF(様式２A!X18="","",様式２A!X18)
A4: 3 | B4: =IF(様式２A!$D$1="","",様式２A!$D$1) -> 前期 | C4: =IF(様式２A!$N$39="","",様式２A!$N$39) | F4: =IF(様式２A!A21="","",様式２A!A21) | G4: =IF(様式２A!A20="","",様式２A!A20) | H4: =IF(様式２A!K20="","",様式２A!K20) | I4: =IF(様式２A!$F$10="","",様式２A!$F$10) | J4: =IF(様式２A!$F$12="","",様式２A!$F$12) | K4: =IF(様式２A!$T$12="","",様式２A!$T$12) | L4: =IF(様式２A!$T$13="","",様式２A!$T$13) | M4: =IF(様式２A!$F$13="","",様式２A!$F$13) | AM4: =IF(様式２A!X20="","",様式２A!X20)
A5: 4 | B5: =IF(様式２A!$D$1="","",様式２A!$D$1) -> 前期 | C5: =IF(様式２A!$N$39="","",様式２A!$N$39) | F5: =IF(様式２A!A23="","",様式２A!A23) | G5: =IF(様式２A!A22="","",様式２A!A22) | H5: =IF(様式２A!K22="","",様式２A!K22) | I5: =IF(様式２A!$F$10="","",様式２A!$F$10) | J5: =IF(様式２A!$F$12="","",様式２A!$F$12) | K5: =IF(様式２A!$T$12="","",様式２A!$T$12) | L5: =IF(様式２A!$T$13="","",様式２A!$T$13) | M5: =IF(様式２A!$F$13="","",様式２A!$F$13) | AM5: =IF(様式２A!X22="","",様式２A!X22)
A6: 5 | B6: =IF(様式２A!$D$1="","",様式２A!$D$1) -> 前期 | C6: =IF(様式２A!$N$39="","",様式２A!$N$39) | F6: =IF(様式２A!A25="","",様式２A!A25) | G6: =IF(様式２A!A24="","",様式２A!A24) | H6: =IF(様式２A!K24="","",様式２A!K24) | I6: =IF(様式２A!$F$10="","",様式２A!$F$10) | J6: =IF(様式２A!$F$12="","",様式２A!$F$12) | K6: =IF(様式２A!$T$12="","",様式２A!$T$12) | L6: =IF(様式２A!$T$13="","",様式２A!$T$13) | M6: =IF(様式２A!$F$13="","",様式２A!$F$13) | AM6: =IF(様式２A!X24="","",様式２A!X24)
A7: 6 | B7: =IF(様式２A!$D$1="","",様式２A!$D$1) -> 前期 | C7: =IF(様式２A!$N$39="","",様式２A!$N$39) | F7: =IF(様式２A!A27="","",様式２A!A27) | G7: =IF(様式２A!A26="","",様式２A!A26) | H7: =IF(様式２A!K26="","",様式２A!K26) | I7: =IF(様式２A!$F$10="","",様式２A!$F$10) | J7: =IF(様式２A!$F$12="","",様式２A!$F$12) | K7: =IF(様式２A!$T$12="","",様式２A!$T$12) | L7: =IF(様式２A!$T$13="","",様式２A!$T$13) | M7: =IF(様式２A!$F$13="","",様式２A!$F$13) | AM7: =IF(様式２A!X26="","",様式２A!X26)
A8: 7 | B8: =IF(様式２A!$D$1="","",様式２A!$D$1) -> 前期 | C8: =IF(様式２A!$N$39="","",様式２A!$N$39) | F8: =IF(様式２A!A29="","",様式２A!A29) | G8: =IF(様式２A!A28="","",様式２A!A28) | H8: =IF(様式２A!K28="","",様式２A!K28) | I8: =IF(様式２A!$F$10="","",様式２A!$F$10) | J8: =IF(様式２A!$F$12="","",様式２A!$F$12) | K8: =IF(様式２A!$T$12="","",様式２A!$T$12) | L8: =IF(様式２A!$T$13="","",様式２A!$T$13) | M8: =IF(様式２A!$F$13="","",様式２A!$F$13) | AM8: =IF(様式２A!X28="","",様式２A!X28)
A9: 8 | B9: =IF(様式２A!$D$1="","",様式２A!$D$1) -> 前期 | C9: =IF(様式２A!$N$39="","",様式２A!$N$39) | F9: =IF(様式２A!A31="","",様式２A!A31) | G9: =IF(様式２A!A30="","",様式２A!A30) | H9: =IF(様式２A!K30="","",様式２A!K30) | I9: =IF(様式２A!$F$10="","",様式２A!$F$10) | J9: =IF(様式２A!$F$12="","",様式２A!$F$12) | K9: =IF(様式２A!$T$12="","",様式２A!$T$12) | L9: =IF(様式２A!$T$13="","",様式２A!$T$13) | M9: =IF(様式２A!$F$13="","",様式２A!$F$13) | AM9: =IF(様式２A!X30="","",様式２A!X30)

Sheet 様式２A
A1: 様式２ | D1: 前期 | F1: 兵庫県スポーツ賞特別賞・優秀賞推薦書 | V1: （団体種目）
B2: 〔令和８年１月１日から令和８年10月31日に実施された表彰対象競技会に係るもの〕
T4: 経 過
T6: 審 | U6: 決 | V6: 否
A8: ふ り が な
A9: 被表彰者団体名
A10: 大会名
A11: 競技場名
A12: 競技種目名 | O12: 大会成績
A13: 年月日（西暦） | M13: 樹立 | O13: 記録
A14: 所属団体名 | O14: 備考 | AD14: 男
A15: 選手名 | F15: 性別 | G15: 生年月日 （西暦） | K15: 所属名 (勤務先、学校名・学年) | P15: 現住所 | X15: 特記事項 （重複推薦の 有無） | AD15: 女
P16: 〒 | T16: TEL
P18: 〒 | T18: TEL
P20: 〒 | T20: TEL
P22: 〒 | T22: TEL
P24: 〒 | T24: TEL
P26: 〒 | T26: TEL
P28: 〒 | T28: TEL
P30: 〒 | T30: TEL
A33: 相違ないことを認め、関係資料を添えてここに推薦いたします。
S35: 令和 年 月 日
G37: 兵庫県知事 | P37: 様
K39: 推薦団体名
K40: 代表者名
A42: 作成者名 | M42: 住所 | O42: 〒
O44: TEL | T44: FAX
A45: ※₁ 個人情報については、スポーツ賞特別賞・優秀賞表彰に係る事務においてのみ使用します。
A46: ※₂ 選手名・所属名・大会名・競技種目名・成績は推薦書記載のとおり名簿に掲載されますので、十分にご確認ください。
G55: 有
G56: 無
A58: 優勝 | D58: 男 | F58: 有 | H58: T
A59: 準優勝 | D59: 女 | F59: 無 | H59: S
A60: ３位 | H60: H
A61: ４位
A62: ５位
A63: ６位
A64: ７位
A65: ８位
