{"text_format":"1","workbook":"xlsx","n_sheets":28,"sheets":["入力用シート","A点","B点","C点","D点","E点","F点","G点","H点","Ｉ点","表１","表２(Pb)","表３(コ)","表4(Fe)","表5(CaSO4)","表6(SiO2)","表7(木)","表8(a)","表9(BB)","表10(換算)","出力1","出力2","出力3","出力4","出力5","合計出力","パラメータ","入力方法"],"not_rendered":{"charts":0,"images":0,"macros":1,"external_links":0,"defined_names":8,"comments":1,"pivot_tables":0},"unopened":[],"bounds":{"document_bytes":16777216,"sheet_cells":100000,"rows_first":2000,"rows_last":500,"rows_between":2000,"halvings":0,"cell_chars":16384,"cell_head_chars":4096},"cells_cut":0,"cells_raw":0,"read":"whole","date_system":"1900"}

{"sheet":"入力用シート","index":0,"n_rows":107,"n_cols":74,"rows_kept":107,"cut":false,"hidden":false,"merged":[[3,27,3,30],[1,25,1,26],[3,25,3,26],[6,24,6,27],[7,24,7,25],[1,2,2,10],[1,14,2,24],[1,11,1,13],[1,27,1,30],[6,19,6,21],[7,19,7,21],[43,25,44,25],[45,25,46,25],[42,23,42,24],[36,23,36,24],[19,22,27,30],[30,22,34,30],[37,26,38,26],[39,26,40,26],[41,26,42,26],[45,26,46,26],[39,27,41,28],[45,27,47,28],[47,26,48,26],[37,27,38,27],[37,28,38,28],[43,27,44,27],[47,25,48,25],[37,25,38,25],[47,23,47,24],[46,21,46,22],[48,21,48,22],[90,15,90,16],[77,19,77,20],[77,21,77,22],[80,19,80,20],[77,25,78,25],[49,26,50,26],[57,26,58,26],[59,26,60,26],[61,26,62,26],[63,26,64,26],[65,26,66,26],[75,26,76,26],[69,26,70,26],[71,26,72,26],[73,26,74,26],[53,23,53,24],[79,17,79,18],[52,23,52,24],[52,21,52,22],[52,19,52,20],[54,21,54,22],[85,25,86,25],[79,25,80,25],[81,25,82,25],[85,4,90,5],[85,6,90,7],[85,8,90,9],[85,10,90,11],[73,4,78,5],[73,6,78,7],[73,8,78,9],[73,10,78,11],[79,4,84,5],[79,6,84,7],[79,8,84,9],[79,10,84,11],[63,27,65,28],[69,27,71,28],[73,27,74,27],[73,28,74,28],[37,4,42,5],[37,6,42,7],[37,8,42,9],[37,10,42,11],[43,4,48,5],[43,6,48,7],[43,8,48,9],[49,4,54,5],[49,6,54,7],[49,8,54,9],[49,10,54,11],[43,28,44,28],[49,27,50,27],[49,28,50,28],[55,27,56,27],[55,28,56,28],[61,27,62,27],[61,28,62,28],[67,27,68,27],[67,28,68,28],[90,17,90,18],[75,25,76,25],[75,27,77,28],[81,27,83,28],[87,27,89,28],[49,30,54,30],[69,25,70,25],[71,25,72,25],[73,25,74,25],[55,30,60,30],[61,30,66,30],[67,30,72,30],[67,25,68,25],[49,25,50,25],[51,25,52,25],[53,25,54,25],[55,25,56,25],[57,25,58,25],[59,25,60,25],[61,25,62,25],[63,25,64,25],[65,25,66,25],[51,27,53,28],[57,27,59,28],[85,30,90,30],[73,23,73,24],[74,19,74,20],[74,21,74,22],[74,23,74,24],[70,19,70,20],[73,30,78,30],[79,30,84,30],[87,25,88,25],[83,25,84,25],[89,25,90,25],[90,23,90,24],[85,23,85,24],[87,23,87,24],[90,21,90,22],[90,19,90,20],[79,27,80,27],[79,28,80,28],[85,27,86,27],[85,28,86,28],[75,23,75,24],[70,21,70,22],[79,19,79,20],[86,23,86,24],[10,67,10,70],[45,21,45,22],[45,23,45,24],[45,13,45,14],[8,16,8,18],[8,19,8,21],[15,17,15,18],[11,12,11,15],[11,16,11,18],[11,19,11,21],[12,12,12,15],[12,16,12,18],[12,19,12,21],[35,30,36,30],[37,30,42,30],[43,30,48,30],[31,16,31,17],[32,11,32,12],[32,16,32,17],[26,11,26,12],[31,11,31,12],[41,15,41,16],[45,19,45,20],[43,26,44,26],[90,13,90,14],[11,3,11,10],[12,3,12,10],[20,3,20,19],[24,3,24,19],[30,3,30,19],[15,4,15,6],[15,11,15,12],[9,3,9,10],[9,12,9,15],[25,11,25,12],[39,15,39,16],[43,10,48,11],[61,4,66,5],[61,8,66,9],[74,17,74,18],[73,19,73,20],[55,6,60,7],[55,8,60,9],[55,10,60,11],[61,6,66,7],[53,12,54,12],[65,13,65,14],[63,12,64,12],[89,23,89,24],[64,23,64,24],[70,23,70,24],[73,21,73,22],[50,17,50,18],[80,21,80,22],[89,17,89,18],[89,15,89,16],[48,23,48,24],[63,23,63,24],[64,19,64,20],[64,21,64,22],[65,21,65,22],[54,19,54,20],[58,23,58,24],[65,23,65,24],[57,17,57,18],[57,19,57,20],[57,21,57,22],[56,19,56,20],[58,21,58,22],[57,15,57,16],[77,23,77,24],[51,17,51,18],[65,12,66,12],[63,15,63,16],[58,15,58,16],[66,15,66,16],[64,15,64,16],[61,13,61,14],[59,13,59,14],[46,19,46,20],[46,17,46,18],[48,19,48,20],[52,17,52,18],[53,15,53,16],[48,17,48,18],[62,19,62,20],[63,19,63,20],[65,15,65,16],[49,17,49,18],[58,17,58,18],[60,17,60,18],[59,17,59,18],[53,21,53,22],[53,19,53,20],[51,19,51,20],[89,13,89,14],[85,21,85,22],[85,19,85,20],[85,17,85,18],[85,15,85,16],[85,13,85,14],[86,13,86,14],[88,13,88,14],[88,15,88,16],[88,17,88,18],[88,19,88,20],[88,21,88,22],[86,19,86,20],[86,17,86,18],[87,13,87,14],[87,21,87,22],[87,19,87,20],[89,21,89,22],[89,19,89,20],[68,21,68,22],[87,17,87,18],[87,15,87,16],[86,15,86,16],[86,21,86,22],[83,12,84,12],[85,12,86,12],[79,23,79,24],[83,23,83,24],[82,13,82,14],[82,15,82,16],[82,17,82,18],[84,15,84,16],[84,17,84,18],[84,19,84,20],[84,21,84,22],[82,19,82,20],[82,21,82,22],[83,13,83,14],[83,15,83,16],[83,17,83,18],[83,19,83,20],[84,23,84,24],[82,23,82,24],[84,13,84,14],[79,21,79,22],[74,13,74,14],[79,15,79,16],[61,15,61,16],[58,13,58,14],[51,15,51,16],[50,15,50,16],[54,15,54,16],[73,13,73,14],[78,13,78,14],[78,15,78,16],[75,13,75,14],[75,15,75,16],[70,13,70,14],[68,13,68,14],[68,15,68,16],[67,17,67,18],[58,19,58,20],[59,21,59,22],[59,19,59,20],[60,19,60,20],[72,19,72,20],[72,21,72,22],[63,21,63,22],[62,21,62,22],[68,19,68,20],[68,17,68,18],[61,21,61,22],[63,17,63,18],[65,17,65,18],[75,21,75,22],[74,15,74,16],[75,17,75,18],[75,19,75,20],[72,15,72,16],[69,17,69,18],[50,23,50,24],[50,21,50,22],[50,19,50,20],[57,23,57,24],[59,23,59,24],[60,23,60,24],[67,23,67,24],[62,23,62,24],[69,23,69,24],[61,23,61,24],[66,23,66,24],[68,23,68,24],[72,23,72,24],[51,21,51,22],[69,19,69,20],[73,17,73,18],[73,15,73,16],[70,15,70,16],[71,12,72,12],[66,13,66,14],[67,13,67,14],[67,12,68,12],[69,12,70,12],[61,12,62,12],[55,4,60,5],[61,10,66,11],[78,23,78,24],[77,17,77,18],[77,13,77,14],[78,17,78,18],[78,19,78,20],[78,21,78,22],[77,15,77,16],[61,19,61,20],[65,19,65,20],[76,21,76,22],[76,23,76,24],[67,21,67,22],[69,15,69,16],[70,17,70,18],[69,21,69,22],[67,15,67,16],[41,12,42,12],[42,17,42,18],[37,12,38,12],[13,12,13,21],[46,13,46,14],[46,15,46,16],[49,15,49,16],[44,15,44,16],[51,12,52,12],[44,13,44,14],[49,12,50,12],[48,13,48,14],[45,12,46,12],[47,12,48,12],[43,12,44,12],[43,13,43,14],[43,15,43,16],[47,13,47,14],[47,15,47,16],[52,15,52,16],[48,15,48,16],[50,13,50,14],[44,21,44,22],[49,21,49,22],[42,15,42,16],[38,15,38,16],[38,17,38,18],[40,13,40,14],[39,19,39,20],[40,15,40,16],[39,17,39,18],[40,19,40,20],[41,13,41,14],[39,13,39,14],[38,13,38,14],[42,13,42,14],[41,17,41,18],[40,17,40,18],[37,17,37,18],[7,3,7,10],[35,2,36,3],[16,4,16,6],[7,12,7,15],[7,16,7,18],[16,17,16,18],[10,16,10,18],[21,16,21,17],[22,16,22,17],[25,16,25,17],[26,7,26,8],[31,7,31,8],[36,8,36,9],[36,10,36,11],[32,7,32,8],[18,6,18,11],[10,12,10,15],[10,19,10,21],[35,25,36,28],[35,13,35,24],[36,13,36,14],[36,15,36,16],[36,17,36,18],[36,19,36,20],[36,21,36,22],[6,12,6,15],[16,11,16,12],[35,12,36,12],[6,16,6,18],[26,16,26,17],[9,24,9,25],[8,24,8,25],[12,24,12,25],[62,51,62,52],[56,23,56,24],[56,21,56,22],[55,23,55,24],[55,21,55,22],[47,21,47,22],[47,19,47,20],[56,17,56,18],[43,23,43,24],[43,21,43,22],[43,19,43,20],[51,23,51,24],[54,23,54,24],[54,17,54,18],[53,17,53,18],[60,21,60,22],[49,23,49,24],[49,19,49,20],[44,19,44,20],[44,17,44,18],[45,17,45,18],[47,17,47,18],[44,23,44,24],[46,23,46,24],[45,63,46,63],[43,17,43,18],[8,12,8,15],[6,3,6,10],[61,17,61,18],[55,19,55,20],[55,17,55,18],[8,3,8,10],[21,7,21,8],[21,11,21,12],[22,11,22,12],[25,7,25,8],[35,4,35,11],[36,4,36,5],[36,6,36,7],[41,25,42,25],[38,2,41,3],[37,2,37,3],[44,2,47,3],[49,2,49,3],[39,12,40,12],[37,13,37,14],[37,15,37,16],[9,16,9,18],[1,33,1,62],[34,51,34,52],[35,29,36,29],[9,19,9,21],[14,33,15,33],[14,63,15,63],[26,41,26,42],[37,29,42,29],[42,21,42,22],[42,19,42,20],[41,19,41,20],[40,23,40,24],[40,21,40,22],[37,23,37,24],[37,21,37,22],[39,23,39,24],[39,21,39,22],[41,23,41,24],[41,21,41,22],[38,23,38,24],[38,21,38,22],[38,19,38,20],[37,19,37,20],[39,25,40,25],[85,41,85,42],[43,29,48,29],[45,33,46,33],[67,29,72,29],[73,29,78,29],[61,29,66,29],[89,12,90,12],[67,26,68,26],[71,13,71,14],[71,15,71,16],[71,17,71,18],[71,19,71,20],[71,21,71,22],[71,23,71,24],[76,13,76,14],[87,12,88,12],[77,12,78,12],[79,12,80,12],[73,12,74,12],[75,12,76,12],[81,12,82,12],[88,23,88,24],[83,21,83,22],[57,41,57,42],[73,63,74,63],[57,12,58,12],[49,29,54,29],[51,26,52,26],[53,26,54,26],[55,26,56,26],[55,29,60,29],[73,33,74,33],[49,13,49,14],[55,13,55,14],[53,13,53,14],[56,15,56,16],[52,13,52,14],[51,13,51,14],[62,17,62,18],[62,15,62,16],[62,13,62,14],[66,19,66,20],[66,21,66,22],[64,13,64,14],[66,17,66,18],[67,19,67,20],[69,13,69,14],[72,17,72,18],[43,2,43,3],[96,26,97,27],[96,30,97,30],[77,26,78,26],[79,26,80,26],[79,29,84,29],[81,26,82,26],[83,26,84,26],[85,26,86,26],[85,29,90,29],[87,26,88,26],[89,26,90,26],[91,2,91,29],[96,29,97,29],[79,13,79,14],[81,21,81,22],[81,23,81,24],[80,13,80,14],[80,23,80,24],[80,15,80,16],[81,13,81,14],[81,15,81,16],[81,17,81,18],[81,19,81,20],[45,15,45,16],[96,12,97,13],[96,4,97,5],[96,19,97,20],[72,13,72,14],[55,15,55,16],[59,15,59,16],[57,13,57,14],[76,15,76,16],[76,17,76,18],[76,19,76,20],[64,17,64,18],[63,13,63,14],[54,13,54,14],[56,13,56,14],[60,15,60,16],[60,13,60,14],[80,17,80,18],[67,4,72,5],[67,6,72,7],[67,8,72,9],[67,10,72,11],[55,12,56,12],[59,12,60,12],[79,2,79,3],[80,2,83,3],[85,2,85,3],[86,2,89,3],[50,2,53,3],[55,2,55,3],[56,2,59,3],[61,2,61,3],[62,2,65,3],[67,2,67,3],[68,2,71,3],[73,2,73,3],[74,2,77,3]]}
[]
[null,null,"エックス線遮蔽計算入力",null,null,null,null,null,null,null,null,"施設名：",null,null,null,null,null,null,null,null,null,null,null,null,null,"室　名：",null,null,null,null,null,null,null,"エックス線装置配置図",null,null,null,null,null,null,null,null,null,null,null,null,null,null,null,null,null,null,null,null,null,null,null,null,null,null,null,null,null,null,null,null,null,"リスト1","密度比",null,"材質",null,null,"撮影条件用"]
[null,null,null,null,null,null,null,null,null,null,null,null,null,null,null,null,null,null,null,null,null,null,null,null,null,null,null,null,null,null,null,null,null,null,null,null,null,null,null,null,null,null,null,null,null,null,null,null,null,null,null,null,null,null,null,null,null,null,null,null,null,null,null,null,null,null,1,"Pb",{"$f":"+Q8/11.35","v":0.96916299559471364},null,1,{"$f":"VLOOKUP(BS3,$BO$3:$BP$8,2,0)","v":"Pb"},null,"撮影立位"]
[null,null,null,null,null,null,null,null,null,null,null,null,null,null,null,null,null,null,null,null,null,null,null,null,null,"装置名：",null,null,null,null,null,null,null,null,null,"上からみたエックス線診療室",null,null,null,null,null,null,null,null,null,null,null,null,null,null,null,null,null,null,null,null,null,null,null,null,null,null,null,null,null,null,2,"ｺﾝｸﾘ",{"$f":"+Q9/2.35","v":0.8936170212765957},null,null,null,null,"撮影臥位"]
[null,null,null,null,null,null,null,null,null,null,null,null,null,null,null,null,null,null,null,null,null,null,null,null,null,null,null,null,null,null,null,null,null,null,null,null,null,null,null,null,null,null,null,null,null,null,null,null,null,null,null,null,null,null,null,null,null,null,null,null,null,null,null,null,null,null,3,"Fe",{"$f":"Q10/7.83","v":0.98339719029374206},null,null,null,null,"立位（透視＋撮影）"]
[null,null,"1)用途",null,null,null,null,null,null,null,null,null,"2)遮蔽材密度",null,null,null,null,null,null,null,null,null,null,"3)遮蔽体の有無",null,null,null,null,null,null,null,null,null,null,null,null,null,null,null,null,null,null,null,null,null,null,null,null,null,null,null,null,null,null,null,null,null,null,null,null,null,null,null,null,null,null,4,"石膏",{"$f":"+Q11/0.75","v":1},null,null,null,null,"臥位（透視＋撮影）"]
[null,"　",null,"1:治療用ｴｯｸｽ線装置（≦50ｋV）",null,null,null,null,null,null,null,null,"遮へい材",null,null,null,"密度（g/cm3）",null,null,"基準値（g/cm3）",null,null,null,null,"有りの場合は鉛当量(mmPb)で入力",null,null,null,null,null,null,null,null,null,null,null,null,null,null,null,null,null,null,null,null,null,null,null,null,null,null,null,null,null,null,null,null,null,null,null,null,null,null,null,null,null,5,"ｶﾞﾗｽ",{"$f":"+Q12/2.56","v":0.9765625},null,null,null,null,"透視のみ"]
[null,null,"　","2:治療用ｴｯｸｽ線装置（＞50ｋV）",null,null,null,null,null,null,null,null,"鉛",null,null,null,11,null,null,11.35,null,null,null,null,"透　視",null,null,"mmPb",null,null,null,null,null,null,null,null,null,null,null,null,null,null,null,null,null,null,null,null,null,null,null,null,null,null,null,null,null,null,null,null,null,null,null,null,null,null,6,"木材",{"$f":"+Q13/0.55","v":1},null,null,null,null,"デンタル"]
[null,null,null,"3:口内法撮影用X線装置（≦125ｋV）",null,null,null,null,null,null,null,null,"ｺﾝｸﾘｰﾄ",null,null,null,2.1,null,null,2.35,null,null,null,null,"一般撮影",null,null,"mmPb",null,null,null,null,null,null,null,null,null,null,null,null,null,null,null,"ｄ１",null,null,null,null,null,null,null,null,null,null,null,null,null,null,null,null,null,null,null,null,null,null,null,null,null,null,null,null,null,"マンモ"]
[null,null,null,"4:上記以外の診断用X線装置",null,null,null,null,null,null,null,null,"鉄",null,null,null,7.7,null,null,7.83,null,null,null,null,"C　　T",null,null,"mmPb",null,null,null,null,null,null,null,null,null,null,null,null,null,null,null,null,null,null,null,null,null,null,null,null,null,null,null,null,null,null,null,null,null,null,null,null,null,null,null,null,null,null,null,null,null,"CT"]
[null,null,"4)陽極素材",null,null,null,null,null,null,null,null,null,"石膏",null,null,null,0.75,null,null,0.75,null,null,null,null,null,null,null,null,null,null,null,null,null,null,null,null,null,null,null,null,null,null,null,null,null,null,null,null,null,null,null,null,"d4",null,null,null,null,null,null,null,null,null,null,"C\"",null,null,null,"リスト2",null,null,null,null,null,"パノラマ"]
[null,null,null,"タングステン陽極orロジウム陽極：1",null,null,null,null,null,null,null,null,"ｶﾞﾗｽ",null,null,null,2.5,null,null,2.56,null,null,null,null,null,null,null,null,null,null,null,null,null,"A\"",null,null,null,null,null,null,null,null,null,null,null,null,"d3",null,null,null,null,null,null,null,null,null,null,null,null,null,null,null,null,null,null,null,null,"1:治療用ｴｯｸｽ線装置（≦50ｋV）",null,null,null,1]
[null,null,null,"モリブデン  陽極：2",null,null,null,null,null,null,null,null,"木材",null,null,null,0.55000000000000004,null,null,0.55000000000000004,null,null,null,null,null,null,null,null,"透視装置","撮影","CT・パノラマ",null,null,null,null,null,null,null,null,null,null,null,null,"被写体",null,null,null,null,null,null,null,null,null,null,null,null,null,null,null,null,null,null,null,null,null,null,null,"2:治療用ｴｯｸｽ線装置（＞50ｋV）",null,null,null,2]
[null,null,null,null,null,null,null,null,null,null,null,null,"※しゃへい計算実務マニュアル（'07年版）推奨値",null,null,null,null,null,null,null,null,null,null,null,null,null,null,"W＝",{"$f":"IF(A点!R1=0,\"\",(A点!R1))","v":""},{"$f":"IF(A点!S1=0,\"\",(A点!S1))","v":""},{"$f":"IF(A点!T1=0,\"\",(A点!T1))","v":""},null,null,null,null,null,null,null,null,null,null,null,null,null,null,null,null,null,null,null,null,null,null,"管球の焦点",null,null,null,null,null,null,null,null,null,null,null,null,null,"3:口内法撮影用X線装置（≦125ｋV）",null,null,null,3]
[null,null,"5)受像面における照射野",null,null,null,null,null,null,null,null,null,"※基準値は、医薬発188号通知による",null,null,null,null,null,null,null,null,null,null,null,null,null,null,"空気ｶｰﾏ(表1)",{"$f":"IF(A点!R2=0,\"\",(A点!R2))","v":""},{"$f":"IF(A点!S2=0,\"\",(A点!S2))","v":""},{"$f":"IF(A点!T2=0,\"\",(A点!T2))","v":""},null,null,"A",null,null,null,null,null,null,null,null,null,null,null,null,null,null,null,null,null,null,null,null,null,null,"d4",null,null,null,null,null,null,"C",null,null,null,"4:上記以外の診断用X線装置",null,null,null,4]
[null,null,null,"F=",{"$f":"IF(OR(L16=\"\",R16=\"\"),1225,L16*R16)","v":1225},null,null,"cm2",null,null,"縦",null,null,"cm",null,null,"横",null,null,"cm","※透視・一般撮影（未入力は、1225）",null,null,null,null,null,null,"空気ｶｰﾏ率(表8)",{"$f":"IF(A点!R3=0,\"\",(A点!R3))","v":""},{"$f":"IF(A点!S3=0,\"\",(A点!S3))","v":""},{"$f":"IF(A点!T3=0,\"\",(A点!T3))","v":""}]
[null,null,null,"F=",{"$f":"IF(OR(L17=0,R17=0),60,L17*R17)","v":60},null,null,"cm2",null,null,"縦",null,null,"cm",null,null,"横",null,null,"cm","※CT（未入力の場合は60cm2で計算）",null,null,null,null,null,null,"E/Ka（表10）",{"$f":"IF(A点!R4=0,\"\",(A点!R4))","v":""},{"$f":"IF(A点!S4=0,\"\",(A点!S4))","v":""},{"$f":"IF(A点!T4=0,\"\",(A点!T4))","v":""}]
[null,null,null,null,"※入力すると数値は入れ替わります。",null,null,null,null,null,null,null,null,null,null,null,null,null,null,null,null,null,null,null,null,null,null,"対向板Dt",{"$f":"IF(A点!R5=0,\"\",(A点!R5))","v":""},{"$f":"IF(A点!S5=0,\"\",(A点!S5))","v":""},{"$f":"IF(A点!T5=0,\"\",(A点!T5))","v":""},null,null,"A'",null,null,null,null,null,null,null,null,null,null,null,null,null,null,null,null,null,null,null,null,null,null,null,null,null,null,null,null,null,null,null,null,null,"リスト3"]
[null,null,"6)撮影条件",null,null,null,null,null,null,null,null,null,"※撮影条件を選んで入力",null,null,null,null,null,null,null,null,null,null,null,null,null,null,null,null,null,null,null,null,null,null,null,null,null,null,null,null,null,null,null,null,null,null,null,null,null,null,null,null,null,null,null,null,null,null,null,null,null,null,"C'",null,null,null,"タングステン陽極",null,1]
[null,null,null,null,null,null,null,null,null,null,null,null,null,null,null,null,null,null,null,null,null,null,"注1)エックス線診療室の遮蔽計算は、その部屋に設置する装置毎、撮影方向毎の漏洩線量を複合計算します。\n注2)一般撮影の場合、立位方向を出力１、臥位方向を出力2に入力します。\n注3)透視と撮影を同時に行う場合は、透視及び撮影条件を入れることで併せて計算が可能です。\n注4)装置が複数ある場合は、出力3以降に同様の考え方で入力ください。\n注5)ＣＴは、単独入力する。（管球が回転するため、一次線のみ撮影時間を1/4に自動計算。（口腔用パノラマ撮影も同様））",null,null,null,null,null,null,null,null,null,null,null,null,null,null,null,null,null,null,null,null,null,null,null,null,null,null,null,null,null,"d4",null,null,null,null,null,null,null,null,null,null,null,null,null,null,"モリブデン陽極",null,2]
[null,null,null,"透視",null,null,null,null,null,null,null,null,null,null,null,null,null,null,null,null,null,null,null,null,null,null,null,null,null,null,null,null,null,null,null,null,null,null,null,null,null,null,null,null,null,null,null,null,null,null,null,null,null,null,null,"d3"]
[null,null,null,null,"撮影条件",null,null,null,null,"KV",null,null,null,"mA",null,"　",null,null,"分/件",null,null,null,null,null,null,null,null,null,null,null,null,null,null,null,null,null,null,null,null,null,null,null,null,null,null,null,null,null,null,null,null,null,null,null,null,null,null,null,null,null,null,null,null,null,null,null,null,"リスト4"]
[null,null,null,null,"透視件数",null,null,null,null,null,null,null,null,"人/日",null,null,null,null,"日/週",null,null,null,null,null,null,null,null,null,null,null,null,null,null,null,null,null,null,null,null,null,null,null,"d2"]
[null,null,null,null,null,null,null,null,null,null,null,null,null,null,null,null,null,null,null,null,null,null,null,null,null,null,null,null,null,null,null,null,null,null,null,null,null,null,null,null,null,null,null,null,null,null,null,null,null,null,null,null,null,null,null,null,null,null,null,null,null,null,null,null,null,null,null,"人が通行し、又は停在することのない場所"]
[null,null,null,"一般撮影",null,null,null,null,null,null,null,null,null,null,null,null,null,null,null,null,null,null,null,null,null,null,null,null,null,null,null,null,null,null,null,null,null,null,null,null,null,null,null,null,null,null,null,null,null,null,null,null,null,null,null,null,null,null,null,null,null,null,null,null,null,null,null,"屋根"]
[null,null,null,null,"撮影条件",null,null,null,null,"KV",null,null,null,"mA",null,"　",null,null,"sec",null,null,null,null,null,null,null,null,null,null,null,null,null,null,null,null,null,null,null,null,null,null,null,null,null,null,null,null,null,null,null,null,null,null,null,null,null,null,null,null,null,null,null,null,null,null,null,null,"地下"]
[null,null,null,null,"撮影件数",null,null,null,null,"回/人",null,null,null,"人/日",null,null,null,null,"日/週",null,null,null,null,null,null,null,null,null,null,null,null,null,null,null,null,null,null,null,null,null,null,"D",null,null,null,"D'",null,null,null,null,null,null,null,null,null,null,"D\""]
[]
[]
[]
[null,null,null,"CT・歯科用パノラマ装置",null,null,null,null,null,null,null,null,null,null,null,null,null,null,null,null,null,null,"※一次線方向は、d2～d4の入力を省略しEPのみで評価することが可能です。（照射野外で、遮蔽体を考慮できず、散乱線の評価が必要な場合を除く）\n※ポイント側面で、A～A\"までの3種類の遮蔽材を同時に計算できます。評価は、一番漏洩実効線量が高いところを用います。"]
[null,null,null,null,"撮影条件",null,null,null,null,"KV",null,null,null,"mA",null,"　",null,null,"sec"]
[null,null,null,null,"撮影件数",null,null,null,null,"回/件",null,null,null,"件/日",null,null,null,null,"日/週"]
[null,null,null,null,null,null,null,null,null,null,null,null,null,null,null,null,null,null,null,null,null,null,null,null,null,null,null,null,null,null,null,null,null,null,null,"横からみたエックス線診療室",null,null,null,null,null,null,null,null,null,null,null,null,null,null,null,null,null,null,null,null,null,null,null,null,null,null,null,null,null,null,null,"リスト5:区分"]
[null,null,null,null,null,null,null,null,null,null,null,null,null,null,null,null,null,null,null,null,null,null,null,null,null,null,null,null,null,null,null,null,null,null,null,null,null,null,null,null,null,null,null,"E\"",null,null,null,null,null,null,null,"E",null,null,null,"E'",null,null,null,null,null,null,null,null,null,null,null,1,"管理区域",null,1300,"μSv/3月"]
[null,null,"ポイント",null,"距離(m)",null,null,null,null,null,null,null,"材質","遮蔽材料及び厚さ(mm)",null,null,null,null,null,null,null,null,null,null,null,"漏洩実効線量",null,null,null,"判定","判定\n参考",null,null,null,null,null,null,null,null,null,null,null,null,null,null,null,null,null,null,null,null,null,null,null,null,null,null,null,null,null,null,null,null,null,null,null,null,2,"病室",null,1300,"μSv/3月"]
[null,null,null,null,"d1",null,"d2",null,"d3",null,"d4",null,null,"1番目",null,"2番目",null,"3番目",null,"4番目",null,"5番目",null,"6番目",null,null,null,null,null,null,null,null,null,null,null,null,null,null,null,null,null,null,null,null,null,null,null,null,null,null,null,null,null,null,null,null,null,null,null,null,null,null,null,null,null,null,null,3,"敷地境界",null,250,"μSv/3月"]
[null,null,"A：",null,null,null,null,null,null,null,null,null,"　A",null,null,null,null,null,null,null,null,null,null,null,null,"Ep",{"$f":"IF(A点!$F$3=0,\"\",(A点!$F$3))","v":""},{"$f":"IF(AC38=\"\",\"\",\"選択材質\")","v":""},{"$f":"パラメータ!$E$38","v":""},{"$f":"IF(OR(AB40=\"\",AB43=\"\"),\"\",IF(OR(AB40<AB43,AE38>0),\"適\",\"不適\"))","v":""},null,null,null,null,null,null,null,null,null,null,null,null,null,null,null,null,null,null,null,null,null,null,null,null,null,null,null,null,null,null,null,null,null,null,null,null,null,4,"使用室",null,13000,"μSv/3月"]
[]
[null,null,null,null,null,null,null,null,null,null,null,null,"　A'",null,null,null,null,null,null,null,null,null,null,null,null,"Es",{"$f":"IF(A点!$K$3=0,\" \",(A点!$K$3))","v":""},{"$f":"IF((SUM(AA38:AA43))=0,\"\",(SUM(AA38:AA43)))","v":""},null,null,null,null,null,null,null,null,null,null,null,null,null,null,null,"ｄ１"]
[null,null,null,null,null,null,null,null,null,null,null,null,null,null,null,null,null,null,null,null,null,null,null,null,null,null,null,null,null,null,null,null,null,null,null,null,null,null,null,null,null,null,null,null,null,null,null,null,null,null,null,null,null,null,null,null,null,null,null,null,null,null,null,null,null,null,null,"リスト6：遮蔽材"]
[null,null,null,null,null,null,null,null,null,null,null,null,"　A\"",null,null,null,null,null,null,null,null,null,null,null,null,"EL",{"$f":"IF(A点!$K$4=0,\" \",(A点!$K$4))","v":""},null,null,null,null,null,null,null,null,null,null,null,null,null,null,null,null,null,null,null,null,null,null,null,null,null,"d4",null,null,null,null,null,null,null,null,null,null,"C\"",null,null,null,"遮へい材","密度（g/cm3）",null,"基準値（g/cm3）"]
[null,null,"区分",null,null,null,null,null,null,null,null,null,null,null,null,null,null,null,null,null,null,null,null,null,null,null,null,{"$f":"IF(D43=\"\",\"\",VLOOKUP(D43,$BP$35:$BS$38,4,0))","v":""},"μSv/3月",null,null,null,null,"A\"",null,null,null,null,null,null,null,null,null,null,null,null,"d3",null,null,null,null,null,null,null,null,null,null,null,null,null,null,null,null,null,null,null,null,"鉛",11,null,11.35]
[null,null,"B：",null,null,null,null,null,null,null,null,null,"　B",null,null,null,null,null,null,null,null,null,null,null,null,"Ep",{"$f":"IF(B点!$F$3=0,\" \",(B点!$F$3))","v":""},{"$f":"IF(AC44=\"\",\"\",\"選択材質\")","v":""},{"$f":"パラメータ!$N$38","v":""},{"$f":"IF(OR(AB46=\"\",AB49=\"\"),\"\",IF(OR(AB46<AB49,AE44>0),\"適\",\"不適\"))","v":""},null,null,null,null,null,null,null,null,null,null,null,null,null,"被写体",null,null,null,null,null,null,null,null,null,null,null,null,null,null,null,null,null,null,null,null,null,null,null,"ｺﾝｸﾘｰﾄ",2.1,null,2.35]
[null,null,null,null,null,null,null,null,null,null,null,null,null,null,null,null,null,null,null,null,null,null,null,null,null,null,null,null,null,null,null,null,null,null,null,null,null,null,null,null,null,null,null,null,null,null,null,null,null,null,null,null,null,"管球の焦点",null,null,null,null,null,null,null,null,null,null,null,null,null,"鉄",7.7,null,7.83]
[null,null,null,null,null,null,null,null,null,null,null,null,"　B'",null,null,null,null,null,null,null,null,null,null,null,null,"Es",{"$f":"IF(B点!$K$3=0,\" \",(B点!$K$3))","v":""},{"$f":"IF((SUM(AA44:AA49))=0,\"\",(SUM(AA44:AA49)))","v":""},null,null,null,null,null,"A",null,null,null,null,null,null,null,null,null,null,null,null,null,null,null,null,null,null,null,null,null,null,"d4",null,null,null,null,null,null,"C",null,null,null,"石膏",0.75,null,0.75]
[null,null,null,null,null,null,null,null,null,null,null,null,null,null,null,null,null,null,null,null,null,null,null,null,null,null,null,null,null,null,null,null,null,null,null,null,null,null,null,null,null,null,null,null,null,null,null,null,null,null,null,null,null,null,null,null,null,null,null,null,null,null,null,null,null,null,null,"ｶﾞﾗｽ",2.5,null,2.56]
[null,null,null,null,null,null,null,null,null,null,null,null,"　B\"",null,null,null,null,null,null,null,null,null,null,null,null,"EL",{"$f":"IF(B点!$K$4=0,\" \",(B点!$K$4))","v":""},null,null,null,null,null,null,null,null,null,null,null,null,null,null,null,null,null,null,null,null,null,null,null,null,null,null,null,null,null,null,null,null,null,null,null,null,null,null,null,null,"木材",0.55000000000000004,null,0.55000000000000004]
[null,null,"区分",null,null,null,null,null,null,null,null,null,null,null,null,null,null,null,null,null,null,null,null,null,null,null,null,{"$f":"IF(D49=\"\",\"\",VLOOKUP(D49,$BP$35:$BS$38,4,0))","v":""},"μSv/3月",null,null,null,null,null,null,null,null,null,null,null,null,null,null,null,null,null,null,null,null,null,null,null,null,null,null,null,null,null,null,null,null,null,null,null,null,null,null,"※しゃへい計算実務マニュアル（'07年版）推奨値"]
[null,null,"C：",null,null,null,null,null,null,null,null,null,"　C",null,null,null,null,null,null,null,null,null,null,null,null,"Ep",{"$f":"IF(C点!$F$3=0,\" \",(C点!$F$3))","v":""},{"$f":"IF(AC50=\"\",\"\",\"選択材質\")","v":""},{"$f":"パラメータ!$W$38","v":""},{"$f":"IF(OR(AB52=\"\",AB55=\"\"),\"\",IF(OR(AB52<AB55,AE50>0),\"適\",\"不適\"))","v":""},null,null,null,"A'",null,null,null,null,null,null,null,null,null,null,null,null,null,null,null,null,null,null,null,null,null,null,null,null,null,null,null,null,null,"C'",null,null,null,"※基準値は、医薬発188号通知による"]
[null,null,null,null,null,null,null,null,null,null,null,null,null,null,null,null,null,null,null,null,null,null,null,null,null,null,null,null,null,null,null,null,null,null,null,null,null,null,null,null,null,null,null,null,null,null,null,null,null,null,null,null,"d4"]
[null,null,null,null,null,null,null,null,null,null,null,null,"　C'",null,null,null,null,null,null,null,null,null,null,null,null,"Es",{"$f":"IF(C点!$K$3=0,\" \",(C点!$K$3))","v":""},{"$f":"IF((SUM(AA50:AA55))=0,\"\",(SUM(AA50:AA55)))","v":""},null,null,null,null,null,null,null,null,null,null,null,null,null,null,null,null,null,null,null,null,null,null,null,null,null,null,null,"d3"]
[]
[null,null,null,null,null,null,null,null,null,null,null,null,"　C\"",null,null,null,null,null,null,null,null,null,null,null,null,"EL",{"$f":"IF(C点!$K$4=0,\" \",(C点!$K$4))","v":""},null,null,null,null,null,null,null,null,null,null,null,null,null,null,null,"d2"]
[null,null,"区分",null,null,null,null,null,null,null,null,null,null,null,null,null,null,null,null,null,null,null,null,null,null,null,null,{"$f":"IF(D55=\"\",\"\",VLOOKUP(D55,$BP$35:$BS$38,4,0))","v":""},"μSv/3月"]
[null,null,"D：",null,null,null,null,null,null,null,null,null,"　D",null,null,null,null,null,null,null,null,null,null,null,null,"Ep",{"$f":"IF(D点!$F$3=0,\" \",(D点!$F$3))","v":""},{"$f":"IF(AC56=\"\",\"\",\"選択材質\")","v":""},{"$f":"パラメータ!$AF$38","v":""},{"$f":"IF(OR(AB58=\"\",AB61=\"\"),\"\",IF(OR(AB58<AB61,AE56>0),\"適\",\"不適\"))","v":""}]
[]
[null,null,null,null,null,null,null,null,null,null,null,null,"　D'",null,null,null,null,null,null,null,null,null,null,null,null,"Es",{"$f":"IF(D点!$K$3=0,\" \",(D点!$K$3))","v":""},{"$f":"IF((SUM(AA56:AA61))=0,\"\",(SUM(AA56:AA61)))","v":""},null,null,null,null,null,null,null,null,null,null,null,null,null,"F",null,null,null,"F'",null,null,null,null,null,null,null,null,null,null,"F\""]
[]
[null,null,null,null,null,null,null,null,null,null,null,null,"　D\"",null,null,null,null,null,null,null,null,null,null,null,null,"EL",{"$f":"IF(D点!$K$4=0,\" \",(D点!$K$4))","v":""}]
[null,null,"区分",null,null,null,null,null,null,null,null,null,null,null,null,null,null,null,null,null,null,null,null,null,null,null,null,{"$f":"IF(D61=\"\",\"\",VLOOKUP(D61,$BP$35:$BS$38,4,0))","v":""},"μSv/3月"]
[null,null,"E：",null,null,null,null,null,null,null,null,null,"　E",null,null,null,null,null,null,null,null,null,null,null,null,"Ep",{"$f":"IF(E点!$F$3=0,\" \",(E点!$F$3))","v":""},{"$f":"IF(AC62=\"\",\"\",\"選択材質\")","v":""},{"$f":"パラメータ!$AO$38","v":""},{"$f":"IF(OR(AB64=\"\",AB67=\"\"),\"\",IF(OR(AB64<AB67,AE62>0),\"適\",\"不適\"))","v":""},null,null,null,null,null,"上からみたCT撮影診療室"]
[null,null,null,null,null,null,null,null,null,null,null,null,null,null,null,null,null,null,null,null,null,null,null,null,null,null,null,null,null,null,null,null,null,null,null,null,null,null,null,null,null,null,null,"B\"",null,null,null,null,null,null,null,"B",null,null,null,"B'"]
[null,null,null,null,null,null,null,null,null,null,null,null,"　E'",null,null,null,null,null,null,null,null,null,null,null,null,"Es",{"$f":"IF(E点!$K$3=0,\" \",(E点!$K$3))","v":""},{"$f":"IF((SUM(AA62:AA67))=0,\"\",(SUM(AA62:AA67)))","v":""}]
[]
[null,null,null,null,null,null,null,null,null,null,null,null,"　E\"",null,null,null,null,null,null,null,null,null,null,null,null,"EL",{"$f":"IF(E点!$K$4=0,\" \",(E点!$K$4))","v":""}]
[null,null,"区分",null,null,null,null,null,null,null,null,null,null,null,null,null,null,null,null,null,null,null,null,null,null,null,null,{"$f":"IF(D67=\"\",\"\",VLOOKUP(D67,$BP$35:$BS$38,4,0))","v":""},"μSv/3月"]
[null,null,"F：",null,null,null,null,null,null,null,null,null,"　F",null,null,null,null,null,null,null,null,null,null,null,null,"Ep",{"$f":"IF(F点!$F$3=0,\" \",(F点!$F$3))","v":""},{"$f":"IF(AC68=\"\",\"\",\"選択材質\")","v":""},{"$f":"パラメータ!$AX$38","v":""},{"$f":"IF(OR(AB70=\"\",AB73=\"\"),\"\",IF(OR(AB70<AB73,AE68>0),\"適\",\"不適\"))","v":""},null,null,null,null,null,null,null,null,null,null,"ｄ４",null,"ｄ２"]
[null,null,null,null,null,null,null,null,null,null,null,null,null,null,null,null,null,null,null,null,null,null,null,null,null,null,null,null,null,null,null,null,null,null,null,null,null,null,"d1"]
[null,null,null,null,null,null,null,null,null,null,null,null,"　F'",null,null,null,null,null,null,null,null,null,null,null,null,"Es",{"$f":"IF(F点!$K$3=0,\" \",(F点!$K$3))","v":""},{"$f":"IF((SUM(AA68:AA73))=0,\"\",(SUM(AA68:AA73)))","v":""},null,null,null,null,null,null,null,null,null,null,null,null,null,null,null,null,null,null,null,null,null,null,null,null,null,null,null,null,null,null,null,null,null,null,null,"C\""]
[null,null,null,null,null,null,null,null,null,null,null,null,null,null,null,null,null,null,null,null,null,null,null,null,null,null,null,null,null,null,null,null,null,"A\""]
[null,null,null,null,null,null,null,null,null,null,null,null,"　F\"",null,null,null,null,null,null,null,null,null,null,null,null,"EL",{"$f":"IF(F点!$K$4=0,\" \",(F点!$K$4))","v":""},null,null,null,null,null,null,null,null,null,null,null,null,null,null,null,null,null,"ｄ３"]
[null,null,"区分",null,null,null,null,null,null,null,null,null,null,null,null,null,null,null,null,null,null,null,null,null,null,null,null,{"$f":"IF(D73=\"\",\"\",VLOOKUP(D73,$BP$35:$BS$38,4,0))","v":""},"μSv/3月",null,null,null,null,null,null,null,null,null,null,null,null,null,null,null,null,null,null,null,null,null,null,null,null,null,null,"ｄ２"]
[null,null,"G：",null,null,null,null,null,null,null,null,null,"　G",null,null,null,null,null,null,null,null,null,null,null,null,"Ep",{"$f":"IF(G点!$F$3=0,\" \",(G点!$F$3))","v":""},{"$f":"IF(AC74=\"\",\"\",\"選択材質\")","v":""},{"$f":"パラメータ!$BG$38","v":""},{"$f":"IF(OR(AB76=\"\",AB79=\"\"),\"\",IF(OR(AB76<AB79,AE74>0),\"適\",\"不適\"))","v":""},null,null,null,"A",null,null,null,null,null,null,null,null,null,null,null,null,null,null,null,null,null,null,null,null,null,null,null,null,null,null,null,null,null,"C"]
[]
[null,null,null,null,null,null,null,null,null,null,null,null,"　G'",null,null,null,null,null,null,null,null,null,null,null,null,"Es",{"$f":"IF(G点!$K$3=0,\" \",(G点!$K$3))","v":""},{"$f":"IF((SUM(AA74:AA79))=0,\"\",(SUM(AA74:AA79)))","v":""},null,null,null,null,null,null,null,null,null,null,null,null,"ｄ４"]
[]
[null,null,null,null,null,null,null,null,null,null,null,null,"　G\"",null,null,null,null,null,null,null,null,null,null,null,null,"EL",{"$f":"IF(G点!$K$4=0,\" \",(G点!$K$4))","v":""},null,null,null,null,null,null,"A'",null,null,null,null,null,null,null,null,null,null,null,null,null,null,null,null,null,"ｄ4",null,null,null,null,null,null,null,null,null,null,null,"C'"]
[null,null,"区分",null,null,null,null,null,null,null,null,null,null,null,null,null,null,null,null,null,null,null,null,null,null,null,null,{"$f":"IF(D79=\"\",\"\",VLOOKUP(D79,$BP$35:$BS$38,4,0))","v":""},"μSv/3月"]
[null,null,"H：",null,null,null,null,null,null,null,null,null,"　H",null,null,null,null,null,null,null,null,null,null,null,null,"Ep",{"$f":"IF(H点!$F$3=0,\" \",(H点!$F$3))","v":""},{"$f":"IF(AC80=\"\",\"\",\"選択材質\")","v":""},{"$f":"パラメータ!$BP$38","v":""},{"$f":"IF(OR(AB82=\"\",AB85=\"\"),\"\",IF(OR(AB82<AB85,AE80>0),\"適\",\"不適\"))","v":""},null,null,null,null,null,null,null,null,null,null,null,null,"ｄ２"]
[null,null,null,null,null,null,null,null,null,null,null,null,null,null,null,null,null,null,null,null,null,null,null,null,null,null,null,null,null,null,null,null,null,null,null,null,null,null,null,null,"ｄ４"]
[null,null,null,null,null,null,null,null,null,null,null,null,"　H'",null,null,null,null,null,null,null,null,null,null,null,null,"Es",{"$f":"IF(H点!$K$3=0,\" \",(H点!$K$3))","v":""},{"$f":"IF((SUM(AA80:AA85))=0,\"\",(SUM(AA80:AA85)))","v":""}]
[]
[null,null,null,null,null,null,null,null,null,null,null,null,"　H\"",null,null,null,null,null,null,null,null,null,null,null,null,"EL",{"$f":"IF(H点!$K$4=0,\" \",(H点!$K$4))","v":""}]
[null,null,"区分",null,null,null,null,null,null,null,null,null,null,null,null,null,null,null,null,null,null,null,null,null,null,null,null,{"$f":"IF(D85=\"\",\"\",VLOOKUP(D85,$BP$35:$BS$38,4,0))","v":""},"μSv/3月"]
[null,null,"I：",null,null,null,null,null,null,null,null,null,"　I",null,null,null,null,null,null,null,null,null,null,null,null,"Ep",{"$f":"IF(Ｉ点!$F$3=0,\" \",(Ｉ点!$F$3))","v":""},{"$f":"IF(AC86=\"\",\"\",\"選択材質\")","v":""},{"$f":"パラメータ!$BY$38","v":""},{"$f":"IF(OR(AB88=\"\",AB91=\"\"),\"\",IF(OR(AB88<AB91,AE86>0),\"適\",\"不適\"))","v":""},null,null,null,null,null,null,null,null,null,null,null,"D",null,null,null,"D'",null,null,null,null,null,null,null,null,null,null,"D\""]
[]
[null,null,null,null,null,null,null,null,null,null,null,null,"　I'",null,null,null,null,null,null,null,null,null,null,null,null,"Es",{"$f":"IF(Ｉ点!$K$3=0,\" \",(Ｉ点!$K$3))","v":""},{"$f":"IF((SUM(AA86:AA91))=0,\"\",(SUM(AA86:AA91)))","v":""}]
[]
[null,null,null,null,null,null,null,null,null,null,null,null,"　I\"",null,null,null,null,null,null,null,null,null,null,null,null,"EL",{"$f":"IF(Ｉ点!$K$4=0,\" \",(Ｉ点!$K$4))","v":""}]
[null,null,"区分",null,null,null,null,null,null,null,null,null,null,null,null,null,null,null,null,null,null,null,null,null,null,null,null,{"$f":"IF(D91=\"\",\"\",VLOOKUP(D91,$BP$35:$BS$38,4,0))","v":""},"μSv/3月"]
[null,null,"[実効線量限度]　１）管理区域：１00μSv/W（1.3mSv/3月），　２）病室：１00μSv/W（1.3mSv/3月），　３）敷地の境界：19.23μSv/W(250μSv/3月)，　４）使用室：１000μSv/W（13mSv/3月）"]
[]
[]
[]
[null,"入力状況"]
[null,null,null,null,{"$f":"IF(出力1!C10>0,\"入力済\",\"\")","v":""},null,null,null,null,null,null,null,{"$f":"IF(出力2!C10>0,\"入力済\",\"\")","v":""},null,null,null,null,null,null,{"$f":"IF(出力3!C10>0,\"入力済\",\"\")","v":""},null,null,null,null,null,null,{"$f":"IF(出力4!C10>0,\"入力済\",\"\")","v":""},null,null,{"$f":"IF(出力5!C10>0,\"入力済\",\"\")","v":""}]
[]
[]
[]
[]
[]
[]
[]
[]
[]
[null,"※室名, 判定参考は、装置1入力時のみでも構いません。"]

{"sheet":"A点","index":1,"n_rows":184,"n_cols":51,"rows_kept":184,"cut":false,"hidden":true,"merged":[[126,1,184,1],[66,1,124,1],[13,15,13,16],[14,15,14,16],[15,15,15,16],[16,15,16,16],[6,1,64,1],[11,36,13,36],[14,36,16,36],[5,15,5,16],[0,15,0,16],[1,15,1,16],[2,15,2,16],[3,15,3,16],[4,15,4,16],[50,24,50,25],[51,24,51,25],[52,24,52,25],[45,24,45,25],[46,24,46,25],[47,24,47,25],[48,24,48,25],[49,24,49,25]]}
[null,null,"エックス線診療室の画壁等の実効線量",null,null,null,null,null,null,null,null,null,null,null,null,"W：３Ｍ実効稼動負荷",null,{"$f":"+G12","v":0},{"$f":"+G72","v":0},{"$f":"+G132","v":0},null,null,null,null,null,null,null,null,null,null,null,null,null,null,null,null,"①管電圧・空気カーマ(表1～9)透過率判定表",null,null,null,null,null,null,null,null,null,"③透視用透過率（表2-7）"]
[null,null,null,"A点の漏洩エックス線量の計算(利用線錘方向）",null,null,null,null,"A点の漏洩エックス線量の計算(被写体・管球）",null,null,null,null,null,null,"X：空気ｶｰﾏ(表1)",null,{"$f":"+G8","v":0},{"$f":"+G68","v":0},{"$f":"+G128","v":0},null,null,null,null,null,null,null,null,null,null,null,null,null,null,null,null,null,null,null,null,null,null,null,null,null,null,"1)直接線用"]
[null,null,null,null,"Ep=",{"$f":"IF(A点!$AQ$4=3,\"\",IF(A点!$AQ$5>0,\"No Data\",F15+F75+F135))","v":""},"μSv/3ヶ月",null,null,"Es＝",{"$f":"IF(A点!$AQ$4=3,\"\",IF(A点!$AQ$5>0,\"No Data\",K15+K75+K135))","v":""},"μSv/3ヶ月",null,null,null,"空気ｶｰﾏ率(表8)",null,{"$f":"+K11","v":0},{"$f":"+K71","v":0},{"$f":"+K131","v":0},null,null,null,null,null,null,null,null,null,null,null,null,null,null,null,null,null,"透視","撮影","ＣＴ",null,null,null,null,null,null,"遮蔽厚参照値"]
[null,null,null,null,null,null,null,null,null,"EL＝",{"$f":"IF(A点!$AQ$4=3,\"\",IF(A点!$AQ$5>0,\"No Data\",K16+K76+K136))","v":""},"μSv/3ヶ月",null,null,null,"E/Ka（表10）",null,{"$f":"+G11","v":0},{"$f":"+G71","v":0},{"$f":"+G131","v":0},null,null,null,null,null,null,null,null,null,null,null,null,null,null,null,null,"判定コード",{"$f":"VLOOKUP(\"○\",$AL$11:$AO$17,4,0)","v":10},{"$f":"VLOOKUP(\"○\",$AM$11:$AO$17,3,0)","v":10},{"$f":"VLOOKUP(\"○\",$AN$11:$AO$17,2,0)","v":10},null,"未入力個数",{"$f":"COUNTIF($AL$8:$AN$8,\"○\")","v":3},null,null,null,null,null,"Ａ点","A'点","A\"点"]
[null,null,null,null,null,null,null,null,null,"合計",{"$f":"IF(A点!$AQ$4=3,\"\",IF(A点!$AQ$5>0,\"No Data\",K17+K77+K137))","v":""},null,null,null,null,"対向板Dt",null,{"$f":"+R10","v":""},{"$f":"+R70","v":""},{"$f":"+R130","v":""},null,null,null,null,null,null,null,null,null,null,null,null,null,null,null,null,"採用管電圧(表1)",{"$f":"IF(OR(AL4=11,AL4=21),5*ROUNDUP(入力用シート!$H$22/5,0),VLOOKUP(AL4,$AO$11:$AQ$17,3,0))","v":0},{"$f":"IF(OR(AM4=11,AM4=21),5*ROUNDUP(入力用シート!$H$26/5,0),VLOOKUP(AM4,$AO$11:$AQ$17,3,0))","v":0},{"$f":"IF(OR(AN4=11,AN4=21),5*ROUNDUP(入力用シート!$H$32/5,0),VLOOKUP(AN4,$AO$11:$AQ$17,3,0))","v":0},null,"エラー個数",{"$f":"SUM(AL8:AN8)","v":0},null,null,null,null,"Pb",{"$f":"IF($G27=0,\"\",IF($G27<=3,INT(10*$G27)/10,IF($G27>4,4,0.5*INT($G27/0.5))))","v":""},{"$f":"IF($M27=0,\"\",IF($M27<=3,INT(10*$M27)/10,IF($M27>4,4,0.5*INT($M27/0.5))))","v":""},{"$f":"IF($S27=0,\"\",IF($S27<=3,INT(10*$S27)/10,IF($S27>4,4,0.5*INT($S27/0.5))))","v":""}]
[null,null,null,null,null,null,null,null,null,null,null,null,null,null,null,null,null,null,null,null,null,null,null,null,null,null,null,null,null,null,null,null,null,null,null,null,"表1値",{"$f":"IF(AL8=\"\",VLOOKUP(AL5,表１!$A$3:$B$26,2,0),VLOOKUP(AL4,$AO$11:$AR$17,4,0))","v":0},{"$f":"IF(AM8=\"\",VLOOKUP(AM5,表１!$A$3:$B$26,2,0),VLOOKUP(AM4,$AO$11:$AR$17,4,0))","v":0},{"$f":"IF(AN8=\"\",VLOOKUP(AN5,表１!$A$3:$B$26,2,0),VLOOKUP(AN4,$AO$11:$AR$17,4,0))","v":0},null,"エラー判定",{"$f":"IF($AQ$4=3,\"未入力\",IF($AQ$5>0,\"計算不能\",\"\"))","v":"未入力"},null,null,null,null,"ｺﾝｸﾘ",{"$f":"IF($G29=0,\"\",IF($G29<=300,INT($G29/10)*10,IF($G29>400,400,50*INT($G29/50))))","v":""},{"$f":"IF($M29=0,\"\",IF($M29<=300,INT($M29/10)*10,IF($M29>400,400,50*INT($M29/50))))","v":""},{"$f":"IF($S29=0,\"\",IF($S29<=300,INT($S29/10)*10,IF($S29>400,400,50*INT($S29/50))))","v":""}]
[null,"透視装置",null,"①　X：空気ｶｰﾏ：表1",null,null,null,"④　使用係数",null,null,null,"Ｕ＝",1,null,null,"1)対向板による一次線の減衰(表２)",null,null,null,null,null,null,"A点",null,null,null,null,null,null,"リスト",{"$f":"入力用シート!BQ2","v":"密度比"},null,null,null,null,null,"表8値",{"$f":"IF(AL8=\"\",VLOOKUP(AL5,'表8(a)'!$A$4:$B$27,2,0),VLOOKUP(AL4,$AO$11:$AR$17,4,0))","v":0},{"$f":"IF(AM8=\"\",VLOOKUP(AM5,'表8(a)'!$A$4:$B$27,2,0),VLOOKUP(AM4,$AO$11:$AR$17,4,0))","v":0},{"$f":"IF(AN8=\"\",VLOOKUP(AN5,'表8(a)'!$A$4:$B$27,2,0),VLOOKUP(AN4,$AO$11:$AR$17,4,0))","v":0},null,"最終入力判定",{"$f":"IF(OR($AQ$4=3,$AQ$5>0),1,\"\")","v":1},null,null,null,null,"Fe",{"$f":"IF($G31=0,\"\",IF($G31<=30,INT($G31),IF($G31>40,40,5*INT($G31/5))))","v":""},{"$f":"IF($M31=0,\"\",IF($M31<=30,INT($M31),IF($M31>40,40,5*INT($M31/5))))","v":""},{"$f":"IF($S31=0,\"\",IF($S31<=30,INT($S31),IF($S31>40,40,5*INT($S31/5))))","v":""}]
[null,null,null,null,"採用管電圧",{"$f":"$AL$5","v":0},{"$f":"$AL$6","v":0},"⑤　居住係数",null,null,null,"Ｔ＝",1,null,null,null,null,"等価厚さ",{"$f":"入力用シート!$AA$8","v":0},"mm",null,null,{"$f":"入力用シート!N38","v":0},{"$f":"入力用シート!P38","v":0},{"$f":"入力用シート!R38","v":0},{"$f":"入力用シート!T38","v":0},{"$f":"入力用シート!V38","v":0},{"$f":"入力用シート!X38","v":0},null,"Pb",{"$f":"入力用シート!BQ3","v":0.96916299559471364},null,null,null,null,null,"エラー",{"$f":"IF(AL4=10,\"○\",IF(OR(AL4=13,AL4=23),1,\"\"))","v":"○"},{"$f":"IF(AM4=10,\"○\",IF(OR(AM4=13,AM4=23),1,\"\"))","v":"○"},{"$f":"IF(AN4=10,\"○\",IF(OR(AN4=13,AN4=23),1,\"\"))","v":"○"},null,"最終入力判定：エラー→1",null,null,null,null,null,"石膏",{"$f":"IF($G33=0,\"\",IF($G33<=30,INT($G33),IF($G33>40,40,5*INT($G33/5))))","v":""},{"$f":"IF($M33=0,\"\",IF($M33<=30,INT($M33),IF($M33>40,40,5*INT($M33/5))))","v":""},{"$f":"IF($S33=0,\"\",IF($S33<=30,INT($S33),IF($S33>40,40,5*INT($S33/5))))","v":""}]
[null,null,null,null,"電流",{"$f":"入力用シート!$L$22","v":0},null,"⑥　距離",null,null,null,"d1=",{"$f":"入力用シート!E$38","v":0},"ｍ",null,null,"採用管電圧",{"$f":"$AL$5","v":0},null,null,null,null,{"$f":"入力用シート!N39","v":0},{"$f":"入力用シート!P39","v":0},{"$f":"入力用シート!R39","v":0},{"$f":"入力用シート!T39","v":0},{"$f":"入力用シート!V39","v":0},{"$f":"入力用シート!X39","v":0},null,"ｺﾝｸﾘ",{"$f":"入力用シート!BQ4","v":0.8936170212765957},null,null,null,null,null,"エラー：○未入力、1データなし",null,null,null,null,null,null,null,null,null,null,"ｶﾞﾗｽ",{"$f":"IF($G35=0,\"\",IF($G35<=30,INT($G35),IF($G35>40,40,5*INT($G35/5))))","v":""},{"$f":"IF($M35=0,\"\",IF($M35<=30,INT($M35),IF($M35>40,40,5*INT($M35/5))))","v":""},{"$f":"IF($S35=0,\"\",IF($S35<=30,INT($S35),IF($S35>40,40,5*INT($S35/5))))","v":""}]
[null,null,null,"②　E/Ka：空気カーマ換算係数（表10）",null,null,null,"⑧　照射野400cm2空気ｶｰﾏ率表8",null,null,null,"d2=",{"$f":"入力用シート!G$38","v":0},"ｍ",null,null,"透過率",{"$f":"IF(A点!$AL$8=\"○\",\"\",IF(A点!$AL$8=1,\"データなし\",IF($S8>3,HLOOKUP($R9,'表２(Pb)'!$B$3:$Y$36,32+ROUNDDOWN(($S8-3)/0.5,0),0),HLOOKUP($R9,'表２(Pb)'!$B$3:$Y$36,2+S8/0.1,0))))","v":""},null,null,null,null,"Pb","ｺﾝｸﾘ","Fe","石膏","ｶﾞﾗｽ","木材",null,"Fe",{"$f":"入力用シート!BQ5","v":0.98339719029374206},null,null,null,null,null,null,"透視","撮影","CT","コード","説明","参照","カーマ表示等",null,null,null,"木材",{"$f":"IF($G37=0,\"\",IF($G37<=300,INT($G37/10)*10,IF($G37>400,400,50*INT($G37/50))))","v":""},{"$f":"IF($M37=0,\"\",IF($M37<=300,INT($M37/10)*10,IF($M37>400,400,50*INT($M37/50))))","v":""},{"$f":"IF($S37=0,\"\",IF($S37<=300,INT($S37/10)*10,IF($S37>400,400,50*INT($S37/50))))","v":""}]
[null,null,null,null,"採用管電圧",{"$f":"$AL$23","v":0},{"$f":"$AL$24","v":0},null,null,null,{"$f":"$AL$7","v":0},"d3=",{"$f":"入力用シート!I$38","v":0},"ｍ",null,null,null,null,null,null,null,1,{"$f":"IF($W8=\"Pb\",$W9,0)","v":0},{"$f":"IF($W8=\"ｺﾝｸﾘ\",$W9,0)","v":0},{"$f":"IF($W8=\"Fe\",$W9,0)","v":0},{"$f":"IF($W8=\"石膏\",$W9,0)","v":0},{"$f":"IF($W8=\"ｶﾞﾗｽ\",$W9,0)","v":0},{"$f":"IF($W8=\"木材\",$W9,0)","v":0},null,"石膏",{"$f":"入力用シート!BQ6","v":1},null,null,null,null,null,null,{"$f":"IF(OR(入力用シート!C7=\"\",入力用シート!$C$12=\"\",入力用シート!$H$22=\"\",入力用シート!$H$22=0),\"○\",\"\")","v":"○"},{"$f":"IF(OR(入力用シート!C7=\"\",入力用シート!$C$12=\"\",入力用シート!$H$26=\"\",入力用シート!$H$26=0),\"○\",\"\")","v":"○"},{"$f":"IF(OR(入力用シート!C7=\"\",入力用シート!$C$12=\"\",入力用シート!$H$32=\"\",入力用シート!$H$32=0),\"○\",\"\")","v":"○"},10,"未入力"]
[null,null,null,"③　W：３Ｍ実効稼動負荷",null,"合計",{"$f":"13*(入力用シート!$L$22*入力用シート!$Q$22*60*入力用シート!$L$23*入力用シート!$Q$23)","v":0},"⑨　受像面照射野",null,null,{"$f":"入力用シート!$E$16","v":1225},"d4=",{"$f":"入力用シート!K$38","v":0},"ｍ",null,null,null,null,null,null,null,2,{"$f":"IF($X8=\"Pb\",$X9,0)","v":0},{"$f":"IF($X8=\"ｺﾝｸﾘ\",$X9,0)","v":0},{"$f":"IF($X8=\"Fe\",$X9,0)","v":0},{"$f":"IF($X8=\"石膏\",$X9,0)","v":0},{"$f":"IF($X8=\"ｶﾞﾗｽ\",$X9,0)","v":0},{"$f":"IF($X8=\"木材\",$X9,0)","v":0},null,"ｶﾞﾗｽ",{"$f":"入力用シート!BQ7","v":0.9765625},null,null,null,null,null,"W陽極",{"$f":"IF(AND(入力用シート!$C$12=1,入力用シート!$H$22>=50,入力用シート!$H$22<=150),\"○\",\"\")","v":""},{"$f":"IF(AND(入力用シート!$C$12=1,入力用シート!$H$26>=50,入力用シート!$H$26<=150),\"○\",\"\")","v":""},{"$f":"IF(AND(入力用シート!$C$12=1,入力用シート!$H$32>=50,入力用シート!$H$32<=150),\"○\",\"\")","v":""},11,"表から算出","T","T",null,null,"2)散乱線用"]
[null,null,null,null,null,null,null,"⑩　tw：３月間における稼働時間(h)",null,null,null,null,{"$f":"IF(F9=0,0,G12/(F9*3600))","v":0},null,null,"機器の種類",null,"管容器からの空気ｶｰﾏ率（mGy/h）",null,null,null,3,{"$f":"IF($Y8=\"Pb\",$Y9,0)","v":0},{"$f":"IF($Y8=\"ｺﾝｸﾘ\",$Y9,0)","v":0},{"$f":"IF($Y8=\"Fe\",$Y9,0)","v":0},{"$f":"IF($Y8=\"石膏\",$Y9,0)","v":0},{"$f":"IF($Y8=\"ｶﾞﾗｽ\",$Y9,0)","v":0},{"$f":"IF($Y8=\"木材\",$Y9,0)","v":0},null,"木材",{"$f":"入力用シート!BQ8","v":1},null,null,null,null,null,null,{"$f":"IF(AND(入力用シート!$C$12=1,入力用シート!$H$22>0,入力用シート!$H$22<50),\"○\",\"\")","v":""},{"$f":"IF(AND(入力用シート!$C$12=1,入力用シート!$H$26>0,入力用シート!$H$26<50),\"○\",\"\")","v":""},{"$f":"IF(AND(入力用シート!$C$12=1,入力用シート!$H$32>0,入力用シート!$H$32<50),\"○\",\"\")","v":""},12,"LowV",50,"T",null,null,"遮蔽厚参照値"]
[null,null,null,"A点の漏洩エックス線量の計算(利用線錘方向）",null,null,null,null,"A点の漏洩エックス線量の計算(被写体・管球）",null,null,null,null,null,1,"1:治療用ｴｯｸｽ線装置（≦50ｋV）",null,1,"選んだ機器",null,null,4,{"$f":"IF($Z8=\"Pb\",$Z9,0)","v":0},{"$f":"IF($Z8=\"ｺﾝｸﾘ\",$Z9,0)","v":0},{"$f":"IF($Z8=\"Fe\",$Z9,0)","v":0},{"$f":"IF($Z8=\"石膏\",$Z9,0)","v":0},{"$f":"IF($Z8=\"ｶﾞﾗｽ\",$Z9,0)","v":0},{"$f":"IF($Z8=\"木材\",$Z9,0)","v":0},null,null,null,null,null,null,null,null,null,{"$f":"IF(AND(入力用シート!$C$12=1,入力用シート!$H$22>150),\"○\",\"\")","v":""},{"$f":"IF(AND(入力用シート!$C$12=1,入力用シート!$H$26>150),\"○\",\"\")","v":""},{"$f":"IF(AND(入力用シート!$C$12=1,入力用シート!$H$32>150),\"○\",\"\")","v":""},13,"高電圧(150kV超)データなし","OverV","データなし",null,null,null,null,"Ａ点","A'点","A\"点"]
[null,null,null,null,"Ea=",{"$f":"MAX(F21,L21,R21)","v":0},"μSv/3ヶ月",null,null,"Es＝",{"$f":"MAX(F59,L59,R59)","v":0},"μSv/3ヶ月",null,null,2,"2:治療用ｴｯｸｽ線装置（＞50ｋV）",null,10,{"$f":"入力用シート!$C$7","v":0},null,null,5,{"$f":"IF($AA8=\"Pb\",$AA9,0)","v":0},{"$f":"IF($AA8=\"ｺﾝｸﾘ\",$AA9,0)","v":0},{"$f":"IF($AA8=\"Fe\",$AA9,0)","v":0},{"$f":"IF($AA8=\"石膏\",$AA9,0)","v":0},{"$f":"IF($AA8=\"ｶﾞﾗｽ\",$AA9,0)","v":0},{"$f":"IF($AA8=\"木材\",$AA9,0)","v":0},null,null,null,null,null,null,null,null,"Mo陽極",{"$f":"IF(AND(入力用シート!$C$12=2,入力用シート!$H$22>=25,入力用シート!$H$22<=35),\"○\",\"\")","v":""},{"$f":"IF(AND(入力用シート!$C$12=2,入力用シート!$H$26>=25,入力用シート!$H$26<=35),\"○\",\"\")","v":""},{"$f":"IF(AND(入力用シート!$C$12=2,入力用シート!$H$32>=25,入力用シート!$H$32<=35),\"○\",\"\")","v":""},21,"表から算出","T","T",null,null,null,"Pb",{"$f":"IF($H27=0,\"\",IF($H27<=3,INT(10*$H27)/10,IF($H27>4,4,0.5*INT($H27/0.5))))","v":""},{"$f":"IF($N27=0,\"\",IF($N27<=3,INT(10*$N27)/10,IF($N27>4,4,0.5*INT($N27/0.5))))","v":""},{"$f":"IF($T27=0,\"\",IF($T27<=3,INT(10*$T27)/10,IF($T27>4,4,0.5*INT($T27/0.5))))","v":""}]
[null,null,null,null,null,null,null,null,null,"EL＝",{"$f":"MAX(F64,L64,R64)","v":0},"μSv/3ヶ月",null,null,3,"3:口内法撮影用X線装置（≦125ｋV）",null,0.25,"選ばれた空気ｶｰﾏ率XL",null,null,6,{"$f":"IF($AB8=\"Pb\",$AB9,0)","v":0},{"$f":"IF($AB8=\"ｺﾝｸﾘ\",$AB9,0)","v":0},{"$f":"IF($AB8=\"Fe\",$AB9,0)","v":0},{"$f":"IF($AB8=\"石膏\",$AB9,0)","v":0},{"$f":"IF($AB8=\"ｶﾞﾗｽ\",$AB9,0)","v":0},{"$f":"IF($AB8=\"木材\",$AB9,0)","v":0},null,null,null,null,null,null,null,null,null,{"$f":"IF(AND(入力用シート!$C$12=2,入力用シート!$H$22>0,入力用シート!$H$22<25),\"○\",\"\")","v":""},{"$f":"IF(AND(入力用シート!$C$12=2,入力用シート!$H$26>0,入力用シート!$H$26<25),\"○\",\"\")","v":""},{"$f":"IF(AND(入力用シート!$C$12=2,入力用シート!$H$32>0,入力用シート!$H$32<25),\"○\",\"\")","v":""},22,"LowV",25,"T",null,null,null,"ｺﾝｸﾘ",{"$f":"IF($H29=0,\"\",IF($H29<=300,INT($H29/10)*10,IF($H29>400,400,50*INT($H29/50))))","v":""},{"$f":"IF($N29=0,\"\",IF($N29<=300,INT($N29/10)*10,IF($N29>400,400,50*INT($N29/50))))","v":""},{"$f":"IF($T29=0,\"\",IF($T29<=300,INT($T29/10)*10,IF($T29>400,400,50*INT($T29/50))))","v":""}]
[null,null,null,null,null,null,null,null,null,"合計",{"$f":"+K15+K16","v":0},null,null,null,4,"4:上記以外の診断用X線装置",null,1,{"$f":"IF(S15=0,0,VLOOKUP(S15,O14:R17,4,0)*1000)","v":0},null,null,null,{"$f":"SUM(W11:W16)","v":0},{"$f":"SUM(X11:X16)","v":0},0,0,0,0,"第1～6遮蔽材合計",null,null,null,null,null,null,null,null,{"$f":"IF(AND(入力用シート!$C$12=2,入力用シート!$H$22>35),\"○\",\"\")","v":""},{"$f":"IF(AND(入力用シート!$C$12=2,入力用シート!$H$26>35),\"○\",\"\")","v":""},{"$f":"IF(AND(入力用シート!$C$12=2,入力用シート!$H$32>35),\"○\",\"\")","v":""},23,"高電圧(35kV超)データなし","OverV","データなし",null,null,null,"Fe",{"$f":"IF($H31=0,\"\",IF($H31<=30,INT($H31),IF($H31>40,40,5*INT($H31/5))))","v":""},{"$f":"IF($N31=0,\"\",IF($N31<=30,INT($N31),IF($N31>40,40,5*INT($N31/5))))","v":""},{"$f":"IF($T31=0,\"\",IF($T31<=30,INT($T31),IF($T31>40,40,5*INT($T31/5))))","v":""}]
[null,null,null,null,null,null,null,null,null,null,null,null,null,null,null,"※１：治療用装置は、装置接触可能5cmの数値であるため任意の数値に変更可能",null,null,null,null,null,null,{"$f":"SUM(W12:W16)","v":0},{"$f":"SUM(X12:X16)","v":0},0,0,0,0,"第2～6遮蔽材合計",null,null,null,null,null,null,null,null,null,null,null,null,null,"T:Table参照",null,null,null,null,"石膏",{"$f":"IF($H33=0,\"\",IF($H33<=30,INT($H33),IF($H33>40,40,5*INT($H33/5))))","v":""},{"$f":"IF($N33=0,\"\",IF($N33<=30,INT($N33),IF($N33>40,40,5*INT($N33/5))))","v":""},{"$f":"IF($T33=0,\"\",IF($T33<=30,INT($T33),IF($T33>40,40,5*INT($T33/5))))","v":""}]
[null,null,null,"A点の計算",null,null,null,null,null,"A'点の計算",null,null,null,null,null,"A\"点の計算",null,null,null,null,null,null,"A'点",null,null,null,null,null,null,null,null,null,null,null,null,null,"②空気カーマから実効線量への換算係数(表10)判定表",null,null,null,null,null,null,null,null,null,null,"ｶﾞﾗｽ",{"$f":"IF($H35=0,\"\",IF($H35<=30,INT($H35),IF($H35>40,40,5*INT($H35/5))))","v":""},{"$f":"IF($N35=0,\"\",IF($N35<=30,INT($N35),IF($N35>40,40,5*INT($N35/5))))","v":""},{"$f":"IF($T35=0,\"\",IF($T35<=30,INT($T35),IF($T35>40,40,5*INT($T35/5))))","v":""}]
[null,null,null,"1) Ep：撮影方向",null,null,null,null,null,"1) Ep：撮影方向",null,null,null,null,null,"1) Ep：撮影方向",null,null,null,null,null,null,{"$f":"入力用シート!N40","v":0},{"$f":"入力用シート!P40","v":0},{"$f":"入力用シート!R40","v":0},{"$f":"入力用シート!T40","v":0},{"$f":"入力用シート!V40","v":0},{"$f":"入力用シート!X40","v":0},null,null,null,null,null,null,null,null,null,null,null,null,null,null,null,null,null,null,null,"木材",{"$f":"IF($H37=0,\"\",IF($H37<=300,INT($H37/10)*10,IF($H37>400,400,50*INT($H37/50))))","v":""},{"$f":"IF($N37=0,\"\",IF($N37<=300,INT($N37/10)*10,IF($N37>400,400,50*INT($N37/50))))","v":""},{"$f":"IF($T37=0,\"\",IF($T37<=300,INT($T37/10)*10,IF($T37>400,400,50*INT($T37/50))))","v":""}]
[null,null,null,"　",null,{"$f":"IF(OR($F8=0,$M9=0,A点!$AQ$7=1,AND($W$8=0,$W$45>0)),0,($G8*$R10*$G25*$F41*$G12*$G11*$M7*$M8)/($M9^2))","v":0},"μSv/3ヶ月",null,null,"　",null,{"$f":"IF(OR($F8=0,$M9=0,A点!$AQ$7=1,AND($W$20=0,$W$45>0)),0,($G8*$R10*$M25*$L41*$G12*$G11*$M7*$M8)/($M9^2))","v":0},"μSv/3ヶ月",null,null,"　",null,{"$f":"IF(OR($F8=0,$M9=0,A点!$AQ$7=1,AND($W$32=0,$W$45>0)),0,($G8*$R10*$S25*$R41*$G12*$G11*$M7*$M8)/($M9^2))","v":0},"μSv/3ヶ月",null,null,null,{"$f":"入力用シート!N41","v":0},{"$f":"入力用シート!P41","v":0},{"$f":"入力用シート!R41","v":0},{"$f":"入力用シート!T41","v":0},{"$f":"入力用シート!V41","v":0},{"$f":"入力用シート!X41","v":0},null,null,null,null,null,null,null,null,null,"透視","撮影","ＣＴ"]
[null,null,null,null,null,null,null,null,null,null,null,null,null,null,null,null,null,null,null,null,null,null,"Pb","ｺﾝｸﾘ","Fe","石膏","ｶﾞﾗｽ","木材",null,null,null,null,null,null,null,null,"判定コード",{"$f":"VLOOKUP(\"○\",$AL$27:$AO$31,4,0)","v":10},{"$f":"VLOOKUP(\"○\",$AM$27:$AO$31,3,0)","v":10},{"$f":"VLOOKUP(\"○\",$AN$27:$AO$31,2,0)","v":10},null,null,null,null,null,null,"3)","遮蔽材順"]
[null,null,null,"a) 第１遮蔽材による減衰(遮蔽体がある場合透過率=1)",null,null,null,null,null,"○ 第１遮蔽材による減衰(遮蔽体がある場合透過率=1)",null,null,null,null,null,"○ 第１遮蔽材による減衰(遮蔽体がある場合透過率=1)",null,null,null,null,null,null,{"$f":"IF($W20=\"Pb\",$W21,0)","v":0},{"$f":"IF($W20=\"ｺﾝｸﾘ\",$W21,0)","v":0},{"$f":"IF($W20=\"Fe\",$W21,0)","v":0},{"$f":"IF($W20=\"石膏\",$W21,0)","v":0},{"$f":"IF($W20=\"ｶﾞﾗｽ\",$W21,0)","v":0},{"$f":"IF($W20=\"木材\",$W21,0)","v":0},null,null,null,null,null,null,null,null,"採用管電圧",{"$f":"IF(AL22=31,5*ROUNDUP(入力用シート!$H$22/5,0),IF(AL22=32,10*ROUNDUP(入力用シート!$H$22/10,0),VLOOKUP(AL22,$AO$27:$AQ$31,3,0)))","v":0},{"$f":"IF(AM22=31,5*ROUNDUP(入力用シート!$H$26/5,0),IF(AM22=32,10*ROUNDUP(入力用シート!$H$26/10,0),VLOOKUP(AM22,$AO$27:$AQ$31,3,0)))","v":0},{"$f":"IF(AN22=31,5*ROUNDUP(入力用シート!$H$32/5,0),IF(AN22=32,10*ROUNDUP(入力用シート!$H$32/10,0),VLOOKUP(AN22,$AO$27:$AQ$31,3,0)))","v":0},null,null,null,null,null,null,null,null,"Ａ点","A'点","A\"点"]
[null,null,null,null,null,"第1遮蔽材",{"$f":"IF($S$8>0,\"遮蔽体\",$W$8)","v":0},{"$f":"$W$8","v":0},null,null,null,"第1遮蔽材",{"$f":"IF($S$8>0,\"遮蔽体\",$W$20)","v":0},{"$f":"$W$20","v":0},null,null,null,"第1遮蔽材",{"$f":"IF($S$8>0,\"遮蔽体\",$W$32)","v":0},{"$f":"$W$32","v":0},null,null,{"$f":"IF($X20=\"Pb\",$X21,0)","v":0},{"$f":"IF($X20=\"ｺﾝｸﾘ\",$X21,0)","v":0},{"$f":"IF($X20=\"Fe\",$X21,0)","v":0},{"$f":"IF($X20=\"石膏\",$X21,0)","v":0},{"$f":"IF($X20=\"ｶﾞﾗｽ\",$X21,0)","v":0},{"$f":"IF($X20=\"木材\",$X21,0)","v":0},null,null,null,null,null,null,null,null,"表1",{"$f":"IF(OR(AL22=31,AL22=32,AL22=33,AL22=34),VLOOKUP(AL23,'表10(換算)'!$A$3:$B$11,2),VLOOKUP(AL22,$AO$27:$AR$31,4,0))","v":0},{"$f":"IF(OR(AM22=31,AM22=32,AM22=33,AM22=34),VLOOKUP(AM23,'表10(換算)'!$A$3:$B$11,2),VLOOKUP(AM22,$AO$27:$AR$31,4,0))","v":0},{"$f":"IF(OR(AN22=31,AN22=32,AN22=33,AN22=34),VLOOKUP(AN23,'表10(換算)'!$A$3:$B$11,2),VLOOKUP(AN22,$AO$27:$AR$31,4,0))","v":0},null,null,null,null,null,null,null,"第1遮蔽材",{"$f":"IF($AW34=\"11\",G$24,H$24)","v":0},{"$f":"IF($AW34=\"11\",M$24,N$24)","v":0},{"$f":"IF($AW34=\"11\",S$24,T$24)","v":0}]
[null,null,null,null,null,"Dt1=",{"$f":"G28*G30*G32*G34*G36*G38","v":1},{"$f":"H28*H30*H32*H34*H36*H38","v":1},null,null,null,"Dt1=",{"$f":"M28*M30*M32*M34*M36*M38","v":1},{"$f":"N28*N30*N32*N34*N36*N38","v":1},null,null,null,"Dt1=",{"$f":"S28*S30*S32*S34*S36*S38","v":1},{"$f":"T28*T30*T32*T34*T36*T38","v":1},null,null,{"$f":"IF($Y20=\"Pb\",$Y21,0)","v":0},{"$f":"IF($Y20=\"ｺﾝｸﾘ\",$Y21,0)","v":0},{"$f":"IF($Y20=\"Fe\",$Y21,0)","v":0},{"$f":"IF($Y20=\"石膏\",$Y21,0)","v":0},{"$f":"IF($Y20=\"ｶﾞﾗｽ\",$Y21,0)","v":0},{"$f":"IF($Y20=\"木材\",$Y21,0)","v":0},null,null,null,null,null,null,null,null,null,null,null,null,null,null,null,null,null,null,null,"第2遮蔽材",{"$f":"IF($AW34=\"11\",W$8,X$8)","v":0},{"$f":"IF($AW34=\"11\",W$20,X$20)","v":0},{"$f":"IF($AW34=\"11\",W$32,X$32)","v":0}]
[null,null,null,null,null,null,"一次線用","散乱線用",null,null,null,null,"一次線用","散乱線用",null,null,null,null,"一次線用","散乱線用",null,null,{"$f":"IF($Z20=\"Pb\",$Z21,0)","v":0},{"$f":"IF($Z20=\"ｺﾝｸﾘ\",$Z21,0)","v":0},{"$f":"IF($Z20=\"Fe\",$Z21,0)","v":0},{"$f":"IF($Z20=\"石膏\",$Z21,0)","v":0},{"$f":"IF($Z20=\"ｶﾞﾗｽ\",$Z21,0)","v":0},{"$f":"IF($Z20=\"木材\",$Z21,0)","v":0},null,null,null,null,null,null,null,null,null,"透視","撮影","CT","コード","説明","参照","カーマ表示等",null,null,null,"第3遮蔽材",{"$f":"IF($AW34=\"11\",X$8,Y$8)","v":0},{"$f":"IF($AW34=\"11\",X$20,Y$20)","v":0},{"$f":"IF($AW34=\"11\",X$32,Y$32)","v":0}]
[null,null,null,"a)　鉛(表2)",null,"等価厚さ",{"$f":"IF($G24=$W$10,$W$9*$AE$8,0)","v":0},{"$f":"IF($H24=$W$10,$W$9*$AE$8,0)","v":0},null,"a)　鉛(表2)",null,"等価厚さ",{"$f":"IF($M24=$W$22,$W$21*$AE$8,0)","v":0},{"$f":"IF($N24=$W$22,$W$21*$AE$8,0)","v":0},null,"a)　鉛(表2)",null,"等価厚さ",{"$f":"IF($S24=$W$34,$W$33*$AE$8,0)","v":0},{"$f":"IF($T24=$W$34,$W$33*$AE$8,0)","v":0},null,null,{"$f":"IF($AA20=\"Pb\",$AA21,0)","v":0},{"$f":"IF($AA20=\"ｺﾝｸﾘ\",$AA21,0)","v":0},{"$f":"IF($AA20=\"Fe\",$AA21,0)","v":0},{"$f":"IF($AA20=\"石膏\",$AA21,0)","v":0},{"$f":"IF($AA20=\"ｶﾞﾗｽ\",$AA21,0)","v":0},{"$f":"IF($AA20=\"木材\",$AA21,0)","v":0},null,null,null,null,null,null,null,null,null,{"$f":"IF(OR(入力用シート!$H$22=\"\",入力用シート!$H$22=0),\"○\",\"\")","v":"○"},{"$f":"IF(OR(入力用シート!$H$26=\"\",入力用シート!$H$26=0),\"○\",\"\")","v":"○"},{"$f":"IF(OR(入力用シート!$H$32=\"\",入力用シート!$H$32=0),\"○\",\"\")","v":"○"},10,"未入力",null,null,null,null,null,"第4遮蔽材",{"$f":"IF($AW34=\"11\",Y$8,Z$8)","v":0},{"$f":"IF($AW34=\"11\",Y$20,Z$20)","v":0},{"$f":"IF($AW34=\"11\",Y$32,Z$32)","v":0}]
[null,null,null,null,null,"透過率",{"$f":"IF(OR($G27=0,A点!$AL$8=1,A点!$AL$8=\"○\"),1,INDEX('表２(Pb)'!$A$3:$Y$36,MATCH($AW5,'表２(Pb)'!$A$3:$A$36,0),MATCH($F8,'表２(Pb)'!$A$3:$Y$3,0)))","v":1},{"$f":"IF(OR($H27=0,A点!$AL$8=1,A点!$AL$8=\"○\"),1,INDEX('表２(Pb)'!$A$3:$Y$36,MATCH($AW15,'表２(Pb)'!$A$3:$A$36,0),MATCH($F8,'表２(Pb)'!$A$3:$Y$3,0)))","v":1},null,null,null,"透過率",{"$f":"IF(OR($M27=0,A点!$AL$8=1,A点!$AL$8=\"○\"),1,INDEX('表２(Pb)'!$A$3:$Y$36,MATCH($AX5,'表２(Pb)'!$A$3:$A$36,0),MATCH($F8,'表２(Pb)'!$A$3:$Y$3,0)))","v":1},{"$f":"IF(OR($N27=0,A点!$AL$8=1,A点!$AL$8=\"○\"),1,INDEX('表２(Pb)'!$A$3:$Y$36,MATCH($AX15,'表２(Pb)'!$A$3:$A$36,0),MATCH($F8,'表２(Pb)'!$A$3:$Y$3,0)))","v":1},null,null,null,"透過率",{"$f":"IF(OR($S27=0,A点!$AL$8=1,A点!$AL$8=\"○\"),1,INDEX('表２(Pb)'!$A$3:$Y$36,MATCH($AY5,'表２(Pb)'!$A$3:$A$36,0),MATCH($F8,'表２(Pb)'!$A$3:$Y$3,0)))","v":1},{"$f":"IF(OR($T27=0,A点!$AL$8=1,A点!$AL$8=\"○\"),1,INDEX('表２(Pb)'!$A$3:$Y$36,MATCH($AY15,'表２(Pb)'!$A$3:$A$36,0),MATCH($F8,'表２(Pb)'!$A$3:$Y$3,0)))","v":1},null,null,{"$f":"IF($AB20=\"Pb\",$AB21,0)","v":0},{"$f":"IF($AB20=\"ｺﾝｸﾘ\",$AB21,0)","v":0},{"$f":"IF($AB20=\"Fe\",$AB21,0)","v":0},{"$f":"IF($AB20=\"石膏\",$AB21,0)","v":0},{"$f":"IF($AB20=\"ｶﾞﾗｽ\",$AB21,0)","v":0},{"$f":"IF($AB20=\"木材\",$AB21,0)","v":0},null,null,null,null,null,null,null,null,null,{"$f":"IF(AND(入力用シート!$H$22>=10,入力用シート!$H$22<=20),\"○\",\"\")","v":""},{"$f":"IF(AND(入力用シート!$H$26>=10,入力用シート!$H$26<=20),\"○\",\"\")","v":""},{"$f":"IF(AND(入力用シート!$H$32>=10,入力用シート!$H$32<=20),\"○\",\"\")","v":""},31,"表から算出(10-20keV)","T","T",null,null,null,"第5遮蔽材",{"$f":"IF($AW34=\"11\",Z$8,AA$8)","v":0},{"$f":"IF($AW34=\"11\",Z$20,AA$20)","v":0},{"$f":"IF($AW34=\"11\",Z$32,AA$32)","v":0}]
[null,null,null,"b)　コンクリート(表3)",null,"等価厚さ",{"$f":"IF($G24=$X$10,$W$9*$AE$9,0)","v":0},{"$f":"IF($H24=$X$10,$W$9*$AE$9,0)","v":0},null,"b)　コンクリート(表3)",null,"等価厚さ",{"$f":"IF($M24=$X$22,$W$21*$AE$9,0)","v":0},{"$f":"IF($N24=$X$22,$W$21*$AE$9,0)","v":0},null,"b)　コンクリート(表3)",null,"等価厚さ",{"$f":"IF($S24=$X$34,$W$33*$AE$9,0)","v":0},{"$f":"IF($T24=$X$34,$W$33*$AE$9,0)","v":0},null,null,{"$f":"SUM(W23:W28)","v":0},{"$f":"SUM(X23:X28)","v":0},0,0,0,0,"第1～6遮蔽材合計",null,null,null,null,null,null,null,null,{"$f":"IF(AND(入力用シート!$H$22>20,入力用シート!$H$22<=80),\"○\",\"\")","v":""},{"$f":"IF(AND(入力用シート!$H$26>20,入力用シート!$H$26<=80),\"○\",\"\")","v":""},{"$f":"IF(AND(入力用シート!$H$32>20,入力用シート!$H$32<=80),\"○\",\"\")","v":""},32,"表から算出(21keV以上)","T","T",null,null,null,"第6遮蔽材",{"$f":"IF($AW34=\"11\",AA$8,AB$8)","v":0},{"$f":"IF($AW34=\"11\",AA$20,AB$20)","v":0},{"$f":"IF($AW34=\"11\",AA$32,AB$32)","v":0}]
[null,null,null,null,null,"透過率",{"$f":"IF(OR($G29=0,A点!$AL$8=1,A点!$AL$8=\"○\"),1,INDEX('表３(コ)'!$A$3:$Y$36,MATCH($AW6,'表３(コ)'!$A$3:$A$36,0),MATCH($F8,'表３(コ)'!$A$3:$Y$3,0)))","v":1},{"$f":"IF(OR($H29=0,A点!$AL$8=1,A点!$AL$8=\"○\"),1,INDEX('表３(コ)'!$A$3:$Y$36,MATCH($AW16,'表３(コ)'!$A$3:$A$36,0),MATCH($F8,'表３(コ)'!$A$3:$Y$3,0)))","v":1},null,null,null,"透過率",{"$f":"IF(OR($M29=0,A点!$AL$8=1,A点!$AL$8=\"○\"),1,INDEX('表３(コ)'!$A$3:$Y$36,MATCH($AX6,'表３(コ)'!$A$3:$A$36,0),MATCH($F8,'表３(コ)'!$A$3:$Y$3,0)))","v":1},{"$f":"IF(OR($N29=0,A点!$AL$8=1,A点!$AL$8=\"○\"),1,INDEX('表３(コ)'!$A$3:$Y$36,MATCH($AX16,'表３(コ)'!$A$3:$A$36,0),MATCH($F8,'表３(コ)'!$A$3:$Y$3,0)))","v":1},null,null,null,"透過率",{"$f":"IF(OR($S29=0,A点!$AL$8=1,A点!$AL$8=\"○\"),1,INDEX('表３(コ)'!$A$3:$Y$36,MATCH($AY6,'表３(コ)'!$A$3:$A$36,0),MATCH($F8,'表３(コ)'!$A$3:$Y$3,0)))","v":1},{"$f":"IF(OR($T29=0,A点!$AL$8=1,A点!$AL$8=\"○\"),1,INDEX('表３(コ)'!$A$3:$Y$36,MATCH($AY16,'表３(コ)'!$A$3:$A$36,0),MATCH($F8,'表３(コ)'!$A$3:$Y$3,0)))","v":1},null,null,{"$f":"SUM(W24:W28)","v":0},{"$f":"SUM(X24:X28)","v":0},0,0,0,0,"第2～6遮蔽材合計",null,null,null,null,null,null,null,null,{"$f":"IF(AND(入力用シート!$H$22>0,入力用シート!$H$22<10),\"○\",\"\")","v":""},{"$f":"IF(AND(入力用シート!$H$26>0,入力用シート!$H$26<10),\"○\",\"\")","v":""},{"$f":"IF(AND(入力用シート!$H$32>0,入力用シート!$H$32<10),\"○\",\"\")","v":""},33,"LowV",10,"T",null,null,null,"第7遮蔽材",{"$f":"IF($AW34=\"11\",AB$8,\"\")","v":""},{"$f":"IF($AW34=\"11\",AB$20,\"\")","v":""},{"$f":"IF($AW34=\"11\",AB$32,\"\")","v":""}]
[null,null,null,"c)　鉄(表4)",null,"等価厚さ",{"$f":"IF($G24=$Y$10,$W$9*$AE$10,0)","v":0},{"$f":"IF($H24=$Y$10,$W$9*$AE$10,0)","v":0},null,"c)　鉄(表4)",null,"等価厚さ",{"$f":"IF($M24=$Y$22,$W$21*$AE$10,0)","v":0},{"$f":"IF($N24=$Y$22,$W$21*$AE$10,0)","v":0},null,"c)　鉄(表4)",null,"等価厚さ",{"$f":"IF($S24=$Y$34,$W$33*$AE$10,0)","v":0},{"$f":"IF($T24=$Y$34,$W$33*$AE$10,0)","v":0},null,null,"A\"点",null,null,null,null,null,null,null,null,null,null,null,null,null,null,{"$f":"IF(入力用シート!$H$22>80,\"○\",\"\")","v":""},{"$f":"IF(入力用シート!$H$26>80,\"○\",\"\")","v":""},{"$f":"IF(入力用シート!$H$32>80,\"○\",\"\")","v":""},34,"一定",80,"T"]
[null,null,null,null,null,"透過率",{"$f":"IF(OR($G31=0,A点!$AL$8=1,A点!$AL$8=\"○\"),1,INDEX('表4(Fe)'!$A$3:$Y$36,MATCH($AW7,'表4(Fe)'!$A$3:$A$36,0),MATCH($F8,'表4(Fe)'!$A$3:$Y$3,0)))","v":1},{"$f":"IF(OR($H31=0,A点!$AL$8=1,A点!$AL$8=\"○\"),1,INDEX('表4(Fe)'!$A$3:$Y$36,MATCH($AW17,'表4(Fe)'!$A$3:$A$36,0),MATCH($F8,'表4(Fe)'!$A$3:$Y$3,0)))","v":1},null,null,null,"透過率",{"$f":"IF(OR($M31=0,A点!$AL$8=1,A点!$AL$8=\"○\"),1,INDEX('表4(Fe)'!$A$3:$Y$36,MATCH($AX7,'表4(Fe)'!$A$3:$A$36,0),MATCH($F8,'表4(Fe)'!$A$3:$Y$3,0)))","v":1},{"$f":"IF(OR($N31=0,A点!$AL$8=1,A点!$AL$8=\"○\"),1,INDEX('表4(Fe)'!$A$3:$Y$36,MATCH($AX17,'表4(Fe)'!$A$3:$A$36,0),MATCH($F8,'表4(Fe)'!$A$3:$Y$3,0)))","v":1},null,null,null,"透過率",{"$f":"IF(OR($S31=0,A点!$AL$8=1,A点!$AL$8=\"○\"),1,INDEX('表4(Fe)'!$A$3:$Y$36,MATCH($AY7,'表4(Fe)'!$A$3:$A$36,0),MATCH($F8,'表4(Fe)'!$A$3:$Y$3,0)))","v":1},{"$f":"IF(OR($T31=0,A点!$AL$8=1,A点!$AL$8=\"○\"),1,INDEX('表4(Fe)'!$A$3:$Y$36,MATCH($AY17,'表4(Fe)'!$A$3:$A$36,0),MATCH($F8,'表4(Fe)'!$A$3:$Y$3,0)))","v":1},null,null,{"$f":"入力用シート!N42","v":0},{"$f":"入力用シート!P42","v":0},{"$f":"入力用シート!R42","v":0},{"$f":"入力用シート!T42","v":0},{"$f":"入力用シート!V42","v":0},{"$f":"入力用シート!X42","v":0},null,null,null,null,null,null,null,null,null,null,null,null,null,null,null,null,null,null,null,"遮蔽体有無",{"$f":"IF($S8>0,1,0)","v":0},"遮蔽体有：１"]
[null,null,null,"d)　石膏(表5)",null,"等価厚さ",{"$f":"IF($G24=$Z$10,$W$9*$AE$11,0)","v":0},{"$f":"IF($H24=$Z$10,$W$9*$AE$11,0)","v":0},null,"d)　石膏(表5)",null,"等価厚さ",{"$f":"IF($M24=$Z$22,$W$21*$AE$11,0)","v":0},{"$f":"IF($N24=$Z$22,$W$21*$AE$11,0)","v":0},null,"d)　石膏(表5)",null,"等価厚さ",{"$f":"IF($S24=$Z$34,$W$33*$AE$11,0)","v":0},{"$f":"IF($T24=$Z$34,$W$33*$AE$11,0)","v":0},null,null,{"$f":"入力用シート!N43","v":0},{"$f":"入力用シート!P43","v":0},{"$f":"入力用シート!R43","v":0},{"$f":"入力用シート!T43","v":0},{"$f":"入力用シート!V43","v":0},{"$f":"入力用シート!X43","v":0},null,null,null,null,null,null,null,null,null,null,null,null,null,null,null,null,null,null,null,"照射方向",{"$f":"IF($M9>0,1,2)","v":2},"直接線：1、散乱線：2"]
[null,null,null,null,null,"透過率",{"$f":"IF(OR($G33=0,A点!$AL$8=1,A点!$AL$8=\"○\"),1,INDEX('表5(CaSO4)'!$A$3:$Y$36,MATCH($AW8,'表5(CaSO4)'!$A$3:$A$36,0),MATCH($F8,'表5(CaSO4)'!$A$3:$Y$3,0)))","v":1},{"$f":"IF(OR($H33=0,A点!$AL$8=1,A点!$AL$8=\"○\"),1,INDEX('表5(CaSO4)'!$A$3:$Y$36,MATCH($AW18,'表5(CaSO4)'!$A$3:$A$36,0),MATCH($F8,'表5(CaSO4)'!$A$3:$Y$3,0)))","v":1},null,null,null,"透過率",{"$f":"IF(OR($M33=0,A点!$AL$8=1,A点!$AL$8=\"○\"),1,INDEX('表5(CaSO4)'!$A$3:$Y$36,MATCH($AX8,'表5(CaSO4)'!$A$3:$A$36,0),MATCH($F8,'表5(CaSO4)'!$A$3:$Y$3,0)))","v":1},{"$f":"IF(OR($N33=0,A点!$AL$8=1,A点!$AL$8=\"○\"),1,INDEX('表5(CaSO4)'!$A$3:$Y$36,MATCH($AX18,'表5(CaSO4)'!$A$3:$A$36,0),MATCH($F8,'表5(CaSO4)'!$A$3:$Y$3,0)))","v":1},null,null,null,"透過率",{"$f":"IF(OR($S33=0,A点!$AL$8=1,A点!$AL$8=\"○\"),1,INDEX('表5(CaSO4)'!$A$3:$Y$36,MATCH($AY8,'表5(CaSO4)'!$A$3:$A$36,0),MATCH($F8,'表5(CaSO4)'!$A$3:$Y$3,0)))","v":1},{"$f":"IF(OR($T33=0,A点!$AL$8=1,A点!$AL$8=\"○\"),1,INDEX('表5(CaSO4)'!$A$3:$Y$36,MATCH($AY18,'表5(CaSO4)'!$A$3:$A$36,0),MATCH($F8,'表5(CaSO4)'!$A$3:$Y$3,0)))","v":1},null,null,"Pb","ｺﾝｸﾘ","Fe","石膏","ｶﾞﾗｽ","木材",null,null,null,null,null,null,null,null,null,null,null,null,null,null,null,null,null,null,null,"判定コード",{"$f":"AW32&AW33","v":"02"}]
[null,null,null,"e）　ガラス(表6)",null,"等価厚さ",{"$f":"IF($G24=$AA$10,$W$9*$AE$12,0)","v":0},{"$f":"IF($H24=$AA$10,$W$9*$AE$12,0)","v":0},null,"e）　ガラス(表6)",null,"等価厚さ",{"$f":"IF($M24=$AA$22,$W$21*$AE$12,0)","v":0},{"$f":"IF($N24=$AA$22,$W$21*$AE$12,0)","v":0},null,"e）　ガラス(表6)",null,"等価厚さ",{"$f":"IF($S24=$AA$34,$W$33*$AE$12,0)","v":0},{"$f":"IF($T24=$AA$34,$W$33*$AE$12,0)","v":0},null,null,{"$f":"IF($W32=\"Pb\",$W33,0)","v":0},{"$f":"IF($W32=\"ｺﾝｸﾘ\",$W33,0)","v":0},{"$f":"IF($W32=\"Fe\",$W33,0)","v":0},{"$f":"IF($W32=\"石膏\",$W33,0)","v":0},{"$f":"IF($W32=\"ｶﾞﾗｽ\",$W33,0)","v":0},{"$f":"IF($W32=\"木材\",$W33,0)","v":0}]
[null,null,null,null,null,"透過率",{"$f":"IF(OR($G35=0,A点!$AL$8=1,A点!$AL$8=\"○\"),1,INDEX('表6(SiO2)'!$A$3:$Y$36,MATCH($AW9,'表6(SiO2)'!$A$3:$A$36,0),MATCH($F8,'表6(SiO2)'!$A$3:$Y$3,0)))","v":1},{"$f":"IF(OR($H35=0,A点!$AL$8=1,A点!$AL$8=\"○\"),1,INDEX('表6(SiO2)'!$A$3:$Y$36,MATCH($AW19,'表6(SiO2)'!$A$3:$A$36,0),MATCH($F8,'表6(SiO2)'!$A$3:$Y$3,0)))","v":1},null,null,null,"透過率",{"$f":"IF(OR($M35=0,A点!$AL$8=1,A点!$AL$8=\"○\"),1,INDEX('表6(SiO2)'!$A$3:$Y$36,MATCH($AX9,'表6(SiO2)'!$A$3:$A$36,0),MATCH($F8,'表6(SiO2)'!$A$3:$Y$3,0)))","v":1},{"$f":"IF(OR($N35=0,A点!$AL$8=1,A点!$AL$8=\"○\"),1,INDEX('表6(SiO2)'!$A$3:$Y$36,MATCH($AX19,'表6(SiO2)'!$A$3:$A$36,0),MATCH($F8,'表6(SiO2)'!$A$3:$Y$3,0)))","v":1},null,null,null,"透過率",{"$f":"IF(OR($S35=0,A点!$AL$8=1,A点!$AL$8=\"○\"),1,INDEX('表6(SiO2)'!$A$3:$Y$36,MATCH($AY9,'表6(SiO2)'!$A$3:$A$36,0),MATCH($F8,'表6(SiO2)'!$A$3:$Y$3,0)))","v":1},{"$f":"IF(OR($T35=0,A点!$AL$8=1,A点!$AL$8=\"○\"),1,INDEX('表6(SiO2)'!$A$3:$Y$36,MATCH($AY19,'表6(SiO2)'!$A$3:$A$36,0),MATCH($F8,'表6(SiO2)'!$A$3:$Y$3,0)))","v":1},null,null,{"$f":"IF($X32=\"Pb\",$X33,0)","v":0},{"$f":"IF($X32=\"ｺﾝｸﾘ\",$X33,0)","v":0},{"$f":"IF($X32=\"Fe\",$X33,0)","v":0},{"$f":"IF($X32=\"石膏\",$X33,0)","v":0},{"$f":"IF($X32=\"ｶﾞﾗｽ\",$X33,0)","v":0},{"$f":"IF($X32=\"木材\",$X33,0)","v":0}]
[null,null,null,"f)　木材(表7)",null,"等価厚さ",{"$f":"IF($G24=$AB$10,$W$9*$AE$13,0)","v":0},{"$f":"IF($H24=$AB$10,$W$9*$AE$13,0)","v":0},null,"f)　木材(表7)",null,"等価厚さ",{"$f":"IF($M24=$AB$22,$W$21*$AE$13,0)","v":0},{"$f":"IF($N24=$AB$22,$W$21*$AE$13,0)","v":0},null,"f)　木材(表7)",null,"等価厚さ",{"$f":"IF($S24=$AB$34,$W$33*$AE$13,0)","v":0},{"$f":"IF($T24=$AB$34,$W$33*$AE$13,0)","v":0},null,null,{"$f":"IF($Y32=\"Pb\",$Y33,0)","v":0},{"$f":"IF($Y32=\"ｺﾝｸﾘ\",$Y33,0)","v":0},{"$f":"IF($Y32=\"Fe\",$Y33,0)","v":0},{"$f":"IF($Y32=\"石膏\",$Y33,0)","v":0},{"$f":"IF($Y32=\"ｶﾞﾗｽ\",$Y33,0)","v":0},{"$f":"IF($Y32=\"木材\",$Y33,0)","v":0}]
[null,null,null,null,null,"透過率",{"$f":"IF(OR($G37=0,A点!$AL$8=1,A点!$AL$8=\"○\"),1,INDEX('表7(木)'!$A$3:$Y$36,MATCH($AW10,'表7(木)'!$A$3:$A$36,0),MATCH($F8,'表7(木)'!$A$3:$Y$3,0)))","v":1},{"$f":"IF(OR($H37=0,A点!$AL$8=1,A点!$AL$8=\"○\"),1,INDEX('表7(木)'!$A$3:$Y$36,MATCH($AW20,'表7(木)'!$A$3:$A$36,0),MATCH($F8,'表7(木)'!$A$3:$Y$3,0)))","v":1},null,null,null,"透過率",{"$f":"IF(OR($M37=0,A点!$AL$8=1,A点!$AL$8=\"○\"),1,INDEX('表7(木)'!$A$3:$Y$36,MATCH($AX10,'表7(木)'!$A$3:$A$36,0),MATCH($F8,'表7(木)'!$A$3:$Y$3,0)))","v":1},{"$f":"IF(OR($N37=0,A点!$AL$8=1,A点!$AL$8=\"○\"),1,INDEX('表7(木)'!$A$3:$Y$36,MATCH($AX20,'表7(木)'!$A$3:$A$36,0),MATCH($F8,'表7(木)'!$A$3:$Y$3,0)))","v":1},null,null,null,"透過率",{"$f":"IF(OR($S37=0,A点!$AL$8=1,A点!$AL$8=\"○\"),1,INDEX('表7(木)'!$A$3:$Y$36,MATCH($AY10,'表7(木)'!$A$3:$A$36,0),MATCH($F8,'表7(木)'!$A$3:$Y$3,0)))","v":1},{"$f":"IF(OR($T37=0,A点!$AL$8=1,A点!$AL$8=\"○\"),1,INDEX('表7(木)'!$A$3:$Y$36,MATCH($AY20,'表7(木)'!$A$3:$A$36,0),MATCH($F8,'表7(木)'!$A$3:$Y$3,0)))","v":1},null,null,{"$f":"IF($Z32=\"Pb\",$Z33,0)","v":0},{"$f":"IF($Z32=\"ｺﾝｸﾘ\",$Z33,0)","v":0},{"$f":"IF($Z32=\"Fe\",$Z33,0)","v":0},{"$f":"IF($Z32=\"石膏\",$Z33,0)","v":0},{"$f":"IF($Z32=\"ｶﾞﾗｽ\",$Z33,0)","v":0},{"$f":"IF($Z32=\"木材\",$Z33,0)","v":0}]
[null,null,null,null,null,null,null,null,null,null,null,null,null,null,null,null,null,null,null,null,null,null,{"$f":"IF($AA32=\"Pb\",$AA33,0)","v":0},{"$f":"IF($AA32=\"ｺﾝｸﾘ\",$AA33,0)","v":0},{"$f":"IF($AA32=\"Fe\",$AA33,0)","v":0},{"$f":"IF($AA32=\"石膏\",$AA33,0)","v":0},{"$f":"IF($AA32=\"ｶﾞﾗｽ\",$AA33,0)","v":0},{"$f":"IF($AA32=\"木材\",$AA33,0)","v":0}]
[null,null,null,"b)　第２遮蔽材以後による一次線の減衰表9",null,null,null,null,null,"2)　第２遮蔽材以後による一次線の減衰表9",null,null,null,null,null,"2)　第２遮蔽材以後による一次線の減衰表9",null,null,null,null,null,null,{"$f":"IF($AB32=\"Pb\",$AB33,0)","v":0},{"$f":"IF($AB32=\"ｺﾝｸﾘ\",$AB33,0)","v":0},{"$f":"IF($AB32=\"Fe\",$AB33,0)","v":0},{"$f":"IF($AB32=\"石膏\",$AB33,0)","v":0},{"$f":"IF($AB32=\"ｶﾞﾗｽ\",$AB33,0)","v":0},{"$f":"IF($AB32=\"木材\",$AB33,0)","v":0}]
[null,null,null,null,"Dt2=",{"$f":"F44*F46*F48*F50*F52*F54","v":0},{"$f":"G44*G46*G48*G50*G52*G54","v":0},0,null,null,"Dt2=",{"$f":"L44*L46*L48*L50*L52*L54","v":0},{"$f":"M44*M46*M48*M50*M52*M54","v":0},0,null,null,"Dt2=",{"$f":"R44*R46*R48*R50*R52*R54","v":0},{"$f":"S44*S46*S48*S50*S52*S54","v":0},0,null,null,{"$f":"SUM(W35:W40)","v":0},{"$f":"SUM(X35:X40)","v":0},0,0,0,0,"第1～6遮蔽材合計"]
[null,null,null,null,null,"一次線用","散乱線用","漏洩線用",null,null,null,"一次線用","散乱線用","漏洩線用",null,null,null,"一次線用","散乱線用","漏洩線用",null,null,{"$f":"SUM(W36:W40)","v":0},{"$f":"SUM(X36:X40)","v":0},0,0,0,0,"第2～6遮蔽材合計"]
[null,null,null,"a)　鉛(表9)","半価層(mm)",{"$f":"IF(OR(A点!$AL$8=1,A点!$AL$8=\"○\"),\"\",VLOOKUP($F8,'表9(BB)'!$A$4:$M$27,2,0))","v":""},null,null,null,"a)　鉛(表9)","半価層(mm)",{"$f":"IF(OR(A点!$AL$8=1,A点!$AL$8=\"○\"),\"\",VLOOKUP($F8,'表9(BB)'!$A$4:$M$27,2,0))","v":""},null,null,null,"a)　鉛(表9)","半価層(mm)",{"$f":"IF(OR(A点!$AL$8=1,A点!$AL$8=\"○\"),\"\",VLOOKUP($F8,'表9(BB)'!$A$4:$M$27,2,0))","v":""}]
[null,null,null,null,"透過率",{"$f":"IF($S$8>0,$H44,$G44)","v":0},{"$f":"IF($F43=\"\",0,(1/2)^($W18*$AE$8/$F43))","v":0},{"$f":"IF($F43=\"\",0,(1/2)^($W17*$AE$8/$F43))","v":0},null,null,"透過率",{"$f":"IF($S$8>0,$N44,$M44)","v":0},{"$f":"IF($L43=\"\",0,(1/2)^($W30*$AE$8/$L43))","v":0},{"$f":"IF($L43=\"\",0,(1/2)^($W29*$AE$8/$L43))","v":0},null,null,"透過率",{"$f":"IF($S$8>0,$T44,$S44)","v":0},{"$f":"IF($R43=\"\",0,(1/2)^($W42*$AE$8/$R43))","v":0},{"$f":"IF($R43=\"\",0,(1/2)^($W41*$AE$8/$R43))","v":0},null,null,"遮蔽材判定"]
[null,null,null,"b)　コンクリート(表9)","半価層(mm)",{"$f":"IF(OR(A点!$AL$8=1,A点!$AL$8=\"○\"),\"\",VLOOKUP($F8,'表9(BB)'!$A$4:$M$27,4,0))","v":""},null,null,null,"b)　コンクリート(表9)","半価層(mm)",{"$f":"IF(OR(A点!$AL$8=1,A点!$AL$8=\"○\"),\"\",VLOOKUP($F8,'表9(BB)'!$A$4:$M$27,4,0))","v":""},null,null,null,"b)　コンクリート(表9)","半価層(mm)",{"$f":"IF(OR(A点!$AL$8=1,A点!$AL$8=\"○\"),\"\",VLOOKUP($F8,'表9(BB)'!$A$4:$M$27,4,0))","v":""},null,null,null,null,{"$f":"SUM(W17:AB17)+SUM(W29:AB29)+SUM(W41:AB41)","v":0}]
[null,null,null,null,"透過率",{"$f":"IF($S$8>0,$H46,$G46)","v":0},{"$f":"IF($F45=\"\",0,(1/2)^($X18*$AE$9/$F45))","v":0},{"$f":"IF($F45=\"\",0,(1/2)^($X17*$AE$9/$F45))","v":0},null,null,"透過率",{"$f":"IF($S$8>0,$N46,$M46)","v":0},{"$f":"IF($L45=\"\",0,(1/2)^($X30*$AE$9/$L45))","v":0},{"$f":"IF($L45=\"\",0,(1/2)^($X29*$AE$9/$L45))","v":0},null,null,"透過率",{"$f":"IF($S$8>0,$T46,$S46)","v":0},{"$f":"IF($R45=\"\",0,(1/2)^($X42*$AE$9/$R45))","v":0},{"$f":"IF($R45=\"\",0,(1/2)^($X41*$AE$9/$R45))","v":0}]
[null,null,null,"c)　鉄(表9)","半価層(mm)",{"$f":"IF(OR(A点!$AL$8=1,A点!$AL$8=\"○\"),\"\",VLOOKUP($F8,'表9(BB)'!$A$4:$M$27,6,0))","v":""},null,null,null,"c)　鉄(表9)","半価層(mm)",{"$f":"IF(OR(A点!$AL$8=1,A点!$AL$8=\"○\"),\"\",VLOOKUP($F8,'表9(BB)'!$A$4:$M$27,6,0))","v":""},null,null,null,"c)　鉄(表9)","半価層(mm)",{"$f":"IF(OR(A点!$AL$8=1,A点!$AL$8=\"○\"),\"\",VLOOKUP($F8,'表9(BB)'!$A$4:$M$27,6,0))","v":""}]
[null,null,null,null,"透過率",{"$f":"IF($S$8>0,$H48,$G48)","v":0},{"$f":"IF($F47=\"\",0,(1/2)^($Y18*$AE$10/$F47))","v":0},{"$f":"IF($F47=\"\",0,(1/2)^($Y17*$AE$10/$F47))","v":0},null,null,"透過率",{"$f":"IF($S$8>0,$N48,$M48)","v":0},{"$f":"IF($L47=\"\",0,(1/2)^($Y30*$AE$10/$L47))","v":0},{"$f":"IF($L47=\"\",0,(1/2)^($Y29*$AE$10/$L47))","v":0},null,null,"透過率",{"$f":"IF($S$8>0,$T48,$S48)","v":0},{"$f":"IF($R47=\"\",0,(1/2)^($Y42*$AE$10/$R47))","v":0},{"$f":"IF($R47=\"\",0,(1/2)^($Y41*$AE$10/$R47))","v":0}]
[null,null,null,"d)　石膏(表9)","半価層(mm)",{"$f":"IF(OR(A点!$AL$8=1,A点!$AL$8=\"○\"),\"\",VLOOKUP($F8,'表9(BB)'!$A$4:$M$27,8,0))","v":""},null,null,null,"d)　石膏(表9)","半価層(mm)",{"$f":"IF(OR(A点!$AL$8=1,A点!$AL$8=\"○\"),\"\",VLOOKUP($F8,'表9(BB)'!$A$4:$M$27,8,0))","v":""},null,null,null,"d)　石膏(表9)","半価層(mm)",{"$f":"IF(OR(A点!$AL$8=1,A点!$AL$8=\"○\"),\"\",VLOOKUP($F8,'表9(BB)'!$A$4:$M$27,8,0))","v":""}]
[null,null,null,null,"透過率",{"$f":"IF($S$8>0,$H50,$G50)","v":0},{"$f":"IF($F49=\"\",0,(1/2)^($Z18*$AE$11/$F49))","v":0},{"$f":"IF($F49=\"\",0,(1/2)^($Z17*$AE$11/$F49))","v":0},null,null,"透過率",{"$f":"IF($S$8>0,$N50,$M50)","v":0},{"$f":"IF($L49=\"\",0,(1/2)^($Z30*$AE$11/$L49))","v":0},{"$f":"IF($L49=\"\",0,(1/2)^($Z29*$AE$11/$L49))","v":0},null,null,"透過率",{"$f":"IF($S$8>0,$T50,$S50)","v":0},{"$f":"IF($R49=\"\",0,(1/2)^($Z42*$AE$11/$R49))","v":0},{"$f":"IF($R49=\"\",0,(1/2)^($Z41*$AE$11/$R49))","v":0}]
[null,null,null,"e）　ガラス(表9)","半価層(mm)",{"$f":"IF(OR(A点!$AL$8=1,A点!$AL$8=\"○\"),\"\",VLOOKUP($F8,'表9(BB)'!$A$4:$M$27,10,0))","v":""},null,null,null,"e）　ガラス(表9)","半価層(mm)",{"$f":"IF(OR(A点!$AL$8=1,A点!$AL$8=\"○\"),\"\",VLOOKUP($F8,'表9(BB)'!$A$4:$M$27,10,0))","v":""},null,null,null,"e）　ガラス(表9)","半価層(mm)",{"$f":"IF(OR(A点!$AL$8=1,A点!$AL$8=\"○\"),\"\",VLOOKUP($F8,'表9(BB)'!$A$4:$M$27,10,0))","v":""}]
[null,null,null,null,"透過率",{"$f":"IF($S$8>0,$H52,$G52)","v":0},{"$f":"IF($F51=\"\",0,(1/2)^($AA18*$AE$12/$F51))","v":0},{"$f":"IF($F51=\"\",0,(1/2)^($AA17*$AE$12/$F51))","v":0},null,null,"透過率",{"$f":"IF($S$8>0,$N52,$M52)","v":0},{"$f":"IF($L51=\"\",0,(1/2)^($AA30*$AE$12/$L51))","v":0},{"$f":"IF($L51=\"\",0,(1/2)^($AA29*$AE$12/$L51))","v":0},null,null,"透過率",{"$f":"IF($S$8>0,$T52,$S52)","v":0},{"$f":"IF($R51=\"\",0,(1/2)^($AA42*$AE$12/$R51))","v":0},{"$f":"IF($R51=\"\",0,(1/2)^($AA41*$AE$12/$R51))","v":0}]
[null,null,null,"f)　木材(表9)","半価層(mm)",{"$f":"IF(OR(A点!$AL$8=1,A点!$AL$8=\"○\"),\"\",VLOOKUP($F8,'表9(BB)'!$A$4:$M$27,12,0))","v":""},null,null,null,"f)　木材(表9)","半価層(mm)",{"$f":"IF(OR(A点!$AL$8=1,A点!$AL$8=\"○\"),\"\",VLOOKUP($F8,'表9(BB)'!$A$4:$M$27,12,0))","v":""},null,null,null,"f)　木材(表9)","半価層(mm)",{"$f":"IF(OR(A点!$AL$8=1,A点!$AL$8=\"○\"),\"\",VLOOKUP($F8,'表9(BB)'!$A$4:$M$27,12,0))","v":""}]
[null,null,null,null,"透過率",{"$f":"IF($S$8>0,$H54,$G54)","v":0},{"$f":"IF($F53=\"\",0,(1/2)^($AB18*$AE$13/$F53))","v":0},{"$f":"IF($F53=\"\",0,(1/2)^($AB17*$AE$13/$F53))","v":0},null,null,"透過率",{"$f":"IF($S$8>0,$N54,$M54)","v":0},{"$f":"IF($L53=\"\",0,(1/2)^($AB$30*$AE$13/$L$53))","v":0},{"$f":"IF($L53=\"\",0,(1/2)^($AB$29*$AE$13/$L$53))","v":0},null,null,"透過率",{"$f":"IF($S$8>0,$T54,$S54)","v":0},{"$f":"IF($R53=\"\",0,(1/2)^($AB42*$AE$13/$R53))","v":0},{"$f":"IF($R53=\"\",0,(1/2)^($AB41*$AE$13/$R53))","v":0}]
[]
[]
[null,null,null,"2)　Es：散乱エックス線の漏洩線量(散乱角90度)",null,null,null,null,null,"2)　Es：散乱エックス線の漏洩線量(散乱角90度)",null,null,null,null,null,"2)　Es：散乱エックス線の漏洩線量(散乱角90度)"]
[null,null,null,null,"Dt=",{"$f":"H25*G41","v":0},null,null,null,null,"Dt=",{"$f":"N25*M41","v":0},null,null,null,null,"Dt=",{"$f":"T25*S41","v":0}]
[null,null,null,null,"Es=",{"$f":"IF(OR($F8=0,$M10=0,$M11=0,AND($W$8=0,$W$45>0),A点!$AQ$7=1),0,$G8*F58*$G12*$G11*$M7*$M8*($K11/100)*$K12/(400*($M10^2)*($M11^2)))","v":0},"μSv/3ヶ月",null,null,null,"Es=",{"$f":"IF(OR($F8=0,$M10=0,$M11=0,AND($W$20=0,$W$45>0),A点!$AQ$7=1),0,$G8*$G12*$G11*L58*$M7*$M8*($K11/100)*$K12/(400*($M10^2)*($M11^2)))","v":0},"μSv/3ヶ月",null,null,null,"Es=",{"$f":"IF(OR($F8=0,$M10=0,$M11=0,AND($W$32=0,$W$45>0),A点!$AQ$7=1),0,$G8*$G12*$G11*R58*$M7*$M8*($K11/100)*$K12/(400*($M10^2)*($M11^2)))","v":0},"μSv/3ヶ月"]
[]
[]
[null,null,null,"3)　EL：エックス線管容器からの漏洩線量(最大見積)",null,null,null,null,null,"3)　EL：エックス線管容器からの漏洩線量(最大見積)",null,null,null,null,null,"3)　EL：エックス線管容器からの漏洩線量(最大見積)"]
[]
[null,null,null,null,"EL=",{"$f":"IF(OR($F8=0,$M12=0,A点!$AQ$7=1,AND($W$8=0,$W$45>0)),0,$S17*$G11*$M13*H41*$M7*$M8/($M12^2))","v":0},"μGy/h",null,null,null,"EL=",{"$f":"IF(OR($F8=0,$M12=0,A点!$AQ$7=1,AND($W$20=0,$W$45>0)),0,$S17*$G11*$M13*N41*$M7*$M8/($M12^2))","v":0},"μGy/h",null,null,null,"EL=",{"$f":"IF(OR($F8=0,$M12=0,A点!$AQ$7=1,AND($W$32=0,$W$45>0)),0,$S17*$G11*$M13*T41*$M7*$M8/($M12^2))","v":0},"μGy/h"]
[]
[]
[null,"一般撮影",null,"①　X：空気カーマ(表1)",null,null,null,"④　使用係数",null,null,null,"Ｕ＝",1,null,null,"1)対向板による一次線の減衰(表２)",null,null,null,null,null,null,null,null,null,null,null,null,null,null,null,null,null,null,null,null,null,null,null,null,null,null,null,null,null,null,"③撮影用透過率（表2-7）"]
[null,null,null,null,"採用管電圧",{"$f":"$AM$5","v":0},{"$f":"$AM$6","v":0},"⑤　居住係数",null,null,null,"Ｔ＝",1,null,null,null,null,"等価厚さ",{"$f":"入力用シート!$AA$9","v":0},"mm",null,null,null,null,null,null,null,null,null,null,null,null,null,null,null,null,null,null,null,null,null,null,null,null,null,null,"1)直接線用"]
[null,null,null,null,"電流",{"$f":"入力用シート!$L$26","v":0},null,"⑥　距離",null,null,null,"d1=",{"$f":"M9","v":0},"ｍ",null,null,"採用管電圧",{"$f":"$AM$5","v":0},null,null,null,null,null,null,null,null,null,null,null,null,null,null,null,null,null,null,null,null,null,null,null,null,null,null,null,null,"遮蔽厚参照値"]
[null,null,null,"②　E/Ka：空気カーマ換算係数（表10）",null,null,null,"⑧　照射野400cm2空気ｶｰﾏ率表8",null,null,null,"d2=",0,"ｍ",null,null,"透過率",{"$f":"IF(A点!$AM$8=\"○\",\"\",IF(A点!$AM$8=1,\"データなし\",IF($S68>3,HLOOKUP($R69,'表２(Pb)'!$B$3:$Y$36,32+ROUNDDOWN(($S68-3)/0.5,0),0),HLOOKUP($R69,'表２(Pb)'!$B$3:$Y$36,2+S68/0.1,0))))","v":""},null,null,null,null,null,null,null,null,null,null,null,null,null,null,null,null,null,null,null,null,null,null,null,null,null,null,null,null,null,null,"Ａ点","A'点","A\"点"]
[null,null,null,null,"採用管電圧",{"$f":"$AM$23","v":0},{"$f":"$AM$24","v":0},null,null,null,{"$f":"$AM$7","v":0},"d3=",0,"ｍ",null,null,null,null,null,null,null,null,null,null,null,null,null,null,null,null,null,null,null,null,null,null,null,null,null,null,null,null,null,null,null,null,null,"Pb",{"$f":"IF($G87=0,\"\",IF($G87<=3,INT(10*$G87)/10,IF($G87>4,4,0.5*INT($G87/0.5))))","v":""},{"$f":"IF($M87=0,\"\",IF($M87<=3,INT(10*$M87)/10,IF($M87>4,4,0.5*INT($M87/0.5))))","v":""},{"$f":"IF($S87=0,\"\",IF($S87<=3,INT(10*$S87)/10,IF($S87>4,4,0.5*INT($S87/0.5))))","v":""}]
[null,null,null,"③　W：３Ｍ実効稼動負荷",null,"合計",{"$f":"13*(入力用シート!$L$26*入力用シート!$Q$26*入力用シート!$H$27*入力用シート!$L$27*入力用シート!$Q$27)","v":0},"⑨　受像面照射野",null,null,{"$f":"入力用シート!$E$16","v":1225},"d4=",0,"ｍ",null,null,null,null,null,null,null,null,null,null,null,null,null,null,null,null,null,null,null,null,null,null,null,null,null,null,null,null,null,null,null,null,null,"ｺﾝｸﾘ",{"$f":"IF($G89=0,\"\",IF($G89<=300,INT($G89/10)*10,IF($G89>400,400,50*INT($G89/50))))","v":""},{"$f":"IF($M89=0,\"\",IF($M89<=300,INT($M89/10)*10,IF($M89>400,400,50*INT($M89/50))))","v":""},{"$f":"IF($S89=0,\"\",IF($S89<=300,INT($S89/10)*10,IF($S89>400,400,50*INT($S89/50))))","v":""}]
[null,null,null,null,null,null,null,"⑩　tw：３月間における稼働時間(h)",null,null,null,null,{"$f":"IF(F69=0,0,G72/(F69*3600))","v":0},null,null,"機器の種類",null,"管容器からの空気ｶｰﾏ率（mGy/h）",null,null,null,null,null,null,null,null,null,null,null,null,null,null,null,null,null,null,null,null,null,null,null,null,null,null,null,null,null,"Fe",{"$f":"IF($G91=0,\"\",IF($G91<=30,INT($G91),IF($G91>40,40,5*INT($G91/5))))","v":""},{"$f":"IF($M91=0,\"\",IF($M91<=30,INT($M91),IF($M91>40,40,5*INT($M91/5))))","v":""},{"$f":"IF($S91=0,\"\",IF($S91<=30,INT($S91),IF($S91>40,40,5*INT($S91/5))))","v":""}]
[null,null,null,"A点の漏洩エックス線量の計算(利用線錘方向）",null,null,null,null,"A点の漏洩エックス線量の計算(被写体・管球）",null,null,null,null,null,1,"治療用ｴｯｸｽ線装置（≧50ｋV）",null,1,"選んだ機器",null,null,null,null,null,null,null,null,null,null,null,null,null,null,null,null,null,null,null,null,null,null,null,null,null,null,null,null,"石膏",{"$f":"IF($G93=0,\"\",IF($G93<=30,INT($G93),IF($G93>40,40,5*INT($G93/5))))","v":""},{"$f":"IF($M93=0,\"\",IF($M93<=30,INT($M93),IF($M93>40,40,5*INT($M93/5))))","v":""},{"$f":"IF($S93=0,\"\",IF($S93<=30,INT($S93),IF($S93>40,40,5*INT($S93/5))))","v":""}]
[null,null,null,null,"Ea=",{"$f":"MAX(F81,L81,R81)","v":0},"μSv/3ヶ月",null,null,"Es＝",{"$f":"MAX(F119,L119,R119)","v":0},"μSv/3ヶ月",null,null,2,"治療用ｴｯｸｽ線装置（＜50ｋV）",null,10,{"$f":"入力用シート!$C$7","v":0},null,null,null,null,null,null,null,null,null,null,null,null,null,null,null,null,null,null,null,null,null,null,null,null,null,null,null,null,"ｶﾞﾗｽ",{"$f":"IF($G95=0,\"\",IF($G95<=30,INT($G95),IF($G95>40,40,5*INT($G95/5))))","v":""},{"$f":"IF($M95=0,\"\",IF($M95<=30,INT($M95),IF($M95>40,40,5*INT($M95/5))))","v":""},{"$f":"IF($S95=0,\"\",IF($S95<=30,INT($S95),IF($S95>40,40,5*INT($S95/5))))","v":""}]
[null,null,null,null,null,null,null,null,null,"EL＝",{"$f":"MAX(F124,L124,R124)","v":0},"μSv/3ヶ月",null,null,3,"口内法撮影用X線装置（≦120ｋV）",null,0.25,"選ばれた空気ｶｰﾏ率XL",null,null,null,null,null,null,null,null,null,null,null,null,null,null,null,null,null,null,null,null,null,null,null,null,null,null,null,null,"木材",{"$f":"IF($G97=0,\"\",IF($G97<=300,INT($G97/10)*10,IF($G97>400,400,50*INT($G97/50))))","v":""},{"$f":"IF($M97=0,\"\",IF($M97<=300,INT($M97/10)*10,IF($M97>400,400,50*INT($M97/50))))","v":""},{"$f":"IF($S97=0,\"\",IF($S97<=300,INT($S97/10)*10,IF($S97>400,400,50*INT($S97/50))))","v":""}]
[null,null,null,null,null,null,null,null,null,"合計",{"$f":"+K75+K76","v":0},null,null,null,4,"上記以外の診断用X線装置",null,1,{"$f":"IF(S75=0,0,VLOOKUP(S75,O74:R77,4,0)*1000)","v":0}]
[null,null,null,null,null,null,null,null,null,null,null,null,null,null,null,null,null,null,null,null,null,null,null,null,null,null,null,null,null,null,null,null,null,null,null,null,null,null,null,null,null,null,null,null,null,null,"2)散乱線用"]
[null,null,null,"A点の計算",null,null,null,null,null,"A'点の計算",null,null,null,null,null,"A\"点の計算",null,null,null,null,null,null,null,null,null,null,null,null,null,null,null,null,null,null,null,null,null,null,null,null,null,null,null,null,null,null,"遮蔽厚参照値"]
[null,null,null,"1) Ep：一次エックス線（撮影方向）",null,null,null,null,null,"1) Ep：一次エックス線（撮影方向）",null,null,null,null,null,"1) Ep：一次エックス線（撮影方向）",null,null,null,null,null,null,null,null,null,null,null,null,null,null,null,null,null,null,null,null,null,null,null,null,null,null,null,null,null,null,null,null,"Ａ点","A'点","A\"点"]
[null,null,null,"　",null,{"$f":"IF(OR($F68=0,$M69=0,A点!$AQ$7=1,AND($W$8=0,$W$45>0)),0,($G68*$R70*$G85*$F101*$G72*$G71*$M67*$M68)/($M69^2))","v":0},"μSv/3ヶ月",null,null,"　",null,{"$f":"IF(OR($F68=0,$M69=0,A点!$AQ$7=1,AND($W$20=0,$W$45>0)),0,($G68*$R70*$M85*$L101*$G72*$G71*$M67*$M68)/($M69^2))","v":0},"μSv/3ヶ月",null,null,"　",null,{"$f":"IF(OR($F68=0,$M69=0,A点!$AQ$7=1,AND($W$32=0,$W$45>0)),0,($G68*$R70*$S85*$R101*$G72*$G71*$M67*$M68)/($M69^2))","v":0},"μSv/3ヶ月",null,null,null,null,null,null,null,null,null,null,null,null,null,null,null,null,null,null,null,null,null,null,null,null,null,null,null,null,"Pb",{"$f":"IF($H87=0,\"\",IF($H87<=3,INT(10*$H87)/10,IF($H87>4,4,0.5*INT($H87/0.5))))","v":""},{"$f":"IF($N87=0,\"\",IF($N87<=3,INT(10*$N87)/10,IF($N87>4,4,0.5*INT($N87/0.5))))","v":""},{"$f":"IF($T87=0,\"\",IF($T87<=3,INT(10*$T87)/10,IF($T87>4,4,0.5*INT($T87/0.5))))","v":""}]
[null,null,null,null,null,null,null,null,null,null,null,null,null,null,null,null,null,null,null,null,null,null,null,null,null,null,null,null,null,null,null,null,null,null,null,null,null,null,null,null,null,null,null,null,null,null,null,"ｺﾝｸﾘ",{"$f":"IF($H89=0,\"\",IF($H89<=300,INT($H89/10)*10,IF($H89>400,400,50*INT($H89/50))))","v":""},{"$f":"IF($N89=0,\"\",IF($N89<=300,INT($N89/10)*10,IF($N89>400,400,50*INT($N89/50))))","v":""},{"$f":"IF($T89=0,\"\",IF($T89<=300,INT($T89/10)*10,IF($T89>400,400,50*INT($T89/50))))","v":""}]
[null,null,null,"a) 第１遮蔽材による減衰(遮蔽体がある場合透過率=1)",null,null,null,null,null,"a) 第１遮蔽材による減衰(遮蔽体がある場合透過率=1)",null,null,null,null,null,"a) 第１遮蔽材による減衰(遮蔽体がある場合透過率=1)",null,null,null,null,null,null,null,null,null,null,null,null,null,null,null,null,null,null,null,null,null,null,null,null,null,null,null,null,null,null,null,"Fe",{"$f":"IF($H91=0,\"\",IF($H91<=30,INT($H91),IF($H91>40,40,5*INT($H91/5))))","v":""},{"$f":"IF($N91=0,\"\",IF($N91<=30,INT($N91),IF($N91>40,40,5*INT($N91/5))))","v":""},{"$f":"IF($T91=0,\"\",IF($T91<=30,INT($T91),IF($T91>40,40,5*INT($T91/5))))","v":""}]
[null,null,null,null,null,"第1遮蔽材",{"$f":"IF($S$68>0,\"遮蔽体\",$W$8)","v":0},{"$f":"$W$8","v":0},null,null,null,"第1遮蔽材",{"$f":"IF($S$68>0,\"遮蔽体\",$W$20)","v":0},{"$f":"$W$20","v":0},null,null,null,"第1遮蔽材",{"$f":"IF($S$68>0,\"遮蔽体\",$W$32)","v":0},{"$f":"$W$32","v":0},null,null,null,null,null,null,null,null,null,null,null,null,null,null,null,null,null,null,null,null,null,null,null,null,null,null,null,"石膏",{"$f":"IF($H93=0,\"\",IF($H93<=30,INT($H93),IF($H93>40,40,5*INT($H93/5))))","v":""},{"$f":"IF($N93=0,\"\",IF($N93<=30,INT($N93),IF($N93>40,40,5*INT($N93/5))))","v":""},{"$f":"IF($T93=0,\"\",IF($T93<=30,INT($T93),IF($T93>40,40,5*INT($T93/5))))","v":""}]
[null,null,null,null,null,"Dt1=",{"$f":"G88*G90*G92*G94*G96*G98","v":1},{"$f":"H88*H90*H92*H94*H96*H98","v":1},null,null,null,"Dt1=",{"$f":"M88*M90*M92*M94*M96*M98","v":1},{"$f":"N88*N90*N92*N94*N96*N98","v":1},null,null,null,"Dt1=",{"$f":"S88*S90*S92*S94*S96*S98","v":1},{"$f":"T88*T90*T92*T94*T96*T98","v":1},null,null,null,null,null,null,null,null,null,null,null,null,null,null,null,null,null,null,null,null,null,null,null,null,null,null,null,"ｶﾞﾗｽ",{"$f":"IF($H95=0,\"\",IF($H95<=30,INT($H95),IF($H95>40,40,5*INT($H95/5))))","v":""},{"$f":"IF($N95=0,\"\",IF($N95<=30,INT($N95),IF($N95>40,40,5*INT($N95/5))))","v":""},{"$f":"IF($T95=0,\"\",IF($T95<=30,INT($T95),IF($T95>40,40,5*INT($T95/5))))","v":""}]
[null,null,null,null,null,null,"一次線用","散乱線用",null,null,null,null,"一次線用","散乱線用",null,null,null,null,"一次線用","散乱線用",null,null,null,null,null,null,null,null,null,null,null,null,null,null,null,null,null,null,null,null,null,null,null,null,null,null,null,"木材",{"$f":"IF($H97=0,\"\",IF($H97<=300,INT($H97/10)*10,IF($H97>400,400,50*INT($H97/50))))","v":""},{"$f":"IF($N97=0,\"\",IF($N97<=300,INT($N97/10)*10,IF($N97>400,400,50*INT($N97/50))))","v":""},{"$f":"IF($T97=0,\"\",IF($T97<=300,INT($T97/10)*10,IF($T97>400,400,50*INT($T97/50))))","v":""}]
[null,null,null,"a)　鉛(表2)",null,"等価厚さ",{"$f":"IF($G84=$W$10,$W$9*$AE$8,0)","v":0},{"$f":"IF($H84=$W$10,$W$9*$AE$8,0)","v":0},null,"a)　鉛(表2)",null,"等価厚さ",{"$f":"IF($M84=$W$22,$W$21*$AE$8,0)","v":0},{"$f":"IF($N84=$W$22,$W$21*$AE$8,0)","v":0},null,"a)　鉛(表2)",null,"等価厚さ",{"$f":"IF($S84=$W$34,$W$33*$AE$8,0)","v":0},{"$f":"IF($T84=$W$34,$W$33*$AE$8,0)","v":0}]
[null,null,null,null,null,"透過率",{"$f":"IF(OR($G87=0,A点!$AM$8=1,A点!$AM$8=\"○\"),1,INDEX('表２(Pb)'!$A$3:$Y$36,MATCH($AW71,'表２(Pb)'!$A$3:$A$36,0),MATCH($F68,'表２(Pb)'!$A$3:$Y$3,0)))","v":1},{"$f":"IF(OR($H87=0,A点!$AM$8=1,A点!$AM$8=\"○\"),1,INDEX('表２(Pb)'!$A$3:$Y$36,MATCH($AW81,'表２(Pb)'!$A$3:$A$36,0),MATCH($F68,'表２(Pb)'!$A$3:$Y$3,0)))","v":1},null,null,null,"透過率",{"$f":"IF(OR($M87=0,A点!$AM$8=1,A点!$AM$8=\"○\"),1,INDEX('表２(Pb)'!$A$3:$Y$36,MATCH($AX71,'表２(Pb)'!$A$3:$A$36,0),MATCH($F68,'表２(Pb)'!$A$3:$Y$3,0)))","v":1},{"$f":"IF(OR($N87=0,A点!$AM$8=1,A点!$AM$8=\"○\"),1,INDEX('表２(Pb)'!$A$3:$Y$36,MATCH($AX81,'表２(Pb)'!$A$3:$A$36,0),MATCH($F68,'表２(Pb)'!$A$3:$Y$3,0)))","v":1},null,null,null,"透過率",{"$f":"IF(OR($S87=0,A点!$AM$8=1,A点!$AM$8=\"○\"),1,INDEX('表２(Pb)'!$A$3:$Y$36,MATCH($AY71,'表２(Pb)'!$A$3:$A$36,0),MATCH($F68,'表２(Pb)'!$A$3:$Y$3,0)))","v":1},{"$f":"IF(OR($T87=0,A点!$AM$8=1,A点!$AM$8=\"○\"),1,INDEX('表２(Pb)'!$A$3:$Y$36,MATCH($AY81,'表２(Pb)'!$A$3:$A$36,0),MATCH($F68,'表２(Pb)'!$A$3:$Y$3,0)))","v":1},null,null,null,null,null,null,null,null,null,null,null,null,null,null,null,null,null,null,null,null,null,null,null,null,null,null,"3)","遮蔽材順"]
[null,null,null,"b)　コンクリート(表3)",null,"等価厚さ",{"$f":"IF($G84=$X$10,$W$9*$AE$9,0)","v":0},{"$f":"IF($H84=$X$10,$W$9*$AE$9,0)","v":0},null,"b)　コンクリート(表3)",null,"等価厚さ",{"$f":"IF($M84=$X$22,$W$21*$AE$9,0)","v":0},{"$f":"IF($N84=$X$22,$W$21*$AE$9,0)","v":0},null,"b)　コンクリート(表3)",null,"等価厚さ",{"$f":"IF($S84=$X$34,$W$33*$AE$9,0)","v":0},{"$f":"IF($T84=$X$34,$W$33*$AE$9,0)","v":0},null,null,null,null,null,null,null,null,null,null,null,null,null,null,null,null,null,null,null,null,null,null,null,null,null,null,null,null,"Ａ点","A'点","A\"点"]
[null,null,null,null,null,"透過率",{"$f":"IF(OR($G89=0,A点!$AM$8=1,A点!$AM$8=\"○\"),1,INDEX('表３(コ)'!$A$3:$Y$36,MATCH($AW72,'表３(コ)'!$A$3:$A$36,0),MATCH($F68,'表３(コ)'!$A$3:$Y$3,0)))","v":1},{"$f":"IF(OR($H89=0,A点!$AM$8=1,A点!$AM$8=\"○\"),1,INDEX('表３(コ)'!$A$3:$Y$36,MATCH($AW82,'表３(コ)'!$A$3:$A$36,0),MATCH($F68,'表３(コ)'!$A$3:$Y$3,0)))","v":1},null,null,null,"透過率",{"$f":"IF(OR($M89=0,A点!$AM$8=1,A点!$AM$8=\"○\"),1,INDEX('表３(コ)'!$A$3:$Y$36,MATCH($AX72,'表３(コ)'!$A$3:$A$36,0),MATCH($F68,'表３(コ)'!$A$3:$Y$3,0)))","v":1},{"$f":"IF(OR($N89=0,A点!$AM$8=1,A点!$AM$8=\"○\"),1,INDEX('表３(コ)'!$A$3:$Y$36,MATCH($AX82,'表３(コ)'!$A$3:$A$36,0),MATCH($F68,'表３(コ)'!$A$3:$Y$3,0)))","v":1},null,null,null,"透過率",{"$f":"IF(OR($S89=0,A点!$AM$8=1,A点!$AM$8=\"○\"),1,INDEX('表３(コ)'!$A$3:$Y$36,MATCH($AY72,'表３(コ)'!$A$3:$A$36,0),MATCH($F68,'表３(コ)'!$A$3:$Y$3,0)))","v":1},{"$f":"IF(OR($T89=0,A点!$AM$8=1,A点!$AM$8=\"○\"),1,INDEX('表３(コ)'!$A$3:$Y$36,MATCH($AY82,'表３(コ)'!$A$3:$A$36,0),MATCH($F68,'表３(コ)'!$A$3:$Y$3,0)))","v":1},null,null,null,null,null,null,null,null,null,null,null,null,null,null,null,null,null,null,null,null,null,null,null,null,null,null,null,"第1遮蔽材",{"$f":"IF($AW100=\"11\",G$84,H$84)","v":0},{"$f":"IF($AW100=\"11\",M$84,N$84)","v":0},{"$f":"IF($AW100=\"11\",S$84,T$84)","v":0}]
[null,null,null,"c)　鉄(表4)",null,"等価厚さ",{"$f":"IF($G84=$Y$10,$W$9*$AE$10,0)","v":0},{"$f":"IF($H84=$Y$10,$W$9*$AE$10,0)","v":0},null,"c)　鉄(表4)",null,"等価厚さ",{"$f":"IF($M84=$Y$22,$W$21*$AE$10,0)","v":0},{"$f":"IF($N84=$Y$22,$W$21*$AE$10,0)","v":0},null,"c)　鉄(表4)",null,"等価厚さ",{"$f":"IF($S84=$Y$34,$W$33*$AE$10,0)","v":0},{"$f":"IF($T84=$Y$34,$W$33*$AE$10,0)","v":0},null,null,null,null,null,null,null,null,null,null,null,null,null,null,null,null,null,null,null,null,null,null,null,null,null,null,null,"第2遮蔽材",{"$f":"IF($AW100=\"11\",W$8,X$8)","v":0},{"$f":"IF($AW100=\"11\",W$20,X$20)","v":0},{"$f":"IF($AW100=\"11\",W$32,X$32)","v":0}]
[null,null,null,null,null,"透過率",{"$f":"IF(OR($G91=0,A点!$AM$8=1,A点!$AM$8=\"○\"),1,INDEX('表4(Fe)'!$A$3:$Y$36,MATCH($AW73,'表4(Fe)'!$A$3:$A$36,0),MATCH($F68,'表4(Fe)'!$A$3:$Y$3,0)))","v":1},{"$f":"IF(OR($H91=0,A点!$AM$8=1,A点!$AM$8=\"○\"),1,INDEX('表4(Fe)'!$A$3:$Y$36,MATCH($AW83,'表4(Fe)'!$A$3:$A$36,0),MATCH($F68,'表4(Fe)'!$A$3:$Y$3,0)))","v":1},null,null,null,"透過率",{"$f":"IF(OR($M91=0,A点!$AM$8=1,A点!$AM$8=\"○\"),1,INDEX('表4(Fe)'!$A$3:$Y$36,MATCH($AX73,'表4(Fe)'!$A$3:$A$36,0),MATCH($F68,'表4(Fe)'!$A$3:$Y$3,0)))","v":1},{"$f":"IF(OR($N91=0,A点!$AM$8=1,A点!$AM$8=\"○\"),1,INDEX('表4(Fe)'!$A$3:$Y$36,MATCH($AX83,'表4(Fe)'!$A$3:$A$36,0),MATCH($F68,'表4(Fe)'!$A$3:$Y$3,0)))","v":1},null,null,null,"透過率",{"$f":"IF(OR($S91=0,A点!$AM$8=1,A点!$AM$8=\"○\"),1,INDEX('表4(Fe)'!$A$3:$Y$36,MATCH($AY73,'表4(Fe)'!$A$3:$A$36,0),MATCH($F68,'表4(Fe)'!$A$3:$Y$3,0)))","v":1},{"$f":"IF(OR($T91=0,A点!$AM$8=1,A点!$AM$8=\"○\"),1,INDEX('表4(Fe)'!$A$3:$Y$36,MATCH($AY83,'表4(Fe)'!$A$3:$A$36,0),MATCH($F68,'表4(Fe)'!$A$3:$Y$3,0)))","v":1},null,null,null,null,null,null,null,null,null,null,null,null,null,null,null,null,null,null,null,null,null,null,null,null,null,null,null,"第3遮蔽材",{"$f":"IF($AW100=\"11\",X$8,Y$8)","v":0},{"$f":"IF($AW100=\"11\",X$20,Y$20)","v":0},{"$f":"IF($AW100=\"11\",X$32,Y$32)","v":0}]
[null,null,null,"d)　石膏(表5)",null,"等価厚さ",{"$f":"IF($G84=$Z$10,$W$9*$AE$11,0)","v":0},{"$f":"IF($H84=$Z$10,$W$9*$AE$11,0)","v":0},null,"d)　石膏(表5)",null,"等価厚さ",{"$f":"IF($M84=$Z$22,$W$21*$AE$11,0)","v":0},{"$f":"IF($N84=$Z$22,$W$21*$AE$11,0)","v":0},null,"d)　石膏(表5)",null,"等価厚さ",{"$f":"IF($S84=$Z$34,$W$33*$AE$11,0)","v":0},{"$f":"IF($T84=$Z$34,$W$33*$AE$11,0)","v":0},null,null,null,null,null,null,null,null,null,null,null,null,null,null,null,null,null,null,null,null,null,null,null,null,null,null,null,"第4遮蔽材",{"$f":"IF($AW100=\"11\",Y$8,Z$8)","v":0},{"$f":"IF($AW100=\"11\",Y$20,Z$20)","v":0},{"$f":"IF($AW100=\"11\",Y$32,Z$32)","v":0}]
[null,null,null,null,null,"透過率",{"$f":"IF(OR($G93=0,A点!$AM$8=1,A点!$AM$8=\"○\"),1,INDEX('表5(CaSO4)'!$A$3:$Y$36,MATCH($AW74,'表5(CaSO4)'!$A$3:$A$36,0),MATCH($F68,'表5(CaSO4)'!$A$3:$Y$3,0)))","v":1},{"$f":"IF(OR($H93=0,A点!$AM$8=1,A点!$AM$8=\"○\"),1,INDEX('表5(CaSO4)'!$A$3:$Y$36,MATCH($AW84,'表5(CaSO4)'!$A$3:$A$36,0),MATCH($F68,'表5(CaSO4)'!$A$3:$Y$3,0)))","v":1},null,null,null,"透過率",{"$f":"IF(OR($M93=0,A点!$AM$8=1,A点!$AM$8=\"○\"),1,INDEX('表5(CaSO4)'!$A$3:$Y$36,MATCH($AX74,'表5(CaSO4)'!$A$3:$A$36,0),MATCH($F68,'表5(CaSO4)'!$A$3:$Y$3,0)))","v":1},{"$f":"IF(OR($N93=0,A点!$AM$8=1,A点!$AM$8=\"○\"),1,INDEX('表5(CaSO4)'!$A$3:$Y$36,MATCH($AX84,'表5(CaSO4)'!$A$3:$A$36,0),MATCH($F68,'表5(CaSO4)'!$A$3:$Y$3,0)))","v":1},null,null,null,"透過率",{"$f":"IF(OR($S93=0,A点!$AM$8=1,A点!$AM$8=\"○\"),1,INDEX('表5(CaSO4)'!$A$3:$Y$36,MATCH($AY74,'表5(CaSO4)'!$A$3:$A$36,0),MATCH($F68,'表5(CaSO4)'!$A$3:$Y$3,0)))","v":1},{"$f":"IF(OR($T93=0,A点!$AM$8=1,A点!$AM$8=\"○\"),1,INDEX('表5(CaSO4)'!$A$3:$Y$36,MATCH($AY84,'表5(CaSO4)'!$A$3:$A$36,0),MATCH($F68,'表5(CaSO4)'!$A$3:$Y$3,0)))","v":1},null,null,null,null,null,null,null,null,null,null,null,null,null,null,null,null,null,null,null,null,null,null,null,null,null,null,null,"第5遮蔽材",{"$f":"IF($AW100=\"11\",Z$8,AA$8)","v":0},{"$f":"IF($AW100=\"11\",Z$20,AA$20)","v":0},{"$f":"IF($AW100=\"11\",Z$32,AA$32)","v":0}]
[null,null,null,"e）　ガラス(表6)",null,"等価厚さ",{"$f":"IF($G84=$AA$10,$W$9*$AE$12,0)","v":0},{"$f":"IF($H84=$AA$10,$W$9*$AE$12,0)","v":0},null,"e）　ガラス(表6)",null,"等価厚さ",{"$f":"IF($M84=$AA$22,$W$21*$AE$12,0)","v":0},{"$f":"IF($N84=$AA$22,$W$21*$AE$12,0)","v":0},null,"e）　ガラス(表6)",null,"等価厚さ",{"$f":"IF($S84=$AA$34,$W$33*$AE$12,0)","v":0},{"$f":"IF($T84=$AA$34,$W$33*$AE$12,0)","v":0},null,null,null,null,null,null,null,null,null,null,null,null,null,null,null,null,null,null,null,null,null,null,null,null,null,null,null,"第6遮蔽材",{"$f":"IF($AW100=\"11\",AA$8,AB$8)","v":0},{"$f":"IF($AW100=\"11\",AA$20,AB$20)","v":0},{"$f":"IF($AW100=\"11\",AA$32,AB$32)","v":0}]
[null,null,null,null,null,"透過率",{"$f":"IF(OR($G95=0,A点!$AM$8=1,A点!$AM$8=\"○\"),1,INDEX('表6(SiO2)'!$A$3:$Y$36,MATCH($AW75,'表6(SiO2)'!$A$3:$A$36,0),MATCH($F68,'表6(SiO2)'!$A$3:$Y$3,0)))","v":1},{"$f":"IF(OR($H95=0,A点!$AM$8=1,A点!$AM$8=\"○\"),1,INDEX('表6(SiO2)'!$A$3:$Y$36,MATCH($AW85,'表6(SiO2)'!$A$3:$A$36,0),MATCH($F68,'表6(SiO2)'!$A$3:$Y$3,0)))","v":1},null,null,null,"透過率",{"$f":"IF(OR($M95=0,A点!$AM$8=1,A点!$AM$8=\"○\"),1,INDEX('表6(SiO2)'!$A$3:$Y$36,MATCH($AX75,'表6(SiO2)'!$A$3:$A$36,0),MATCH($F68,'表6(SiO2)'!$A$3:$Y$3,0)))","v":1},{"$f":"IF(OR($N95=0,A点!$AM$8=1,A点!$AM$8=\"○\"),1,INDEX('表6(SiO2)'!$A$3:$Y$36,MATCH($AX85,'表6(SiO2)'!$A$3:$A$36,0),MATCH($F68,'表6(SiO2)'!$A$3:$Y$3,0)))","v":1},null,null,null,"透過率",{"$f":"IF(OR($S95=0,A点!$AM$8=1,A点!$AM$8=\"○\"),1,INDEX('表6(SiO2)'!$A$3:$Y$36,MATCH($AY75,'表6(SiO2)'!$A$3:$A$36,0),MATCH($F68,'表6(SiO2)'!$A$3:$Y$3,0)))","v":1},{"$f":"IF(OR($T95=0,A点!$AM$8=1,A点!$AM$8=\"○\"),1,INDEX('表6(SiO2)'!$A$3:$Y$36,MATCH($AY85,'表6(SiO2)'!$A$3:$A$36,0),MATCH($F68,'表6(SiO2)'!$A$3:$Y$3,0)))","v":1},null,null,null,null,null,null,null,null,null,null,null,null,null,null,null,null,null,null,null,null,null,null,null,null,null,null,null,"第7遮蔽材",{"$f":"IF($AW100=\"11\",AB$8,\"\")","v":""},{"$f":"IF($AW100=\"11\",AB$20,\"\")","v":""},{"$f":"IF($AW100=\"11\",AB$32,\"\")","v":""}]
[null,null,null,"f)　木材(表7)",null,"等価厚さ",{"$f":"IF($G84=$AB$10,$W$9*$AE$13,0)","v":0},{"$f":"IF($H84=$AB$10,$W$9*$AE$13,0)","v":0},null,"f)　木材(表7)",null,"等価厚さ",{"$f":"IF($M84=$AB$22,$W$21*$AE$13,0)","v":0},{"$f":"IF($N84=$AB$22,$W$21*$AE$13,0)","v":0},null,"f)　木材(表7)",null,"等価厚さ",{"$f":"IF($S84=$AB$34,$W$33*$AE$13,0)","v":0},{"$f":"IF($T84=$AB$34,$W$33*$AE$13,0)","v":0}]
[null,null,null,null,null,"透過率",{"$f":"IF(OR($G97=0,A点!$AM$8=1,A点!$AM$8=\"○\"),1,INDEX('表7(木)'!$A$3:$Y$36,MATCH($AW76,'表7(木)'!$A$3:$A$36,0),MATCH($F68,'表7(木)'!$A$3:$Y$3,0)))","v":1},{"$f":"IF(OR($H97=0,A点!$AM$8=1,A点!$AM$8=\"○\"),1,INDEX('表7(木)'!$A$3:$Y$36,MATCH($AW86,'表7(木)'!$A$3:$A$36,0),MATCH($F68,'表7(木)'!$A$3:$Y$3,0)))","v":1},null,null,null,"透過率",{"$f":"IF(OR($M97=0,A点!$AM$8=1,A点!$AM$8=\"○\"),1,INDEX('表7(木)'!$A$3:$Y$36,MATCH($AX76,'表7(木)'!$A$3:$A$36,0),MATCH($F68,'表7(木)'!$A$3:$Y$3,0)))","v":1},{"$f":"IF(OR($N97=0,A点!$AM$8=1,A点!$AM$8=\"○\"),1,INDEX('表7(木)'!$A$3:$Y$36,MATCH($AX86,'表7(木)'!$A$3:$A$36,0),MATCH($F68,'表7(木)'!$A$3:$Y$3,0)))","v":1},null,null,null,"透過率",{"$f":"IF(OR($S97=0,A点!$AM$8=1,A点!$AM$8=\"○\"),1,INDEX('表7(木)'!$A$3:$Y$36,MATCH($AY76,'表7(木)'!$A$3:$A$36,0),MATCH($F68,'表7(木)'!$A$3:$Y$3,0)))","v":1},{"$f":"IF(OR($T97=0,A点!$AM$8=1,A点!$AM$8=\"○\"),1,INDEX('表7(木)'!$A$3:$Y$36,MATCH($AY86,'表7(木)'!$A$3:$A$36,0),MATCH($F68,'表7(木)'!$A$3:$Y$3,0)))","v":1},null,null,null,null,null,null,null,null,null,null,null,null,null,null,null,null,null,null,null,null,null,null,null,null,null,null,null,"遮蔽体有無",{"$f":"IF($S68>0,1,0)","v":0},"遮蔽体有：１"]
[null,null,null,null,null,null,null,null,null,null,null,null,null,null,null,null,null,null,null,null,null,null,null,null,null,null,null,null,null,null,null,null,null,null,null,null,null,null,null,null,null,null,null,null,null,null,null,"照射方向",{"$f":"IF($M69>0,1,2)","v":2},"直接線：1、散乱線：2"]
[null,null,null,"b)　第２遮蔽材以後による一次線の減衰表9",null,null,null,null,null,"b)　第２遮蔽材以後による一次線の減衰表9",null,null,null,null,null,"b)　第２遮蔽材以後による一次線の減衰表9",null,null,null,null,null,null,null,null,null,null,null,null,null,null,null,null,null,null,null,null,null,null,null,null,null,null,null,null,null,null,null,"判定コード",{"$f":"AW98&AW99","v":"02"}]
[null,null,null,null,"Dt2=",{"$f":"F104*F106*F108*F110*F112*F114","v":0},{"$f":"G104*G106*G108*G110*G112*G114","v":0},0,null,null,"Dt2=",{"$f":"L104*L106*L108*L110*L112*L114","v":0},{"$f":"M104*M106*M108*M110*M112*M114","v":0},0,null,null,"Dt2=",{"$f":"R104*R106*R108*R110*R112*R114","v":0},{"$f":"S104*S106*S108*S110*S112*S114","v":0},0]
[null,null,null,null,null,"一次線用","散乱線用","漏洩線用",null,null,null,"一次線用","散乱線用","漏洩線用",null,null,null,"一次線用","散乱線用","漏洩線用"]
[null,null,null,"a)　鉛(表9)","半価層(mm)",{"$f":"IF(OR(A点!$AM$8=1,A点!$AM$8=\"○\"),\"\",VLOOKUP($F68,'表9(BB)'!$A$4:$M$27,2,0))","v":""},null,null,null,"a)　鉛(表9)","半価層(mm)",{"$f":"IF(OR(A点!$AM$8=1,A点!$AM$8=\"○\"),\"\",VLOOKUP($F68,'表9(BB)'!$A$4:$M$27,2,0))","v":""},null,null,null,"a)　鉛(表9)","半価層(mm)",{"$f":"IF(OR(A点!$AM$8=1,A点!$AM$8=\"○\"),\"\",VLOOKUP($F68,'表9(BB)'!$A$4:$M$27,2,0))","v":""}]
[null,null,null,null,"透過率",{"$f":"IF($S$68>0,$H104,$G104)","v":0},{"$f":"IF($F103=\"\",0,(1/2)^($W18*$AE$8/$F103))","v":0},{"$f":"IF($F103=\"\",0,(1/2)^($W17*$AE$8/$F103))","v":0},null,null,"透過率",{"$f":"IF($S$68>0,$N104,$M104)","v":0},{"$f":"IF($L103=\"\",0,(1/2)^($W30*$AE$8/$L103))","v":0},{"$f":"IF($L103=\"\",0,(1/2)^($W29*$AE$8/$L103))","v":0},null,null,"透過率",{"$f":"IF($S$68>0,$T104,$S104)","v":0},{"$f":"IF($R103=\"\",0,(1/2)^($W42*$AE$8/$R103))","v":0},{"$f":"IF($R103=\"\",0,(1/2)^($W41*$AE$8/$R103))","v":0}]
[null,null,null,"b)　コンクリート(表9)","半価層(mm)",{"$f":"IF(OR(A点!$AM$8=1,A点!$AM$8=\"○\"),\"\",VLOOKUP($F68,'表9(BB)'!$A$4:$M$27,4,0))","v":""},null,null,null,"b)　コンクリート(表9)","半価層(mm)",{"$f":"IF(OR(A点!$AM$8=1,A点!$AM$8=\"○\"),\"\",VLOOKUP($F68,'表9(BB)'!$A$4:$M$27,4,0))","v":""},null,null,null,"b)　コンクリート(表9)","半価層(mm)",{"$f":"IF(OR(A点!$AM$8=1,A点!$AM$8=\"○\"),\"\",VLOOKUP($F68,'表9(BB)'!$A$4:$M$27,4,0))","v":""}]
[null,null,null,null,"透過率",{"$f":"IF($S$68>0,$H106,$G106)","v":0},{"$f":"IF($F105=\"\",0,(1/2)^($X18*$AE$9/$F105))","v":0},{"$f":"IF($F105=\"\",0,(1/2)^($X17*$AE$9/$F105))","v":0},null,null,"透過率",{"$f":"IF($S$68>0,$N106,$M106)","v":0},{"$f":"IF($L105=\"\",0,(1/2)^($X30*$AE$9/$L105))","v":0},{"$f":"IF($L105=\"\",0,(1/2)^($X29*$AE$9/$L105))","v":0},null,null,"透過率",{"$f":"IF($S$68>0,$T106,$S106)","v":0},{"$f":"IF($R105=\"\",0,(1/2)^($X42*$AE$9/$R105))","v":0},{"$f":"IF($R105=\"\",0,(1/2)^($X41*$AE$9/$R105))","v":0}]
[null,null,null,"c)　鉄(表9)","半価層(mm)",{"$f":"IF(OR(A点!$AM$8=1,A点!$AM$8=\"○\"),\"\",VLOOKUP($F68,'表9(BB)'!$A$4:$M$27,6,0))","v":""},null,null,null,"c)　鉄(表9)","半価層(mm)",{"$f":"IF(OR(A点!$AM$8=1,A点!$AM$8=\"○\"),\"\",VLOOKUP($F68,'表9(BB)'!$A$4:$M$27,6,0))","v":""},null,null,null,"c)　鉄(表9)","半価層(mm)",{"$f":"IF(OR(A点!$AM$8=1,A点!$AM$8=\"○\"),\"\",VLOOKUP($F68,'表9(BB)'!$A$4:$M$27,6,0))","v":""}]
[null,null,null,null,"透過率",{"$f":"IF($S$68>0,$H108,$G108)","v":0},{"$f":"IF($F107=\"\",0,(1/2)^($Y18*$AE$10/$F107))","v":0},{"$f":"IF($F107=\"\",0,(1/2)^($Y17*$AE$10/$F107))","v":0},null,null,"透過率",{"$f":"IF($S$68>0,$N108,$M108)","v":0},{"$f":"IF($L107=\"\",0,(1/2)^($Y30*$AE$10/$L107))","v":0},{"$f":"IF($L107=\"\",0,(1/2)^($Y29*$AE$10/$L107))","v":0},null,null,"透過率",{"$f":"IF($S$68>0,$T108,$S108)","v":0},{"$f":"IF($R107=\"\",0,(1/2)^($Y42*$AE$10/$R107))","v":0},{"$f":"IF($R107=\"\",0,(1/2)^($Y41*$AE$10/$R107))","v":0}]
[null,null,null,"d)　石膏(表9)","半価層(mm)",{"$f":"IF(OR(A点!$AM$8=1,A点!$AM$8=\"○\"),\"\",VLOOKUP($F68,'表9(BB)'!$A$4:$M$27,8,0))","v":""},null,null,null,"d)　石膏(表9)","半価層(mm)",{"$f":"IF(OR(A点!$AM$8=1,A点!$AM$8=\"○\"),\"\",VLOOKUP($F68,'表9(BB)'!$A$4:$M$27,8,0))","v":""},null,null,null,"d)　石膏(表9)","半価層(mm)",{"$f":"IF(OR(A点!$AM$8=1,A点!$AM$8=\"○\"),\"\",VLOOKUP($F68,'表9(BB)'!$A$4:$M$27,8,0))","v":""}]
[null,null,null,null,"透過率",{"$f":"IF($S$68>0,$H110,$G110)","v":0},{"$f":"IF($F109=\"\",0,(1/2)^($Z18*$AE$11/$F109))","v":0},{"$f":"IF($F109=\"\",0,(1/2)^($Z17*$AE$11/$F109))","v":0},null,null,"透過率",{"$f":"IF($S$68>0,$N110,$M110)","v":0},{"$f":"IF($L109=\"\",0,(1/2)^($Z30*$AE$11/$L109))","v":0},{"$f":"IF($L109=\"\",0,(1/2)^($Z29*$AE$11/$L109))","v":0},null,null,"透過率",{"$f":"IF($S$68>0,$T110,$S110)","v":0},{"$f":"IF($R109=\"\",0,(1/2)^($Z42*$AE$11/$R109))","v":0},{"$f":"IF($R109=\"\",0,(1/2)^($Z41*$AE$11/$R109))","v":0}]
[null,null,null,"e）　ガラス(表9)","半価層(mm)",{"$f":"IF(OR(A点!$AM$8=1,A点!$AM$8=\"○\"),\"\",VLOOKUP($F68,'表9(BB)'!$A$4:$M$27,10,0))","v":""},null,null,null,"e）　ガラス(表9)","半価層(mm)",{"$f":"IF(OR(A点!$AM$8=1,A点!$AM$8=\"○\"),\"\",VLOOKUP($F68,'表9(BB)'!$A$4:$M$27,10,0))","v":""},null,null,null,"e）　ガラス(表9)","半価層(mm)",{"$f":"IF(OR(A点!$AM$8=1,A点!$AM$8=\"○\"),\"\",VLOOKUP($F68,'表9(BB)'!$A$4:$M$27,10,0))","v":""}]
[null,null,null,null,"透過率",{"$f":"IF($S$68>0,$H112,$G112)","v":0},{"$f":"IF($F111=\"\",0,(1/2)^($AA18*$AE$12/$F111))","v":0},{"$f":"IF($F111=\"\",0,(1/2)^($AA17*$AE$12/$F111))","v":0},null,null,"透過率",{"$f":"IF($S$68>0,$N112,$M112)","v":0},{"$f":"IF($L111=\"\",0,(1/2)^($AA30*$AE$12/$L111))","v":0},{"$f":"IF($L111=\"\",0,(1/2)^($AA29*$AE$12/$L111))","v":0},null,null,"透過率",{"$f":"IF($S$68>0,$T112,$S112)","v":0},{"$f":"IF($R111=\"\",0,(1/2)^($AA42*$AE$12/$R111))","v":0},{"$f":"IF($R111=\"\",0,(1/2)^($AA41*$AE$12/$R111))","v":0}]
[null,null,null,"f)　木材(表9)","半価層(mm)",{"$f":"IF(OR(A点!$AM$8=1,A点!$AM$8=\"○\"),\"\",VLOOKUP($F68,'表9(BB)'!$A$4:$M$27,12,0))","v":""},null,null,null,"f)　木材(表9)","半価層(mm)",{"$f":"IF(OR(A点!$AM$8=1,A点!$AM$8=\"○\"),\"\",VLOOKUP($F68,'表9(BB)'!$A$4:$M$27,12,0))","v":""},null,null,null,"f)　木材(表9)","半価層(mm)",{"$f":"IF(OR(A点!$AM$8=1,A点!$AM$8=\"○\"),\"\",VLOOKUP($F68,'表9(BB)'!$A$4:$M$27,12,0))","v":""}]
[null,null,null,null,"透過率",{"$f":"IF($S$68>0,$H114,$G114)","v":0},{"$f":"IF($F113=\"\",0,(1/2)^($AB18*$AE$13/$F113))","v":0},{"$f":"IF($F113=\"\",0,(1/2)^($AB17*$AE$13/$F113))","v":0},null,null,"透過率",{"$f":"IF($S$68>0,$N114,$M114)","v":0},{"$f":"IF(L113=\"\",0,(1/2)^($AB30*$AE$13/$L113))","v":0},{"$f":"IF($L113=\"\",0,(1/2)^($AB29*$AE$13/$L113))","v":0},null,null,"透過率",{"$f":"IF($S$68>0,$T114,$S114)","v":0},{"$f":"IF($R113=\"\",0,(1/2)^($AB42*$AE$13/$R113))","v":0},{"$f":"IF($R113=\"\",0,(1/2)^($AB41*$AE$13/$R113))","v":0}]
[]
[]
[null,null,null,"2)　Es：散乱エックス線の漏洩線量(散乱角90度)",null,null,null,null,null,"2)　Es：散乱エックス線の漏洩線量(散乱角90度)",null,null,null,null,null,"2)　Es：散乱エックス線の漏洩線量(散乱角90度)"]
[null,null,null,null,"Dt=",{"$f":"H85*G101","v":0},null,null,null,null,"Dt=",{"$f":"N85*M101","v":0},null,null,null,null,"Dt=",{"$f":"T85*S101","v":0}]
[null,null,null,null,"Es=",{"$f":"IF(OR($F68=0,$M70=0,$M71=0,AND($W$8=0,$W$45>0),A点!$AQ$7=1),0,$G68*$G72*$G71*F118*$M67*$M68*($K71/100)*$K72/(400*($M70^2)*($M71^2)))","v":0},"μSv/3ヶ月",null,null,null,"Es=",{"$f":"IF(OR($F68=0,$M70=0,$M71=0,AND($W$20=0,$W$45>0),A点!$AQ$7=1),0,$G68*$G72*$G71*L118*$M67*$M68*($K71/100)*$K72/(400*($M70^2)*($M71^2)))","v":0},"μSv/3ヶ月",null,null,null,"Es=",{"$f":"IF(OR($F68=0,$M70=0,$M71=0,AND($W$32=0,$W$45>0),A点!$AQ$7=1),0,$G68*$G72*$G71*R118*$M67*$M68*($K71/100)*$K72/(400*($M70^2)*($M71^2)))","v":0},"μSv/3ヶ月"]
[]
[]
[null,null,null,"3)　EL：エックス線管容器からの漏洩線量(最大見積)",null,null,null,null,null,"3)　EL：エックス線管容器からの漏洩線量(最大見積)",null,null,null,null,null,"3)　EL：エックス線管容器からの漏洩線量(最大見積)"]
[]
[null,null,null,null,"EL=",{"$f":"IF(OR($F68=0,$M72=0,AND($W$8=0,$W$45>0),A点!$AQ$7=1),0,$S77*$G71*$M73*H101*$M67*$M68/($M72^2))","v":0},"μGy/h",null,null,null,"EL=",{"$f":"IF(OR($F68=0,$M72=0,AND($W$20=0,$W$45>0),A点!$AQ$7=1),0,$S77*$G71*$M73*N101*$M67*$M68/($M72^2))","v":0},"μGy/h",null,null,null,"EL=",{"$f":"IF(OR($F68=0,$F68=0,$M72=0,AND($W$32=0,$W$45>0)),0,$S77*$G71*$M73*T101*$M67*$M68/($M72^2))","v":0},"μGy/h"]
[]
[]
[null,"CT撮影",null,"①　X：空気カーマ(表1)",null,null,null,"④　使用係数",null,null,null,"Ｕ＝",1,null,null,"1)対向板による一次線の減衰(表２)",null,null,null,null,null,null,null,null,null,null,null,null,null,null,null,null,null,null,null,null,null,null,null,null,null,null,null,null,null,null,"③CT用透過率（表2-7）"]
[null,null,null,null,"使用管電圧",{"$f":"$AN$5","v":0},{"$f":"$AN$6","v":0},"⑤　居住係数",null,null,null,"Ｔ＝",1,null,null,null,null,"等価厚さ",{"$f":"入力用シート!$AA$10","v":0},"mm",null,null,null,null,null,null,null,null,null,null,null,null,null,null,null,null,null,null,null,null,null,null,null,null,null,null,"1)直接線用"]
[null,null,null,null,"電流",{"$f":"入力用シート!$L$32","v":0},null,"⑥　距離",null,null,null,"d1=",{"$f":"M9","v":0},"ｍ",null,null,"使用管電圧",{"$f":"$AN$5","v":0},null,null,null,null,null,null,null,null,null,null,null,null,null,null,null,null,null,null,null,null,null,null,null,null,null,null,null,null,"遮蔽厚参照値"]
[null,null,null,"②　E/Ka：空気カーマ換算係数（表10）",null,null,null,"⑧　照射野400cm2空気ｶｰﾏ率表8",null,null,null,"d2=",{"$f":"M10","v":0},"ｍ",null,null,"透過率",{"$f":"IF(A点!$AN$8=\"○\",\"\",IF(A点!$AN$8=1,\"データなし\",IF($S128>3,HLOOKUP($R129,'表２(Pb)'!$B$3:$Y$36,32+ROUNDDOWN(($S128-3)/0.5,0),0),HLOOKUP($R129,'表２(Pb)'!$B$3:$Y$36,2+S128/0.1,0))))","v":""},null,null,null,null,null,null,null,null,null,null,null,null,null,null,null,null,null,null,null,null,null,null,null,null,null,null,null,null,null,null,"Ａ点","A'点","A\"点"]
[null,null,null,null,"使用管電圧",{"$f":"$AN$23","v":0},{"$f":"$AN$24","v":0},null,null,null,{"$f":"$AN$7","v":0},"d3=",0,"ｍ",null,null,null,null,null,null,null,null,null,null,null,null,null,null,null,null,null,null,null,null,null,null,null,null,null,null,null,null,null,null,null,null,null,"Pb",{"$f":"IF($G147=0,\"\",IF($G147<=3,INT(10*$G147)/10,IF($G147>4,4,0.5*INT($G147/0.5))))","v":""},{"$f":"IF($M147=0,\"\",IF($M147<=3,INT(10*$M147)/10,IF($M147>4,4,0.5*INT($M147/0.5))))","v":""},{"$f":"IF($S147=0,\"\",IF($S147<=3,INT(10*$S147)/10,IF($S147>4,4,0.5*INT($S147/0.5))))","v":""}]
[null,null,null,"③　W：３Ｍ実効稼動負荷",null,"合計",{"$f":"13*(入力用シート!$L$32*入力用シート!$Q$32*入力用シート!$H$33*入力用シート!$L$33*入力用シート!$Q$33)","v":0},"⑨　受像面照射野",null,null,{"$f":"入力用シート!$E$17","v":60},"d4=",0,"ｍ",null,null,null,null,null,null,null,null,null,null,null,null,null,null,null,null,null,null,null,null,null,null,null,null,null,null,null,null,null,null,null,null,null,"ｺﾝｸﾘ",{"$f":"IF($G149=0,\"\",IF($G149<=300,INT($G149/10)*10,IF($G149>400,400,50*INT($G149/50))))","v":""},{"$f":"IF($M149=0,\"\",IF($M149<=300,INT($M149/10)*10,IF($M149>400,400,50*INT($M149/50))))","v":""},{"$f":"IF($S149=0,\"\",IF($S149<=300,INT($S149/10)*10,IF($S149>400,400,50*INT($S149/50))))","v":""}]
[null,null,null,null,null,null,null,"⑩　tw：３月間における稼働時間(h)",null,null,null,null,{"$f":"IF(F129=0,0,G132/(F129*3600))","v":0},null,null,"機器の種類",null,"管容器からの空気ｶｰﾏ率（mGy/h）",null,null,null,null,null,null,null,null,null,null,null,null,null,null,null,null,null,null,null,null,null,null,null,null,null,null,null,null,null,"Fe",{"$f":"IF($G151=0,\"\",IF($G151<=30,INT($G151),IF($G151>40,40,5*INT($G151/5))))","v":""},{"$f":"IF($M151=0,\"\",IF($M151<=30,INT($M151),IF($M151>40,40,5*INT($M151/5))))","v":""},{"$f":"IF($S151=0,\"\",IF($S151<=30,INT($S151),IF($S151>40,40,5*INT($S151/5))))","v":""}]
[null,null,null,"A点の漏洩エックス線量の計算(利用線錘方向）",null,null,null,null,"A点の漏洩エックス線量の計算(被写体・管球）",null,null,null,null,null,1,"治療用ｴｯｸｽ線装置（≧50ｋV）",null,1,"選んだ機器",null,null,null,null,null,null,null,null,null,null,null,null,null,null,null,null,null,null,null,null,null,null,null,null,null,null,null,null,"石膏",{"$f":"IF($G153=0,\"\",IF($G153<=30,INT($G153),IF($G153>40,40,5*INT($G153/5))))","v":""},{"$f":"IF($M153=0,\"\",IF($M153<=30,INT($M153),IF($M153>40,40,5*INT($M153/5))))","v":""},{"$f":"IF($S153=0,\"\",IF($S153<=30,INT($S153),IF($S153>40,40,5*INT($S153/5))))","v":""}]
[null,null,null,null,"Ea=",{"$f":"MAX(F141,L141,R141)","v":0},"μSv/3ヶ月",null,null,"Es＝",{"$f":"MAX(F179,L179,R179)","v":0},"μSv/3ヶ月",null,null,2,"治療用ｴｯｸｽ線装置（＜50ｋV）",null,10,{"$f":"入力用シート!$C$7","v":0},null,null,null,null,null,null,null,null,null,null,null,null,null,null,null,null,null,null,null,null,null,null,null,null,null,null,null,null,"ｶﾞﾗｽ",{"$f":"IF($G155=0,\"\",IF($G155<=30,INT($G155),IF($G155>40,40,5*INT($G155/5))))","v":""},{"$f":"IF($M155=0,\"\",IF($M155<=30,INT($M155),IF($M155>40,40,5*INT($M155/5))))","v":""},{"$f":"IF($S155=0,\"\",IF($S155<=30,INT($S155),IF($S155>40,40,5*INT($S155/5))))","v":""}]
[null,null,null,null,null,null,null,null,null,"EL＝",{"$f":"MAX(F184,L184,R184)","v":0},"μSv/3ヶ月",null,null,3,"口内法撮影用X線装置（≦120ｋV）",null,0.25,"選ばれた空気ｶｰﾏ率XL",null,null,null,null,null,null,null,null,null,null,null,null,null,null,null,null,null,null,null,null,null,null,null,null,null,null,null,null,"木材",{"$f":"IF($G157=0,\"\",IF($G157<=300,INT($G157/10)*10,IF($G157>400,400,50*INT($G157/50))))","v":""},{"$f":"IF($M157=0,\"\",IF($M157<=300,INT($M157/10)*10,IF($M157>400,400,50*INT($M157/50))))","v":""},{"$f":"IF($S157=0,\"\",IF($S157<=300,INT($S157/10)*10,IF($S157>400,400,50*INT($S157/50))))","v":""}]
[null,null,null,null,null,null,null,null,null,"合計",{"$f":"+K135+K136","v":0},null,null,null,4,"上記以外の診断用X線装置",null,1,{"$f":"IF(S135=0,0,VLOOKUP(S135,O134:R137,4,0)*1000)","v":0}]
[null,null,null,null,null,null,null,null,null,null,null,null,null,null,null,null,null,null,null,null,null,null,null,null,null,null,null,null,null,null,null,null,null,null,null,null,null,null,null,null,null,null,null,null,null,null,"2)散乱線用"]
[null,null,null,"A点の計算",null,null,null,null,null,"A'点の計算",null,null,null,null,null,"A\"点の計算",null,null,null,null,null,null,null,null,null,null,null,null,null,null,null,null,null,null,null,null,null,null,null,null,null,null,null,null,null,null,"遮蔽厚参照値"]
[null,null,null,"1) Ep：一次エックス線（撮影方向）",null,null,null,null,null,"1) Ep：一次エックス線（撮影方向）",null,null,null,null,null,"1) Ep：一次エックス線（撮影方向）",null,null,null,null,null,null,null,null,null,null,null,null,null,null,null,null,null,null,null,null,null,null,null,null,null,null,null,null,null,null,null,null,"Ａ点","A'点","A\"点"]
[null,null,null,"　",null,{"$f":"IF(OR($F128=0,$M129=0,A点!$AQ$7=1,AND($W$8=0,$W$45>0)),0,($G128*$R130*$G145*$F161*0.25*$G132*$G131*$M127*$M128)/($M129^2))","v":0},"μSv/3ヶ月",null,null,"　",null,{"$f":"IF(OR($F128=0,$M129=0,A点!$AQ$7=1,AND($W$20=0,$W$45>0)),0,($G128*$R130*$M145*$L161*0.25*$G132*$G131*$M127*$M128)/($M129^2))","v":0},"μSv/3ヶ月",null,null,"　",null,{"$f":"IF(OR($F128=0,$M129=0,A点!$AQ$7=1,AND($W$32=0,$W$45>0)),0,($G128*$R130*$S145*$R161*0.25*$G132*$G131*$M127*$M128)/($M129^2))","v":0},"μSv/3ヶ月",null,null,null,null,null,null,null,null,null,null,null,null,null,null,null,null,null,null,null,null,null,null,null,null,null,null,null,null,"Pb",{"$f":"IF($H147=0,\"\",IF($H147<=3,INT(10*$H147)/10,IF($H147>4,4,0.5*INT($H147/0.5))))","v":""},{"$f":"IF($N147=0,\"\",IF($N147<=3,INT(10*$N147)/10,IF($N147>4,4,0.5*INT($N147/0.5))))","v":""},{"$f":"IF($T147=0,\"\",IF($T147<=3,INT(10*$T147)/10,IF($T147>4,4,0.5*INT($T147/0.5))))","v":""}]
[null,null,null,null,null,null,null,null,null,null,null,null,null,null,null,null,null,null,null,null,null,null,null,null,null,null,null,null,null,null,null,null,null,null,null,null,null,null,null,null,null,null,null,null,null,null,null,"ｺﾝｸﾘ",{"$f":"IF($H149=0,\"\",IF($H149<=300,INT($H149/10)*10,IF($H149>400,400,50*INT($H149/50))))","v":""},{"$f":"IF($N149=0,\"\",IF($N149<=300,INT($N149/10)*10,IF($N149>400,400,50*INT($N149/50))))","v":""},{"$f":"IF($T149=0,\"\",IF($T149<=300,INT($T149/10)*10,IF($T149>400,400,50*INT($T149/50))))","v":""}]
[null,null,null,"a) 第１遮蔽材による減衰(遮蔽体がある場合透過率=1)",null,null,null,null,null,"a) 第１遮蔽材による減衰(遮蔽体がある場合透過率=1)",null,null,null,null,null,"a) 第１遮蔽材による減衰(遮蔽体がある場合透過率=1)",null,null,null,null,null,null,null,null,null,null,null,null,null,null,null,null,null,null,null,null,null,null,null,null,null,null,null,null,null,null,null,"Fe",{"$f":"IF($H151=0,\"\",IF($H151<=30,INT($H151),IF($H151>40,40,5*INT($H151/5))))","v":""},{"$f":"IF($N151=0,\"\",IF($N151<=30,INT($N151),IF($N151>40,40,5*INT($N151/5))))","v":""},{"$f":"IF($T151=0,\"\",IF($T151<=30,INT($T151),IF($T151>40,40,5*INT($T151/5))))","v":""}]
[null,null,null,null,null,"第1遮蔽材",{"$f":"IF($S$128>0,\"遮蔽体\",$W$8)","v":0},{"$f":"$W$8","v":0},null,null,null,"第1遮蔽材",{"$f":"IF($S$128>0,\"遮蔽体\",$W$20)","v":0},{"$f":"$W$20","v":0},null,null,null,"第1遮蔽材",{"$f":"IF($S$128>0,\"遮蔽体\",$W$32)","v":0},{"$f":"$W$32","v":0},null,null,null,null,null,null,null,null,null,null,null,null,null,null,null,null,null,null,null,null,null,null,null,null,null,null,null,"石膏",{"$f":"IF($H153=0,\"\",IF($H153<=30,INT($H153),IF($H153>40,40,5*INT($H153/5))))","v":""},{"$f":"IF($N153=0,\"\",IF($N153<=30,INT($N153),IF($N153>40,40,5*INT($N153/5))))","v":""},{"$f":"IF($T153=0,\"\",IF($T153<=30,INT($T153),IF($T153>40,40,5*INT($T153/5))))","v":""}]
[null,null,null,null,null,"Dt1=",{"$f":"G148*G150*G152*G154*G156*G158","v":1},{"$f":"H148*H150*H152*H154*H156*H158","v":1},null,null,null,"Dt1=",{"$f":"M148*M150*M152*M154*M156*M158","v":1},{"$f":"N148*N150*N152*N154*N156*N158","v":1},null,null,null,"Dt1=",{"$f":"S148*S150*S152*S154*S156*S158","v":1},{"$f":"T148*T150*T152*T154*T156*T158","v":1},null,null,null,null,null,null,null,null,null,null,null,null,null,null,null,null,null,null,null,null,null,null,null,null,null,null,null,"ｶﾞﾗｽ",{"$f":"IF($H155=0,\"\",IF($H155<=30,INT($H155),IF($H155>40,40,5*INT($H155/5))))","v":""},{"$f":"IF($N155=0,\"\",IF($N155<=30,INT($N155),IF($N155>40,40,5*INT($N155/5))))","v":""},{"$f":"IF($T155=0,\"\",IF($T155<=30,INT($T155),IF($T155>40,40,5*INT($T155/5))))","v":""}]
[null,null,null,null,null,null,"一次線用","散乱線用",null,null,null,null,"一次線用","散乱線用",null,null,null,null,"一次線用","散乱線用",null,null,null,null,null,null,null,null,null,null,null,null,null,null,null,null,null,null,null,null,null,null,null,null,null,null,null,"木材",{"$f":"IF($H157=0,\"\",IF($H157<=300,INT($H157/10)*10,IF($H157>400,400,50*INT($H157/50))))","v":""},{"$f":"IF($N157=0,\"\",IF($N157<=300,INT($N157/10)*10,IF($N157>400,400,50*INT($N157/50))))","v":""},{"$f":"IF($T157=0,\"\",IF($T157<=300,INT($T157/10)*10,IF($T157>400,400,50*INT($T157/50))))","v":""}]
[null,null,null,"a)　鉛(表2)",null,"等価厚さ",{"$f":"IF($G144=$W$10,$W$9*$AE$8,0)","v":0},{"$f":"IF($H144=$W$10,$W$9*$AE$8,0)","v":0},null,"a)　鉛(表2)",null,"等価厚さ",{"$f":"IF($M144=$W$22,$W$21*$AE$8,0)","v":0},{"$f":"IF($N144=$W$22,$W$21*$AE$8,0)","v":0},null,"a)　鉛(表2)",null,"等価厚さ",{"$f":"IF($S144=$W$34,$W$33*$AE$8,0)","v":0},{"$f":"IF($T144=$W$34,$W$33*$AE$8,0)","v":0}]
[null,null,null,null,null,"透過率",{"$f":"IF(OR($G147=0,A点!$AN$8=1,A点!$AN$8=\"○\"),1,INDEX('表２(Pb)'!$A$3:$Y$36,MATCH($AW131,'表２(Pb)'!$A$3:$A$36,0),MATCH($F128,'表２(Pb)'!$A$3:$Y$3,0)))","v":1},{"$f":"IF(OR($H147=0,A点!$AN$8=1,A点!$AN$8=\"○\"),1,INDEX('表２(Pb)'!$A$3:$Y$36,MATCH($AW141,'表２(Pb)'!$A$3:$A$36,0),MATCH($F128,'表２(Pb)'!$A$3:$Y$3,0)))","v":1},null,null,null,"透過率",{"$f":"IF(OR($M147=0,A点!$AN$8=1,A点!$AN$8=\"○\"),1,INDEX('表２(Pb)'!$A$3:$Y$36,MATCH($AX131,'表２(Pb)'!$A$3:$A$36,0),MATCH($F128,'表２(Pb)'!$A$3:$Y$3,0)))","v":1},{"$f":"IF(OR($N147=0,A点!$AN$8=1,A点!$AN$8=\"○\"),1,INDEX('表２(Pb)'!$A$3:$Y$36,MATCH($AX141,'表２(Pb)'!$A$3:$A$36,0),MATCH($F128,'表２(Pb)'!$A$3:$Y$3,0)))","v":1},null,null,null,"透過率",{"$f":"IF(OR($S147=0,A点!$AN$8=1,A点!$AN$8=\"○\"),1,INDEX('表２(Pb)'!$A$3:$Y$36,MATCH($AY131,'表２(Pb)'!$A$3:$A$36,0),MATCH($F128,'表２(Pb)'!$A$3:$Y$3,0)))","v":1},{"$f":"IF(OR($T147=0,A点!$AN$8=1,A点!$AN$8=\"○\"),1,INDEX('表２(Pb)'!$A$3:$Y$36,MATCH($AY141,'表２(Pb)'!$A$3:$A$36,0),MATCH($F128,'表２(Pb)'!$A$3:$Y$3,0)))","v":1},null,null,null,null,null,null,null,null,null,null,null,null,null,null,null,null,null,null,null,null,null,null,null,null,null,null,"3)","遮蔽材順"]
[null,null,null,"b)　コンクリート(表3)",null,"等価厚さ",{"$f":"IF($G144=$X$10,$W$9*$AE$9,0)","v":0},{"$f":"IF($H144=$X$10,$W$9*$AE$9,0)","v":0},null,"b)　コンクリート(表3)",null,"等価厚さ",{"$f":"IF($M144=$X$22,$W$21*$AE$9,0)","v":0},{"$f":"IF($N144=$X$22,$W$21*$AE$9,0)","v":0},null,"b)　コンクリート(表3)",null,"等価厚さ",{"$f":"IF($S144=$X$34,$W$33*$AE$9,0)","v":0},{"$f":"IF($T144=$X$34,$W$33*$AE$9,0)","v":0},null,null,null,null,null,null,null,null,null,null,null,null,null,null,null,null,null,null,null,null,null,null,null,null,null,null,null,null,"Ａ点","A'点","A\"点"]
[null,null,null,null,null,"透過率",{"$f":"IF(OR($G149=0,A点!$AN$8=1,A点!$AN$8=\"○\"),1,INDEX('表３(コ)'!$A$3:$Y$36,MATCH($AW132,'表３(コ)'!$A$3:$A$36,0),MATCH($F128,'表３(コ)'!$A$3:$Y$3,0)))","v":1},{"$f":"IF(OR($H149=0,A点!$AN$8=1,A点!$AN$8=\"○\"),1,INDEX('表３(コ)'!$A$3:$Y$36,MATCH($AW142,'表３(コ)'!$A$3:$A$36,0),MATCH($F128,'表３(コ)'!$A$3:$Y$3,0)))","v":1},null,null,null,"透過率",{"$f":"IF(OR($M149=0,A点!$AN$8=1,A点!$AN$8=\"○\"),1,INDEX('表３(コ)'!$A$3:$Y$36,MATCH($AX132,'表３(コ)'!$A$3:$A$36,0),MATCH($F128,'表３(コ)'!$A$3:$Y$3,0)))","v":1},{"$f":"IF(OR($N149=0,A点!$AN$8=1,A点!$AN$8=\"○\"),1,INDEX('表３(コ)'!$A$3:$Y$36,MATCH($AX142,'表３(コ)'!$A$3:$A$36,0),MATCH($F128,'表３(コ)'!$A$3:$Y$3,0)))","v":1},null,null,null,"透過率",{"$f":"IF(OR($S149=0,A点!$AN$8=1,A点!$AN$8=\"○\"),1,INDEX('表３(コ)'!$A$3:$Y$36,MATCH($AY132,'表３(コ)'!$A$3:$A$36,0),MATCH($F128,'表３(コ)'!$A$3:$Y$3,0)))","v":1},{"$f":"IF(OR($T149=0,A点!$AN$8=1,A点!$AN$8=\"○\"),1,INDEX('表３(コ)'!$A$3:$Y$36,MATCH($AY142,'表３(コ)'!$A$3:$A$36,0),MATCH($F128,'表３(コ)'!$A$3:$Y$3,0)))","v":1},null,null,null,null,null,null,null,null,null,null,null,null,null,null,null,null,null,null,null,null,null,null,null,null,null,null,null,"第1遮蔽材",{"$f":"IF($AW160=\"11\",G$144,H$144)","v":0},{"$f":"IF($AW160=\"11\",M$144,N$144)","v":0},{"$f":"IF($AW160=\"11\",S$144,T$144)","v":0}]
[null,null,null,"c)　鉄(表4)",null,"等価厚さ",{"$f":"IF($G144=$Y$10,$W$9*$AE$10,0)","v":0},{"$f":"IF($H144=$Y$10,$W$9*$AE$10,0)","v":0},null,"c)　鉄(表4)",null,"等価厚さ",{"$f":"IF($M144=$Y$22,$W$21*$AE$10,0)","v":0},{"$f":"IF($N144=$Y$22,$W$21*$AE$10,0)","v":0},null,"c)　鉄(表4)",null,"等価厚さ",{"$f":"IF($S144=$Y$34,$W$33*$AE$10,0)","v":0},{"$f":"IF($T144=$Y$34,$W$33*$AE$10,0)","v":0},null,null,null,null,null,null,null,null,null,null,null,null,null,null,null,null,null,null,null,null,null,null,null,null,null,null,null,"第2遮蔽材",{"$f":"IF($AW160=\"11\",W$8,X$8)","v":0},{"$f":"IF($AW160=\"11\",W$20,X$20)","v":0},{"$f":"IF($AW160=\"11\",W$32,X$32)","v":0}]
[null,null,null,null,null,"透過率",{"$f":"IF(OR($G151=0,A点!$AN$8=1,A点!$AN$8=\"○\"),1,INDEX('表4(Fe)'!$A$3:$Y$36,MATCH($AW133,'表4(Fe)'!$A$3:$A$36,0),MATCH($F128,'表4(Fe)'!$A$3:$Y$3,0)))","v":1},{"$f":"IF(OR($H151=0,A点!$AN$8=1,A点!$AN$8=\"○\"),1,INDEX('表4(Fe)'!$A$3:$Y$36,MATCH($AW143,'表4(Fe)'!$A$3:$A$36,0),MATCH($F128,'表4(Fe)'!$A$3:$Y$3,0)))","v":1},null,null,null,"透過率",{"$f":"IF(OR($M151=0,A点!$AN$8=1,A点!$AN$8=\"○\"),1,INDEX('表4(Fe)'!$A$3:$Y$36,MATCH($AX133,'表4(Fe)'!$A$3:$A$36,0),MATCH($F128,'表4(Fe)'!$A$3:$Y$3,0)))","v":1},{"$f":"IF(OR($N151=0,A点!$AN$8=1,A点!$AN$8=\"○\"),1,INDEX('表4(Fe)'!$A$3:$Y$36,MATCH($AX143,'表4(Fe)'!$A$3:$A$36,0),MATCH($F128,'表4(Fe)'!$A$3:$Y$3,0)))","v":1},null,null,null,"透過率",{"$f":"IF(OR($S151=0,A点!$AN$8=1,A点!$AN$8=\"○\"),1,INDEX('表4(Fe)'!$A$3:$Y$36,MATCH($AY133,'表4(Fe)'!$A$3:$A$36,0),MATCH($F128,'表4(Fe)'!$A$3:$Y$3,0)))","v":1},{"$f":"IF(OR($T151=0,A点!$AN$8=1,A点!$AN$8=\"○\"),1,INDEX('表4(Fe)'!$A$3:$Y$36,MATCH($AY143,'表4(Fe)'!$A$3:$A$36,0),MATCH($F128,'表4(Fe)'!$A$3:$Y$3,0)))","v":1},null,null,null,null,null,null,null,null,null,null,null,null,null,null,null,null,null,null,null,null,null,null,null,null,null,null,null,"第3遮蔽材",{"$f":"IF($AW160=\"11\",X$8,Y$8)","v":0},{"$f":"IF($AW160=\"11\",X$20,Y$20)","v":0},{"$f":"IF($AW160=\"11\",X$32,Y$32)","v":0}]
[null,null,null,"d)　石膏(表5)",null,"等価厚さ",{"$f":"IF($G144=$Z$10,$W$9*$AE$11,0)","v":0},{"$f":"IF($H144=$Z$10,$W$9*$AE$11,0)","v":0},null,"d)　石膏(表5)",null,"等価厚さ",{"$f":"IF($M144=$Z$22,$W$21*$AE$11,0)","v":0},{"$f":"IF($N144=$Z$22,$W$21*$AE$11,0)","v":0},null,"d)　石膏(表5)",null,"等価厚さ",{"$f":"IF($S144=$Z$34,$W$33*$AE$11,0)","v":0},{"$f":"IF($T144=$Z$34,$W$33*$AE$11,0)","v":0},null,null,null,null,null,null,null,null,null,null,null,null,null,null,null,null,null,null,null,null,null,null,null,null,null,null,null,"第4遮蔽材",{"$f":"IF($AW160=\"11\",Y$8,Z$8)","v":0},{"$f":"IF($AW160=\"11\",Y$20,Z$20)","v":0},{"$f":"IF($AW160=\"11\",Y$32,Z$32)","v":0}]
[null,null,null,null,null,"透過率",{"$f":"IF(OR($G153=0,A点!$AN$8=1,A点!$AN$8=\"○\"),1,INDEX('表5(CaSO4)'!$A$3:$Y$36,MATCH($AW134,'表5(CaSO4)'!$A$3:$A$36,0),MATCH($F128,'表5(CaSO4)'!$A$3:$Y$3,0)))","v":1},{"$f":"IF(OR($H153=0,A点!$AN$8=1,A点!$AN$8=\"○\"),1,INDEX('表5(CaSO4)'!$A$3:$Y$36,MATCH($AW144,'表5(CaSO4)'!$A$3:$A$36,0),MATCH($F128,'表5(CaSO4)'!$A$3:$Y$3,0)))","v":1},null,null,null,"透過率",{"$f":"IF(OR($M153=0,A点!$AN$8=1,A点!$AN$8=\"○\"),1,INDEX('表5(CaSO4)'!$A$3:$Y$36,MATCH($AX134,'表5(CaSO4)'!$A$3:$A$36,0),MATCH($F128,'表5(CaSO4)'!$A$3:$Y$3,0)))","v":1},{"$f":"IF(OR($N153=0,A点!$AN$8=1,A点!$AN$8=\"○\"),1,INDEX('表5(CaSO4)'!$A$3:$Y$36,MATCH($AX144,'表5(CaSO4)'!$A$3:$A$36,0),MATCH($F128,'表5(CaSO4)'!$A$3:$Y$3,0)))","v":1},null,null,null,"透過率",{"$f":"IF(OR($S153=0,A点!$AN$8=1,A点!$AN$8=\"○\"),1,INDEX('表5(CaSO4)'!$A$3:$Y$36,MATCH($AY134,'表5(CaSO4)'!$A$3:$A$36,0),MATCH($F128,'表5(CaSO4)'!$A$3:$Y$3,0)))","v":1},{"$f":"IF(OR($T153=0,A点!$AN$8=1,A点!$AN$8=\"○\"),1,INDEX('表5(CaSO4)'!$A$3:$Y$36,MATCH($AY144,'表5(CaSO4)'!$A$3:$A$36,0),MATCH($F128,'表5(CaSO4)'!$A$3:$Y$3,0)))","v":1},null,null,null,null,null,null,null,null,null,null,null,null,null,null,null,null,null,null,null,null,null,null,null,null,null,null,null,"第5遮蔽材",{"$f":"IF($AW160=\"11\",Z$8,AA$8)","v":0},{"$f":"IF($AW160=\"11\",Z$20,AA$20)","v":0},{"$f":"IF($AW160=\"11\",Z$32,AA$32)","v":0}]
[null,null,null,"e）　ガラス(表6)",null,"等価厚さ",{"$f":"IF($G144=$AA$10,$W$9*$AE$12,0)","v":0},{"$f":"IF($H144=$AA$10,$W$9*$AE$12,0)","v":0},null,"e）　ガラス(表6)",null,"等価厚さ",{"$f":"IF($M144=$AA$22,$W$21*$AE$12,0)","v":0},{"$f":"IF($N144=$AA$22,$W$21*$AE$12,0)","v":0},null,"e）　ガラス(表6)",null,"等価厚さ",{"$f":"IF($S144=$AA$34,$W$33*$AE$12,0)","v":0},{"$f":"IF($T144=$AA$34,$W$33*$AE$12,0)","v":0},null,null,null,null,null,null,null,null,null,null,null,null,null,null,null,null,null,null,null,null,null,null,null,null,null,null,null,"第6遮蔽材",{"$f":"IF($AW160=\"11\",AA$8,AB$8)","v":0},{"$f":"IF($AW160=\"11\",AA$20,AB$20)","v":0},{"$f":"IF($AW160=\"11\",AA$32,AB$32)","v":0}]
[null,null,null,null,null,"透過率",{"$f":"IF(OR($G155=0,A点!$AN$8=1,A点!$AN$8=\"○\"),1,INDEX('表6(SiO2)'!$A$3:$Y$36,MATCH($AW135,'表6(SiO2)'!$A$3:$A$36,0),MATCH($F128,'表6(SiO2)'!$A$3:$Y$3,0)))","v":1},{"$f":"IF(OR($H155=0,A点!$AN$8=1,A点!$AN$8=\"○\"),1,INDEX('表6(SiO2)'!$A$3:$Y$36,MATCH($AW145,'表6(SiO2)'!$A$3:$A$36,0),MATCH($F128,'表6(SiO2)'!$A$3:$Y$3,0)))","v":1},null,null,null,"透過率",{"$f":"IF(OR($M155=0,A点!$AN$8=1,A点!$AN$8=\"○\"),1,INDEX('表6(SiO2)'!$A$3:$Y$36,MATCH($AX135,'表6(SiO2)'!$A$3:$A$36,0),MATCH($F128,'表6(SiO2)'!$A$3:$Y$3,0)))","v":1},{"$f":"IF(OR($N155=0,A点!$AN$8=1,A点!$AN$8=\"○\"),1,INDEX('表6(SiO2)'!$A$3:$Y$36,MATCH($AX145,'表6(SiO2)'!$A$3:$A$36,0),MATCH($F128,'表6(SiO2)'!$A$3:$Y$3,0)))","v":1},null,null,null,"透過率",{"$f":"IF(OR($S155=0,A点!$AN$8=1,A点!$AN$8=\"○\"),1,INDEX('表6(SiO2)'!$A$3:$Y$36,MATCH($AY135,'表6(SiO2)'!$A$3:$A$36,0),MATCH($F128,'表6(SiO2)'!$A$3:$Y$3,0)))","v":1},{"$f":"IF(OR($T155=0,A点!$AN$8=1,A点!$AN$8=\"○\"),1,INDEX('表6(SiO2)'!$A$3:$Y$36,MATCH($AY145,'表6(SiO2)'!$A$3:$A$36,0),MATCH($F128,'表6(SiO2)'!$A$3:$Y$3,0)))","v":1},null,null,null,null,null,null,null,null,null,null,null,null,null,null,null,null,null,null,null,null,null,null,null,null,null,null,null,"第7遮蔽材",{"$f":"IF($AW160=\"11\",AB$8,\"\")","v":""},{"$f":"IF($AW160=\"11\",AB$20,\"\")","v":""},{"$f":"IF($AW160=\"11\",AB$32,\"\")","v":""}]
[null,null,null,"f)　木材(表7)",null,"等価厚さ",{"$f":"IF($G144=$AB$10,$W$9*$AE$13,0)","v":0},{"$f":"IF($H144=$AB$10,$W$9*$AE$13,0)","v":0},null,"f)　木材(表7)",null,"等価厚さ",{"$f":"IF($M144=$AB$22,$W$21*$AE$13,0)","v":0},{"$f":"IF($N144=$AB$22,$W$21*$AE$13,0)","v":0},null,"f)　木材(表7)",null,"等価厚さ",{"$f":"IF($S144=$AB$34,$W$33*$AE$13,0)","v":0},{"$f":"IF($T144=$AB$34,$W$33*$AE$13,0)","v":0}]
[null,null,null,null,null,"透過率",{"$f":"IF(OR($G157=0,A点!$AN$8=1,A点!$AN$8=\"○\"),1,INDEX('表7(木)'!$A$3:$Y$36,MATCH($AW136,'表7(木)'!$A$3:$A$36,0),MATCH($F128,'表7(木)'!$A$3:$Y$3,0)))","v":1},{"$f":"IF(OR($H157=0,A点!$AN$8=1,A点!$AN$8=\"○\"),1,INDEX('表7(木)'!$A$3:$Y$36,MATCH($AW146,'表7(木)'!$A$3:$A$36,0),MATCH($F128,'表7(木)'!$A$3:$Y$3,0)))","v":1},null,null,null,"透過率",{"$f":"IF(OR($M157=0,A点!$AN$8=1,A点!$AN$8=\"○\"),1,INDEX('表7(木)'!$A$3:$Y$36,MATCH($AX136,'表7(木)'!$A$3:$A$36,0),MATCH($F128,'表7(木)'!$A$3:$Y$3,0)))","v":1},{"$f":"IF(OR($N157=0,A点!$AN$8=1,A点!$AN$8=\"○\"),1,INDEX('表7(木)'!$A$3:$Y$36,MATCH($AX146,'表7(木)'!$A$3:$A$36,0),MATCH($F128,'表7(木)'!$A$3:$Y$3,0)))","v":1},null,null,null,"透過率",{"$f":"IF(OR($S157=0,A点!$AN$8=1,A点!$AN$8=\"○\"),1,INDEX('表7(木)'!$A$3:$Y$36,MATCH($AY136,'表7(木)'!$A$3:$A$36,0),MATCH($F128,'表7(木)'!$A$3:$Y$3,0)))","v":1},{"$f":"IF(OR($T157=0,A点!$AN$8=1,A点!$AN$8=\"○\"),1,INDEX('表7(木)'!$A$3:$Y$36,MATCH($AY146,'表7(木)'!$A$3:$A$36,0),MATCH($F128,'表7(木)'!$A$3:$Y$3,0)))","v":1},null,null,null,null,null,null,null,null,null,null,null,null,null,null,null,null,null,null,null,null,null,null,null,null,null,null,null,"遮蔽体有無",{"$f":"IF($S128>0,1,0)","v":0},"遮蔽体有：１"]
[null,null,null,null,null,null,null,null,null,null,null,null,null,null,null,null,null,null,null,null,null,null,null,null,null,null,null,null,null,null,null,null,null,null,null,null,null,null,null,null,null,null,null,null,null,null,null,"照射方向",{"$f":"IF($M129>0,1,2)","v":2},"直接線：1、散乱線：2"]
[null,null,null,"b)　第２遮蔽材以後による一次線の減衰表9",null,null,null,null,null,"b)　第２遮蔽材以後による一次線の減衰表9",null,null,null,null,null,"b)　第２遮蔽材以後による一次線の減衰表9",null,null,null,null,null,null,null,null,null,null,null,null,null,null,null,null,null,null,null,null,null,null,null,null,null,null,null,null,null,null,null,"判定コード",{"$f":"AW158&AW159","v":"02"}]
[null,null,null,null,"Dt2=",{"$f":"F164*F166*F168*F170*F172*F174","v":0},{"$f":"G164*G166*G168*G170*G172*G174","v":0},0,null,null,"Dt2=",{"$f":"L164*L166*L168*L170*L172*L174","v":0},{"$f":"M164*M166*M168*M170*M172*M174","v":0},0,null,null,"Dt2=",{"$f":"R164*R166*R168*R170*R172*R174","v":0},{"$f":"S164*S166*S168*S170*S172*S174","v":0},0]
[null,null,null,null,null,"一次線用","散乱線用","漏洩線用",null,null,null,"一次線用","散乱線用","漏洩線用",null,null,null,"一次線用","散乱線用","漏洩線用"]
[null,null,null,"a)　鉛(表9)","半価層(mm)",{"$f":"IF(OR(A点!$AN$8=1,A点!$AN$8=\"○\"),\"\",VLOOKUP($F128,'表9(BB)'!$A$4:$M$27,2,0))","v":""},null,null,null,"a)　鉛(表9)","半価層(mm)",{"$f":"IF(OR(A点!$AN$8=1,A点!$AN$8=\"○\"),\"\",VLOOKUP($F128,'表9(BB)'!$A$4:$M$27,2,0))","v":""},null,null,null,"a)　鉛(表9)","半価層(mm)",{"$f":"IF(OR(A点!$AN$8=1,A点!$AN$8=\"○\"),\"\",VLOOKUP($F128,'表9(BB)'!$A$4:$M$27,2,0))","v":""}]
[null,null,null,null,"透過率",{"$f":"IF($S$128>0,H164,G164)","v":0},{"$f":"IF($F163=\"\",0,(1/2)^($W18*$AE$8/$F163))","v":0},{"$f":"IF($F163=\"\",0,(1/2)^($W17*$AE$8/$F163))","v":0},null,null,"透過率",{"$f":"IF($S$128>0,N164,M164)","v":0},{"$f":"IF($L$163=\"\",0,(1/2)^($W30*$AE$8/$L163))","v":0},{"$f":"IF($L163=\"\",0,(1/2)^($W29*$AE$8/$L163))","v":0},null,null,"透過率",{"$f":"IF($S$128>0,T164,S164)","v":0},{"$f":"IF($R163=\"\",0,(1/2)^($W42*$AE$8/$R163))","v":0},{"$f":"IF($R163=\"\",0,(1/2)^($W41*$AE$8/$R163))","v":0}]
[null,null,null,"b)　コンクリート(表9)","半価層(mm)",{"$f":"IF(OR(A点!$AN$8=1,A点!$AN$8=\"○\"),\"\",VLOOKUP($F128,'表9(BB)'!$A$4:$M$27,4,0))","v":""},null,null,null,"b)　コンクリート(表9)","半価層(mm)",{"$f":"IF(OR(A点!$AN$8=1,A点!$AN$8=\"○\"),\"\",VLOOKUP($F128,'表9(BB)'!$A$4:$M$27,4,0))","v":""},null,null,null,"b)　コンクリート(表9)","半価層(mm)",{"$f":"IF(OR(A点!$AN$8=1,A点!$AN$8=\"○\"),\"\",VLOOKUP($F128,'表9(BB)'!$A$4:$M$27,4,0))","v":""}]
[null,null,null,null,"透過率",{"$f":"IF($S$128>0,H166,G166)","v":0},{"$f":"IF($F165=\"\",0,(1/2)^($X18*$AE$9/$F165))","v":0},{"$f":"IF($F165=\"\",0,(1/2)^($X17*$AE$9/$F165))","v":0},null,null,"透過率",{"$f":"IF($S$128>0,N166,M166)","v":0},{"$f":"IF($L165=\"\",0,(1/2)^($X30*$AE$9/$L165))","v":0},{"$f":"IF($L165=\"\",0,(1/2)^($X29*$AE$9/$L165))","v":0},null,null,"透過率",{"$f":"IF($S$128>0,T166,S166)","v":0},{"$f":"IF($R165=\"\",0,(1/2)^($X42*$AE$9/$R165))","v":0},{"$f":"IF($R165=\"\",0,(1/2)^($X41*$AE$9/$R165))","v":0}]
[null,null,null,"c)　鉄(表9)","半価層(mm)",{"$f":"IF(OR(A点!$AN$8=1,A点!$AN$8=\"○\"),\"\",VLOOKUP($F128,'表9(BB)'!$A$4:$M$27,6,0))","v":""},null,null,null,"c)　鉄(表9)","半価層(mm)",{"$f":"IF(OR(A点!$AN$8=1,A点!$AN$8=\"○\"),\"\",VLOOKUP($F128,'表9(BB)'!$A$4:$M$27,6,0))","v":""},null,null,null,"c)　鉄(表9)","半価層(mm)",{"$f":"IF(OR(A点!$AN$8=1,A点!$AN$8=\"○\"),\"\",VLOOKUP($F128,'表9(BB)'!$A$4:$M$27,6,0))","v":""}]
[null,null,null,null,"透過率",{"$f":"IF($S$128>0,H168,G168)","v":0},{"$f":"IF($F167=\"\",0,(1/2)^($Y18*$AE$10/$F167))","v":0},{"$f":"IF($F167=\"\",0,(1/2)^($Y17*$AE$10/$F167))","v":0},null,null,"透過率",{"$f":"IF($S$128>0,N168,M168)","v":0},{"$f":"IF($L167=\"\",0,(1/2)^($Y30*$AE$10/$L167))","v":0},{"$f":"IF($L167=\"\",0,(1/2)^($Y29*$AE$10/$L167))","v":0},null,null,"透過率",{"$f":"IF($S$128>0,T168,S168)","v":0},{"$f":"IF($R167=\"\",0,(1/2)^($Y42*$AE$10/$R167))","v":0},{"$f":"IF($R167=\"\",0,(1/2)^($Y41*$AE$10/$R167))","v":0}]
[null,null,null,"d)　石膏(表9)","半価層(mm)",{"$f":"IF(OR(A点!$AN$8=1,A点!$AN$8=\"○\"),\"\",VLOOKUP($F128,'表9(BB)'!$A$4:$M$27,8,0))","v":""},null,null,null,"d)　石膏(表9)","半価層(mm)",{"$f":"IF(OR(A点!$AN$8=1,A点!$AN$8=\"○\"),\"\",VLOOKUP($F128,'表9(BB)'!$A$4:$M$27,8,0))","v":""},null,null,null,"d)　石膏(表9)","半価層(mm)",{"$f":"IF(OR(A点!$AN$8=1,A点!$AN$8=\"○\"),\"\",VLOOKUP($F128,'表9(BB)'!$A$4:$M$27,8,0))","v":""}]
[null,null,null,null,"透過率",{"$f":"IF($S$128>0,H170,G170)","v":0},{"$f":"IF($F169=\"\",0,(1/2)^($Z18*$AE$11/$F169))","v":0},{"$f":"IF($F169=\"\",0,(1/2)^($Z17*$AE$11/$F169))","v":0},null,null,"透過率",{"$f":"IF($S$128>0,N170,M170)","v":0},{"$f":"IF($L169=\"\",0,(1/2)^($Z30*$AE$11/$L169))","v":0},{"$f":"IF($L169=\"\",0,(1/2)^($Z29*$AE$11/$L169))","v":0},null,null,"透過率",{"$f":"IF($S$128>0,T170,S170)","v":0},{"$f":"IF($R169=\"\",0,(1/2)^($Z42*$AE$11/$R169))","v":0},{"$f":"IF($R169=\"\",0,(1/2)^($Z41*$AE$11/$R169))","v":0}]
[null,null,null,"e）　ガラス(表9)","半価層(mm)",{"$f":"IF(OR(A点!$AN$8=1,A点!$AN$8=\"○\"),\"\",VLOOKUP($F128,'表9(BB)'!$A$4:$M$27,10,0))","v":""},null,null,null,"e）　ガラス(表9)","半価層(mm)",{"$f":"IF(OR(A点!$AN$8=1,A点!$AN$8=\"○\"),\"\",VLOOKUP($F128,'表9(BB)'!$A$4:$M$27,10,0))","v":""},null,null,null,"e）　ガラス(表9)","半価層(mm)",{"$f":"IF(OR(A点!$AN$8=1,A点!$AN$8=\"○\"),\"\",VLOOKUP($F128,'表9(BB)'!$A$4:$M$27,10,0))","v":""}]
[null,null,null,null,"透過率",{"$f":"IF($S$128>0,H172,G172)","v":0},{"$f":"IF($F171=\"\",0,(1/2)^($AA18*$AE$12/$F171))","v":0},{"$f":"IF($F171=\"\",0,(1/2)^($AA17*$AE$12/$F171))","v":0},null,null,"透過率",{"$f":"IF($S$128>0,N172,M172)","v":0},{"$f":"IF($L171=\"\",0,(1/2)^($AA30*$AE$12/$L171))","v":0},{"$f":"IF($L171=\"\",0,(1/2)^($AA29*$AE$12/$L171))","v":0},null,null,"透過率",{"$f":"IF($S$128>0,T172,S172)","v":0},{"$f":"IF($R$171=\"\",0,(1/2)^($AA42*$AE$12/$R171))","v":0},{"$f":"IF($R171=\"\",0,(1/2)^($AA41*$AE$12/$R171))","v":0}]
[null,null,null,"f)　木材(表9)","半価層(mm)",{"$f":"IF(OR(A点!$AN$8=1,A点!$AN$8=\"○\"),\"\",VLOOKUP($F128,'表9(BB)'!$A$4:$M$27,12,0))","v":""},null,null,null,"f)　木材(表9)","半価層(mm)",{"$f":"IF(OR(A点!$AN$8=1,A点!$AN$8=\"○\"),\"\",VLOOKUP($F128,'表9(BB)'!$A$4:$M$27,12,0))","v":""},null,null,null,"f)　木材(表9)","半価層(mm)",{"$f":"IF(OR(A点!$AN$8=1,A点!$AN$8=\"○\"),\"\",VLOOKUP($F128,'表9(BB)'!$A$4:$M$27,12,0))","v":""}]
[null,null,null,null,"透過率",{"$f":"IF($S$128>0,H174,G174)","v":0},{"$f":"IF($F173=\"\",0,(1/2)^($AB18*$AE$13/$F173))","v":0},{"$f":"IF($F173=\"\",0,(1/2)^($AB17*$AE$13/$F173))","v":0},null,null,"透過率",{"$f":"IF($S$128>0,N174,M174)","v":0},{"$f":"IF($L173=\"\",0,(1/2)^($AB30*$AE$13/$L173))","v":0},{"$f":"IF($L173=\"\",0,(1/2)^($AB29*$AE$13/$L173))","v":0},null,null,"透過率",{"$f":"IF($S$128>0,T174,S174)","v":0},{"$f":"IF($R173=\"\",0,(1/2)^($AB42*$AE$13/$R173))","v":0},{"$f":"IF($R173=\"\",0,(1/2)^($AB41*$AE$13/$R173))","v":0}]
[]
[]
[null,null,null,"2)　Es：散乱エックス線の漏洩線量(散乱角90度)",null,null,null,null,null,"2)　Es：散乱エックス線の漏洩線量(散乱角90度)",null,null,null,null,null,"2)　Es：散乱エックス線の漏洩線量(散乱角90度)"]
[null,null,null,null,"Dt=",{"$f":"H145*G161","v":0},null,null,null,null,"Dt=",{"$f":"N145*M161","v":0},null,null,null,null,"Dt=",{"$f":"T145*S161","v":0}]
[null,null,null,null,"Es=",{"$f":"IF(OR($F128=0,$M130=0,$M131=0,AND($W$8=0,$W$45>0),A点!$AQ$7=1),0,$G128*$G132*$G131*F178*$M127*$M128*($K131/100)*$K132/(400*($M130^2)*($M131^2)))","v":0},"μSv/3ヶ月",null,null,null,"Es=",{"$f":"IF(OR($F128=0,$M130=0,$M131=0,AND($W$20=0,$W$45>0),A点!$AQ$7=1),0,$G128*$G132*$G131*L178*$M127*$M128*($K131/100)*$K132/(400*($M130^2)*($M131^2)))","v":0},"μSv/3ヶ月",null,null,null,"Es=",{"$f":"IF(OR($F128=0,$M130=0,$M131=0,AND($W$32=0,$W$45>0),A点!$AQ$7=1),0,$G128*$G132*$G131*R178*$M127*$M128*($K131/100)*$K132/(400*($M130^2)*($M131^2)))","v":0},"μSv/3ヶ月"]
[]
[]
[null,null,null,"3)　EL：エックス線管容器からの漏洩線量(最大見積)",null,null,null,null,null,"3)　EL：エックス線管容器からの漏洩線量(最大見積)",null,null,null,null,null,"3)　EL：エックス線管容器からの漏洩線量(最大見積)"]
[]
[null,null,null,null,"EL=",{"$f":"IF(OR($F128=0,$M132=0,AND($W$8=0,$W$45>0),A点!$AQ$7=1),0,H161*$S137*$M133*$G131*$M127*$M128/($M132^2))","v":0},"μGy/h",null,null,null,"EL=",{"$f":"IF(OR($F128=0,$M132=0,AND($W$20=0,$W$45>0),A点!$AQ$7=1),0,N161*$S137*$M133*$G131*$M127*$M128/($M132^2))","v":0},"μGy/h",null,null,null,"EL=",{"$f":"IF(OR($F128=0,$M132=0,AND($W$32=0,$W$45>0),A点!$AQ$7=1),0,T161*$S137*$M133*$G131*$M127*$M128/($M132^2))","v":0},"μGy/h"]

{"sheet":"B点","index":2,"n_rows":184,"n_cols":51,"rows_kept":184,"cut":false,"hidden":true,"merged":[[11,36,13,36],[14,36,16,36],[66,1,124,1],[126,1,184,1],[13,15,13,16],[14,15,14,16],[15,15,15,16],[16,15,16,16],[6,1,64,1],[5,15,5,16],[0,15,0,16],[1,15,1,16],[2,15,2,16],[3,15,3,16],[4,15,4,16]]}
[null,null,"エックス線診療室の画壁等の実効線量",null,null,null,null,null,null,null,null,null,null,null,null,"W：３Ｍ実効稼動負荷",null,{"$f":"+G12","v":0},{"$f":"+G72","v":0},{"$f":"+G132","v":0},null,null,null,null,null,null,null,null,null,null,null,null,null,null,null,null,null,null,null,null,null,null,null,null,null,null,"③透視用透過率（表2-7）"]
[null,null,null,"B点の漏洩エックス線量の計算(利用線錘方向）",null,null,null,null,"B点の漏洩エックス線量の計算(被写体・管球）",null,null,null,null,null,null,"X：空気ｶｰﾏ(表1)",null,{"$f":"+G8","v":0},{"$f":"+G68","v":0},{"$f":"+G128","v":0},null,null,null,null,null,null,null,null,null,null,null,null,null,null,null,null,null,null,null,null,null,null,null,null,null,null,"1)直接線用"]
[null,null,null,null,"Ep=",{"$f":"IF(A点!$AQ$4=3,\"\",IF(A点!$AQ$5>0,\"No Data\",F15+F75+F135))","v":""},"μSv/3ヶ月",null,null,"Es＝",{"$f":"IF(A点!$AQ$4=3,\"\",IF(A点!$AQ$5>0,\"No Data\",K15+K75+K135))","v":""},"μSv/3ヶ月",null,null,null,"空気ｶｰﾏ率(表8)",null,{"$f":"+K11","v":0},{"$f":"+K71","v":0},{"$f":"+K131","v":0},null,null,null,null,null,null,null,null,null,null,null,null,null,null,null,null,null,null,null,null,null,null,null,null,null,null,"遮蔽厚参照値"]
[null,null,null,null,null,null,null,null,null,"EL＝",{"$f":"IF(A点!$AQ$4=3,\"\",IF(A点!$AQ$5>0,\"No Data\",K16+K76+K136))","v":""},"μSv/3ヶ月",null,null,null,"E/Ka（表10）",null,{"$f":"+G11","v":0},{"$f":"+G71","v":0},{"$f":"+G131","v":0},null,null,null,null,null,null,null,null,null,null,null,null,null,null,null,null,null,null,null,null,null,null,null,null,null,null,null,null,"B点","B'点","B\"点"]
[null,null,null,null,null,null,null,null,null,"合計",{"$f":"IF(A点!$AQ$4=3,\"\",IF(A点!$AQ$5>0,\"No Data\",K17+K77+K137))","v":""},null,null,null,null,"対向板Dt",null,{"$f":"+R10","v":""},{"$f":"+R70","v":""},{"$f":"+R130","v":""},null,null,null,null,null,null,null,null,null,null,null,null,null,null,null,null,null,null,null,null,null,null,null,null,null,null,null,"Pb",{"$f":"IF($G27=0,\"\",IF($G27<=3,INT(10*$G27)/10,IF($G27>4,4,0.5*INT($G27/0.5))))","v":""},{"$f":"IF($M27=0,\"\",IF($M27<=3,INT(10*$M27)/10,IF($M27>4,4,0.5*INT($M27/0.5))))","v":""},{"$f":"IF($S27=0,\"\",IF($S27<=3,INT(10*$S27)/10,IF($S27>4,4,0.5*INT($S27/0.5))))","v":""}]
[null,null,null,null,null,null,null,null,null,null,null,null,null,null,null,null,null,null,null,null,null,null,null,null,null,null,null,null,null,null,null,null,null,null,null,null,null,null,null,null,null,null,null,null,null,null,null,"ｺﾝｸﾘ",{"$f":"IF($G29=0,\"\",IF($G29<=300,INT($G29/10)*10,IF($G29>400,400,50*INT($G29/50))))","v":""},{"$f":"IF($M29=0,\"\",IF($M29<=300,INT($M29/10)*10,IF($M29>400,400,50*INT($M29/50))))","v":""},{"$f":"IF($S29=0,\"\",IF($S29<=300,INT($S29/10)*10,IF($S29>400,400,50*INT($S29/50))))","v":""}]
[null,"透視装置",null,"①　X：空気ｶｰﾏ：表1",null,null,null,"④　使用係数",null,null,null,"Ｕ＝",1,null,null,"1)対向板による一次線の減衰(表２)",null,null,null,null,null,null,"B点",null,null,null,null,null,null,"リスト",{"$f":"入力用シート!BQ2","v":"密度比"},null,null,null,null,null,null,null,null,null,null,null,null,null,null,null,null,"Fe",{"$f":"IF($G31=0,\"\",IF($G31<=30,INT($G31),IF($G31>40,40,5*INT($G31/5))))","v":""},{"$f":"IF($M31=0,\"\",IF($M31<=30,INT($M31),IF($M31>40,40,5*INT($M31/5))))","v":""},{"$f":"IF($S31=0,\"\",IF($S31<=30,INT($S31),IF($S31>40,40,5*INT($S31/5))))","v":""}]
[null,null,null,null,"採用管電圧",{"$f":"A点!$F$8","v":0},{"$f":"A点!$G$8","v":0},"⑤　居住係数",null,null,null,"Ｔ＝",1,null,null,null,null,"等価厚さ",{"$f":"入力用シート!$AA$8","v":0},"mm",null,null,{"$f":"入力用シート!N44","v":0},{"$f":"入力用シート!P44","v":0},{"$f":"入力用シート!R44","v":0},{"$f":"入力用シート!T44","v":0},{"$f":"入力用シート!V44","v":0},{"$f":"入力用シート!X44","v":0},null,"Pb",{"$f":"入力用シート!BQ3","v":0.96916299559471364},null,null,null,null,null,null,null,null,null,null,null,null,null,null,null,null,"石膏",{"$f":"IF($G33=0,\"\",IF($G33<=30,INT($G33),IF($G33>40,40,5*INT($G33/5))))","v":""},{"$f":"IF($M33=0,\"\",IF($M33<=30,INT($M33),IF($M33>40,40,5*INT($M33/5))))","v":""},{"$f":"IF($S33=0,\"\",IF($S33<=30,INT($S33),IF($S33>40,40,5*INT($S33/5))))","v":""}]
[null,null,null,null,"電流",{"$f":"A点!$F$9","v":0},null,"⑥　距離",null,null,null,"d1=",{"$f":"入力用シート!E$44","v":0},"ｍ",null,null,"使用管電圧",{"$f":"A点!$AL$5","v":0},null,null,null,null,{"$f":"入力用シート!N45","v":0},{"$f":"入力用シート!P45","v":0},{"$f":"入力用シート!R45","v":0},{"$f":"入力用シート!T45","v":0},{"$f":"入力用シート!V45","v":0},{"$f":"入力用シート!X45","v":0},null,"ｺﾝｸﾘ",{"$f":"入力用シート!BQ4","v":0.8936170212765957},null,null,null,null,null,null,null,null,null,null,null,null,null,null,null,null,"ｶﾞﾗｽ",{"$f":"IF($G35=0,\"\",IF($G35<=30,INT($G35),IF($G35>40,40,5*INT($G35/5))))","v":""},{"$f":"IF($M35=0,\"\",IF($M35<=30,INT($M35),IF($M35>40,40,5*INT($M35/5))))","v":""},{"$f":"IF($S35=0,\"\",IF($S35<=30,INT($S35),IF($S35>40,40,5*INT($S35/5))))","v":""}]
[null,null,null,"②　E/Ka：空気カーマ換算係数（表10）",null,null,null,"⑧　照射野400cm2空気ｶｰﾏ率表8",null,null,null,"d2=",{"$f":"入力用シート!G$44","v":0},"ｍ",null,null,"透過率",{"$f":"IF(A点!$AL$8=\"○\",\"\",IF(A点!$AL$8=1,\"データなし\",IF($S8>3,HLOOKUP($R9,'表２(Pb)'!$B$3:$Y$36,32+ROUNDDOWN(($S8-3)/0.5,0),0),HLOOKUP($R9,'表２(Pb)'!$B$3:$Y$36,2+S8/0.1,0))))","v":""},null,null,null,null,"Pb","ｺﾝｸﾘ","Fe","石膏","ｶﾞﾗｽ","木材",null,"Fe",{"$f":"入力用シート!BQ5","v":0.98339719029374206},null,null,null,null,null,null,null,null,null,null,null,null,null,null,null,null,"木材",{"$f":"IF($G37=0,\"\",IF($G37<=300,INT($G37/10)*10,IF($G37>400,400,50*INT($G37/50))))","v":""},{"$f":"IF($M37=0,\"\",IF($M37<=300,INT($M37/10)*10,IF($M37>400,400,50*INT($M37/50))))","v":""},{"$f":"IF($S37=0,\"\",IF($S37<=300,INT($S37/10)*10,IF($S37>400,400,50*INT($S37/50))))","v":""}]
[null,null,null,null,"採用管電圧",{"$f":"A点!$F$11","v":0},{"$f":"A点!$G$11","v":0},null,null,null,{"$f":"A点!$AL$7","v":0},"d3=",{"$f":"入力用シート!I$44","v":0},"ｍ",null,null,null,null,null,null,null,1,{"$f":"IF($W8=\"Pb\",$W9,0)","v":0},{"$f":"IF($W8=\"ｺﾝｸﾘ\",$W9,0)","v":0},{"$f":"IF($W8=\"Fe\",$W9,0)","v":0},{"$f":"IF($W8=\"石膏\",$W9,0)","v":0},{"$f":"IF($W8=\"ｶﾞﾗｽ\",$W9,0)","v":0},{"$f":"IF($W8=\"木材\",$W9,0)","v":0},null,"石膏",{"$f":"入力用シート!BQ6","v":1}]
[null,null,null,"③　W：３Ｍ実効稼動負荷",null,"合計",{"$f":"13*(入力用シート!$L$22*入力用シート!$Q$22*60*入力用シート!$L$23*入力用シート!$Q$23)","v":0},"⑨　受像面照射野",null,null,{"$f":"入力用シート!$E$16","v":1225},"d4=",{"$f":"入力用シート!K$44","v":0},"ｍ",null,null,null,null,null,null,null,2,{"$f":"IF($X8=\"Pb\",$X9,0)","v":0},{"$f":"IF($X8=\"ｺﾝｸﾘ\",$X9,0)","v":0},{"$f":"IF($X8=\"Fe\",$X9,0)","v":0},{"$f":"IF($X8=\"石膏\",$X9,0)","v":0},{"$f":"IF($X8=\"ｶﾞﾗｽ\",$X9,0)","v":0},{"$f":"IF($X8=\"木材\",$X9,0)","v":0},null,"ｶﾞﾗｽ",{"$f":"入力用シート!BQ7","v":0.9765625},null,null,null,null,null,null,null,null,null,null,null,null,null,null,null,"2)散乱線用"]
[null,null,null,null,null,null,null,"⑩　tw：３月間における稼働時間(h)",null,null,null,null,{"$f":"IF(F9=0,0,G12/(F9*3600))","v":0},null,null,"機器の種類",null,"管容器からの空気ｶｰﾏ率（mGy/h）",null,null,null,3,{"$f":"IF($Y8=\"Pb\",$Y9,0)","v":0},{"$f":"IF($Y8=\"ｺﾝｸﾘ\",$Y9,0)","v":0},{"$f":"IF($Y8=\"Fe\",$Y9,0)","v":0},{"$f":"IF($Y8=\"石膏\",$Y9,0)","v":0},{"$f":"IF($Y8=\"ｶﾞﾗｽ\",$Y9,0)","v":0},{"$f":"IF($Y8=\"木材\",$Y9,0)","v":0},null,"木材",{"$f":"入力用シート!BQ8","v":1},null,null,null,null,null,null,null,null,null,null,null,null,null,null,null,"遮蔽厚参照値"]
[null,null,null,"B点の漏洩エックス線量の計算(利用線錘方向）",null,null,null,null,"B点の漏洩エックス線量の計算(被写体・管球）",null,null,null,null,null,1,"1:治療用ｴｯｸｽ線装置（≦50ｋV）",null,1,"選んだ機器",null,null,4,{"$f":"IF($Z8=\"Pb\",$Z9,0)","v":0},{"$f":"IF($Z8=\"ｺﾝｸﾘ\",$Z9,0)","v":0},{"$f":"IF($Z8=\"Fe\",$Z9,0)","v":0},{"$f":"IF($Z8=\"石膏\",$Z9,0)","v":0},{"$f":"IF($Z8=\"ｶﾞﾗｽ\",$Z9,0)","v":0},{"$f":"IF($Z8=\"木材\",$Z9,0)","v":0},null,null,null,null,null,null,null,null,null,null,null,null,null,null,null,null,null,null,null,null,"B点","B'点","B\"点"]
[null,null,null,null,"Ea=",{"$f":"MAX(F21,L21,R21)","v":0},"μSv/3ヶ月",null,null,"Es＝",{"$f":"MAX(F59,L59,R59)","v":0},"μSv/3ヶ月",null,null,2,"2:治療用ｴｯｸｽ線装置（＞50ｋV）",null,10,{"$f":"入力用シート!$C$7","v":0},null,null,5,{"$f":"IF($AA8=\"Pb\",$AA9,0)","v":0},{"$f":"IF($AA8=\"ｺﾝｸﾘ\",$AA9,0)","v":0},{"$f":"IF($AA8=\"Fe\",$AA9,0)","v":0},{"$f":"IF($AA8=\"石膏\",$AA9,0)","v":0},{"$f":"IF($AA8=\"ｶﾞﾗｽ\",$AA9,0)","v":0},{"$f":"IF($AA8=\"木材\",$AA9,0)","v":0},null,null,null,null,null,null,null,null,null,null,null,null,null,null,null,null,null,null,null,"Pb",{"$f":"IF($H27=0,\"\",IF($H27<=3,INT(10*$H27)/10,IF($H27>4,4,0.5*INT($H27/0.5))))","v":""},{"$f":"IF($N27=0,\"\",IF($N27<=3,INT(10*$N27)/10,IF($N27>4,4,0.5*INT($N27/0.5))))","v":""},{"$f":"IF($T27=0,\"\",IF($T27<=3,INT(10*$T27)/10,IF($T27>4,4,0.5*INT($T27/0.5))))","v":""}]
[null,null,null,null,null,null,null,null,null,"EL＝",{"$f":"MAX(F64,L64,R64)","v":0},"μSv/3ヶ月",null,null,3,"3:口内法撮影用X線装置（≦125ｋV）",null,0.25,"選ばれた空気ｶｰﾏ率XL",null,null,6,{"$f":"IF($AB8=\"Pb\",$AB9,0)","v":0},{"$f":"IF($AB8=\"ｺﾝｸﾘ\",$AB9,0)","v":0},{"$f":"IF($AB8=\"Fe\",$AB9,0)","v":0},{"$f":"IF($AB8=\"石膏\",$AB9,0)","v":0},{"$f":"IF($AB8=\"ｶﾞﾗｽ\",$AB9,0)","v":0},{"$f":"IF($AB8=\"木材\",$AB9,0)","v":0},null,null,null,null,null,null,null,null,null,null,null,null,null,null,null,null,null,null,null,"ｺﾝｸﾘ",{"$f":"IF($H29=0,\"\",IF($H29<=300,INT($H29/10)*10,IF($H29>400,400,50*INT($H29/50))))","v":""},{"$f":"IF($N29=0,\"\",IF($N29<=300,INT($N29/10)*10,IF($N29>400,400,50*INT($N29/50))))","v":""},{"$f":"IF($T29=0,\"\",IF($T29<=300,INT($T29/10)*10,IF($T29>400,400,50*INT($T29/50))))","v":""}]
[null,null,null,null,null,null,null,null,null,"合計",{"$f":"+K15+K16","v":0},null,null,null,4,"4:上記以外の診断用X線装置",null,1,{"$f":"IF(S15=0,0,VLOOKUP(S15,O14:R17,4,0)*1000)","v":0},null,null,null,{"$f":"SUM(W11:W16)","v":0},{"$f":"SUM(X11:X16)","v":0},0,0,0,0,"第1～6遮蔽材合計",null,null,null,null,null,null,null,null,null,null,null,null,null,null,null,null,null,null,"Fe",{"$f":"IF($H31=0,\"\",IF($H31<=30,INT($H31),IF($H31>40,40,5*INT($H31/5))))","v":""},{"$f":"IF($N31=0,\"\",IF($N31<=30,INT($N31),IF($N31>40,40,5*INT($N31/5))))","v":""},{"$f":"IF($T31=0,\"\",IF($T31<=30,INT($T31),IF($T31>40,40,5*INT($T31/5))))","v":""}]
[null,null,null,null,null,null,null,null,null,null,null,null,null,null,null,"※１：治療用装置は、装置接触可能5cmの数値であるため任意の数値に変更可能",null,null,null,null,null,null,{"$f":"SUM(W12:W16)","v":0},{"$f":"SUM(X12:X16)","v":0},0,0,0,0,"第2～6遮蔽材合計",null,null,null,null,null,null,null,null,null,null,null,null,null,null,null,null,null,null,"石膏",{"$f":"IF($H33=0,\"\",IF($H33<=30,INT($H33),IF($H33>40,40,5*INT($H33/5))))","v":""},{"$f":"IF($N33=0,\"\",IF($N33<=30,INT($N33),IF($N33>40,40,5*INT($N33/5))))","v":""},{"$f":"IF($T33=0,\"\",IF($T33<=30,INT($T33),IF($T33>40,40,5*INT($T33/5))))","v":""}]
[null,null,null,"B点の計算",null,null,null,null,null,"B'点の計算",null,null,null,null,null,"B\"点の計算",null,null,null,null,null,null,"B'点",null,null,null,null,null,null,null,null,null,null,null,null,null,null,null,null,null,null,null,null,null,null,null,null,"ｶﾞﾗｽ",{"$f":"IF($H35=0,\"\",IF($H35<=30,INT($H35),IF($H35>40,40,5*INT($H35/5))))","v":""},{"$f":"IF($N35=0,\"\",IF($N35<=30,INT($N35),IF($N35>40,40,5*INT($N35/5))))","v":""},{"$f":"IF($T35=0,\"\",IF($T35<=30,INT($T35),IF($T35>40,40,5*INT($T35/5))))","v":""}]
[null,null,null,"1) Ep：撮影方向",null,null,null,null,null,"1) Ep：撮影方向",null,null,null,null,null,"1) Ep：撮影方向",null,null,null,null,null,null,{"$f":"入力用シート!N46","v":0},{"$f":"入力用シート!P46","v":0},{"$f":"入力用シート!R46","v":0},{"$f":"入力用シート!T46","v":0},{"$f":"入力用シート!V46","v":0},{"$f":"入力用シート!X46","v":0},null,null,null,null,null,null,null,null,null,null,null,null,null,null,null,null,null,null,null,"木材",{"$f":"IF($H37=0,\"\",IF($H37<=300,INT($H37/10)*10,IF($H37>400,400,50*INT($H37/50))))","v":""},{"$f":"IF($N37=0,\"\",IF($N37<=300,INT($N37/10)*10,IF($N37>400,400,50*INT($N37/50))))","v":""},{"$f":"IF($T37=0,\"\",IF($T37<=300,INT($T37/10)*10,IF($T37>400,400,50*INT($T37/50))))","v":""}]
[null,null,null,"　",null,{"$f":"IF(OR($F8=0,$M9=0,A点!$AQ$7=1,AND($W$8=0,$W$45>0)),0,($G8*$R10*$G25*$F41*$G12*$G11*$M7*$M8)/($M9^2))","v":0},"μSv/3ヶ月",null,null,"　",null,{"$f":"IF(OR($F8=0,$M9=0,A点!$AQ$7=1,AND($W$20=0,$W$45>0)),0,($G8*$R10*$M25*$L41*$G12*$G11*$M7*$M8)/($M9^2))","v":0},"μSv/3ヶ月",null,null,"　",null,{"$f":"IF(OR($F8=0,$M9=0,A点!$AQ$7=1,AND($W$32=0,$W$45>0)),0,($G8*$R10*$S25*$R41*$G12*$G11*$M7*$M8)/($M9^2))","v":0},"μSv/3ヶ月",null,null,null,{"$f":"入力用シート!N47","v":0},{"$f":"入力用シート!P47","v":0},{"$f":"入力用シート!R47","v":0},{"$f":"入力用シート!T47","v":0},{"$f":"入力用シート!V47","v":0},{"$f":"入力用シート!X47","v":0}]
[null,null,null,null,null,null,null,null,null,null,null,null,null,null,null,null,null,null,null,null,null,null,"Pb","ｺﾝｸﾘ","Fe","石膏","ｶﾞﾗｽ","木材",null,null,null,null,null,null,null,null,null,null,null,null,null,null,null,null,null,null,"3)","遮蔽材順"]
[null,null,null,"a) 第１遮蔽材による減衰(遮蔽体がある場合透過率=1)",null,null,null,null,null,"○ 第１遮蔽材による減衰(遮蔽体がある場合透過率=1)",null,null,null,null,null,"○ 第１遮蔽材による減衰(遮蔽体がある場合透過率=1)",null,null,null,null,null,null,{"$f":"IF($W20=\"Pb\",$W21,0)","v":0},{"$f":"IF($W20=\"ｺﾝｸﾘ\",$W21,0)","v":0},{"$f":"IF($W20=\"Fe\",$W21,0)","v":0},{"$f":"IF($W20=\"石膏\",$W21,0)","v":0},{"$f":"IF($W20=\"ｶﾞﾗｽ\",$W21,0)","v":0},{"$f":"IF($W20=\"木材\",$W21,0)","v":0},null,null,null,null,null,null,null,null,null,null,null,null,null,null,null,null,null,null,null,null,"B点","B'点","B\"点"]
[null,null,null,null,null,"第1遮蔽材",{"$f":"IF($S$8>0,\"遮蔽体\",$W$8)","v":0},{"$f":"$W$8","v":0},null,null,null,"第1遮蔽材",{"$f":"IF($S$8>0,\"遮蔽体\",$W$20)","v":0},{"$f":"$W$20","v":0},null,null,null,"第1遮蔽材",{"$f":"IF($S$8>0,\"遮蔽体\",$W$32)","v":0},{"$f":"$W$32","v":0},null,null,{"$f":"IF($X20=\"Pb\",$X21,0)","v":0},{"$f":"IF($X20=\"ｺﾝｸﾘ\",$X21,0)","v":0},{"$f":"IF($X20=\"Fe\",$X21,0)","v":0},{"$f":"IF($X20=\"石膏\",$X21,0)","v":0},{"$f":"IF($X20=\"ｶﾞﾗｽ\",$X21,0)","v":0},{"$f":"IF($X20=\"木材\",$X21,0)","v":0},null,null,null,null,null,null,null,null,null,null,null,null,null,null,null,null,null,null,null,"第1遮蔽材",{"$f":"IF($AW34=\"11\",G$24,H$24)","v":0},{"$f":"IF($AW34=\"11\",M$24,N$24)","v":0},{"$f":"IF($AW34=\"11\",S$24,T$24)","v":0}]
[null,null,null,null,null,"Dt1=",{"$f":"G28*G30*G32*G34*G36*G38","v":1},{"$f":"H28*H30*H32*H34*H36*H38","v":1},null,null,null,"Dt1=",{"$f":"M28*M30*M32*M34*M36*M38","v":1},{"$f":"N28*N30*N32*N34*N36*N38","v":1},null,null,null,"Dt1=",{"$f":"S28*S30*S32*S34*S36*S38","v":1},{"$f":"T28*T30*T32*T34*T36*T38","v":1},null,null,{"$f":"IF($Y20=\"Pb\",$Y21,0)","v":0},{"$f":"IF($Y20=\"ｺﾝｸﾘ\",$Y21,0)","v":0},{"$f":"IF($Y20=\"Fe\",$Y21,0)","v":0},{"$f":"IF($Y20=\"石膏\",$Y21,0)","v":0},{"$f":"IF($Y20=\"ｶﾞﾗｽ\",$Y21,0)","v":0},{"$f":"IF($Y20=\"木材\",$Y21,0)","v":0},null,null,null,null,null,null,null,null,null,null,null,null,null,null,null,null,null,null,null,"第2遮蔽材",{"$f":"IF($AW34=\"11\",W$8,X$8)","v":0},{"$f":"IF($AW34=\"11\",W$20,X$20)","v":0},{"$f":"IF($AW34=\"11\",W$32,X$32)","v":0}]
[null,null,null,null,null,null,"一次線用","散乱線用",null,null,null,null,"一次線用","散乱線用",null,null,null,null,"一次線用","散乱線用",null,null,{"$f":"IF($Z20=\"Pb\",$Z21,0)","v":0},{"$f":"IF($Z20=\"ｺﾝｸﾘ\",$Z21,0)","v":0},{"$f":"IF($Z20=\"Fe\",$Z21,0)","v":0},{"$f":"IF($Z20=\"石膏\",$Z21,0)","v":0},{"$f":"IF($Z20=\"ｶﾞﾗｽ\",$Z21,0)","v":0},{"$f":"IF($Z20=\"木材\",$Z21,0)","v":0},null,null,null,null,null,null,null,null,null,null,null,null,null,null,null,null,null,null,null,"第3遮蔽材",{"$f":"IF($AW34=\"11\",X$8,Y$8)","v":0},{"$f":"IF($AW34=\"11\",X$20,Y$20)","v":0},{"$f":"IF($AW34=\"11\",X$32,Y$32)","v":0}]
[null,null,null,"a)　鉛(表2)",null,"等価厚さ",{"$f":"IF($G24=$W$10,$W$9*$AE$8,0)","v":0},{"$f":"IF($H24=$W$10,$W$9*$AE$8,0)","v":0},null,"a)　鉛(表2)",null,"等価厚さ",{"$f":"IF($M24=$W$22,$W$21*$AE$8,0)","v":0},{"$f":"IF($N24=$W$22,$W$21*$AE$8,0)","v":0},null,"a)　鉛(表2)",null,"等価厚さ",{"$f":"IF($S24=$W$34,$W$33*$AE$8,0)","v":0},{"$f":"IF($T24=$W$34,$W$33*$AE$8,0)","v":0},null,null,{"$f":"IF($AA20=\"Pb\",$AA21,0)","v":0},{"$f":"IF($AA20=\"ｺﾝｸﾘ\",$AA21,0)","v":0},{"$f":"IF($AA20=\"Fe\",$AA21,0)","v":0},{"$f":"IF($AA20=\"石膏\",$AA21,0)","v":0},{"$f":"IF($AA20=\"ｶﾞﾗｽ\",$AA21,0)","v":0},{"$f":"IF($AA20=\"木材\",$AA21,0)","v":0},null,null,null,null,null,null,null,null,null,null,null,null,null,null,null,null,null,null,null,"第4遮蔽材",{"$f":"IF($AW34=\"11\",Y$8,Z$8)","v":0},{"$f":"IF($AW34=\"11\",Y$20,Z$20)","v":0},{"$f":"IF($AW34=\"11\",Y$32,Z$32)","v":0}]
[null,null,null,null,null,"透過率",{"$f":"IF(OR($G27=0,A点!$AL$8=1,A点!$AL$8=\"○\"),1,INDEX('表２(Pb)'!$A$3:$Y$36,MATCH($AW5,'表２(Pb)'!$A$3:$A$36,0),MATCH($F8,'表２(Pb)'!$A$3:$Y$3,0)))","v":1},{"$f":"IF(OR($H27=0,A点!$AL$8=1,A点!$AL$8=\"○\"),1,INDEX('表２(Pb)'!$A$3:$Y$36,MATCH($AW15,'表２(Pb)'!$A$3:$A$36,0),MATCH($F8,'表２(Pb)'!$A$3:$Y$3,0)))","v":1},null,null,null,"透過率",{"$f":"IF(OR($M27=0,A点!$AL$8=1,A点!$AL$8=\"○\"),1,INDEX('表２(Pb)'!$A$3:$Y$36,MATCH($AX5,'表２(Pb)'!$A$3:$A$36,0),MATCH($F8,'表２(Pb)'!$A$3:$Y$3,0)))","v":1},{"$f":"IF(OR($N27=0,A点!$AL$8=1,A点!$AL$8=\"○\"),1,INDEX('表２(Pb)'!$A$3:$Y$36,MATCH($AX15,'表２(Pb)'!$A$3:$A$36,0),MATCH($F8,'表２(Pb)'!$A$3:$Y$3,0)))","v":1},null,null,null,"透過率",{"$f":"IF(OR($S27=0,A点!$AL$8=1,A点!$AL$8=\"○\"),1,INDEX('表２(Pb)'!$A$3:$Y$36,MATCH($AY5,'表２(Pb)'!$A$3:$A$36,0),MATCH($F8,'表２(Pb)'!$A$3:$Y$3,0)))","v":1},{"$f":"IF(OR($T27=0,A点!$AL$8=1,A点!$AL$8=\"○\"),1,INDEX('表２(Pb)'!$A$3:$Y$36,MATCH($AY15,'表２(Pb)'!$A$3:$A$36,0),MATCH($F8,'表２(Pb)'!$A$3:$Y$3,0)))","v":1},null,null,{"$f":"IF($AB20=\"Pb\",$AB21,0)","v":0},{"$f":"IF($AB20=\"ｺﾝｸﾘ\",$AB21,0)","v":0},{"$f":"IF($AB20=\"Fe\",$AB21,0)","v":0},{"$f":"IF($AB20=\"石膏\",$AB21,0)","v":0},{"$f":"IF($AB20=\"ｶﾞﾗｽ\",$AB21,0)","v":0},{"$f":"IF($AB20=\"木材\",$AB21,0)","v":0},null,null,null,null,null,null,null,null,null,null,null,null,null,null,null,null,null,null,null,"第5遮蔽材",{"$f":"IF($AW34=\"11\",Z$8,AA$8)","v":0},{"$f":"IF($AW34=\"11\",Z$20,AA$20)","v":0},{"$f":"IF($AW34=\"11\",Z$32,AA$32)","v":0}]
[null,null,null,"b)　コンクリート(表3)",null,"等価厚さ",{"$f":"IF($G24=$X$10,$W$9*$AE$9,0)","v":0},{"$f":"IF($H24=$X$10,$W$9*$AE$9,0)","v":0},null,"b)　コンクリート(表3)",null,"等価厚さ",{"$f":"IF($M24=$X$22,$W$21*$AE$9,0)","v":0},{"$f":"IF($N24=$X$22,$W$21*$AE$9,0)","v":0},null,"b)　コンクリート(表3)",null,"等価厚さ",{"$f":"IF($S24=$X$34,$W$33*$AE$9,0)","v":0},{"$f":"IF($T24=$X$34,$W$33*$AE$9,0)","v":0},null,null,{"$f":"SUM(W23:W28)","v":0},{"$f":"SUM(X23:X28)","v":0},0,0,0,0,"第1～6遮蔽材合計",null,null,null,null,null,null,null,null,null,null,null,null,null,null,null,null,null,null,"第6遮蔽材",{"$f":"IF($AW34=\"11\",AA$8,AB$8)","v":0},{"$f":"IF($AW34=\"11\",AA$20,AB$20)","v":0},{"$f":"IF($AW34=\"11\",AA$32,AB$32)","v":0}]
[null,null,null,null,null,"透過率",{"$f":"IF(OR($G29=0,A点!$AL$8=1,A点!$AL$8=\"○\"),1,INDEX('表３(コ)'!$A$3:$Y$36,MATCH($AW6,'表３(コ)'!$A$3:$A$36,0),MATCH($F8,'表３(コ)'!$A$3:$Y$3,0)))","v":1},{"$f":"IF(OR($H29=0,A点!$AL$8=1,A点!$AL$8=\"○\"),1,INDEX('表３(コ)'!$A$3:$Y$36,MATCH($AW16,'表３(コ)'!$A$3:$A$36,0),MATCH($F8,'表３(コ)'!$A$3:$Y$3,0)))","v":1},null,null,null,"透過率",{"$f":"IF(OR($M29=0,A点!$AL$8=1,A点!$AL$8=\"○\"),1,INDEX('表３(コ)'!$A$3:$Y$36,MATCH($AX6,'表３(コ)'!$A$3:$A$36,0),MATCH($F8,'表３(コ)'!$A$3:$Y$3,0)))","v":1},{"$f":"IF(OR($N29=0,A点!$AL$8=1,A点!$AL$8=\"○\"),1,INDEX('表３(コ)'!$A$3:$Y$36,MATCH($AX16,'表３(コ)'!$A$3:$A$36,0),MATCH($F8,'表３(コ)'!$A$3:$Y$3,0)))","v":1},null,null,null,"透過率",{"$f":"IF(OR($S29=0,A点!$AL$8=1,A点!$AL$8=\"○\"),1,INDEX('表３(コ)'!$A$3:$Y$36,MATCH($AY6,'表３(コ)'!$A$3:$A$36,0),MATCH($F8,'表３(コ)'!$A$3:$Y$3,0)))","v":1},{"$f":"IF(OR($T29=0,A点!$AL$8=1,A点!$AL$8=\"○\"),1,INDEX('表３(コ)'!$A$3:$Y$36,MATCH($AY16,'表３(コ)'!$A$3:$A$36,0),MATCH($F8,'表３(コ)'!$A$3:$Y$3,0)))","v":1},null,null,{"$f":"SUM(W24:W28)","v":0},{"$f":"SUM(X24:X28)","v":0},0,0,0,0,"第2～6遮蔽材合計",null,null,null,null,null,null,null,null,null,null,null,null,null,null,null,null,null,null,"第7遮蔽材",{"$f":"IF($AW34=\"11\",AB$8,\"\")","v":""},{"$f":"IF($AW34=\"11\",AB$20,\"\")","v":""},{"$f":"IF($AW34=\"11\",AB$32,\"\")","v":""}]
[null,null,null,"c)　鉄(表4)",null,"等価厚さ",{"$f":"IF($G24=$Y$10,$W$9*$AE$10,0)","v":0},{"$f":"IF($H24=$Y$10,$W$9*$AE$10,0)","v":0},null,"c)　鉄(表4)",null,"等価厚さ",{"$f":"IF($M24=$Y$22,$W$21*$AE$10,0)","v":0},{"$f":"IF($N24=$Y$22,$W$21*$AE$10,0)","v":0},null,"c)　鉄(表4)",null,"等価厚さ",{"$f":"IF($S24=$Y$34,$W$33*$AE$10,0)","v":0},{"$f":"IF($T24=$Y$34,$W$33*$AE$10,0)","v":0},null,null,"B\"点"]
[null,null,null,null,null,"透過率",{"$f":"IF(OR($G31=0,A点!$AL$8=1,A点!$AL$8=\"○\"),1,INDEX('表4(Fe)'!$A$3:$Y$36,MATCH($AW7,'表4(Fe)'!$A$3:$A$36,0),MATCH($F8,'表4(Fe)'!$A$3:$Y$3,0)))","v":1},{"$f":"IF(OR($H31=0,A点!$AL$8=1,A点!$AL$8=\"○\"),1,INDEX('表4(Fe)'!$A$3:$Y$36,MATCH($AW17,'表4(Fe)'!$A$3:$A$36,0),MATCH($F8,'表4(Fe)'!$A$3:$Y$3,0)))","v":1},null,null,null,"透過率",{"$f":"IF(OR($M31=0,A点!$AL$8=1,A点!$AL$8=\"○\"),1,INDEX('表4(Fe)'!$A$3:$Y$36,MATCH($AX7,'表4(Fe)'!$A$3:$A$36,0),MATCH($F8,'表4(Fe)'!$A$3:$Y$3,0)))","v":1},{"$f":"IF(OR($N31=0,A点!$AL$8=1,A点!$AL$8=\"○\"),1,INDEX('表4(Fe)'!$A$3:$Y$36,MATCH($AX17,'表4(Fe)'!$A$3:$A$36,0),MATCH($F8,'表4(Fe)'!$A$3:$Y$3,0)))","v":1},null,null,null,"透過率",{"$f":"IF(OR($S31=0,A点!$AL$8=1,A点!$AL$8=\"○\"),1,INDEX('表4(Fe)'!$A$3:$Y$36,MATCH($AY7,'表4(Fe)'!$A$3:$A$36,0),MATCH($F8,'表4(Fe)'!$A$3:$Y$3,0)))","v":1},{"$f":"IF(OR($T31=0,A点!$AL$8=1,A点!$AL$8=\"○\"),1,INDEX('表4(Fe)'!$A$3:$Y$36,MATCH($AY17,'表4(Fe)'!$A$3:$A$36,0),MATCH($F8,'表4(Fe)'!$A$3:$Y$3,0)))","v":1},null,null,{"$f":"入力用シート!N48","v":0},{"$f":"入力用シート!P48","v":0},{"$f":"入力用シート!R48","v":0},{"$f":"入力用シート!T48","v":0},{"$f":"入力用シート!V48","v":0},{"$f":"入力用シート!X48","v":0},null,null,null,null,null,null,null,null,null,null,null,null,null,null,null,null,null,null,null,"遮蔽体有無",{"$f":"IF($S8>0,1,0)","v":0},"遮蔽体有：１"]
[null,null,null,"d)　石膏(表5)",null,"等価厚さ",{"$f":"IF($G24=$Z$10,$W$9*$AE$11,0)","v":0},{"$f":"IF($H24=$Z$10,$W$9*$AE$11,0)","v":0},null,"d)　石膏(表5)",null,"等価厚さ",{"$f":"IF($M24=$Z$22,$W$21*$AE$11,0)","v":0},{"$f":"IF($N24=$Z$22,$W$21*$AE$11,0)","v":0},null,"d)　石膏(表5)",null,"等価厚さ",{"$f":"IF($S24=$Z$34,$W$33*$AE$11,0)","v":0},{"$f":"IF($T24=$Z$34,$W$33*$AE$11,0)","v":0},null,null,{"$f":"入力用シート!N49","v":0},{"$f":"入力用シート!P49","v":0},{"$f":"入力用シート!R49","v":0},{"$f":"入力用シート!T49","v":0},{"$f":"入力用シート!V49","v":0},{"$f":"入力用シート!X49","v":0},null,null,null,null,null,null,null,null,null,null,null,null,null,null,null,null,null,null,null,"照射方向",{"$f":"IF($M9>0,1,2)","v":2},"直接線：1、散乱線：2"]
[null,null,null,null,null,"透過率",{"$f":"IF(OR($G33=0,A点!$AL$8=1,A点!$AL$8=\"○\"),1,INDEX('表5(CaSO4)'!$A$3:$Y$36,MATCH($AW8,'表5(CaSO4)'!$A$3:$A$36,0),MATCH($F8,'表5(CaSO4)'!$A$3:$Y$3,0)))","v":1},{"$f":"IF(OR($H33=0,A点!$AL$8=1,A点!$AL$8=\"○\"),1,INDEX('表5(CaSO4)'!$A$3:$Y$36,MATCH($AW18,'表5(CaSO4)'!$A$3:$A$36,0),MATCH($F8,'表5(CaSO4)'!$A$3:$Y$3,0)))","v":1},null,null,null,"透過率",{"$f":"IF(OR($M33=0,A点!$AL$8=1,A点!$AL$8=\"○\"),1,INDEX('表5(CaSO4)'!$A$3:$Y$36,MATCH($AX8,'表5(CaSO4)'!$A$3:$A$36,0),MATCH($F8,'表5(CaSO4)'!$A$3:$Y$3,0)))","v":1},{"$f":"IF(OR($N33=0,A点!$AL$8=1,A点!$AL$8=\"○\"),1,INDEX('表5(CaSO4)'!$A$3:$Y$36,MATCH($AX18,'表5(CaSO4)'!$A$3:$A$36,0),MATCH($F8,'表5(CaSO4)'!$A$3:$Y$3,0)))","v":1},null,null,null,"透過率",{"$f":"IF(OR($S33=0,A点!$AL$8=1,A点!$AL$8=\"○\"),1,INDEX('表5(CaSO4)'!$A$3:$Y$36,MATCH($AY8,'表5(CaSO4)'!$A$3:$A$36,0),MATCH($F8,'表5(CaSO4)'!$A$3:$Y$3,0)))","v":1},{"$f":"IF(OR($T33=0,A点!$AL$8=1,A点!$AL$8=\"○\"),1,INDEX('表5(CaSO4)'!$A$3:$Y$36,MATCH($AY18,'表5(CaSO4)'!$A$3:$A$36,0),MATCH($F8,'表5(CaSO4)'!$A$3:$Y$3,0)))","v":1},null,null,"Pb","ｺﾝｸﾘ","Fe","石膏","ｶﾞﾗｽ","木材",null,null,null,null,null,null,null,null,null,null,null,null,null,null,null,null,null,null,null,"判定コード",{"$f":"AW32&AW33","v":"02"}]
[null,null,null,"e）　ガラス(表6)",null,"等価厚さ",{"$f":"IF($G24=$AA$10,$W$9*$AE$12,0)","v":0},{"$f":"IF($H24=$AA$10,$W$9*$AE$12,0)","v":0},null,"e）　ガラス(表6)",null,"等価厚さ",{"$f":"IF($M24=$AA$22,$W$21*$AE$12,0)","v":0},{"$f":"IF($N24=$AA$22,$W$21*$AE$12,0)","v":0},null,"e）　ガラス(表6)",null,"等価厚さ",{"$f":"IF($S24=$AA$34,$W$33*$AE$12,0)","v":0},{"$f":"IF($T24=$AA$34,$W$33*$AE$12,0)","v":0},null,null,{"$f":"IF($W32=\"Pb\",$W33,0)","v":0},{"$f":"IF($W32=\"ｺﾝｸﾘ\",$W33,0)","v":0},{"$f":"IF($W32=\"Fe\",$W33,0)","v":0},{"$f":"IF($W32=\"石膏\",$W33,0)","v":0},{"$f":"IF($W32=\"ｶﾞﾗｽ\",$W33,0)","v":0},{"$f":"IF($W32=\"木材\",$W33,0)","v":0}]
[null,null,null,null,null,"透過率",{"$f":"IF(OR($G35=0,A点!$AL$8=1,A点!$AL$8=\"○\"),1,INDEX('表6(SiO2)'!$A$3:$Y$36,MATCH($AW9,'表6(SiO2)'!$A$3:$A$36,0),MATCH($F8,'表6(SiO2)'!$A$3:$Y$3,0)))","v":1},{"$f":"IF(OR($H35=0,A点!$AL$8=1,A点!$AL$8=\"○\"),1,INDEX('表6(SiO2)'!$A$3:$Y$36,MATCH($AW19,'表6(SiO2)'!$A$3:$A$36,0),MATCH($F8,'表6(SiO2)'!$A$3:$Y$3,0)))","v":1},null,null,null,"透過率",{"$f":"IF(OR($M35=0,A点!$AL$8=1,A点!$AL$8=\"○\"),1,INDEX('表6(SiO2)'!$A$3:$Y$36,MATCH($AX9,'表6(SiO2)'!$A$3:$A$36,0),MATCH($F8,'表6(SiO2)'!$A$3:$Y$3,0)))","v":1},{"$f":"IF(OR($N35=0,A点!$AL$8=1,A点!$AL$8=\"○\"),1,INDEX('表6(SiO2)'!$A$3:$Y$36,MATCH($AX19,'表6(SiO2)'!$A$3:$A$36,0),MATCH($F8,'表6(SiO2)'!$A$3:$Y$3,0)))","v":1},null,null,null,"透過率",{"$f":"IF(OR($S35=0,A点!$AL$8=1,A点!$AL$8=\"○\"),1,INDEX('表6(SiO2)'!$A$3:$Y$36,MATCH($AY9,'表6(SiO2)'!$A$3:$A$36,0),MATCH($F8,'表6(SiO2)'!$A$3:$Y$3,0)))","v":1},{"$f":"IF(OR($T35=0,A点!$AL$8=1,A点!$AL$8=\"○\"),1,INDEX('表6(SiO2)'!$A$3:$Y$36,MATCH($AY19,'表6(SiO2)'!$A$3:$A$36,0),MATCH($F8,'表6(SiO2)'!$A$3:$Y$3,0)))","v":1},null,null,{"$f":"IF($X32=\"Pb\",$X33,0)","v":0},{"$f":"IF($X32=\"ｺﾝｸﾘ\",$X33,0)","v":0},{"$f":"IF($X32=\"Fe\",$X33,0)","v":0},{"$f":"IF($X32=\"石膏\",$X33,0)","v":0},{"$f":"IF($X32=\"ｶﾞﾗｽ\",$X33,0)","v":0},{"$f":"IF($X32=\"木材\",$X33,0)","v":0}]
[null,null,null,"f)　木材(表7)",null,"等価厚さ",{"$f":"IF($G24=$AB$10,$W$9*$AE$13,0)","v":0},{"$f":"IF($H24=$AB$10,$W$9*$AE$13,0)","v":0},null,"f)　木材(表7)",null,"等価厚さ",{"$f":"IF($M24=$AB$22,$W$21*$AE$13,0)","v":0},{"$f":"IF($N24=$AB$22,$W$21*$AE$13,0)","v":0},null,"f)　木材(表7)",null,"等価厚さ",{"$f":"IF($S24=$AB$34,$W$33*$AE$13,0)","v":0},{"$f":"IF($T24=$AB$34,$W$33*$AE$13,0)","v":0},null,null,{"$f":"IF($Y32=\"Pb\",$Y33,0)","v":0},{"$f":"IF($Y32=\"ｺﾝｸﾘ\",$Y33,0)","v":0},{"$f":"IF($Y32=\"Fe\",$Y33,0)","v":0},{"$f":"IF($Y32=\"石膏\",$Y33,0)","v":0},{"$f":"IF($Y32=\"ｶﾞﾗｽ\",$Y33,0)","v":0},{"$f":"IF($Y32=\"木材\",$Y33,0)","v":0}]
[null,null,null,null,null,"透過率",{"$f":"IF(OR($G37=0,A点!$AL$8=1,A点!$AL$8=\"○\"),1,INDEX('表7(木)'!$A$3:$Y$36,MATCH($AW10,'表7(木)'!$A$3:$A$36,0),MATCH($F8,'表7(木)'!$A$3:$Y$3,0)))","v":1},{"$f":"IF(OR($H37=0,A点!$AL$8=1,A点!$AL$8=\"○\"),1,INDEX('表7(木)'!$A$3:$Y$36,MATCH($AW20,'表7(木)'!$A$3:$A$36,0),MATCH($F8,'表7(木)'!$A$3:$Y$3,0)))","v":1},null,null,null,"透過率",{"$f":"IF(OR($M37=0,A点!$AL$8=1,A点!$AL$8=\"○\"),1,INDEX('表7(木)'!$A$3:$Y$36,MATCH($AX10,'表7(木)'!$A$3:$A$36,0),MATCH($F8,'表7(木)'!$A$3:$Y$3,0)))","v":1},{"$f":"IF(OR($N37=0,A点!$AL$8=1,A点!$AL$8=\"○\"),1,INDEX('表7(木)'!$A$3:$Y$36,MATCH($AX20,'表7(木)'!$A$3:$A$36,0),MATCH($F8,'表7(木)'!$A$3:$Y$3,0)))","v":1},null,null,null,"透過率",{"$f":"IF(OR($S37=0,A点!$AL$8=1,A点!$AL$8=\"○\"),1,INDEX('表7(木)'!$A$3:$Y$36,MATCH($AY10,'表7(木)'!$A$3:$A$36,0),MATCH($F8,'表7(木)'!$A$3:$Y$3,0)))","v":1},{"$f":"IF(OR($T37=0,A点!$AL$8=1,A点!$AL$8=\"○\"),1,INDEX('表7(木)'!$A$3:$Y$36,MATCH($AY20,'表7(木)'!$A$3:$A$36,0),MATCH($F8,'表7(木)'!$A$3:$Y$3,0)))","v":1},null,null,{"$f":"IF($Z32=\"Pb\",$Z33,0)","v":0},{"$f":"IF($Z32=\"ｺﾝｸﾘ\",$Z33,0)","v":0},{"$f":"IF($Z32=\"Fe\",$Z33,0)","v":0},{"$f":"IF($Z32=\"石膏\",$Z33,0)","v":0},{"$f":"IF($Z32=\"ｶﾞﾗｽ\",$Z33,0)","v":0},{"$f":"IF($Z32=\"木材\",$Z33,0)","v":0}]
[null,null,null,null,null,null,null,null,null,null,null,null,null,null,null,null,null,null,null,null,null,null,{"$f":"IF($AA32=\"Pb\",$AA33,0)","v":0},{"$f":"IF($AA32=\"ｺﾝｸﾘ\",$AA33,0)","v":0},{"$f":"IF($AA32=\"Fe\",$AA33,0)","v":0},{"$f":"IF($AA32=\"石膏\",$AA33,0)","v":0},{"$f":"IF($AA32=\"ｶﾞﾗｽ\",$AA33,0)","v":0},{"$f":"IF($AA32=\"木材\",$AA33,0)","v":0}]
[null,null,null,"b)　第２遮蔽材以後による一次線の減衰表9",null,null,null,null,null,"2)　第２遮蔽材以後による一次線の減衰表9",null,null,null,null,null,"2)　第２遮蔽材以後による一次線の減衰表9",null,null,null,null,null,null,{"$f":"IF($AB32=\"Pb\",$AB33,0)","v":0},{"$f":"IF($AB32=\"ｺﾝｸﾘ\",$AB33,0)","v":0},{"$f":"IF($AB32=\"Fe\",$AB33,0)","v":0},{"$f":"IF($AB32=\"石膏\",$AB33,0)","v":0},{"$f":"IF($AB32=\"ｶﾞﾗｽ\",$AB33,0)","v":0},{"$f":"IF($AB32=\"木材\",$AB33,0)","v":0}]
[null,null,null,null,"Dt2=",{"$f":"F44*F46*F48*F50*F52*F54","v":0},{"$f":"G44*G46*G48*G50*G52*G54","v":0},0,null,null,"Dt2=",{"$f":"L44*L46*L48*L50*L52*L54","v":0},{"$f":"M44*M46*M48*M50*M52*M54","v":0},0,null,null,"Dt2=",{"$f":"R44*R46*R48*R50*R52*R54","v":0},{"$f":"S44*S46*S48*S50*S52*S54","v":0},0,null,null,{"$f":"SUM(W35:W40)","v":0},{"$f":"SUM(X35:X40)","v":0},0,0,0,0,"第1～6遮蔽材合計"]
[null,null,null,null,null,"一次線用","散乱線用","漏洩線用",null,null,null,"一次線用","散乱線用","漏洩線用",null,null,null,"一次線用","散乱線用","漏洩線用",null,null,{"$f":"SUM(W36:W40)","v":0},{"$f":"SUM(X36:X40)","v":0},0,0,0,0,"第2～6遮蔽材合計"]
[null,null,null,"a)　鉛(表9)","半価層(mm)",{"$f":"IF(OR(A点!$AL$8=1,A点!$AL$8=\"○\"),\"\",VLOOKUP($F8,'表9(BB)'!$A$4:$M$27,2,0))","v":""},null,null,null,"a)　鉛(表9)","半価層(mm)",{"$f":"IF(OR(A点!$AL$8=1,A点!$AL$8=\"○\"),\"\",VLOOKUP($F8,'表9(BB)'!$A$4:$M$27,2,0))","v":""},null,null,null,"a)　鉛(表9)","半価層(mm)",{"$f":"IF(OR(A点!$AL$8=1,A点!$AL$8=\"○\"),\"\",VLOOKUP($F8,'表9(BB)'!$A$4:$M$27,2,0))","v":""}]
[null,null,null,null,"透過率",{"$f":"IF($S$8>0,$H44,$G44)","v":0},{"$f":"IF($F43=\"\",0,(1/2)^($W18*$AE$8/$F43))","v":0},{"$f":"IF($F43=\"\",0,(1/2)^($W17*$AE$8/$F43))","v":0},null,null,"透過率",{"$f":"IF($S$8>0,$N44,$M44)","v":0},{"$f":"IF($L43=\"\",0,(1/2)^($W30*$AE$8/$L43))","v":0},{"$f":"IF($L43=\"\",0,(1/2)^($W29*$AE$8/$L43))","v":0},null,null,"透過率",{"$f":"IF($S$8>0,$T44,$S44)","v":0},{"$f":"IF($R43=\"\",0,(1/2)^($W42*$AE$8/$R43))","v":0},{"$f":"IF($R43=\"\",0,(1/2)^($W41*$AE$8/$R43))","v":0},null,null,"遮蔽材判定"]
[null,null,null,"b)　コンクリート(表9)","半価層(mm)",{"$f":"IF(OR(A点!$AL$8=1,A点!$AL$8=\"○\"),\"\",VLOOKUP($F8,'表9(BB)'!$A$4:$M$27,4,0))","v":""},null,null,null,"b)　コンクリート(表9)","半価層(mm)",{"$f":"IF(OR(A点!$AL$8=1,A点!$AL$8=\"○\"),\"\",VLOOKUP($F8,'表9(BB)'!$A$4:$M$27,4,0))","v":""},null,null,null,"b)　コンクリート(表9)","半価層(mm)",{"$f":"IF(OR(A点!$AL$8=1,A点!$AL$8=\"○\"),\"\",VLOOKUP($F8,'表9(BB)'!$A$4:$M$27,4,0))","v":""},null,null,null,null,{"$f":"SUM(W17:AB17)+SUM(W29:AB29)+SUM(W41:AB41)","v":0}]
[null,null,null,null,"透過率",{"$f":"IF($S$8>0,$H46,$G46)","v":0},{"$f":"IF($F45=\"\",0,(1/2)^($X18*$AE$9/$F45))","v":0},{"$f":"IF($F45=\"\",0,(1/2)^($X17*$AE$9/$F45))","v":0},null,null,"透過率",{"$f":"IF($S$8>0,$N46,$M46)","v":0},{"$f":"IF($L45=\"\",0,(1/2)^($X30*$AE$9/$L45))","v":0},{"$f":"IF($L45=\"\",0,(1/2)^($X29*$AE$9/$L45))","v":0},null,null,"透過率",{"$f":"IF($S$8>0,$T46,$S46)","v":0},{"$f":"IF($R45=\"\",0,(1/2)^($X42*$AE$9/$R45))","v":0},{"$f":"IF($R45=\"\",0,(1/2)^($X41*$AE$9/$R45))","v":0}]
[null,null,null,"c)　鉄(表9)","半価層(mm)",{"$f":"IF(OR(A点!$AL$8=1,A点!$AL$8=\"○\"),\"\",VLOOKUP($F8,'表9(BB)'!$A$4:$M$27,6,0))","v":""},null,null,null,"c)　鉄(表9)","半価層(mm)",{"$f":"IF(OR(A点!$AL$8=1,A点!$AL$8=\"○\"),\"\",VLOOKUP($F8,'表9(BB)'!$A$4:$M$27,6,0))","v":""},null,null,null,"c)　鉄(表9)","半価層(mm)",{"$f":"IF(OR(A点!$AL$8=1,A点!$AL$8=\"○\"),\"\",VLOOKUP($F8,'表9(BB)'!$A$4:$M$27,6,0))","v":""}]
[null,null,null,null,"透過率",{"$f":"IF($S$8>0,$H48,$G48)","v":0},{"$f":"IF($F47=\"\",0,(1/2)^($Y18*$AE$10/$F47))","v":0},{"$f":"IF($F47=\"\",0,(1/2)^($Y17*$AE$10/$F47))","v":0},null,null,"透過率",{"$f":"IF($S$8>0,$N48,$M48)","v":0},{"$f":"IF($L47=\"\",0,(1/2)^($Y30*$AE$10/$L47))","v":0},{"$f":"IF($L47=\"\",0,(1/2)^($Y29*$AE$10/$L47))","v":0},null,null,"透過率",{"$f":"IF($S$8>0,$T48,$S48)","v":0},{"$f":"IF($R47=\"\",0,(1/2)^($Y42*$AE$10/$R47))","v":0},{"$f":"IF($R47=\"\",0,(1/2)^($Y41*$AE$10/$R47))","v":0}]
[null,null,null,"d)　石膏(表9)","半価層(mm)",{"$f":"IF(OR(A点!$AL$8=1,A点!$AL$8=\"○\"),\"\",VLOOKUP($F8,'表9(BB)'!$A$4:$M$27,8,0))","v":""},null,null,null,"d)　石膏(表9)","半価層(mm)",{"$f":"IF(OR(A点!$AL$8=1,A点!$AL$8=\"○\"),\"\",VLOOKUP($F8,'表9(BB)'!$A$4:$M$27,8,0))","v":""},null,null,null,"d)　石膏(表9)","半価層(mm)",{"$f":"IF(OR(A点!$AL$8=1,A点!$AL$8=\"○\"),\"\",VLOOKUP($F8,'表9(BB)'!$A$4:$M$27,8,0))","v":""}]
[null,null,null,null,"透過率",{"$f":"IF($S$8>0,$H50,$G50)","v":0},{"$f":"IF($F49=\"\",0,(1/2)^($Z18*$AE$11/$F49))","v":0},{"$f":"IF($F49=\"\",0,(1/2)^($Z17*$AE$11/$F49))","v":0},null,null,"透過率",{"$f":"IF($S$8>0,$N50,$M50)","v":0},{"$f":"IF($L49=\"\",0,(1/2)^($Z30*$AE$11/$L49))","v":0},{"$f":"IF($L49=\"\",0,(1/2)^($Z29*$AE$11/$L49))","v":0},null,null,"透過率",{"$f":"IF($S$8>0,$T50,$S50)","v":0},{"$f":"IF($R49=\"\",0,(1/2)^($Z42*$AE$11/$R49))","v":0},{"$f":"IF($R49=\"\",0,(1/2)^($Z41*$AE$11/$R49))","v":0}]
[null,null,null,"e）　ガラス(表9)","半価層(mm)",{"$f":"IF(OR(A点!$AL$8=1,A点!$AL$8=\"○\"),\"\",VLOOKUP($F8,'表9(BB)'!$A$4:$M$27,10,0))","v":""},null,null,null,"e）　ガラス(表9)","半価層(mm)",{"$f":"IF(OR(A点!$AL$8=1,A点!$AL$8=\"○\"),\"\",VLOOKUP($F8,'表9(BB)'!$A$4:$M$27,10,0))","v":""},null,null,null,"e）　ガラス(表9)","半価層(mm)",{"$f":"IF(OR(A点!$AL$8=1,A点!$AL$8=\"○\"),\"\",VLOOKUP($F8,'表9(BB)'!$A$4:$M$27,10,0))","v":""}]
[null,null,null,null,"透過率",{"$f":"IF($S$8>0,$H52,$G52)","v":0},{"$f":"IF($F51=\"\",0,(1/2)^($AA18*$AE$12/$F51))","v":0},{"$f":"IF($F51=\"\",0,(1/2)^($AA17*$AE$12/$F51))","v":0},null,null,"透過率",{"$f":"IF($S$8>0,$N52,$M52)","v":0},{"$f":"IF($L51=\"\",0,(1/2)^($AA30*$AE$12/$L51))","v":0},{"$f":"IF($L51=\"\",0,(1/2)^($AA29*$AE$12/$L51))","v":0},null,null,"透過率",{"$f":"IF($S$8>0,$T52,$S52)","v":0},{"$f":"IF($R51=\"\",0,(1/2)^($AA42*$AE$12/$R51))","v":0},{"$f":"IF($R51=\"\",0,(1/2)^($AA41*$AE$12/$R51))","v":0}]
[null,null,null,"f)　木材(表9)","半価層(mm)",{"$f":"IF(OR(A点!$AL$8=1,A点!$AL$8=\"○\"),\"\",VLOOKUP($F8,'表9(BB)'!$A$4:$M$27,12,0))","v":""},null,null,null,"f)　木材(表9)","半価層(mm)",{"$f":"IF(OR(A点!$AL$8=1,A点!$AL$8=\"○\"),\"\",VLOOKUP($F8,'表9(BB)'!$A$4:$M$27,12,0))","v":""},null,null,null,"f)　木材(表9)","半価層(mm)",{"$f":"IF(OR(A点!$AL$8=1,A点!$AL$8=\"○\"),\"\",VLOOKUP($F8,'表9(BB)'!$A$4:$M$27,12,0))","v":""}]
[null,null,null,null,"透過率",{"$f":"IF($S$8>0,$H54,$G54)","v":0},{"$f":"IF($F53=\"\",0,(1/2)^($AB18*$AE$13/$F53))","v":0},{"$f":"IF($F53=\"\",0,(1/2)^($AB17*$AE$13/$F53))","v":0},null,null,"透過率",{"$f":"IF($S$8>0,$N54,$M54)","v":0},{"$f":"IF($L53=\"\",0,(1/2)^($AB$30*$AE$13/$L$53))","v":0},{"$f":"IF($L53=\"\",0,(1/2)^($AB$29*$AE$13/$L$53))","v":0},null,null,"透過率",{"$f":"IF($S$8>0,$T54,$S54)","v":0},{"$f":"IF($R53=\"\",0,(1/2)^($AB42*$AE$13/$R53))","v":0},{"$f":"IF($R53=\"\",0,(1/2)^($AB41*$AE$13/$R53))","v":0}]
[]
[]
[null,null,null,"2)　Es：散乱エックス線の漏洩線量(散乱角90度)",null,null,null,null,null,"2)　Es：散乱エックス線の漏洩線量(散乱角90度)",null,null,null,null,null,"2)　Es：散乱エックス線の漏洩線量(散乱角90度)"]
[null,null,null,null,"Dt=",{"$f":"H25*G41","v":0},null,null,null,null,"Dt=",{"$f":"N25*M41","v":0},null,null,null,null,"Dt=",{"$f":"T25*S41","v":0}]
[null,null,null,null,"Es=",{"$f":"IF(OR($F8=0,$M10=0,$M11=0,AND($W$8=0,$W$45>0),A点!$AQ$7=1),0,$G8*F58*$G12*$G11*$M7*$M8*($K11/100)*$K12/(400*($M10^2)*($M11^2)))","v":0},"μSv/3ヶ月",null,null,null,"Es=",{"$f":"IF(OR($F8=0,$M10=0,$M11=0,AND($W$20=0,$W$45>0),A点!$AQ$7=1),0,$G8*$G12*$G11*L58*$M7*$M8*($K11/100)*$K12/(400*($M10^2)*($M11^2)))","v":0},"μSv/3ヶ月",null,null,null,"Es=",{"$f":"IF(OR($F8=0,$M10=0,$M11=0,AND($W$32=0,$W$45>0),A点!$AQ$7=1),0,$G8*$G12*$G11*R58*$M7*$M8*($K11/100)*$K12/(400*($M10^2)*($M11^2)))","v":0},"μSv/3ヶ月"]
[]
[]
[null,null,null,"3)　EL：エックス線管容器からの漏洩線量(最大見積)",null,null,null,null,null,"3)　EL：エックス線管容器からの漏洩線量(最大見積)",null,null,null,null,null,"3)　EL：エックス線管容器からの漏洩線量(最大見積)"]
[]
[null,null,null,null,"EL=",{"$f":"IF(OR($F8=0,$M12=0,A点!$AQ$7=1,AND($W$8=0,$W$45>0)),0,$S17*$G11*$M13*H41*$M7*$M8/($M12^2))","v":0},"μGy/h",null,null,null,"EL=",{"$f":"IF(OR($F8=0,$M12=0,A点!$AQ$7=1,AND($W$20=0,$W$45>0)),0,$S17*$G11*$M13*N41*$M7*$M8/($M12^2))","v":0},"μGy/h",null,null,null,"EL=",{"$f":"IF(OR($F8=0,$M12=0,A点!$AQ$7=1,AND($W$32=0,$W$45>0)),0,$S17*$G11*$M13*T41*$M7*$M8/($M12^2))","v":0},"μGy/h"]
[]
[]
[null,"一般撮影",null,"①　X：空気カーマ(表1)",null,null,null,"④　使用係数",null,null,null,"Ｕ＝",1,null,null,"1)対向板による一次線の減衰(表２)",null,null,null,null,null,null,null,null,null,null,null,null,null,null,null,null,null,null,null,null,null,null,null,null,null,null,null,null,null,null,"③撮影用透過率（表2-7）"]
[null,null,null,null,"採用管電圧",{"$f":"A点!$F$68","v":0},{"$f":"A点!$G$68","v":0},"⑤　居住係数",null,null,null,"Ｔ＝",1,null,null,null,null,"等価厚さ",{"$f":"入力用シート!$AA$9","v":0},"mm",null,null,null,null,null,null,null,null,null,null,null,null,null,null,null,null,null,null,null,null,null,null,null,null,null,null,"1)直接線用"]
[null,null,null,null,"電流",{"$f":"A点!$F$69","v":0},null,"⑥　距離",null,null,null,"d1=",{"$f":"M9","v":0},"ｍ",null,null,"使用管電圧",{"$f":"A点!$AM$5","v":0},null,null,null,null,null,null,null,null,null,null,null,null,null,null,null,null,null,null,null,null,null,null,null,null,null,null,null,null,"遮蔽厚参照値"]
[null,null,null,"②　E/Ka：空気カーマ換算係数（表10）",null,null,null,"⑧　照射野400cm2空気ｶｰﾏ率表8",null,null,null,"d2=",{"$f":"M10","v":0},"ｍ",null,null,"透過率",{"$f":"IF(A点!$AM$8=\"○\",\"\",IF(A点!$AM$8=1,\"データなし\",IF($S68>3,HLOOKUP($R69,'表２(Pb)'!$B$3:$Y$36,32+ROUNDDOWN(($S68-3)/0.5,0),0),HLOOKUP($R69,'表２(Pb)'!$B$3:$Y$36,2+S68/0.1,0))))","v":""},null,null,null,null,null,null,null,null,null,null,null,null,null,null,null,null,null,null,null,null,null,null,null,null,null,null,null,null,null,null,"B点","B'点","B\"点"]
[null,null,null,null,"採用管電圧",{"$f":"A点!$F$71","v":0},{"$f":"A点!$G$71","v":0},null,null,null,{"$f":"A点!$AM$7","v":0},"d3=",0,"ｍ",null,null,null,null,null,null,null,null,null,null,null,null,null,null,null,null,null,null,null,null,null,null,null,null,null,null,null,null,null,null,null,null,null,"Pb",{"$f":"IF($G87=0,\"\",IF($G87<=3,INT(10*$G87)/10,IF($G87>4,4,0.5*INT($G87/0.5))))","v":""},{"$f":"IF($M87=0,\"\",IF($M87<=3,INT(10*$M87)/10,IF($M87>4,4,0.5*INT($M87/0.5))))","v":""},{"$f":"IF($S87=0,\"\",IF($S87<=3,INT(10*$S87)/10,IF($S87>4,4,0.5*INT($S87/0.5))))","v":""}]
[null,null,null,"③　W：３Ｍ実効稼動負荷",null,"合計",{"$f":"13*(入力用シート!$L$26*入力用シート!$Q$26*入力用シート!$H$27*入力用シート!$L$27*入力用シート!$Q$27)","v":0},"⑨　受像面照射野",null,null,{"$f":"入力用シート!$E$16","v":1225},"d4=",0,"ｍ",null,null,null,null,null,null,null,null,null,null,null,null,null,null,null,null,null,null,null,null,null,null,null,null,null,null,null,null,null,null,null,null,null,"ｺﾝｸﾘ",{"$f":"IF($G89=0,\"\",IF($G89<=300,INT($G89/10)*10,IF($G89>400,400,50*INT($G89/50))))","v":""},{"$f":"IF($M89=0,\"\",IF($M89<=300,INT($M89/10)*10,IF($M89>400,400,50*INT($M89/50))))","v":""},{"$f":"IF($S89=0,\"\",IF($S89<=300,INT($S89/10)*10,IF($S89>400,400,50*INT($S89/50))))","v":""}]
[null,null,null,null,null,null,null,"⑩　tw：３月間における稼働時間(h)",null,null,null,null,{"$f":"IF(F69=0,0,G72/(F69*3600))","v":0},null,null,"機器の種類",null,"管容器からの空気ｶｰﾏ率（mGy/h）",null,null,null,null,null,null,null,null,null,null,null,null,null,null,null,null,null,null,null,null,null,null,null,null,null,null,null,null,null,"Fe",{"$f":"IF($G91=0,\"\",IF($G91<=30,INT($G91),IF($G91>40,40,5*INT($G91/5))))","v":""},{"$f":"IF($M91=0,\"\",IF($M91<=30,INT($M91),IF($M91>40,40,5*INT($M91/5))))","v":""},{"$f":"IF($S91=0,\"\",IF($S91<=30,INT($S91),IF($S91>40,40,5*INT($S91/5))))","v":""}]
[null,null,null,"B点の漏洩エックス線量の計算(利用線錘方向）",null,null,null,null,"B点の漏洩エックス線量の計算(被写体・管球）",null,null,null,null,null,1,"治療用ｴｯｸｽ線装置（≧50ｋV）",null,1,"選んだ機器",null,null,null,null,null,null,null,null,null,null,null,null,null,null,null,null,null,null,null,null,null,null,null,null,null,null,null,null,"石膏",{"$f":"IF($G93=0,\"\",IF($G93<=30,INT($G93),IF($G93>40,40,5*INT($G93/5))))","v":""},{"$f":"IF($M93=0,\"\",IF($M93<=30,INT($M93),IF($M93>40,40,5*INT($M93/5))))","v":""},{"$f":"IF($S93=0,\"\",IF($S93<=30,INT($S93),IF($S93>40,40,5*INT($S93/5))))","v":""}]
[null,null,null,null,"Ea=",{"$f":"MAX(F81,L81,R81)","v":0},"μSv/3ヶ月",null,null,"Es＝",{"$f":"MAX(F119,L119,R119)","v":0},"μSv/3ヶ月",null,null,2,"治療用ｴｯｸｽ線装置（＜50ｋV）",null,10,{"$f":"入力用シート!$C$7","v":0},null,null,null,null,null,null,null,null,null,null,null,null,null,null,null,null,null,null,null,null,null,null,null,null,null,null,null,null,"ｶﾞﾗｽ",{"$f":"IF($G95=0,\"\",IF($G95<=30,INT($G95),IF($G95>40,40,5*INT($G95/5))))","v":""},{"$f":"IF($M95=0,\"\",IF($M95<=30,INT($M95),IF($M95>40,40,5*INT($M95/5))))","v":""},{"$f":"IF($S95=0,\"\",IF($S95<=30,INT($S95),IF($S95>40,40,5*INT($S95/5))))","v":""}]
[null,null,null,null,null,null,null,null,null,"EL＝",{"$f":"MAX(F124,L124,R124)","v":0},"μSv/3ヶ月",null,null,3,"口内法撮影用X線装置（≦120ｋV）",null,0.25,"選ばれた空気ｶｰﾏ率XL",null,null,null,null,null,null,null,null,null,null,null,null,null,null,null,null,null,null,null,null,null,null,null,null,null,null,null,null,"木材",{"$f":"IF($G97=0,\"\",IF($G97<=300,INT($G97/10)*10,IF($G97>400,400,50*INT($G97/50))))","v":""},{"$f":"IF($M97=0,\"\",IF($M97<=300,INT($M97/10)*10,IF($M97>400,400,50*INT($M97/50))))","v":""},{"$f":"IF($S97=0,\"\",IF($S97<=300,INT($S97/10)*10,IF($S97>400,400,50*INT($S97/50))))","v":""}]
[null,null,null,null,null,null,null,null,null,"合計",{"$f":"+K75+K76","v":0},null,null,null,4,"上記以外の診断用X線装置",null,1,{"$f":"IF(S75=0,0,VLOOKUP(S75,O74:R77,4,0)*1000)","v":0}]
[null,null,null,null,null,null,null,null,null,null,null,null,null,null,null,null,null,null,null,null,null,null,null,null,null,null,null,null,null,null,null,null,null,null,null,null,null,null,null,null,null,null,null,null,null,null,"2)散乱線用"]
[null,null,null,"B点の計算",null,null,null,null,null,"B'点の計算",null,null,null,null,null,"B\"点の計算",null,null,null,null,null,null,null,null,null,null,null,null,null,null,null,null,null,null,null,null,null,null,null,null,null,null,null,null,null,null,"遮蔽厚参照値"]
[null,null,null,"1) Ep：一次エックス線（撮影方向）",null,null,null,null,null,"1) Ep：一次エックス線（撮影方向）",null,null,null,null,null,"1) Ep：一次エックス線（撮影方向）",null,null,null,null,null,null,null,null,null,null,null,null,null,null,null,null,null,null,null,null,null,null,null,null,null,null,null,null,null,null,null,null,"B点","B'点","B\"点"]
[null,null,null,"　",null,{"$f":"IF(OR($F68=0,$M69=0,A点!$AQ$7=1,AND($W$8=0,$W$45>0)),0,($G68*$R70*$G85*$F101*$G72*$G71*$M67*$M68)/($M69^2))","v":0},"μSv/3ヶ月",null,null,"　",null,{"$f":"IF(OR($F68=0,$M69=0,A点!$AQ$7=1,AND($W$20=0,$W$45>0)),0,($G68*$R70*$M85*$L101*$G72*$G71*$M67*$M68)/($M69^2))","v":0},"μSv/3ヶ月",null,null,"　",null,{"$f":"IF(OR($F68=0,$M69=0,A点!$AQ$7=1,AND($W$32=0,$W$45>0)),0,($G68*$R70*$S85*$R101*$G72*$G71*$M67*$M68)/($M69^2))","v":0},"μSv/3ヶ月",null,null,null,null,null,null,null,null,null,null,null,null,null,null,null,null,null,null,null,null,null,null,null,null,null,null,null,null,"Pb",{"$f":"IF($H87=0,\"\",IF($H87<=3,INT(10*$H87)/10,IF($H87>4,4,0.5*INT($H87/0.5))))","v":""},{"$f":"IF($N87=0,\"\",IF($N87<=3,INT(10*$N87)/10,IF($N87>4,4,0.5*INT($N87/0.5))))","v":""},{"$f":"IF($T87=0,\"\",IF($T87<=3,INT(10*$T87)/10,IF($T87>4,4,0.5*INT($T87/0.5))))","v":""}]
[null,null,null,null,null,null,null,null,null,null,null,null,null,null,null,null,null,null,null,null,null,null,null,null,null,null,null,null,null,null,null,null,null,null,null,null,null,null,null,null,null,null,null,null,null,null,null,"ｺﾝｸﾘ",{"$f":"IF($H89=0,\"\",IF($H89<=300,INT($H89/10)*10,IF($H89>400,400,50*INT($H89/50))))","v":""},{"$f":"IF($N89=0,\"\",IF($N89<=300,INT($N89/10)*10,IF($N89>400,400,50*INT($N89/50))))","v":""},{"$f":"IF($T89=0,\"\",IF($T89<=300,INT($T89/10)*10,IF($T89>400,400,50*INT($T89/50))))","v":""}]
[null,null,null,"a) 第１遮蔽材による減衰(遮蔽体がある場合透過率=1)",null,null,null,null,null,"a) 第１遮蔽材による減衰(遮蔽体がある場合透過率=1)",null,null,null,null,null,"a) 第１遮蔽材による減衰(遮蔽体がある場合透過率=1)",null,null,null,null,null,null,null,null,null,null,null,null,null,null,null,null,null,null,null,null,null,null,null,null,null,null,null,null,null,null,null,"Fe",{"$f":"IF($H91=0,\"\",IF($H91<=30,INT($H91),IF($H91>40,40,5*INT($H91/5))))","v":""},{"$f":"IF($N91=0,\"\",IF($N91<=30,INT($N91),IF($N91>40,40,5*INT($N91/5))))","v":""},{"$f":"IF($T91=0,\"\",IF($T91<=30,INT($T91),IF($T91>40,40,5*INT($T91/5))))","v":""}]
[null,null,null,null,null,"第1遮蔽材",{"$f":"IF($S$68>0,\"遮蔽体\",$W$8)","v":0},{"$f":"$W$8","v":0},null,null,null,"第1遮蔽材",{"$f":"IF($S$68>0,\"遮蔽体\",$W$20)","v":0},{"$f":"$W$20","v":0},null,null,null,"第1遮蔽材",{"$f":"IF($S$68>0,\"遮蔽体\",$W$32)","v":0},{"$f":"$W$32","v":0},null,null,null,null,null,null,null,null,null,null,null,null,null,null,null,null,null,null,null,null,null,null,null,null,null,null,null,"石膏",{"$f":"IF($H93=0,\"\",IF($H93<=30,INT($H93),IF($H93>40,40,5*INT($H93/5))))","v":""},{"$f":"IF($N93=0,\"\",IF($N93<=30,INT($N93),IF($N93>40,40,5*INT($N93/5))))","v":""},{"$f":"IF($T93=0,\"\",IF($T93<=30,INT($T93),IF($T93>40,40,5*INT($T93/5))))","v":""}]
[null,null,null,null,null,"Dt1=",{"$f":"G88*G90*G92*G94*G96*G98","v":1},{"$f":"H88*H90*H92*H94*H96*H98","v":1},null,null,null,"Dt1=",{"$f":"M88*M90*M92*M94*M96*M98","v":1},{"$f":"N88*N90*N92*N94*N96*N98","v":1},null,null,null,"Dt1=",{"$f":"S88*S90*S92*S94*S96*S98","v":1},{"$f":"T88*T90*T92*T94*T96*T98","v":1},null,null,null,null,null,null,null,null,null,null,null,null,null,null,null,null,null,null,null,null,null,null,null,null,null,null,null,"ｶﾞﾗｽ",{"$f":"IF($H95=0,\"\",IF($H95<=30,INT($H95),IF($H95>40,40,5*INT($H95/5))))","v":""},{"$f":"IF($N95=0,\"\",IF($N95<=30,INT($N95),IF($N95>40,40,5*INT($N95/5))))","v":""},{"$f":"IF($T95=0,\"\",IF($T95<=30,INT($T95),IF($T95>40,40,5*INT($T95/5))))","v":""}]
[null,null,null,null,null,null,"一次線用","散乱線用",null,null,null,null,"一次線用","散乱線用",null,null,null,null,"一次線用","散乱線用",null,null,null,null,null,null,null,null,null,null,null,null,null,null,null,null,null,null,null,null,null,null,null,null,null,null,null,"木材",{"$f":"IF($H97=0,\"\",IF($H97<=300,INT($H97/10)*10,IF($H97>400,400,50*INT($H97/50))))","v":""},{"$f":"IF($N97=0,\"\",IF($N97<=300,INT($N97/10)*10,IF($N97>400,400,50*INT($N97/50))))","v":""},{"$f":"IF($T97=0,\"\",IF($T97<=300,INT($T97/10)*10,IF($T97>400,400,50*INT($T97/50))))","v":""}]
[null,null,null,"a)　鉛(表2)",null,"等価厚さ",{"$f":"IF($G84=$W$10,$W$9*$AE$8,0)","v":0},{"$f":"IF($H84=$W$10,$W$9*$AE$8,0)","v":0},null,"a)　鉛(表2)",null,"等価厚さ",{"$f":"IF($M84=$W$22,$W$21*$AE$8,0)","v":0},{"$f":"IF($N84=$W$22,$W$21*$AE$8,0)","v":0},null,"a)　鉛(表2)",null,"等価厚さ",{"$f":"IF($S84=$W$34,$W$33*$AE$8,0)","v":0},{"$f":"IF($T84=$W$34,$W$33*$AE$8,0)","v":0}]
[null,null,null,null,null,"透過率",{"$f":"IF(OR($G87=0,A点!$AM$8=1,A点!$AM$8=\"○\"),1,INDEX('表２(Pb)'!$A$3:$Y$36,MATCH($AW71,'表２(Pb)'!$A$3:$A$36,0),MATCH($F68,'表２(Pb)'!$A$3:$Y$3,0)))","v":1},{"$f":"IF(OR($H87=0,A点!$AM$8=1,A点!$AM$8=\"○\"),1,INDEX('表２(Pb)'!$A$3:$Y$36,MATCH($AW81,'表２(Pb)'!$A$3:$A$36,0),MATCH($F68,'表２(Pb)'!$A$3:$Y$3,0)))","v":1},null,null,null,"透過率",{"$f":"IF(OR($M87=0,A点!$AM$8=1,A点!$AM$8=\"○\"),1,INDEX('表２(Pb)'!$A$3:$Y$36,MATCH($AX71,'表２(Pb)'!$A$3:$A$36,0),MATCH($F68,'表２(Pb)'!$A$3:$Y$3,0)))","v":1},{"$f":"IF(OR($N87=0,A点!$AM$8=1,A点!$AM$8=\"○\"),1,INDEX('表２(Pb)'!$A$3:$Y$36,MATCH($AX81,'表２(Pb)'!$A$3:$A$36,0),MATCH($F68,'表２(Pb)'!$A$3:$Y$3,0)))","v":1},null,null,null,"透過率",{"$f":"IF(OR($S87=0,A点!$AM$8=1,A点!$AM$8=\"○\"),1,INDEX('表２(Pb)'!$A$3:$Y$36,MATCH($AY71,'表２(Pb)'!$A$3:$A$36,0),MATCH($F68,'表２(Pb)'!$A$3:$Y$3,0)))","v":1},{"$f":"IF(OR($T87=0,A点!$AM$8=1,A点!$AM$8=\"○\"),1,INDEX('表２(Pb)'!$A$3:$Y$36,MATCH($AY81,'表２(Pb)'!$A$3:$A$36,0),MATCH($F68,'表２(Pb)'!$A$3:$Y$3,0)))","v":1},null,null,null,null,null,null,null,null,null,null,null,null,null,null,null,null,null,null,null,null,null,null,null,null,null,null,"3)","遮蔽材順"]
[null,null,null,"b)　コンクリート(表3)",null,"等価厚さ",{"$f":"IF($G84=$X$10,$W$9*$AE$9,0)","v":0},{"$f":"IF($H84=$X$10,$W$9*$AE$9,0)","v":0},null,"b)　コンクリート(表3)",null,"等価厚さ",{"$f":"IF($M84=$X$22,$W$21*$AE$9,0)","v":0},{"$f":"IF($N84=$X$22,$W$21*$AE$9,0)","v":0},null,"b)　コンクリート(表3)",null,"等価厚さ",{"$f":"IF($S84=$X$34,$W$33*$AE$9,0)","v":0},{"$f":"IF($T84=$X$34,$W$33*$AE$9,0)","v":0},null,null,null,null,null,null,null,null,null,null,null,null,null,null,null,null,null,null,null,null,null,null,null,null,null,null,null,null,"B点","B'点","B\"点"]
[null,null,null,null,null,"透過率",{"$f":"IF(OR($G89=0,A点!$AM$8=1,A点!$AM$8=\"○\"),1,INDEX('表３(コ)'!$A$3:$Y$36,MATCH($AW72,'表３(コ)'!$A$3:$A$36,0),MATCH($F68,'表３(コ)'!$A$3:$Y$3,0)))","v":1},{"$f":"IF(OR($H89=0,A点!$AM$8=1,A点!$AM$8=\"○\"),1,INDEX('表３(コ)'!$A$3:$Y$36,MATCH($AW82,'表３(コ)'!$A$3:$A$36,0),MATCH($F68,'表３(コ)'!$A$3:$Y$3,0)))","v":1},null,null,null,"透過率",{"$f":"IF(OR($M89=0,A点!$AM$8=1,A点!$AM$8=\"○\"),1,INDEX('表３(コ)'!$A$3:$Y$36,MATCH($AX72,'表３(コ)'!$A$3:$A$36,0),MATCH($F68,'表３(コ)'!$A$3:$Y$3,0)))","v":1},{"$f":"IF(OR($N89=0,A点!$AM$8=1,A点!$AM$8=\"○\"),1,INDEX('表３(コ)'!$A$3:$Y$36,MATCH($AX82,'表３(コ)'!$A$3:$A$36,0),MATCH($F68,'表３(コ)'!$A$3:$Y$3,0)))","v":1},null,null,null,"透過率",{"$f":"IF(OR($S89=0,A点!$AM$8=1,A点!$AM$8=\"○\"),1,INDEX('表３(コ)'!$A$3:$Y$36,MATCH($AY72,'表３(コ)'!$A$3:$A$36,0),MATCH($F68,'表３(コ)'!$A$3:$Y$3,0)))","v":1},{"$f":"IF(OR($T89=0,A点!$AM$8=1,A点!$AM$8=\"○\"),1,INDEX('表３(コ)'!$A$3:$Y$36,MATCH($AY82,'表３(コ)'!$A$3:$A$36,0),MATCH($F68,'表３(コ)'!$A$3:$Y$3,0)))","v":1},null,null,null,null,null,null,null,null,null,null,null,null,null,null,null,null,null,null,null,null,null,null,null,null,null,null,null,"第1遮蔽材",{"$f":"IF($AW100=\"11\",G$84,H$84)","v":0},{"$f":"IF($AW100=\"11\",M$84,N$84)","v":0},{"$f":"IF($AW100=\"11\",S$84,T$84)","v":0}]
[null,null,null,"c)　鉄(表4)",null,"等価厚さ",{"$f":"IF($G84=$Y$10,$W$9*$AE$10,0)","v":0},{"$f":"IF($H84=$Y$10,$W$9*$AE$10,0)","v":0},null,"c)　鉄(表4)",null,"等価厚さ",{"$f":"IF($M84=$Y$22,$W$21*$AE$10,0)","v":0},{"$f":"IF($N84=$Y$22,$W$21*$AE$10,0)","v":0},null,"c)　鉄(表4)",null,"等価厚さ",{"$f":"IF($S84=$Y$34,$W$33*$AE$10,0)","v":0},{"$f":"IF($T84=$Y$34,$W$33*$AE$10,0)","v":0},null,null,null,null,null,null,null,null,null,null,null,null,null,null,null,null,null,null,null,null,null,null,null,null,null,null,null,"第2遮蔽材",{"$f":"IF($AW100=\"11\",W$8,X$8)","v":0},{"$f":"IF($AW100=\"11\",W$20,X$20)","v":0},{"$f":"IF($AW100=\"11\",W$32,X$32)","v":0}]
[null,null,null,null,null,"透過率",{"$f":"IF(OR($G91=0,A点!$AM$8=1,A点!$AM$8=\"○\"),1,INDEX('表4(Fe)'!$A$3:$Y$36,MATCH($AW73,'表4(Fe)'!$A$3:$A$36,0),MATCH($F68,'表4(Fe)'!$A$3:$Y$3,0)))","v":1},{"$f":"IF(OR($H91=0,A点!$AM$8=1,A点!$AM$8=\"○\"),1,INDEX('表4(Fe)'!$A$3:$Y$36,MATCH($AW83,'表4(Fe)'!$A$3:$A$36,0),MATCH($F68,'表4(Fe)'!$A$3:$Y$3,0)))","v":1},null,null,null,"透過率",{"$f":"IF(OR($M91=0,A点!$AM$8=1,A点!$AM$8=\"○\"),1,INDEX('表4(Fe)'!$A$3:$Y$36,MATCH($AX73,'表4(Fe)'!$A$3:$A$36,0),MATCH($F68,'表4(Fe)'!$A$3:$Y$3,0)))","v":1},{"$f":"IF(OR($N91=0,A点!$AM$8=1,A点!$AM$8=\"○\"),1,INDEX('表4(Fe)'!$A$3:$Y$36,MATCH($AX83,'表4(Fe)'!$A$3:$A$36,0),MATCH($F68,'表4(Fe)'!$A$3:$Y$3,0)))","v":1},null,null,null,"透過率",{"$f":"IF(OR($S91=0,A点!$AM$8=1,A点!$AM$8=\"○\"),1,INDEX('表4(Fe)'!$A$3:$Y$36,MATCH($AY73,'表4(Fe)'!$A$3:$A$36,0),MATCH($F68,'表4(Fe)'!$A$3:$Y$3,0)))","v":1},{"$f":"IF(OR($T91=0,A点!$AM$8=1,A点!$AM$8=\"○\"),1,INDEX('表4(Fe)'!$A$3:$Y$36,MATCH($AY83,'表4(Fe)'!$A$3:$A$36,0),MATCH($F68,'表4(Fe)'!$A$3:$Y$3,0)))","v":1},null,null,null,null,null,null,null,null,null,null,null,null,null,null,null,null,null,null,null,null,null,null,null,null,null,null,null,"第3遮蔽材",{"$f":"IF($AW100=\"11\",X$8,Y$8)","v":0},{"$f":"IF($AW100=\"11\",X$20,Y$20)","v":0},{"$f":"IF($AW100=\"11\",X$32,Y$32)","v":0}]
[null,null,null,"d)　石膏(表5)",null,"等価厚さ",{"$f":"IF($G84=$Z$10,$W$9*$AE$11,0)","v":0},{"$f":"IF($H84=$Z$10,$W$9*$AE$11,0)","v":0},null,"d)　石膏(表5)",null,"等価厚さ",{"$f":"IF($M84=$Z$22,$W$21*$AE$11,0)","v":0},{"$f":"IF($N84=$Z$22,$W$21*$AE$11,0)","v":0},null,"d)　石膏(表5)",null,"等価厚さ",{"$f":"IF($S84=$Z$34,$W$33*$AE$11,0)","v":0},{"$f":"IF($T84=$Z$34,$W$33*$AE$11,0)","v":0},null,null,null,null,null,null,null,null,null,null,null,null,null,null,null,null,null,null,null,null,null,null,null,null,null,null,null,"第4遮蔽材",{"$f":"IF($AW100=\"11\",Y$8,Z$8)","v":0},{"$f":"IF($AW100=\"11\",Y$20,Z$20)","v":0},{"$f":"IF($AW100=\"11\",Y$32,Z$32)","v":0}]
[null,null,null,null,null,"透過率",{"$f":"IF(OR($G93=0,A点!$AM$8=1,A点!$AM$8=\"○\"),1,INDEX('表5(CaSO4)'!$A$3:$Y$36,MATCH($AW74,'表5(CaSO4)'!$A$3:$A$36,0),MATCH($F68,'表5(CaSO4)'!$A$3:$Y$3,0)))","v":1},{"$f":"IF(OR($H93=0,A点!$AM$8=1,A点!$AM$8=\"○\"),1,INDEX('表5(CaSO4)'!$A$3:$Y$36,MATCH($AW84,'表5(CaSO4)'!$A$3:$A$36,0),MATCH($F68,'表5(CaSO4)'!$A$3:$Y$3,0)))","v":1},null,null,null,"透過率",{"$f":"IF(OR($M93=0,A点!$AM$8=1,A点!$AM$8=\"○\"),1,INDEX('表5(CaSO4)'!$A$3:$Y$36,MATCH($AX74,'表5(CaSO4)'!$A$3:$A$36,0),MATCH($F68,'表5(CaSO4)'!$A$3:$Y$3,0)))","v":1},{"$f":"IF(OR($N93=0,A点!$AM$8=1,A点!$AM$8=\"○\"),1,INDEX('表5(CaSO4)'!$A$3:$Y$36,MATCH($AX84,'表5(CaSO4)'!$A$3:$A$36,0),MATCH($F68,'表5(CaSO4)'!$A$3:$Y$3,0)))","v":1},null,null,null,"透過率",{"$f":"IF(OR($S93=0,A点!$AM$8=1,A点!$AM$8=\"○\"),1,INDEX('表5(CaSO4)'!$A$3:$Y$36,MATCH($AY74,'表5(CaSO4)'!$A$3:$A$36,0),MATCH($F68,'表5(CaSO4)'!$A$3:$Y$3,0)))","v":1},{"$f":"IF(OR($T93=0,A点!$AM$8=1,A点!$AM$8=\"○\"),1,INDEX('表5(CaSO4)'!$A$3:$Y$36,MATCH($AY84,'表5(CaSO4)'!$A$3:$A$36,0),MATCH($F68,'表5(CaSO4)'!$A$3:$Y$3,0)))","v":1},null,null,null,null,null,null,null,null,null,null,null,null,null,null,null,null,null,null,null,null,null,null,null,null,null,null,null,"第5遮蔽材",{"$f":"IF($AW100=\"11\",Z$8,AA$8)","v":0},{"$f":"IF($AW100=\"11\",Z$20,AA$20)","v":0},{"$f":"IF($AW100=\"11\",Z$32,AA$32)","v":0}]
[null,null,null,"e）　ガラス(表6)",null,"等価厚さ",{"$f":"IF($G84=$AA$10,$W$9*$AE$12,0)","v":0},{"$f":"IF($H84=$AA$10,$W$9*$AE$12,0)","v":0},null,"e）　ガラス(表6)",null,"等価厚さ",{"$f":"IF($M84=$AA$22,$W$21*$AE$12,0)","v":0},{"$f":"IF($N84=$AA$22,$W$21*$AE$12,0)","v":0},null,"e）　ガラス(表6)",null,"等価厚さ",{"$f":"IF($S84=$AA$34,$W$33*$AE$12,0)","v":0},{"$f":"IF($T84=$AA$34,$W$33*$AE$12,0)","v":0},null,null,null,null,null,null,null,null,null,null,null,null,null,null,null,null,null,null,null,null,null,null,null,null,null,null,null,"第6遮蔽材",{"$f":"IF($AW100=\"11\",AA$8,AB$8)","v":0},{"$f":"IF($AW100=\"11\",AA$20,AB$20)","v":0},{"$f":"IF($AW100=\"11\",AA$32,AB$32)","v":0}]
[null,null,null,null,null,"透過率",{"$f":"IF(OR($G95=0,A点!$AM$8=1,A点!$AM$8=\"○\"),1,INDEX('表6(SiO2)'!$A$3:$Y$36,MATCH($AW75,'表6(SiO2)'!$A$3:$A$36,0),MATCH($F68,'表6(SiO2)'!$A$3:$Y$3,0)))","v":1},{"$f":"IF(OR($H95=0,A点!$AM$8=1,A点!$AM$8=\"○\"),1,INDEX('表6(SiO2)'!$A$3:$Y$36,MATCH($AW85,'表6(SiO2)'!$A$3:$A$36,0),MATCH($F68,'表6(SiO2)'!$A$3:$Y$3,0)))","v":1},null,null,null,"透過率",{"$f":"IF(OR($M95=0,A点!$AM$8=1,A点!$AM$8=\"○\"),1,INDEX('表6(SiO2)'!$A$3:$Y$36,MATCH($AX75,'表6(SiO2)'!$A$3:$A$36,0),MATCH($F68,'表6(SiO2)'!$A$3:$Y$3,0)))","v":1},{"$f":"IF(OR($N95=0,A点!$AM$8=1,A点!$AM$8=\"○\"),1,INDEX('表6(SiO2)'!$A$3:$Y$36,MATCH($AX85,'表6(SiO2)'!$A$3:$A$36,0),MATCH($F68,'表6(SiO2)'!$A$3:$Y$3,0)))","v":1},null,null,null,"透過率",{"$f":"IF(OR($S95=0,A点!$AM$8=1,A点!$AM$8=\"○\"),1,INDEX('表6(SiO2)'!$A$3:$Y$36,MATCH($AY75,'表6(SiO2)'!$A$3:$A$36,0),MATCH($F68,'表6(SiO2)'!$A$3:$Y$3,0)))","v":1},{"$f":"IF(OR($T95=0,A点!$AM$8=1,A点!$AM$8=\"○\"),1,INDEX('表6(SiO2)'!$A$3:$Y$36,MATCH($AY85,'表6(SiO2)'!$A$3:$A$36,0),MATCH($F68,'表6(SiO2)'!$A$3:$Y$3,0)))","v":1},null,null,null,null,null,null,null,null,null,null,null,null,null,null,null,null,null,null,null,null,null,null,null,null,null,null,null,"第7遮蔽材",{"$f":"IF($AW100=\"11\",AB$8,\"\")","v":""},{"$f":"IF($AW100=\"11\",AB$20,\"\")","v":""},{"$f":"IF($AW100=\"11\",AB$32,\"\")","v":""}]
[null,null,null,"f)　木材(表7)",null,"等価厚さ",{"$f":"IF($G84=$AB$10,$W$9*$AE$13,0)","v":0},{"$f":"IF($H84=$AB$10,$W$9*$AE$13,0)","v":0},null,"f)　木材(表7)",null,"等価厚さ",{"$f":"IF($M84=$AB$22,$W$21*$AE$13,0)","v":0},{"$f":"IF($N84=$AB$22,$W$21*$AE$13,0)","v":0},null,"f)　木材(表7)",null,"等価厚さ",{"$f":"IF($S84=$AB$34,$W$33*$AE$13,0)","v":0},{"$f":"IF($T84=$AB$34,$W$33*$AE$13,0)","v":0}]
[null,null,null,null,null,"透過率",{"$f":"IF(OR($G97=0,A点!$AM$8=1,A点!$AM$8=\"○\"),1,INDEX('表7(木)'!$A$3:$Y$36,MATCH($AW76,'表7(木)'!$A$3:$A$36,0),MATCH($F68,'表7(木)'!$A$3:$Y$3,0)))","v":1},{"$f":"IF(OR($H97=0,A点!$AM$8=1,A点!$AM$8=\"○\"),1,INDEX('表7(木)'!$A$3:$Y$36,MATCH($AW86,'表7(木)'!$A$3:$A$36,0),MATCH($F68,'表7(木)'!$A$3:$Y$3,0)))","v":1},null,null,null,"透過率",{"$f":"IF(OR($M97=0,A点!$AM$8=1,A点!$AM$8=\"○\"),1,INDEX('表7(木)'!$A$3:$Y$36,MATCH($AX76,'表7(木)'!$A$3:$A$36,0),MATCH($F68,'表7(木)'!$A$3:$Y$3,0)))","v":1},{"$f":"IF(OR($N97=0,A点!$AM$8=1,A点!$AM$8=\"○\"),1,INDEX('表7(木)'!$A$3:$Y$36,MATCH($AX86,'表7(木)'!$A$3:$A$36,0),MATCH($F68,'表7(木)'!$A$3:$Y$3,0)))","v":1},null,null,null,"透過率",{"$f":"IF(OR($S97=0,A点!$AM$8=1,A点!$AM$8=\"○\"),1,INDEX('表7(木)'!$A$3:$Y$36,MATCH($AY76,'表7(木)'!$A$3:$A$36,0),MATCH($F68,'表7(木)'!$A$3:$Y$3,0)))","v":1},{"$f":"IF(OR($T97=0,A点!$AM$8=1,A点!$AM$8=\"○\"),1,INDEX('表7(木)'!$A$3:$Y$36,MATCH($AY86,'表7(木)'!$A$3:$A$36,0),MATCH($F68,'表7(木)'!$A$3:$Y$3,0)))","v":1},null,null,null,null,null,null,null,null,null,null,null,null,null,null,null,null,null,null,null,null,null,null,null,null,null,null,null,"遮蔽体有無",{"$f":"IF($S68>0,1,0)","v":0},"遮蔽体有：１"]
[null,null,null,null,null,null,null,null,null,null,null,null,null,null,null,null,null,null,null,null,null,null,null,null,null,null,null,null,null,null,null,null,null,null,null,null,null,null,null,null,null,null,null,null,null,null,null,"照射方向",{"$f":"IF($M69>0,1,2)","v":2},"直接線：1、散乱線：2"]
[null,null,null,"b)　第２遮蔽材以後による一次線の減衰表9",null,null,null,null,null,"b)　第２遮蔽材以後による一次線の減衰表9",null,null,null,null,null,"b)　第２遮蔽材以後による一次線の減衰表9",null,null,null,null,null,null,null,null,null,null,null,null,null,null,null,null,null,null,null,null,null,null,null,null,null,null,null,null,null,null,null,"判定コード",{"$f":"AW98&AW99","v":"02"}]
[null,null,null,null,"Dt2=",{"$f":"F104*F106*F108*F110*F112*F114","v":0},{"$f":"G104*G106*G108*G110*G112*G114","v":0},0,null,null,"Dt2=",{"$f":"L104*L106*L108*L110*L112*L114","v":0},{"$f":"M104*M106*M108*M110*M112*M114","v":0},0,null,null,"Dt2=",{"$f":"R104*R106*R108*R110*R112*R114","v":0},{"$f":"S104*S106*S108*S110*S112*S114","v":0},0]
[null,null,null,null,null,"一次線用","散乱線用","漏洩線用",null,null,null,"一次線用","散乱線用","漏洩線用",null,null,null,"一次線用","散乱線用","漏洩線用"]
[null,null,null,"a)　鉛(表9)","半価層(mm)",{"$f":"IF(OR(A点!$AM$8=1,A点!$AM$8=\"○\"),\"\",VLOOKUP($F68,'表9(BB)'!$A$4:$M$27,2,0))","v":""},null,null,null,"a)　鉛(表9)","半価層(mm)",{"$f":"IF(OR(A点!$AM$8=1,A点!$AM$8=\"○\"),\"\",VLOOKUP($F68,'表9(BB)'!$A$4:$M$27,2,0))","v":""},null,null,null,"a)　鉛(表9)","半価層(mm)",{"$f":"IF(OR(A点!$AM$8=1,A点!$AM$8=\"○\"),\"\",VLOOKUP($F68,'表9(BB)'!$A$4:$M$27,2,0))","v":""}]
[null,null,null,null,"透過率",{"$f":"IF($S$68>0,$H104,$G104)","v":0},{"$f":"IF($F103=\"\",0,(1/2)^($W18*$AE$8/$F103))","v":0},{"$f":"IF($F103=\"\",0,(1/2)^($W17*$AE$8/$F103))","v":0},null,null,"透過率",{"$f":"IF($S$68>0,$N104,$M104)","v":0},{"$f":"IF($L103=\"\",0,(1/2)^($W30*$AE$8/$L103))","v":0},{"$f":"IF($L103=\"\",0,(1/2)^($W29*$AE$8/$L103))","v":0},null,null,"透過率",{"$f":"IF($S$68>0,$T104,$S104)","v":0},{"$f":"IF($R103=\"\",0,(1/2)^($W42*$AE$8/$R103))","v":0},{"$f":"IF($R103=\"\",0,(1/2)^($W41*$AE$8/$R103))","v":0}]
[null,null,null,"b)　コンクリート(表9)","半価層(mm)",{"$f":"IF(OR(A点!$AM$8=1,A点!$AM$8=\"○\"),\"\",VLOOKUP($F68,'表9(BB)'!$A$4:$M$27,4,0))","v":""},null,null,null,"b)　コンクリート(表9)","半価層(mm)",{"$f":"IF(OR(A点!$AM$8=1,A点!$AM$8=\"○\"),\"\",VLOOKUP($F68,'表9(BB)'!$A$4:$M$27,4,0))","v":""},null,null,null,"b)　コンクリート(表9)","半価層(mm)",{"$f":"IF(OR(A点!$AM$8=1,A点!$AM$8=\"○\"),\"\",VLOOKUP($F68,'表9(BB)'!$A$4:$M$27,4,0))","v":""}]
[null,null,null,null,"透過率",{"$f":"IF($S$68>0,$H106,$G106)","v":0},{"$f":"IF($F105=\"\",0,(1/2)^($X18*$AE$9/$F105))","v":0},{"$f":"IF($F105=\"\",0,(1/2)^($X17*$AE$9/$F105))","v":0},null,null,"透過率",{"$f":"IF($S$68>0,$N106,$M106)","v":0},{"$f":"IF($L105=\"\",0,(1/2)^($X30*$AE$9/$L105))","v":0},{"$f":"IF($L105=\"\",0,(1/2)^($X29*$AE$9/$L105))","v":0},null,null,"透過率",{"$f":"IF($S$68>0,$T106,$S106)","v":0},{"$f":"IF($R105=\"\",0,(1/2)^($X42*$AE$9/$R105))","v":0},{"$f":"IF($R105=\"\",0,(1/2)^($X41*$AE$9/$R105))","v":0}]
[null,null,null,"c)　鉄(表9)","半価層(mm)",{"$f":"IF(OR(A点!$AM$8=1,A点!$AM$8=\"○\"),\"\",VLOOKUP($F68,'表9(BB)'!$A$4:$M$27,6,0))","v":""},null,null,null,"c)　鉄(表9)","半価層(mm)",{"$f":"IF(OR(A点!$AM$8=1,A点!$AM$8=\"○\"),\"\",VLOOKUP($F68,'表9(BB)'!$A$4:$M$27,6,0))","v":""},null,null,null,"c)　鉄(表9)","半価層(mm)",{"$f":"IF(OR(A点!$AM$8=1,A点!$AM$8=\"○\"),\"\",VLOOKUP($F68,'表9(BB)'!$A$4:$M$27,6,0))","v":""}]
[null,null,null,null,"透過率",{"$f":"IF($S$68>0,$H108,$G108)","v":0},{"$f":"IF($F107=\"\",0,(1/2)^($Y18*$AE$10/$F107))","v":0},{"$f":"IF($F107=\"\",0,(1/2)^($Y17*$AE$10/$F107))","v":0},null,null,"透過率",{"$f":"IF($S$68>0,$N108,$M108)","v":0},{"$f":"IF($L107=\"\",0,(1/2)^($Y30*$AE$10/$L107))","v":0},{"$f":"IF($L107=\"\",0,(1/2)^($Y29*$AE$10/$L107))","v":0},null,null,"透過率",{"$f":"IF($S$68>0,$T108,$S108)","v":0},{"$f":"IF($R107=\"\",0,(1/2)^($Y42*$AE$10/$R107))","v":0},{"$f":"IF($R107=\"\",0,(1/2)^($Y41*$AE$10/$R107))","v":0}]
[null,null,null,"d)　石膏(表9)","半価層(mm)",{"$f":"IF(OR(A点!$AM$8=1,A点!$AM$8=\"○\"),\"\",VLOOKUP($F68,'表9(BB)'!$A$4:$M$27,8,0))","v":""},null,null,null,"d)　石膏(表9)","半価層(mm)",{"$f":"IF(OR(A点!$AM$8=1,A点!$AM$8=\"○\"),\"\",VLOOKUP($F68,'表9(BB)'!$A$4:$M$27,8,0))","v":""},null,null,null,"d)　石膏(表9)","半価層(mm)",{"$f":"IF(OR(A点!$AM$8=1,A点!$AM$8=\"○\"),\"\",VLOOKUP($F68,'表9(BB)'!$A$4:$M$27,8,0))","v":""}]
[null,null,null,null,"透過率",{"$f":"IF($S$68>0,$H110,$G110)","v":0},{"$f":"IF($F109=\"\",0,(1/2)^($Z18*$AE$11/$F109))","v":0},{"$f":"IF($F109=\"\",0,(1/2)^($Z17*$AE$11/$F109))","v":0},null,null,"透過率",{"$f":"IF($S$68>0,$N110,$M110)","v":0},{"$f":"IF($L109=\"\",0,(1/2)^($Z30*$AE$11/$L109))","v":0},{"$f":"IF($L109=\"\",0,(1/2)^($Z29*$AE$11/$L109))","v":0},null,null,"透過率",{"$f":"IF($S$68>0,$T110,$S110)","v":0},{"$f":"IF($R109=\"\",0,(1/2)^($Z42*$AE$11/$R109))","v":0},{"$f":"IF($R109=\"\",0,(1/2)^($Z41*$AE$11/$R109))","v":0}]
[null,null,null,"e）　ガラス(表9)","半価層(mm)",{"$f":"IF(OR(A点!$AM$8=1,A点!$AM$8=\"○\"),\"\",VLOOKUP($F68,'表9(BB)'!$A$4:$M$27,10,0))","v":""},null,null,null,"e）　ガラス(表9)","半価層(mm)",{"$f":"IF(OR(A点!$AM$8=1,A点!$AM$8=\"○\"),\"\",VLOOKUP($F68,'表9(BB)'!$A$4:$M$27,10,0))","v":""},null,null,null,"e）　ガラス(表9)","半価層(mm)",{"$f":"IF(OR(A点!$AM$8=1,A点!$AM$8=\"○\"),\"\",VLOOKUP($F68,'表9(BB)'!$A$4:$M$27,10,0))","v":""}]
[null,null,null,null,"透過率",{"$f":"IF($S$68>0,$H112,$G112)","v":0},{"$f":"IF($F111=\"\",0,(1/2)^($AA18*$AE$12/$F111))","v":0},{"$f":"IF($F111=\"\",0,(1/2)^($AA17*$AE$12/$F111))","v":0},null,null,"透過率",{"$f":"IF($S$68>0,$N112,$M112)","v":0},{"$f":"IF($L111=\"\",0,(1/2)^($AA30*$AE$12/$L111))","v":0},{"$f":"IF($L111=\"\",0,(1/2)^($AA29*$AE$12/$L111))","v":0},null,null,"透過率",{"$f":"IF($S$68>0,$T112,$S112)","v":0},{"$f":"IF($R111=\"\",0,(1/2)^($AA42*$AE$12/$R111))","v":0},{"$f":"IF($R111=\"\",0,(1/2)^($AA41*$AE$12/$R111))","v":0}]
[null,null,null,"f)　木材(表9)","半価層(mm)",{"$f":"IF(OR(A点!$AM$8=1,A点!$AM$8=\"○\"),\"\",VLOOKUP($F68,'表9(BB)'!$A$4:$M$27,12,0))","v":""},null,null,null,"f)　木材(表9)","半価層(mm)",{"$f":"IF(OR(A点!$AM$8=1,A点!$AM$8=\"○\"),\"\",VLOOKUP($F68,'表9(BB)'!$A$4:$M$27,12,0))","v":""},null,null,null,"f)　木材(表9)","半価層(mm)",{"$f":"IF(OR(A点!$AM$8=1,A点!$AM$8=\"○\"),\"\",VLOOKUP($F68,'表9(BB)'!$A$4:$M$27,12,0))","v":""}]
[null,null,null,null,"透過率",{"$f":"IF($S$68>0,$H114,$G114)","v":0},{"$f":"IF($F113=\"\",0,(1/2)^($AB18*$AE$13/$F113))","v":0},{"$f":"IF($F113=\"\",0,(1/2)^($AB17*$AE$13/$F113))","v":0},null,null,"透過率",{"$f":"IF($S$68>0,$N114,$M114)","v":0},{"$f":"IF(L113=\"\",0,(1/2)^($AB30*$AE$13/$L113))","v":0},{"$f":"IF($L113=\"\",0,(1/2)^($AB29*$AE$13/$L113))","v":0},null,null,"透過率",{"$f":"IF($S$68>0,$T114,$S114)","v":0},{"$f":"IF($R113=\"\",0,(1/2)^($AB42*$AE$13/$R113))","v":0},{"$f":"IF($R113=\"\",0,(1/2)^($AB41*$AE$13/$R113))","v":0}]
[]
[]
[null,null,null,"2)　Es：散乱エックス線の漏洩線量(散乱角90度)",null,null,null,null,null,"2)　Es：散乱エックス線の漏洩線量(散乱角90度)",null,null,null,null,null,"2)　Es：散乱エックス線の漏洩線量(散乱角90度)"]
[null,null,null,null,"Dt=",{"$f":"H85*G101","v":0},null,null,null,null,"Dt=",{"$f":"N85*M101","v":0},null,null,null,null,"Dt=",{"$f":"T85*S101","v":0}]
[null,null,null,null,"Es=",{"$f":"IF(OR($F68=0,$M70=0,$M71=0,AND($W$8=0,$W$45>0),A点!$AQ$7=1),0,$G68*$G72*$G71*F118*$M67*$M68*($K71/100)*$K72/(400*($M70^2)*($M71^2)))","v":0},"μSv/3ヶ月",null,null,null,"Es=",{"$f":"IF(OR($F68=0,$M70=0,$M71=0,AND($W$20=0,$W$45>0),A点!$AQ$7=1),0,$G68*$G72*$G71*L118*$M67*$M68*($K71/100)*$K72/(400*($M70^2)*($M71^2)))","v":0},"μSv/3ヶ月",null,null,null,"Es=",{"$f":"IF(OR($F68=0,$M70=0,$M71=0,AND($W$32=0,$W$45>0),A点!$AQ$7=1),0,$G68*$G72*$G71*R118*$M67*$M68*($K71/100)*$K72/(400*($M70^2)*($M71^2)))","v":0},"μSv/3ヶ月"]
[]
[]
[null,null,null,"3)　EL：エックス線管容器からの漏洩線量(最大見積)",null,null,null,null,null,"3)　EL：エックス線管容器からの漏洩線量(最大見積)",null,null,null,null,null,"3)　EL：エックス線管容器からの漏洩線量(最大見積)"]
[]
[null,null,null,null,"EL=",{"$f":"IF(OR($F68=0,$M72=0,AND($W$8=0,$W$45>0),A点!$AQ$7=1),0,$S77*$G71*$M73*H101*$M67*$M68/($M72^2))","v":0},"μGy/h",null,null,null,"EL=",{"$f":"IF(OR($F68=0,$M72=0,AND($W$20=0,$W$45>0),A点!$AQ$7=1),0,$S77*$G71*$M73*N101*$M67*$M68/($M72^2))","v":0},"μGy/h",null,null,null,"EL=",{"$f":"IF(OR($F68=0,$F68=0,$M72=0,AND($W$32=0,$W$45>0)),0,$S77*$G71*$M73*T101*$M67*$M68/($M72^2))","v":0},"μGy/h"]
[]
[]
[null,"CT撮影",null,"①　X：空気カーマ(表1)",null,null,null,"④　使用係数",null,null,null,"Ｕ＝",1,null,null,"1)対向板による一次線の減衰(表２)",null,null,null,null,null,null,null,null,null,null,null,null,null,null,null,null,null,null,null,null,null,null,null,null,null,null,null,null,null,null,"③CT用透過率（表2-7）"]
[null,null,null,null,"使用管電圧",{"$f":"A点!$F$128","v":0},{"$f":"A点!$G$128","v":0},"⑤　居住係数",null,null,null,"Ｔ＝",1,null,null,null,null,"等価厚さ",{"$f":"入力用シート!$AA$10","v":0},"mm",null,null,null,null,null,null,null,null,null,null,null,null,null,null,null,null,null,null,null,null,null,null,null,null,null,null,"1)直接線用"]
[null,null,null,null,"電流",{"$f":"A点!$F$129","v":0},null,"⑥　距離",null,null,null,"d1=",{"$f":"M9","v":0},"ｍ",null,null,"使用管電圧",{"$f":"A点!$AN$5","v":0},null,null,null,null,null,null,null,null,null,null,null,null,null,null,null,null,null,null,null,null,null,null,null,null,null,null,null,null,"遮蔽厚参照値"]
[null,null,null,"②　E/Ka：空気カーマ換算係数（表10）",null,null,null,"⑧　照射野400cm2空気ｶｰﾏ率表8",null,null,null,"d2=",{"$f":"M10","v":0},"ｍ",null,null,"透過率",{"$f":"IF(A点!$AN$8=\"○\",\"\",IF(A点!$AN$8=1,\"データなし\",IF($S128>3,HLOOKUP($R129,'表２(Pb)'!$B$3:$Y$36,32+ROUNDDOWN(($S128-3)/0.5,0),0),HLOOKUP($R129,'表２(Pb)'!$B$3:$Y$36,2+S128/0.1,0))))","v":""},null,null,null,null,null,null,null,null,null,null,null,null,null,null,null,null,null,null,null,null,null,null,null,null,null,null,null,null,null,null,"B点","B'点","B\"点"]
[null,null,null,null,"使用管電圧",{"$f":"A点!$F$131","v":0},{"$f":"A点!$G$131","v":0},null,null,null,{"$f":"A点!$AN$7","v":0},"d3=",0,"ｍ",null,null,null,null,null,null,null,null,null,null,null,null,null,null,null,null,null,null,null,null,null,null,null,null,null,null,null,null,null,null,null,null,null,"Pb",{"$f":"IF($G147=0,\"\",IF($G147<=3,INT(10*$G147)/10,IF($G147>4,4,0.5*INT($G147/0.5))))","v":""},{"$f":"IF($M147=0,\"\",IF($M147<=3,INT(10*$M147)/10,IF($M147>4,4,0.5*INT($M147/0.5))))","v":""},{"$f":"IF($S147=0,\"\",IF($S147<=3,INT(10*$S147)/10,IF($S147>4,4,0.5*INT($S147/0.5))))","v":""}]
[null,null,null,"③　W：３Ｍ実効稼動負荷",null,"合計",{"$f":"13*(入力用シート!$L$32*入力用シート!$Q$32*入力用シート!$H$33*入力用シート!$L$33*入力用シート!$Q$33)","v":0},"⑨　受像面照射野",null,null,{"$f":"入力用シート!$E$17","v":60},"d4=",0,"ｍ",null,null,null,null,null,null,null,null,null,null,null,null,null,null,null,null,null,null,null,null,null,null,null,null,null,null,null,null,null,null,null,null,null,"ｺﾝｸﾘ",{"$f":"IF($G149=0,\"\",IF($G149<=300,INT($G149/10)*10,IF($G149>400,400,50*INT($G149/50))))","v":""},{"$f":"IF($M149=0,\"\",IF($M149<=300,INT($M149/10)*10,IF($M149>400,400,50*INT($M149/50))))","v":""},{"$f":"IF($S149=0,\"\",IF($S149<=300,INT($S149/10)*10,IF($S149>400,400,50*INT($S149/50))))","v":""}]
[null,null,null,null,null,null,null,"⑩　tw：３月間における稼働時間(h)",null,null,null,null,{"$f":"IF(F129=0,0,G132/(F129*3600))","v":0},null,null,"機器の種類",null,"管容器からの空気ｶｰﾏ率（mGy/h）",null,null,null,null,null,null,null,null,null,null,null,null,null,null,null,null,null,null,null,null,null,null,null,null,null,null,null,null,null,"Fe",{"$f":"IF($G151=0,\"\",IF($G151<=30,INT($G151),IF($G151>40,40,5*INT($G151/5))))","v":""},{"$f":"IF($M151=0,\"\",IF($M151<=30,INT($M151),IF($M151>40,40,5*INT($M151/5))))","v":""},{"$f":"IF($S151=0,\"\",IF($S151<=30,INT($S151),IF($S151>40,40,5*INT($S151/5))))","v":""}]
[null,null,null,"B点の漏洩エックス線量の計算(利用線錘方向）",null,null,null,null,"B点の漏洩エックス線量の計算(被写体・管球）",null,null,null,null,null,1,"治療用ｴｯｸｽ線装置（≧50ｋV）",null,1,"選んだ機器",null,null,null,null,null,null,null,null,null,null,null,null,null,null,null,null,null,null,null,null,null,null,null,null,null,null,null,null,"石膏",{"$f":"IF($G153=0,\"\",IF($G153<=30,INT($G153),IF($G153>40,40,5*INT($G153/5))))","v":""},{"$f":"IF($M153=0,\"\",IF($M153<=30,INT($M153),IF($M153>40,40,5*INT($M153/5))))","v":""},{"$f":"IF($S153=0,\"\",IF($S153<=30,INT($S153),IF($S153>40,40,5*INT($S153/5))))","v":""}]
[null,null,null,null,"Ea=",{"$f":"MAX(F141,L141,R141)","v":0},"μSv/3ヶ月",null,null,"Es＝",{"$f":"MAX(F179,L179,R179)","v":0},"μSv/3ヶ月",null,null,2,"治療用ｴｯｸｽ線装置（＜50ｋV）",null,10,{"$f":"入力用シート!$C$7","v":0},null,null,null,null,null,null,null,null,null,null,null,null,null,null,null,null,null,null,null,null,null,null,null,null,null,null,null,null,"ｶﾞﾗｽ",{"$f":"IF($G155=0,\"\",IF($G155<=30,INT($G155),IF($G155>40,40,5*INT($G155/5))))","v":""},{"$f":"IF($M155=0,\"\",IF($M155<=30,INT($M155),IF($M155>40,40,5*INT($M155/5))))","v":""},{"$f":"IF($S155=0,\"\",IF($S155<=30,INT($S155),IF($S155>40,40,5*INT($S155/5))))","v":""}]
[null,null,null,null,null,null,null,null,null,"EL＝",{"$f":"MAX(F184,L184,R184)","v":0},"μSv/3ヶ月",null,null,3,"口内法撮影用X線装置（≦120ｋV）",null,0.25,"選ばれた空気ｶｰﾏ率XL",null,null,null,null,null,null,null,null,null,null,null,null,null,null,null,null,null,null,null,null,null,null,null,null,null,null,null,null,"木材",{"$f":"IF($G157=0,\"\",IF($G157<=300,INT($G157/10)*10,IF($G157>400,400,50*INT($G157/50))))","v":""},{"$f":"IF($M157=0,\"\",IF($M157<=300,INT($M157/10)*10,IF($M157>400,400,50*INT($M157/50))))","v":""},{"$f":"IF($S157=0,\"\",IF($S157<=300,INT($S157/10)*10,IF($S157>400,400,50*INT($S157/50))))","v":""}]
[null,null,null,null,null,null,null,null,null,"合計",{"$f":"+K135+K136","v":0},null,null,null,4,"上記以外の診断用X線装置",null,1,{"$f":"IF(S135=0,0,VLOOKUP(S135,O134:R137,4,0)*1000)","v":0}]
[null,null,null,null,null,null,null,null,null,null,null,null,null,null,null,null,null,null,null,null,null,null,null,null,null,null,null,null,null,null,null,null,null,null,null,null,null,null,null,null,null,null,null,null,null,null,"2)散乱線用"]
[null,null,null,"B点の計算",null,null,null,null,null,"B'点の計算",null,null,null,null,null,"B\"点の計算",null,null,null,null,null,null,null,null,null,null,null,null,null,null,null,null,null,null,null,null,null,null,null,null,null,null,null,null,null,null,"遮蔽厚参照値"]
[null,null,null,"1) Ep：一次エックス線（撮影方向）",null,null,null,null,null,"1) Ep：一次エックス線（撮影方向）",null,null,null,null,null,"1) Ep：一次エックス線（撮影方向）",null,null,null,null,null,null,null,null,null,null,null,null,null,null,null,null,null,null,null,null,null,null,null,null,null,null,null,null,null,null,null,null,"B点","B'点","B\"点"]
[null,null,null,"　",null,{"$f":"IF(OR($F128=0,$M129=0,A点!$AQ$7=1,AND($W$8=0,$W$45>0)),0,($G128*$R130*$G145*$F161*0.25*$G132*$G131*$M127*$M128)/($M129^2))","v":0},"μSv/3ヶ月",null,null,"　",null,{"$f":"IF(OR($F128=0,$M129=0,A点!$AQ$7=1,AND($W$20=0,$W$45>0)),0,($G128*$R130*$M145*$L161*0.25*$G132*$G131*$M127*$M128)/($M129^2))","v":0},"μSv/3ヶ月",null,null,"　",null,{"$f":"IF(OR($F128=0,$M129=0,A点!$AQ$7=1,AND($W$32=0,$W$45>0)),0,($G128*$R130*$S145*$R161*0.25*$G132*$G131*$M127*$M128)/($M129^2))","v":0},"μSv/3ヶ月",null,null,null,null,null,null,null,null,null,null,null,null,null,null,null,null,null,null,null,null,null,null,null,null,null,null,null,null,"Pb",{"$f":"IF($H147=0,\"\",IF($H147<=3,INT(10*$H147)/10,IF($H147>4,4,0.5*INT($H147/0.5))))","v":""},{"$f":"IF($N147=0,\"\",IF($N147<=3,INT(10*$N147)/10,IF($N147>4,4,0.5*INT($N147/0.5))))","v":""},{"$f":"IF($T147=0,\"\",IF($T147<=3,INT(10*$T147)/10,IF($T147>4,4,0.5*INT($T147/0.5))))","v":""}]
[null,null,null,null,null,null,null,null,null,null,null,null,null,null,null,null,null,null,null,null,null,null,null,null,null,null,null,null,null,null,null,null,null,null,null,null,null,null,null,null,null,null,null,null,null,null,null,"ｺﾝｸﾘ",{"$f":"IF($H149=0,\"\",IF($H149<=300,INT($H149/10)*10,IF($H149>400,400,50*INT($H149/50))))","v":""},{"$f":"IF($N149=0,\"\",IF($N149<=300,INT($N149/10)*10,IF($N149>400,400,50*INT($N149/50))))","v":""},{"$f":"IF($T149=0,\"\",IF($T149<=300,INT($T149/10)*10,IF($T149>400,400,50*INT($T149/50))))","v":""}]
[null,null,null,"a) 第１遮蔽材による減衰(遮蔽体がある場合透過率=1)",null,null,null,null,null,"a) 第１遮蔽材による減衰(遮蔽体がある場合透過率=1)",null,null,null,null,null,"a) 第１遮蔽材による減衰(遮蔽体がある場合透過率=1)",null,null,null,null,null,null,null,null,null,null,null,null,null,null,null,null,null,null,null,null,null,null,null,null,null,null,null,null,null,null,null,"Fe",{"$f":"IF($H151=0,\"\",IF($H151<=30,INT($H151),IF($H151>40,40,5*INT($H151/5))))","v":""},{"$f":"IF($N151=0,\"\",IF($N151<=30,INT($N151),IF($N151>40,40,5*INT($N151/5))))","v":""},{"$f":"IF($T151=0,\"\",IF($T151<=30,INT($T151),IF($T151>40,40,5*INT($T151/5))))","v":""}]
[null,null,null,null,null,"第1遮蔽材",{"$f":"IF($S$128>0,\"遮蔽体\",$W$8)","v":0},{"$f":"$W$8","v":0},null,null,null,"第1遮蔽材",{"$f":"IF($S$128>0,\"遮蔽体\",$W$20)","v":0},{"$f":"$W$20","v":0},null,null,null,"第1遮蔽材",{"$f":"IF($S$128>0,\"遮蔽体\",$W$32)","v":0},{"$f":"$W$32","v":0},null,null,null,null,null,null,null,null,null,null,null,null,null,null,null,null,null,null,null,null,null,null,null,null,null,null,null,"石膏",{"$f":"IF($H153=0,\"\",IF($H153<=30,INT($H153),IF($H153>40,40,5*INT($H153/5))))","v":""},{"$f":"IF($N153=0,\"\",IF($N153<=30,INT($N153),IF($N153>40,40,5*INT($N153/5))))","v":""},{"$f":"IF($T153=0,\"\",IF($T153<=30,INT($T153),IF($T153>40,40,5*INT($T153/5))))","v":""}]
[null,null,null,null,null,"Dt1=",{"$f":"G148*G150*G152*G154*G156*G158","v":1},{"$f":"H148*H150*H152*H154*H156*H158","v":1},null,null,null,"Dt1=",{"$f":"M148*M150*M152*M154*M156*M158","v":1},{"$f":"N148*N150*N152*N154*N156*N158","v":1},null,null,null,"Dt1=",{"$f":"S148*S150*S152*S154*S156*S158","v":1},{"$f":"T148*T150*T152*T154*T156*T158","v":1},null,null,null,null,null,null,null,null,null,null,null,null,null,null,null,null,null,null,null,null,null,null,null,null,null,null,null,"ｶﾞﾗｽ",{"$f":"IF($H155=0,\"\",IF($H155<=30,INT($H155),IF($H155>40,40,5*INT($H155/5))))","v":""},{"$f":"IF($N155=0,\"\",IF($N155<=30,INT($N155),IF($N155>40,40,5*INT($N155/5))))","v":""},{"$f":"IF($T155=0,\"\",IF($T155<=30,INT($T155),IF($T155>40,40,5*INT($T155/5))))","v":""}]
[null,null,null,null,null,null,"一次線用","散乱線用",null,null,null,null,"一次線用","散乱線用",null,null,null,null,"一次線用","散乱線用",null,null,null,null,null,null,null,null,null,null,null,null,null,null,null,null,null,null,null,null,null,null,null,null,null,null,null,"木材",{"$f":"IF($H157=0,\"\",IF($H157<=300,INT($H157/10)*10,IF($H157>400,400,50*INT($H157/50))))","v":""},{"$f":"IF($N157=0,\"\",IF($N157<=300,INT($N157/10)*10,IF($N157>400,400,50*INT($N157/50))))","v":""},{"$f":"IF($T157=0,\"\",IF($T157<=300,INT($T157/10)*10,IF($T157>400,400,50*INT($T157/50))))","v":""}]
[null,null,null,"a)　鉛(表2)",null,"等価厚さ",{"$f":"IF($G144=$W$10,$W$9*$AE$8,0)","v":0},{"$f":"IF($H144=$W$10,$W$9*$AE$8,0)","v":0},null,"a)　鉛(表2)",null,"等価厚さ",{"$f":"IF($M144=$W$22,$W$21*$AE$8,0)","v":0},{"$f":"IF($N144=$W$22,$W$21*$AE$8,0)","v":0},null,"a)　鉛(表2)",null,"等価厚さ",{"$f":"IF($S144=$W$34,$W$33*$AE$8,0)","v":0},{"$f":"IF($T144=$W$34,$W$33*$AE$8,0)","v":0}]
[null,null,null,null,null,"透過率",{"$f":"IF(OR($G147=0,A点!$AN$8=1,A点!$AN$8=\"○\"),1,INDEX('表２(Pb)'!$A$3:$Y$36,MATCH($AW131,'表２(Pb)'!$A$3:$A$36,0),MATCH($F128,'表２(Pb)'!$A$3:$Y$3,0)))","v":1},{"$f":"IF(OR($H147=0,A点!$AN$8=1,A点!$AN$8=\"○\"),1,INDEX('表２(Pb)'!$A$3:$Y$36,MATCH($AW141,'表２(Pb)'!$A$3:$A$36,0),MATCH($F128,'表２(Pb)'!$A$3:$Y$3,0)))","v":1},null,null,null,"透過率",{"$f":"IF(OR($M147=0,A点!$AN$8=1,A点!$AN$8=\"○\"),1,INDEX('表２(Pb)'!$A$3:$Y$36,MATCH($AX131,'表２(Pb)'!$A$3:$A$36,0),MATCH($F128,'表２(Pb)'!$A$3:$Y$3,0)))","v":1},{"$f":"IF(OR($N147=0,A点!$AN$8=1,A点!$AN$8=\"○\"),1,INDEX('表２(Pb)'!$A$3:$Y$36,MATCH($AX141,'表２(Pb)'!$A$3:$A$36,0),MATCH($F128,'表２(Pb)'!$A$3:$Y$3,0)))","v":1},null,null,null,"透過率",{"$f":"IF(OR($S147=0,A点!$AN$8=1,A点!$AN$8=\"○\"),1,INDEX('表２(Pb)'!$A$3:$Y$36,MATCH($AY131,'表２(Pb)'!$A$3:$A$36,0),MATCH($F128,'表２(Pb)'!$A$3:$Y$3,0)))","v":1},{"$f":"IF(OR($T147=0,A点!$AN$8=1,A点!$AN$8=\"○\"),1,INDEX('表２(Pb)'!$A$3:$Y$36,MATCH($AY141,'表２(Pb)'!$A$3:$A$36,0),MATCH($F128,'表２(Pb)'!$A$3:$Y$3,0)))","v":1},null,null,null,null,null,null,null,null,null,null,null,null,null,null,null,null,null,null,null,null,null,null,null,null,null,null,"3)","遮蔽材順"]
[null,null,null,"b)　コンクリート(表3)",null,"等価厚さ",{"$f":"IF($G144=$X$10,$W$9*$AE$9,0)","v":0},{"$f":"IF($H144=$X$10,$W$9*$AE$9,0)","v":0},null,"b)　コンクリート(表3)",null,"等価厚さ",{"$f":"IF($M144=$X$22,$W$21*$AE$9,0)","v":0},{"$f":"IF($N144=$X$22,$W$21*$AE$9,0)","v":0},null,"b)　コンクリート(表3)",null,"等価厚さ",{"$f":"IF($S144=$X$34,$W$33*$AE$9,0)","v":0},{"$f":"IF($T144=$X$34,$W$33*$AE$9,0)","v":0},null,null,null,null,null,null,null,null,null,null,null,null,null,null,null,null,null,null,null,null,null,null,null,null,null,null,null,null,"B点","B'点","B\"点"]
[null,null,null,null,null,"透過率",{"$f":"IF(OR($G149=0,A点!$AN$8=1,A点!$AN$8=\"○\"),1,INDEX('表３(コ)'!$A$3:$Y$36,MATCH($AW132,'表３(コ)'!$A$3:$A$36,0),MATCH($F128,'表３(コ)'!$A$3:$Y$3,0)))","v":1},{"$f":"IF(OR($H149=0,A点!$AN$8=1,A点!$AN$8=\"○\"),1,INDEX('表３(コ)'!$A$3:$Y$36,MATCH($AW142,'表３(コ)'!$A$3:$A$36,0),MATCH($F128,'表３(コ)'!$A$3:$Y$3,0)))","v":1},null,null,null,"透過率",{"$f":"IF(OR($M149=0,A点!$AN$8=1,A点!$AN$8=\"○\"),1,INDEX('表３(コ)'!$A$3:$Y$36,MATCH($AX132,'表３(コ)'!$A$3:$A$36,0),MATCH($F128,'表３(コ)'!$A$3:$Y$3,0)))","v":1},{"$f":"IF(OR($N149=0,A点!$AN$8=1,A点!$AN$8=\"○\"),1,INDEX('表３(コ)'!$A$3:$Y$36,MATCH($AX142,'表３(コ)'!$A$3:$A$36,0),MATCH($F128,'表３(コ)'!$A$3:$Y$3,0)))","v":1},null,null,null,"透過率",{"$f":"IF(OR($S149=0,A点!$AN$8=1,A点!$AN$8=\"○\"),1,INDEX('表３(コ)'!$A$3:$Y$36,MATCH($AY132,'表３(コ)'!$A$3:$A$36,0),MATCH($F128,'表３(コ)'!$A$3:$Y$3,0)))","v":1},{"$f":"IF(OR($T149=0,A点!$AN$8=1,A点!$AN$8=\"○\"),1,INDEX('表３(コ)'!$A$3:$Y$36,MATCH($AY142,'表３(コ)'!$A$3:$A$36,0),MATCH($F128,'表３(コ)'!$A$3:$Y$3,0)))","v":1},null,null,null,null,null,null,null,null,null,null,null,null,null,null,null,null,null,null,null,null,null,null,null,null,null,null,null,"第1遮蔽材",{"$f":"IF($AW160=\"11\",G$144,H$144)","v":0},{"$f":"IF($AW160=\"11\",M$144,N$144)","v":0},{"$f":"IF($AW160=\"11\",S$144,T$144)","v":0}]
[null,null,null,"c)　鉄(表4)",null,"等価厚さ",{"$f":"IF($G144=$Y$10,$W$9*$AE$10,0)","v":0},{"$f":"IF($H144=$Y$10,$W$9*$AE$10,0)","v":0},null,"c)　鉄(表4)",null,"等価厚さ",{"$f":"IF($M144=$Y$22,$W$21*$AE$10,0)","v":0},{"$f":"IF($N144=$Y$22,$W$21*$AE$10,0)","v":0},null,"c)　鉄(表4)",null,"等価厚さ",{"$f":"IF($S144=$Y$34,$W$33*$AE$10,0)","v":0},{"$f":"IF($T144=$Y$34,$W$33*$AE$10,0)","v":0},null,null,null,null,null,null,null,null,null,null,null,null,null,null,null,null,null,null,null,null,null,null,null,null,null,null,null,"第2遮蔽材",{"$f":"IF($AW160=\"11\",W$8,X$8)","v":0},{"$f":"IF($AW160=\"11\",W$20,X$20)","v":0},{"$f":"IF($AW160=\"11\",W$32,X$32)","v":0}]
[null,null,null,null,null,"透過率",{"$f":"IF(OR($G151=0,A点!$AN$8=1,A点!$AN$8=\"○\"),1,INDEX('表4(Fe)'!$A$3:$Y$36,MATCH($AW133,'表4(Fe)'!$A$3:$A$36,0),MATCH($F128,'表4(Fe)'!$A$3:$Y$3,0)))","v":1},{"$f":"IF(OR($H151=0,A点!$AN$8=1,A点!$AN$8=\"○\"),1,INDEX('表4(Fe)'!$A$3:$Y$36,MATCH($AW143,'表4(Fe)'!$A$3:$A$36,0),MATCH($F128,'表4(Fe)'!$A$3:$Y$3,0)))","v":1},null,null,null,"透過率",{"$f":"IF(OR($M151=0,A点!$AN$8=1,A点!$AN$8=\"○\"),1,INDEX('表4(Fe)'!$A$3:$Y$36,MATCH($AX133,'表4(Fe)'!$A$3:$A$36,0),MATCH($F128,'表4(Fe)'!$A$3:$Y$3,0)))","v":1},{"$f":"IF(OR($N151=0,A点!$AN$8=1,A点!$AN$8=\"○\"),1,INDEX('表4(Fe)'!$A$3:$Y$36,MATCH($AX143,'表4(Fe)'!$A$3:$A$36,0),MATCH($F128,'表4(Fe)'!$A$3:$Y$3,0)))","v":1},null,null,null,"透過率",{"$f":"IF(OR($S151=0,A点!$AN$8=1,A点!$AN$8=\"○\"),1,INDEX('表4(Fe)'!$A$3:$Y$36,MATCH($AY133,'表4(Fe)'!$A$3:$A$36,0),MATCH($F128,'表4(Fe)'!$A$3:$Y$3,0)))","v":1},{"$f":"IF(OR($T151=0,A点!$AN$8=1,A点!$AN$8=\"○\"),1,INDEX('表4(Fe)'!$A$3:$Y$36,MATCH($AY143,'表4(Fe)'!$A$3:$A$36,0),MATCH($F128,'表4(Fe)'!$A$3:$Y$3,0)))","v":1},null,null,null,null,null,null,null,null,null,null,null,null,null,null,null,null,null,null,null,null,null,null,null,null,null,null,null,"第3遮蔽材",{"$f":"IF($AW160=\"11\",X$8,Y$8)","v":0},{"$f":"IF($AW160=\"11\",X$20,Y$20)","v":0},{"$f":"IF($AW160=\"11\",X$32,Y$32)","v":0}]
[null,null,null,"d)　石膏(表5)",null,"等価厚さ",{"$f":"IF($G144=$Z$10,$W$9*$AE$11,0)","v":0},{"$f":"IF($H144=$Z$10,$W$9*$AE$11,0)","v":0},null,"d)　石膏(表5)",null,"等価厚さ",{"$f":"IF($M144=$Z$22,$W$21*$AE$11,0)","v":0},{"$f":"IF($N144=$Z$22,$W$21*$AE$11,0)","v":0},null,"d)　石膏(表5)",null,"等価厚さ",{"$f":"IF($S144=$Z$34,$W$33*$AE$11,0)","v":0},{"$f":"IF($T144=$Z$34,$W$33*$AE$11,0)","v":0},null,null,null,null,null,null,null,null,null,null,null,null,null,null,null,null,null,null,null,null,null,null,null,null,null,null,null,"第4遮蔽材",{"$f":"IF($AW160=\"11\",Y$8,Z$8)","v":0},{"$f":"IF($AW160=\"11\",Y$20,Z$20)","v":0},{"$f":"IF($AW160=\"11\",Y$32,Z$32)","v":0}]
[null,null,null,null,null,"透過率",{"$f":"IF(OR($G153=0,A点!$AN$8=1,A点!$AN$8=\"○\"),1,INDEX('表5(CaSO4)'!$A$3:$Y$36,MATCH($AW134,'表5(CaSO4)'!$A$3:$A$36,0),MATCH($F128,'表5(CaSO4)'!$A$3:$Y$3,0)))","v":1},{"$f":"IF(OR($H153=0,A点!$AN$8=1,A点!$AN$8=\"○\"),1,INDEX('表5(CaSO4)'!$A$3:$Y$36,MATCH($AW144,'表5(CaSO4)'!$A$3:$A$36,0),MATCH($F128,'表5(CaSO4)'!$A$3:$Y$3,0)))","v":1},null,null,null,"透過率",{"$f":"IF(OR($M153=0,A点!$AN$8=1,A点!$AN$8=\"○\"),1,INDEX('表5(CaSO4)'!$A$3:$Y$36,MATCH($AX134,'表5(CaSO4)'!$A$3:$A$36,0),MATCH($F128,'表5(CaSO4)'!$A$3:$Y$3,0)))","v":1},{"$f":"IF(OR($N153=0,A点!$AN$8=1,A点!$AN$8=\"○\"),1,INDEX('表5(CaSO4)'!$A$3:$Y$36,MATCH($AX144,'表5(CaSO4)'!$A$3:$A$36,0),MATCH($F128,'表5(CaSO4)'!$A$3:$Y$3,0)))","v":1},null,null,null,"透過率",{"$f":"IF(OR($S153=0,A点!$AN$8=1,A点!$AN$8=\"○\"),1,INDEX('表5(CaSO4)'!$A$3:$Y$36,MATCH($AY134,'表5(CaSO4)'!$A$3:$A$36,0),MATCH($F128,'表5(CaSO4)'!$A$3:$Y$3,0)))","v":1},{"$f":"IF(OR($T153=0,A点!$AN$8=1,A点!$AN$8=\"○\"),1,INDEX('表5(CaSO4)'!$A$3:$Y$36,MATCH($AY144,'表5(CaSO4)'!$A$3:$A$36,0),MATCH($F128,'表5(CaSO4)'!$A$3:$Y$3,0)))","v":1},null,null,null,null,null,null,null,null,null,null,null,null,null,null,null,null,null,null,null,null,null,null,null,null,null,null,null,"第5遮蔽材",{"$f":"IF($AW160=\"11\",Z$8,AA$8)","v":0},{"$f":"IF($AW160=\"11\",Z$20,AA$20)","v":0},{"$f":"IF($AW160=\"11\",Z$32,AA$32)","v":0}]
[null,null,null,"e）　ガラス(表6)",null,"等価厚さ",{"$f":"IF($G144=$AA$10,$W$9*$AE$12,0)","v":0},{"$f":"IF($H144=$AA$10,$W$9*$AE$12,0)","v":0},null,"e）　ガラス(表6)",null,"等価厚さ",{"$f":"IF($M144=$AA$22,$W$21*$AE$12,0)","v":0},{"$f":"IF($N144=$AA$22,$W$21*$AE$12,0)","v":0},null,"e）　ガラス(表6)",null,"等価厚さ",{"$f":"IF($S144=$AA$34,$W$33*$AE$12,0)","v":0},{"$f":"IF($T144=$AA$34,$W$33*$AE$12,0)","v":0},null,null,null,null,null,null,null,null,null,null,null,null,null,null,null,null,null,null,null,null,null,null,null,null,null,null,null,"第6遮蔽材",{"$f":"IF($AW160=\"11\",AA$8,AB$8)","v":0},{"$f":"IF($AW160=\"11\",AA$20,AB$20)","v":0},{"$f":"IF($AW160=\"11\",AA$32,AB$32)","v":0}]
[null,null,null,null,null,"透過率",{"$f":"IF(OR($G155=0,A点!$AN$8=1,A点!$AN$8=\"○\"),1,INDEX('表6(SiO2)'!$A$3:$Y$36,MATCH($AW135,'表6(SiO2)'!$A$3:$A$36,0),MATCH($F128,'表6(SiO2)'!$A$3:$Y$3,0)))","v":1},{"$f":"IF(OR($H155=0,A点!$AN$8=1,A点!$AN$8=\"○\"),1,INDEX('表6(SiO2)'!$A$3:$Y$36,MATCH($AW145,'表6(SiO2)'!$A$3:$A$36,0),MATCH($F128,'表6(SiO2)'!$A$3:$Y$3,0)))","v":1},null,null,null,"透過率",{"$f":"IF(OR($M155=0,A点!$AN$8=1,A点!$AN$8=\"○\"),1,INDEX('表6(SiO2)'!$A$3:$Y$36,MATCH($AX135,'表6(SiO2)'!$A$3:$A$36,0),MATCH($F128,'表6(SiO2)'!$A$3:$Y$3,0)))","v":1},{"$f":"IF(OR($N155=0,A点!$AN$8=1,A点!$AN$8=\"○\"),1,INDEX('表6(SiO2)'!$A$3:$Y$36,MATCH($AX145,'表6(SiO2)'!$A$3:$A$36,0),MATCH($F128,'表6(SiO2)'!$A$3:$Y$3,0)))","v":1},null,null,null,"透過率",{"$f":"IF(OR($S155=0,A点!$AN$8=1,A点!$AN$8=\"○\"),1,INDEX('表6(SiO2)'!$A$3:$Y$36,MATCH($AY135,'表6(SiO2)'!$A$3:$A$36,0),MATCH($F128,'表6(SiO2)'!$A$3:$Y$3,0)))","v":1},{"$f":"IF(OR($T155=0,A点!$AN$8=1,A点!$AN$8=\"○\"),1,INDEX('表6(SiO2)'!$A$3:$Y$36,MATCH($AY145,'表6(SiO2)'!$A$3:$A$36,0),MATCH($F128,'表6(SiO2)'!$A$3:$Y$3,0)))","v":1},null,null,null,null,null,null,null,null,null,null,null,null,null,null,null,null,null,null,null,null,null,null,null,null,null,null,null,"第7遮蔽材",{"$f":"IF($AW160=\"11\",AB$8,\"\")","v":""},{"$f":"IF($AW160=\"11\",AB$20,\"\")","v":""},{"$f":"IF($AW160=\"11\",AB$32,\"\")","v":""}]
[null,null,null,"f)　木材(表7)",null,"等価厚さ",{"$f":"IF($G144=$AB$10,$W$9*$AE$13,0)","v":0},{"$f":"IF($H144=$AB$10,$W$9*$AE$13,0)","v":0},null,"f)　木材(表7)",null,"等価厚さ",{"$f":"IF($M144=$AB$22,$W$21*$AE$13,0)","v":0},{"$f":"IF($N144=$AB$22,$W$21*$AE$13,0)","v":0},null,"f)　木材(表7)",null,"等価厚さ",{"$f":"IF($S144=$AB$34,$W$33*$AE$13,0)","v":0},{"$f":"IF($T144=$AB$34,$W$33*$AE$13,0)","v":0}]
[null,null,null,null,null,"透過率",{"$f":"IF(OR($G157=0,A点!$AN$8=1,A点!$AN$8=\"○\"),1,INDEX('表7(木)'!$A$3:$Y$36,MATCH($AW136,'表7(木)'!$A$3:$A$36,0),MATCH($F128,'表7(木)'!$A$3:$Y$3,0)))","v":1},{"$f":"IF(OR($H157=0,A点!$AN$8=1,A点!$AN$8=\"○\"),1,INDEX('表7(木)'!$A$3:$Y$36,MATCH($AW146,'表7(木)'!$A$3:$A$36,0),MATCH($F128,'表7(木)'!$A$3:$Y$3,0)))","v":1},null,null,null,"透過率",{"$f":"IF(OR($M157=0,A点!$AN$8=1,A点!$AN$8=\"○\"),1,INDEX('表7(木)'!$A$3:$Y$36,MATCH($AX136,'表7(木)'!$A$3:$A$36,0),MATCH($F128,'表7(木)'!$A$3:$Y$3,0)))","v":1},{"$f":"IF(OR($N157=0,A点!$AN$8=1,A点!$AN$8=\"○\"),1,INDEX('表7(木)'!$A$3:$Y$36,MATCH($AX146,'表7(木)'!$A$3:$A$36,0),MATCH($F128,'表7(木)'!$A$3:$Y$3,0)))","v":1},null,null,null,"透過率",{"$f":"IF(OR($S157=0,A点!$AN$8=1,A点!$AN$8=\"○\"),1,INDEX('表7(木)'!$A$3:$Y$36,MATCH($AY136,'表7(木)'!$A$3:$A$36,0),MATCH($F128,'表7(木)'!$A$3:$Y$3,0)))","v":1},{"$f":"IF(OR($T157=0,A点!$AN$8=1,A点!$AN$8=\"○\"),1,INDEX('表7(木)'!$A$3:$Y$36,MATCH($AY146,'表7(木)'!$A$3:$A$36,0),MATCH($F128,'表7(木)'!$A$3:$Y$3,0)))","v":1},null,null,null,null,null,null,null,null,null,null,null,null,null,null,null,null,null,null,null,null,null,null,null,null,null,null,null,"遮蔽体有無",{"$f":"IF($S128>0,1,0)","v":0},"遮蔽体有：１"]
[null,null,null,null,null,null,null,null,null,null,null,null,null,null,null,null,null,null,null,null,null,null,null,null,null,null,null,null,null,null,null,null,null,null,null,null,null,null,null,null,null,null,null,null,null,null,null,"照射方向",{"$f":"IF($M129>0,1,2)","v":2},"直接線：1、散乱線：2"]
[null,null,null,"b)　第２遮蔽材以後による一次線の減衰表9",null,null,null,null,null,"b)　第２遮蔽材以後による一次線の減衰表9",null,null,null,null,null,"b)　第２遮蔽材以後による一次線の減衰表9",null,null,null,null,null,null,null,null,null,null,null,null,null,null,null,null,null,null,null,null,null,null,null,null,null,null,null,null,null,null,null,"判定コード",{"$f":"AW158&AW159","v":"02"}]
[null,null,null,null,"Dt2=",{"$f":"F164*F166*F168*F170*F172*F174","v":0},{"$f":"G164*G166*G168*G170*G172*G174","v":0},0,null,null,"Dt2=",{"$f":"L164*L166*L168*L170*L172*L174","v":0},{"$f":"M164*M166*M168*M170*M172*M174","v":0},0,null,null,"Dt2=",{"$f":"R164*R166*R168*R170*R172*R174","v":0},{"$f":"S164*S166*S168*S170*S172*S174","v":0},0]
[null,null,null,null,null,"一次線用","散乱線用","漏洩線用",null,null,null,"一次線用","散乱線用","漏洩線用",null,null,null,"一次線用","散乱線用","漏洩線用"]
[null,null,null,"a)　鉛(表9)","半価層(mm)",{"$f":"IF(OR(A点!$AN$8=1,A点!$AN$8=\"○\"),\"\",VLOOKUP($F128,'表9(BB)'!$A$4:$M$27,2,0))","v":""},null,null,null,"a)　鉛(表9)","半価層(mm)",{"$f":"IF(OR(A点!$AN$8=1,A点!$AN$8=\"○\"),\"\",VLOOKUP($F128,'表9(BB)'!$A$4:$M$27,2,0))","v":""},null,null,null,"a)　鉛(表9)","半価層(mm)",{"$f":"IF(OR(A点!$AN$8=1,A点!$AN$8=\"○\"),\"\",VLOOKUP($F128,'表9(BB)'!$A$4:$M$27,2,0))","v":""}]
[null,null,null,null,"透過率",{"$f":"IF($S$128>0,H164,G164)","v":0},{"$f":"IF($F163=\"\",0,(1/2)^($W18*$AE$8/$F163))","v":0},{"$f":"IF($F163=\"\",0,(1/2)^($W17*$AE$8/$F163))","v":0},null,null,"透過率",{"$f":"IF($S$128>0,N164,M164)","v":0},{"$f":"IF($L$163=\"\",0,(1/2)^($W30*$AE$8/$L163))","v":0},{"$f":"IF($L163=\"\",0,(1/2)^($W29*$AE$8/$L163))","v":0},null,null,"透過率",{"$f":"IF($S$128>0,T164,S164)","v":0},{"$f":"IF($R163=\"\",0,(1/2)^($W42*$AE$8/$R163))","v":0},{"$f":"IF($R163=\"\",0,(1/2)^($W41*$AE$8/$R163))","v":0}]
[null,null,null,"b)　コンクリート(表9)","半価層(mm)",{"$f":"IF(OR(A点!$AN$8=1,A点!$AN$8=\"○\"),\"\",VLOOKUP($F128,'表9(BB)'!$A$4:$M$27,4,0))","v":""},null,null,null,"b)　コンクリート(表9)","半価層(mm)",{"$f":"IF(OR(A点!$AN$8=1,A点!$AN$8=\"○\"),\"\",VLOOKUP($F128,'表9(BB)'!$A$4:$M$27,4,0))","v":""},null,null,null,"b)　コンクリート(表9)","半価層(mm)",{"$f":"IF(OR(A点!$AN$8=1,A点!$AN$8=\"○\"),\"\",VLOOKUP($F128,'表9(BB)'!$A$4:$M$27,4,0))","v":""}]
[null,null,null,null,"透過率",{"$f":"IF($S$128>0,H166,G166)","v":0},{"$f":"IF($F165=\"\",0,(1/2)^($X18*$AE$9/$F165))","v":0},{"$f":"IF($F165=\"\",0,(1/2)^($X17*$AE$9/$F165))","v":0},null,null,"透過率",{"$f":"IF($S$128>0,N166,M166)","v":0},{"$f":"IF($L165=\"\",0,(1/2)^($X30*$AE$9/$L165))","v":0},{"$f":"IF($L165=\"\",0,(1/2)^($X29*$AE$9/$L165))","v":0},null,null,"透過率",{"$f":"IF($S$128>0,T166,S166)","v":0},{"$f":"IF($R165=\"\",0,(1/2)^($X42*$AE$9/$R165))","v":0},{"$f":"IF($R165=\"\",0,(1/2)^($X41*$AE$9/$R165))","v":0}]
[null,null,null,"c)　鉄(表9)","半価層(mm)",{"$f":"IF(OR(A点!$AN$8=1,A点!$AN$8=\"○\"),\"\",VLOOKUP($F128,'表9(BB)'!$A$4:$M$27,6,0))","v":""},null,null,null,"c)　鉄(表9)","半価層(mm)",{"$f":"IF(OR(A点!$AN$8=1,A点!$AN$8=\"○\"),\"\",VLOOKUP($F128,'表9(BB)'!$A$4:$M$27,6,0))","v":""},null,null,null,"c)　鉄(表9)","半価層(mm)",{"$f":"IF(OR(A点!$AN$8=1,A点!$AN$8=\"○\"),\"\",VLOOKUP($F128,'表9(BB)'!$A$4:$M$27,6,0))","v":""}]
[null,null,null,null,"透過率",{"$f":"IF($S$128>0,H168,G168)","v":0},{"$f":"IF($F167=\"\",0,(1/2)^($Y18*$AE$10/$F167))","v":0},{"$f":"IF($F167=\"\",0,(1/2)^($Y17*$AE$10/$F167))","v":0},null,null,"透過率",{"$f":"IF($S$128>0,N168,M168)","v":0},{"$f":"IF($L167=\"\",0,(1/2)^($Y30*$AE$10/$L167))","v":0},{"$f":"IF($L167=\"\",0,(1/2)^($Y29*$AE$10/$L167))","v":0},null,null,"透過率",{"$f":"IF($S$128>0,T168,S168)","v":0},{"$f":"IF($R167=\"\",0,(1/2)^($Y42*$AE$10/$R167))","v":0},{"$f":"IF($R167=\"\",0,(1/2)^($Y41*$AE$10/$R167))","v":0}]
[null,null,null,"d)　石膏(表9)","半価層(mm)",{"$f":"IF(OR(A点!$AN$8=1,A点!$AN$8=\"○\"),\"\",VLOOKUP($F128,'表9(BB)'!$A$4:$M$27,8,0))","v":""},null,null,null,"d)　石膏(表9)","半価層(mm)",{"$f":"IF(OR(A点!$AN$8=1,A点!$AN$8=\"○\"),\"\",VLOOKUP($F128,'表9(BB)'!$A$4:$M$27,8,0))","v":""},null,null,null,"d)　石膏(表9)","半価層(mm)",{"$f":"IF(OR(A点!$AN$8=1,A点!$AN$8=\"○\"),\"\",VLOOKUP($F128,'表9(BB)'!$A$4:$M$27,8,0))","v":""}]
[null,null,null,null,"透過率",{"$f":"IF($S$128>0,H170,G170)","v":0},{"$f":"IF($F169=\"\",0,(1/2)^($Z18*$AE$11/$F169))","v":0},{"$f":"IF($F169=\"\",0,(1/2)^($Z17*$AE$11/$F169))","v":0},null,null,"透過率",{"$f":"IF($S$128>0,N170,M170)","v":0},{"$f":"IF($L169=\"\",0,(1/2)^($Z30*$AE$11/$L169))","v":0},{"$f":"IF($L169=\"\",0,(1/2)^($Z29*$AE$11/$L169))","v":0},null,null,"透過率",{"$f":"IF($S$128>0,T170,S170)","v":0},{"$f":"IF($R169=\"\",0,(1/2)^($Z42*$AE$11/$R169))","v":0},{"$f":"IF($R169=\"\",0,(1/2)^($Z41*$AE$11/$R169))","v":0}]
[null,null,null,"e）　ガラス(表9)","半価層(mm)",{"$f":"IF(OR(A点!$AN$8=1,A点!$AN$8=\"○\"),\"\",VLOOKUP($F128,'表9(BB)'!$A$4:$M$27,10,0))","v":""},null,null,null,"e）　ガラス(表9)","半価層(mm)",{"$f":"IF(OR(A点!$AN$8=1,A点!$AN$8=\"○\"),\"\",VLOOKUP($F128,'表9(BB)'!$A$4:$M$27,10,0))","v":""},null,null,null,"e）　ガラス(表9)","半価層(mm)",{"$f":"IF(OR(A点!$AN$8=1,A点!$AN$8=\"○\"),\"\",VLOOKUP($F128,'表9(BB)'!$A$4:$M$27,10,0))","v":""}]
[null,null,null,null,"透過率",{"$f":"IF($S$128>0,H172,G172)","v":0},{"$f":"IF($F171=\"\",0,(1/2)^($AA18*$AE$12/$F171))","v":0},{"$f":"IF($F171=\"\",0,(1/2)^($AA17*$AE$12/$F171))","v":0},null,null,"透過率",{"$f":"IF($S$128>0,N172,M172)","v":0},{"$f":"IF($L171=\"\",0,(1/2)^($AA30*$AE$12/$L171))","v":0},{"$f":"IF($L171=\"\",0,(1/2)^($AA29*$AE$12/$L171))","v":0},null,null,"透過率",{"$f":"IF($S$128>0,T172,S172)","v":0},{"$f":"IF($R$171=\"\",0,(1/2)^($AA42*$AE$12/$R171))","v":0},{"$f":"IF($R171=\"\",0,(1/2)^($AA41*$AE$12/$R171))","v":0}]
[null,null,null,"f)　木材(表9)","半価層(mm)",{"$f":"IF(OR(A点!$AN$8=1,A点!$AN$8=\"○\"),\"\",VLOOKUP($F128,'表9(BB)'!$A$4:$M$27,12,0))","v":""},null,null,null,"f)　木材(表9)","半価層(mm)",{"$f":"IF(OR(A点!$AN$8=1,A点!$AN$8=\"○\"),\"\",VLOOKUP($F128,'表9(BB)'!$A$4:$M$27,12,0))","v":""},null,null,null,"f)　木材(表9)","半価層(mm)",{"$f":"IF(OR(A点!$AN$8=1,A点!$AN$8=\"○\"),\"\",VLOOKUP($F128,'表9(BB)'!$A$4:$M$27,12,0))","v":""}]
[null,null,null,null,"透過率",{"$f":"IF($S$128>0,H174,G174)","v":0},{"$f":"IF($F173=\"\",0,(1/2)^($AB18*$AE$13/$F173))","v":0},{"$f":"IF($F173=\"\",0,(1/2)^($AB17*$AE$13/$F173))","v":0},null,null,"透過率",{"$f":"IF($S$128>0,N174,M174)","v":0},{"$f":"IF($L173=\"\",0,(1/2)^($AB30*$AE$13/$L173))","v":0},{"$f":"IF($L173=\"\",0,(1/2)^($AB29*$AE$13/$L173))","v":0},null,null,"透過率",{"$f":"IF($S$128>0,T174,S174)","v":0},{"$f":"IF($R173=\"\",0,(1/2)^($AB42*$AE$13/$R173))","v":0},{"$f":"IF($R173=\"\",0,(1/2)^($AB41*$AE$13/$R173))","v":0}]
[]
[]
[null,null,null,"2)　Es：散乱エックス線の漏洩線量(散乱角90度)",null,null,null,null,null,"2)　Es：散乱エックス線の漏洩線量(散乱角90度)",null,null,null,null,null,"2)　Es：散乱エックス線の漏洩線量(散乱角90度)"]
[null,null,null,null,"Dt=",{"$f":"H145*G161","v":0},null,null,null,null,"Dt=",{"$f":"N145*M161","v":0},null,null,null,null,"Dt=",{"$f":"T145*S161","v":0}]
[null,null,null,null,"Es=",{"$f":"IF(OR($F128=0,$M130=0,$M131=0,AND($W$8=0,$W$45>0),A点!$AQ$7=1),0,$G128*$G132*$G131*F178*$M127*$M128*($K131/100)*$K132/(400*($M130^2)*($M131^2)))","v":0},"μSv/3ヶ月",null,null,null,"Es=",{"$f":"IF(OR($F128=0,$M130=0,$M131=0,AND($W$20=0,$W$45>0),A点!$AQ$7=1),0,$G128*$G132*$G131*L178*$M127*$M128*($K131/100)*$K132/(400*($M130^2)*($M131^2)))","v":0},"μSv/3ヶ月",null,null,null,"Es=",{"$f":"IF(OR($F128=0,$M130=0,$M131=0,AND($W$32=0,$W$45>0),A点!$AQ$7=1),0,$G128*$G132*$G131*R178*$M127*$M128*($K131/100)*$K132/(400*($M130^2)*($M131^2)))","v":0},"μSv/3ヶ月"]
[]
[]
[null,null,null,"3)　EL：エックス線管容器からの漏洩線量(最大見積)",null,null,null,null,null,"3)　EL：エックス線管容器からの漏洩線量(最大見積)",null,null,null,null,null,"3)　EL：エックス線管容器からの漏洩線量(最大見積)"]
[]
[null,null,null,null,"EL=",{"$f":"IF(OR($F128=0,$M132=0,AND($W$8=0,$W$45>0),A点!$AQ$7=1),0,H161*$S137*$M133*$G131*$M127*$M128/($M132^2))","v":0},"μGy/h",null,null,null,"EL=",{"$f":"IF(OR($F128=0,$M132=0,AND($W$20=0,$W$45>0),A点!$AQ$7=1),0,N161*$S137*$M133*$G131*$M127*$M128/($M132^2))","v":0},"μGy/h",null,null,null,"EL=",{"$f":"IF(OR($F128=0,$M132=0,AND($W$32=0,$W$45>0),A点!$AQ$7=1),0,T161*$S137*$M133*$G131*$M127*$M128/($M132^2))","v":0},"μGy/h"]

{"sheet":"C点","index":3,"n_rows":184,"n_cols":51,"rows_kept":184,"cut":false,"hidden":true,"merged":[[66,1,124,1],[126,1,184,1],[13,15,13,16],[14,15,14,16],[15,15,15,16],[16,15,16,16],[6,1,64,1],[5,15,5,16],[0,15,0,16],[1,15,1,16],[2,15,2,16],[3,15,3,16],[4,15,4,16]]}
[null,null,"エックス線診療室の画壁等の実効線量",null,null,null,null,null,null,null,null,null,null,null,null,"W：３Ｍ実効稼動負荷",null,{"$f":"+G12","v":0},{"$f":"+G72","v":0},{"$f":"+G132","v":0},null,null,null,null,null,null,null,null,null,null,null,null,null,null,null,null,null,null,null,null,null,null,null,null,null,null,"③透視用透過率（表2-7）"]
[null,null,null,"C点の漏洩エックス線量の計算(利用線錘方向）",null,null,null,null,"C点の漏洩エックス線量の計算(被写体・管球）",null,null,null,null,null,null,"X：空気ｶｰﾏ(表1)",null,{"$f":"+G8","v":0},{"$f":"+G68","v":0},{"$f":"+G128","v":0},null,null,null,null,null,null,null,null,null,null,null,null,null,null,null,null,null,null,null,null,null,null,null,null,null,null,"1)直接線用"]
[null,null,null,null,"Ep=",{"$f":"IF(A点!$AQ$4=3,\"\",IF(A点!$AQ$5>0,\"No Data\",F15+F75+F135))","v":""},"μSv/3ヶ月",null,null,"Es＝",{"$f":"IF(A点!$AQ$4=3,\"\",IF(A点!$AQ$5>0,\"No Data\",K15+K75+K135))","v":""},"μSv/3ヶ月",null,null,null,"空気ｶｰﾏ率(表8)",null,{"$f":"+K11","v":0},{"$f":"+K71","v":0},{"$f":"+K131","v":0},null,null,null,null,null,null,null,null,null,null,null,null,null,null,null,null,null,null,null,null,null,null,null,null,null,null,"遮蔽厚参照値"]
[null,null,null,null,null,null,null,null,null,"EL＝",{"$f":"IF(A点!$AQ$4=3,\"\",IF(A点!$AQ$5>0,\"No Data\",K16+K76+K136))","v":""},"μSv/3ヶ月",null,null,null,"E/Ka（表10）",null,{"$f":"+G11","v":0},{"$f":"+G71","v":0},{"$f":"+G131","v":0},null,null,null,null,null,null,null,null,null,null,null,null,null,null,null,null,null,null,null,null,null,null,null,null,null,null,null,null,"C点","C'点","C\"点"]
[null,null,null,null,null,null,null,null,null,"合計",{"$f":"IF(A点!$AQ$4=3,\"\",IF(A点!$AQ$5>0,\"No Data\",K17+K77+K137))","v":""},null,null,null,null,"対向板Dt",null,{"$f":"+R10","v":""},{"$f":"+R70","v":""},{"$f":"+R130","v":""},null,null,null,null,null,null,null,null,null,null,null,null,null,null,null,null,null,null,null,null,null,null,null,null,null,null,null,"Pb",{"$f":"IF($G27=0,\"\",IF($G27<=3,INT(10*$G27)/10,IF($G27>4,4,0.5*INT($G27/0.5))))","v":""},{"$f":"IF($M27=0,\"\",IF($M27<=3,INT(10*$M27)/10,IF($M27>4,4,0.5*INT($M27/0.5))))","v":""},{"$f":"IF($S27=0,\"\",IF($S27<=3,INT(10*$S27)/10,IF($S27>4,4,0.5*INT($S27/0.5))))","v":""}]
[null,null,null,null,null,null,null,null,null,null,null,null,null,null,null,null,null,null,null,null,null,null,null,null,null,null,null,null,null,null,null,null,null,null,null,null,null,null,null,null,null,null,null,null,null,null,null,"ｺﾝｸﾘ",{"$f":"IF($G29=0,\"\",IF($G29<=300,INT($G29/10)*10,IF($G29>400,400,50*INT($G29/50))))","v":""},{"$f":"IF($M29=0,\"\",IF($M29<=300,INT($M29/10)*10,IF($M29>400,400,50*INT($M29/50))))","v":""},{"$f":"IF($S29=0,\"\",IF($S29<=300,INT($S29/10)*10,IF($S29>400,400,50*INT($S29/50))))","v":""}]
[null,"透視装置",null,"①　X：空気ｶｰﾏ：表1",null,null,null,"④　使用係数",null,null,null,"Ｕ＝",1,null,null,"1)対向板による一次線の減衰(表２)",null,null,null,null,null,null,"C点",null,null,null,null,null,null,"リスト",{"$f":"入力用シート!BQ2","v":"密度比"},null,null,null,null,null,null,null,null,null,null,null,null,null,null,null,null,"Fe",{"$f":"IF($G31=0,\"\",IF($G31<=30,INT($G31),IF($G31>40,40,5*INT($G31/5))))","v":""},{"$f":"IF($M31=0,\"\",IF($M31<=30,INT($M31),IF($M31>40,40,5*INT($M31/5))))","v":""},{"$f":"IF($S31=0,\"\",IF($S31<=30,INT($S31),IF($S31>40,40,5*INT($S31/5))))","v":""}]
[null,null,null,null,"採用管電圧",{"$f":"A点!$F$8","v":0},{"$f":"A点!$G$8","v":0},"⑤　居住係数",null,null,null,"Ｔ＝",1,null,null,null,null,"等価厚さ",{"$f":"入力用シート!$AA$8","v":0},"mm",null,null,{"$f":"入力用シート!N50","v":0},{"$f":"入力用シート!P50","v":0},{"$f":"入力用シート!R50","v":0},{"$f":"入力用シート!T50","v":0},{"$f":"入力用シート!V50","v":0},{"$f":"入力用シート!X50","v":0},null,"Pb",{"$f":"入力用シート!BQ3","v":0.96916299559471364},null,null,null,null,null,null,null,null,null,null,null,null,null,null,null,null,"石膏",{"$f":"IF($G33=0,\"\",IF($G33<=30,INT($G33),IF($G33>40,40,5*INT($G33/5))))","v":""},{"$f":"IF($M33=0,\"\",IF($M33<=30,INT($M33),IF($M33>40,40,5*INT($M33/5))))","v":""},{"$f":"IF($S33=0,\"\",IF($S33<=30,INT($S33),IF($S33>40,40,5*INT($S33/5))))","v":""}]
[null,null,null,null,"電流",{"$f":"A点!$F$9","v":0},null,"⑥　距離",null,null,null,"d1=",{"$f":"入力用シート!E$50","v":0},"ｍ",null,null,"使用管電圧",{"$f":"A点!$AL$5","v":0},null,null,null,null,{"$f":"入力用シート!N51","v":0},{"$f":"入力用シート!P51","v":0},{"$f":"入力用シート!R51","v":0},{"$f":"入力用シート!T51","v":0},{"$f":"入力用シート!V51","v":0},{"$f":"入力用シート!X51","v":0},null,"ｺﾝｸﾘ",{"$f":"入力用シート!BQ4","v":0.8936170212765957},null,null,null,null,null,null,null,null,null,null,null,null,null,null,null,null,"ｶﾞﾗｽ",{"$f":"IF($G35=0,\"\",IF($G35<=30,INT($G35),IF($G35>40,40,5*INT($G35/5))))","v":""},{"$f":"IF($M35=0,\"\",IF($M35<=30,INT($M35),IF($M35>40,40,5*INT($M35/5))))","v":""},{"$f":"IF($S35=0,\"\",IF($S35<=30,INT($S35),IF($S35>40,40,5*INT($S35/5))))","v":""}]
[null,null,null,"②　E/Ka：空気カーマ換算係数（表10）",null,null,null,"⑧　照射野400cm2空気ｶｰﾏ率表8",null,null,null,"d2=",{"$f":"入力用シート!G$50","v":0},"ｍ",null,null,"透過率",{"$f":"IF(A点!$AL$8=\"○\",\"\",IF(A点!$AL$8=1,\"データなし\",IF($S8>3,HLOOKUP($R9,'表２(Pb)'!$B$3:$Y$36,32+ROUNDDOWN(($S8-3)/0.5,0),0),HLOOKUP($R9,'表２(Pb)'!$B$3:$Y$36,2+S8/0.1,0))))","v":""},null,null,null,null,"Pb","ｺﾝｸﾘ","Fe","石膏","ｶﾞﾗｽ","木材",null,"Fe",{"$f":"入力用シート!BQ5","v":0.98339719029374206},null,null,null,null,null,null,null,null,null,null,null,null,null,null,null,null,"木材",{"$f":"IF($G37=0,\"\",IF($G37<=300,INT($G37/10)*10,IF($G37>400,400,50*INT($G37/50))))","v":""},{"$f":"IF($M37=0,\"\",IF($M37<=300,INT($M37/10)*10,IF($M37>400,400,50*INT($M37/50))))","v":""},{"$f":"IF($S37=0,\"\",IF($S37<=300,INT($S37/10)*10,IF($S37>400,400,50*INT($S37/50))))","v":""}]
[null,null,null,null,"採用管電圧",{"$f":"A点!$F$11","v":0},{"$f":"A点!$G$11","v":0},null,null,null,{"$f":"A点!$AL$7","v":0},"d3=",{"$f":"入力用シート!I$50","v":0},"ｍ",null,null,null,null,null,null,null,1,{"$f":"IF($W8=\"Pb\",$W9,0)","v":0},{"$f":"IF($W8=\"ｺﾝｸﾘ\",$W9,0)","v":0},{"$f":"IF($W8=\"Fe\",$W9,0)","v":0},{"$f":"IF($W8=\"石膏\",$W9,0)","v":0},{"$f":"IF($W8=\"ｶﾞﾗｽ\",$W9,0)","v":0},{"$f":"IF($W8=\"木材\",$W9,0)","v":0},null,"石膏",{"$f":"入力用シート!BQ6","v":1}]
[null,null,null,"③　W：３Ｍ実効稼動負荷",null,"合計",{"$f":"13*(入力用シート!$L$22*入力用シート!$Q$22*60*入力用シート!$L$23*入力用シート!$Q$23)","v":0},"⑨　受像面照射野",null,null,{"$f":"入力用シート!$E$16","v":1225},"d4=",{"$f":"入力用シート!K$50","v":0},"ｍ",null,null,null,null,null,null,null,2,{"$f":"IF($X8=\"Pb\",$X9,0)","v":0},{"$f":"IF($X8=\"ｺﾝｸﾘ\",$X9,0)","v":0},{"$f":"IF($X8=\"Fe\",$X9,0)","v":0},{"$f":"IF($X8=\"石膏\",$X9,0)","v":0},{"$f":"IF($X8=\"ｶﾞﾗｽ\",$X9,0)","v":0},{"$f":"IF($X8=\"木材\",$X9,0)","v":0},null,"ｶﾞﾗｽ",{"$f":"入力用シート!BQ7","v":0.9765625},null,null,null,null,null,null,null,null,null,null,null,null,null,null,null,"2)散乱線用"]
[null,null,null,null,null,null,null,"⑩　tw：３月間における稼働時間(h)",null,null,null,null,{"$f":"IF(F9=0,0,G12/(F9*3600))","v":0},null,null,"機器の種類",null,"管容器からの空気ｶｰﾏ率（mGy/h）",null,null,null,3,{"$f":"IF($Y8=\"Pb\",$Y9,0)","v":0},{"$f":"IF($Y8=\"ｺﾝｸﾘ\",$Y9,0)","v":0},{"$f":"IF($Y8=\"Fe\",$Y9,0)","v":0},{"$f":"IF($Y8=\"石膏\",$Y9,0)","v":0},{"$f":"IF($Y8=\"ｶﾞﾗｽ\",$Y9,0)","v":0},{"$f":"IF($Y8=\"木材\",$Y9,0)","v":0},null,"木材",{"$f":"入力用シート!BQ8","v":1},null,null,null,null,null,null,null,null,null,null,null,null,null,null,null,"遮蔽厚参照値"]
[null,null,null,"C点の漏洩エックス線量の計算(利用線錘方向）",null,null,null,null,"C点の漏洩エックス線量の計算(被写体・管球）",null,null,null,null,null,1,"1:治療用ｴｯｸｽ線装置（≦50ｋV）",null,1,"選んだ機器",null,null,4,{"$f":"IF($Z8=\"Pb\",$Z9,0)","v":0},{"$f":"IF($Z8=\"ｺﾝｸﾘ\",$Z9,0)","v":0},{"$f":"IF($Z8=\"Fe\",$Z9,0)","v":0},{"$f":"IF($Z8=\"石膏\",$Z9,0)","v":0},{"$f":"IF($Z8=\"ｶﾞﾗｽ\",$Z9,0)","v":0},{"$f":"IF($Z8=\"木材\",$Z9,0)","v":0},null,null,null,null,null,null,null,null,null,null,null,null,null,null,null,null,null,null,null,null,"C点","C'点","C\"点"]
[null,null,null,null,"Ea=",{"$f":"MAX(F21,L21,R21)","v":0},"μSv/3ヶ月",null,null,"Es＝",{"$f":"MAX(F59,L59,R59)","v":0},"μSv/3ヶ月",null,null,2,"2:治療用ｴｯｸｽ線装置（＞50ｋV）",null,10,{"$f":"入力用シート!$C$7","v":0},null,null,5,{"$f":"IF($AA8=\"Pb\",$AA9,0)","v":0},{"$f":"IF($AA8=\"ｺﾝｸﾘ\",$AA9,0)","v":0},{"$f":"IF($AA8=\"Fe\",$AA9,0)","v":0},{"$f":"IF($AA8=\"石膏\",$AA9,0)","v":0},{"$f":"IF($AA8=\"ｶﾞﾗｽ\",$AA9,0)","v":0},{"$f":"IF($AA8=\"木材\",$AA9,0)","v":0},null,null,null,null,null,null,null,null,null,null,null,null,null,null,null,null,null,null,null,"Pb",{"$f":"IF($H27=0,\"\",IF($H27<=3,INT(10*$H27)/10,IF($H27>4,4,0.5*INT($H27/0.5))))","v":""},{"$f":"IF($N27=0,\"\",IF($N27<=3,INT(10*$N27)/10,IF($N27>4,4,0.5*INT($N27/0.5))))","v":""},{"$f":"IF($T27=0,\"\",IF($T27<=3,INT(10*$T27)/10,IF($T27>4,4,0.5*INT($T27/0.5))))","v":""}]
[null,null,null,null,null,null,null,null,null,"EL＝",{"$f":"MAX(F64,L64,R64)","v":0},"μSv/3ヶ月",null,null,3,"3:口内法撮影用X線装置（≦125ｋV）",null,0.25,"選ばれた空気ｶｰﾏ率XL",null,null,6,{"$f":"IF($AB8=\"Pb\",$AB9,0)","v":0},{"$f":"IF($AB8=\"ｺﾝｸﾘ\",$AB9,0)","v":0},{"$f":"IF($AB8=\"Fe\",$AB9,0)","v":0},{"$f":"IF($AB8=\"石膏\",$AB9,0)","v":0},{"$f":"IF($AB8=\"ｶﾞﾗｽ\",$AB9,0)","v":0},{"$f":"IF($AB8=\"木材\",$AB9,0)","v":0},null,null,null,null,null,null,null,null,null,null,null,null,null,null,null,null,null,null,null,"ｺﾝｸﾘ",{"$f":"IF($H29=0,\"\",IF($H29<=300,INT($H29/10)*10,IF($H29>400,400,50*INT($H29/50))))","v":""},{"$f":"IF($N29=0,\"\",IF($N29<=300,INT($N29/10)*10,IF($N29>400,400,50*INT($N29/50))))","v":""},{"$f":"IF($T29=0,\"\",IF($T29<=300,INT($T29/10)*10,IF($T29>400,400,50*INT($T29/50))))","v":""}]
[null,null,null,null,null,null,null,null,null,"合計",{"$f":"+K15+K16","v":0},null,null,null,4,"4:上記以外の診断用X線装置",null,1,{"$f":"IF(S15=0,0,VLOOKUP(S15,O14:R17,4,0)*1000)","v":0},null,null,null,{"$f":"SUM(W11:W16)","v":0},{"$f":"SUM(X11:X16)","v":0},0,0,0,0,"第1～6遮蔽材合計",null,null,null,null,null,null,null,null,null,null,null,null,null,null,null,null,null,null,"Fe",{"$f":"IF($H31=0,\"\",IF($H31<=30,INT($H31),IF($H31>40,40,5*INT($H31/5))))","v":""},{"$f":"IF($N31=0,\"\",IF($N31<=30,INT($N31),IF($N31>40,40,5*INT($N31/5))))","v":""},{"$f":"IF($T31=0,\"\",IF($T31<=30,INT($T31),IF($T31>40,40,5*INT($T31/5))))","v":""}]
[null,null,null,null,null,null,null,null,null,null,null,null,null,null,null,"※１：治療用装置は、装置接触可能5cmの数値であるため任意の数値に変更可能",null,null,null,null,null,null,{"$f":"SUM(W12:W16)","v":0},{"$f":"SUM(X12:X16)","v":0},0,0,0,0,"第2～6遮蔽材合計",null,null,null,null,null,null,null,null,null,null,null,null,null,null,null,null,null,null,"石膏",{"$f":"IF($H33=0,\"\",IF($H33<=30,INT($H33),IF($H33>40,40,5*INT($H33/5))))","v":""},{"$f":"IF($N33=0,\"\",IF($N33<=30,INT($N33),IF($N33>40,40,5*INT($N33/5))))","v":""},{"$f":"IF($T33=0,\"\",IF($T33<=30,INT($T33),IF($T33>40,40,5*INT($T33/5))))","v":""}]
[null,null,null,"C点の計算",null,null,null,null,null,"C'点の計算",null,null,null,null,null,"C\"点の計算",null,null,null,null,null,null,"C'点",null,null,null,null,null,null,null,null,null,null,null,null,null,null,null,null,null,null,null,null,null,null,null,null,"ｶﾞﾗｽ",{"$f":"IF($H35=0,\"\",IF($H35<=30,INT($H35),IF($H35>40,40,5*INT($H35/5))))","v":""},{"$f":"IF($N35=0,\"\",IF($N35<=30,INT($N35),IF($N35>40,40,5*INT($N35/5))))","v":""},{"$f":"IF($T35=0,\"\",IF($T35<=30,INT($T35),IF($T35>40,40,5*INT($T35/5))))","v":""}]
[null,null,null,"1) Ep：撮影方向",null,null,null,null,null,"1) Ep：撮影方向",null,null,null,null,null,"1) Ep：撮影方向",null,null,null,null,null,null,{"$f":"入力用シート!N52","v":0},{"$f":"入力用シート!P52","v":0},{"$f":"入力用シート!R52","v":0},{"$f":"入力用シート!T52","v":0},{"$f":"入力用シート!V52","v":0},{"$f":"入力用シート!X52","v":0},null,null,null,null,null,null,null,null,null,null,null,null,null,null,null,null,null,null,null,"木材",{"$f":"IF($H37=0,\"\",IF($H37<=300,INT($H37/10)*10,IF($H37>400,400,50*INT($H37/50))))","v":""},{"$f":"IF($N37=0,\"\",IF($N37<=300,INT($N37/10)*10,IF($N37>400,400,50*INT($N37/50))))","v":""},{"$f":"IF($T37=0,\"\",IF($T37<=300,INT($T37/10)*10,IF($T37>400,400,50*INT($T37/50))))","v":""}]
[null,null,null,"　",null,{"$f":"IF(OR($F8=0,$M9=0,A点!$AQ$7=1,AND($W$8=0,$W$45>0)),0,($G8*$R10*$G25*$F41*$G12*$G11*$M7*$M8)/($M9^2))","v":0},"μSv/3ヶ月",null,null,"　",null,{"$f":"IF(OR($F8=0,$M9=0,A点!$AQ$7=1,AND($W$20=0,$W$45>0)),0,($G8*$R10*$M25*$L41*$G12*$G11*$M7*$M8)/($M9^2))","v":0},"μSv/3ヶ月",null,null,"　",null,{"$f":"IF(OR($F8=0,$M9=0,A点!$AQ$7=1,AND($W$32=0,$W$45>0)),0,($G8*$R10*$S25*$R41*$G12*$G11*$M7*$M8)/($M9^2))","v":0},"μSv/3ヶ月",null,null,null,{"$f":"入力用シート!N53","v":0},{"$f":"入力用シート!P53","v":0},{"$f":"入力用シート!R53","v":0},{"$f":"入力用シート!T53","v":0},{"$f":"入力用シート!V53","v":0},{"$f":"入力用シート!X53","v":0}]
[null,null,null,null,null,null,null,null,null,null,null,null,null,null,null,null,null,null,null,null,null,null,"Pb","ｺﾝｸﾘ","Fe","石膏","ｶﾞﾗｽ","木材",null,null,null,null,null,null,null,null,null,null,null,null,null,null,null,null,null,null,"3)","遮蔽材順"]
[null,null,null,"a) 第１遮蔽材による減衰(遮蔽体がある場合透過率=1)",null,null,null,null,null,"○ 第１遮蔽材による減衰(遮蔽体がある場合透過率=1)",null,null,null,null,null,"○ 第１遮蔽材による減衰(遮蔽体がある場合透過率=1)",null,null,null,null,null,null,{"$f":"IF($W20=\"Pb\",$W21,0)","v":0},{"$f":"IF($W20=\"ｺﾝｸﾘ\",$W21,0)","v":0},{"$f":"IF($W20=\"Fe\",$W21,0)","v":0},{"$f":"IF($W20=\"石膏\",$W21,0)","v":0},{"$f":"IF($W20=\"ｶﾞﾗｽ\",$W21,0)","v":0},{"$f":"IF($W20=\"木材\",$W21,0)","v":0},null,null,null,null,null,null,null,null,null,null,null,null,null,null,null,null,null,null,null,null,"C点","C'点","C\"点"]
[null,null,null,null,null,"第1遮蔽材",{"$f":"IF($S$8>0,\"遮蔽体\",$W$8)","v":0},{"$f":"$W$8","v":0},null,null,null,"第1遮蔽材",{"$f":"IF($S$8>0,\"遮蔽体\",$W$20)","v":0},{"$f":"$W$20","v":0},null,null,null,"第1遮蔽材",{"$f":"IF($S$8>0,\"遮蔽体\",$W$32)","v":0},{"$f":"$W$32","v":0},null,null,{"$f":"IF($X20=\"Pb\",$X21,0)","v":0},{"$f":"IF($X20=\"ｺﾝｸﾘ\",$X21,0)","v":0},{"$f":"IF($X20=\"Fe\",$X21,0)","v":0},{"$f":"IF($X20=\"石膏\",$X21,0)","v":0},{"$f":"IF($X20=\"ｶﾞﾗｽ\",$X21,0)","v":0},{"$f":"IF($X20=\"木材\",$X21,0)","v":0},null,null,null,null,null,null,null,null,null,null,null,null,null,null,null,null,null,null,null,"第1遮蔽材",{"$f":"IF($AW34=\"11\",G$24,H$24)","v":0},{"$f":"IF($AW34=\"11\",M$24,N$24)","v":0},{"$f":"IF($AW34=\"11\",S$24,T$24)","v":0}]
[null,null,null,null,null,"Dt1=",{"$f":"G28*G30*G32*G34*G36*G38","v":1},{"$f":"H28*H30*H32*H34*H36*H38","v":1},null,null,null,"Dt1=",{"$f":"M28*M30*M32*M34*M36*M38","v":1},{"$f":"N28*N30*N32*N34*N36*N38","v":1},null,null,null,"Dt1=",{"$f":"S28*S30*S32*S34*S36*S38","v":1},{"$f":"T28*T30*T32*T34*T36*T38","v":1},null,null,{"$f":"IF($Y20=\"Pb\",$Y21,0)","v":0},{"$f":"IF($Y20=\"ｺﾝｸﾘ\",$Y21,0)","v":0},{"$f":"IF($Y20=\"Fe\",$Y21,0)","v":0},{"$f":"IF($Y20=\"石膏\",$Y21,0)","v":0},{"$f":"IF($Y20=\"ｶﾞﾗｽ\",$Y21,0)","v":0},{"$f":"IF($Y20=\"木材\",$Y21,0)","v":0},null,null,null,null,null,null,null,null,null,null,null,null,null,null,null,null,null,null,null,"第2遮蔽材",{"$f":"IF($AW34=\"11\",W$8,X$8)","v":0},{"$f":"IF($AW34=\"11\",W$20,X$20)","v":0},{"$f":"IF($AW34=\"11\",W$32,X$32)","v":0}]
[null,null,null,null,null,null,"一次線用","散乱線用",null,null,null,null,"一次線用","散乱線用",null,null,null,null,"一次線用","散乱線用",null,null,{"$f":"IF($Z20=\"Pb\",$Z21,0)","v":0},{"$f":"IF($Z20=\"ｺﾝｸﾘ\",$Z21,0)","v":0},{"$f":"IF($Z20=\"Fe\",$Z21,0)","v":0},{"$f":"IF($Z20=\"石膏\",$Z21,0)","v":0},{"$f":"IF($Z20=\"ｶﾞﾗｽ\",$Z21,0)","v":0},{"$f":"IF($Z20=\"木材\",$Z21,0)","v":0},null,null,null,null,null,null,null,null,null,null,null,null,null,null,null,null,null,null,null,"第3遮蔽材",{"$f":"IF($AW34=\"11\",X$8,Y$8)","v":0},{"$f":"IF($AW34=\"11\",X$20,Y$20)","v":0},{"$f":"IF($AW34=\"11\",X$32,Y$32)","v":0}]
[null,null,null,"a)　鉛(表2)",null,"等価厚さ",{"$f":"IF($G24=$W$10,$W$9*$AE$8,0)","v":0},{"$f":"IF($H24=$W$10,$W$9*$AE$8,0)","v":0},null,"a)　鉛(表2)",null,"等価厚さ",{"$f":"IF($M24=$W$22,$W$21*$AE$8,0)","v":0},{"$f":"IF($N24=$W$22,$W$21*$AE$8,0)","v":0},null,"a)　鉛(表2)",null,"等価厚さ",{"$f":"IF($S24=$W$34,$W$33*$AE$8,0)","v":0},{"$f":"IF($T24=$W$34,$W$33*$AE$8,0)","v":0},null,null,{"$f":"IF($AA20=\"Pb\",$AA21,0)","v":0},{"$f":"IF($AA20=\"ｺﾝｸﾘ\",$AA21,0)","v":0},{"$f":"IF($AA20=\"Fe\",$AA21,0)","v":0},{"$f":"IF($AA20=\"石膏\",$AA21,0)","v":0},{"$f":"IF($AA20=\"ｶﾞﾗｽ\",$AA21,0)","v":0},{"$f":"IF($AA20=\"木材\",$AA21,0)","v":0},null,null,null,null,null,null,null,null,null,null,null,null,null,null,null,null,null,null,null,"第4遮蔽材",{"$f":"IF($AW34=\"11\",Y$8,Z$8)","v":0},{"$f":"IF($AW34=\"11\",Y$20,Z$20)","v":0},{"$f":"IF($AW34=\"11\",Y$32,Z$32)","v":0}]
[null,null,null,null,null,"透過率",{"$f":"IF(OR($G27=0,A点!$AL$8=1,A点!$AL$8=\"○\"),1,INDEX('表２(Pb)'!$A$3:$Y$36,MATCH($AW5,'表２(Pb)'!$A$3:$A$36,0),MATCH($F8,'表２(Pb)'!$A$3:$Y$3,0)))","v":1},{"$f":"IF(OR($H27=0,A点!$AL$8=1,A点!$AL$8=\"○\"),1,INDEX('表２(Pb)'!$A$3:$Y$36,MATCH($AW15,'表２(Pb)'!$A$3:$A$36,0),MATCH($F8,'表２(Pb)'!$A$3:$Y$3,0)))","v":1},null,null,null,"透過率",{"$f":"IF(OR($M27=0,A点!$AL$8=1,A点!$AL$8=\"○\"),1,INDEX('表２(Pb)'!$A$3:$Y$36,MATCH($AX5,'表２(Pb)'!$A$3:$A$36,0),MATCH($F8,'表２(Pb)'!$A$3:$Y$3,0)))","v":1},{"$f":"IF(OR($N27=0,A点!$AL$8=1,A点!$AL$8=\"○\"),1,INDEX('表２(Pb)'!$A$3:$Y$36,MATCH($AX15,'表２(Pb)'!$A$3:$A$36,0),MATCH($F8,'表２(Pb)'!$A$3:$Y$3,0)))","v":1},null,null,null,"透過率",{"$f":"IF(OR($S27=0,A点!$AL$8=1,A点!$AL$8=\"○\"),1,INDEX('表２(Pb)'!$A$3:$Y$36,MATCH($AY5,'表２(Pb)'!$A$3:$A$36,0),MATCH($F8,'表２(Pb)'!$A$3:$Y$3,0)))","v":1},{"$f":"IF(OR($T27=0,A点!$AL$8=1,A点!$AL$8=\"○\"),1,INDEX('表２(Pb)'!$A$3:$Y$36,MATCH($AY15,'表２(Pb)'!$A$3:$A$36,0),MATCH($F8,'表２(Pb)'!$A$3:$Y$3,0)))","v":1},null,null,{"$f":"IF($AB20=\"Pb\",$AB21,0)","v":0},{"$f":"IF($AB20=\"ｺﾝｸﾘ\",$AB21,0)","v":0},{"$f":"IF($AB20=\"Fe\",$AB21,0)","v":0},{"$f":"IF($AB20=\"石膏\",$AB21,0)","v":0},{"$f":"IF($AB20=\"ｶﾞﾗｽ\",$AB21,0)","v":0},{"$f":"IF($AB20=\"木材\",$AB21,0)","v":0},null,null,null,null,null,null,null,null,null,null,null,null,null,null,null,null,null,null,null,"第5遮蔽材",{"$f":"IF($AW34=\"11\",Z$8,AA$8)","v":0},{"$f":"IF($AW34=\"11\",Z$20,AA$20)","v":0},{"$f":"IF($AW34=\"11\",Z$32,AA$32)","v":0}]
[null,null,null,"b)　コンクリート(表3)",null,"等価厚さ",{"$f":"IF($G24=$X$10,$W$9*$AE$9,0)","v":0},{"$f":"IF($H24=$X$10,$W$9*$AE$9,0)","v":0},null,"b)　コンクリート(表3)",null,"等価厚さ",{"$f":"IF($M24=$X$22,$W$21*$AE$9,0)","v":0},{"$f":"IF($N24=$X$22,$W$21*$AE$9,0)","v":0},null,"b)　コンクリート(表3)",null,"等価厚さ",{"$f":"IF($S24=$X$34,$W$33*$AE$9,0)","v":0},{"$f":"IF($T24=$X$34,$W$33*$AE$9,0)","v":0},null,null,{"$f":"SUM(W23:W28)","v":0},{"$f":"SUM(X23:X28)","v":0},0,0,0,0,"第1～6遮蔽材合計",null,null,null,null,null,null,null,null,null,null,null,null,null,null,null,null,null,null,"第6遮蔽材",{"$f":"IF($AW34=\"11\",AA$8,AB$8)","v":0},{"$f":"IF($AW34=\"11\",AA$20,AB$20)","v":0},{"$f":"IF($AW34=\"11\",AA$32,AB$32)","v":0}]
[null,null,null,null,null,"透過率",{"$f":"IF(OR($G29=0,A点!$AL$8=1,A点!$AL$8=\"○\"),1,INDEX('表３(コ)'!$A$3:$Y$36,MATCH($AW6,'表３(コ)'!$A$3:$A$36,0),MATCH($F8,'表３(コ)'!$A$3:$Y$3,0)))","v":1},{"$f":"IF(OR($H29=0,A点!$AL$8=1,A点!$AL$8=\"○\"),1,INDEX('表３(コ)'!$A$3:$Y$36,MATCH($AW16,'表３(コ)'!$A$3:$A$36,0),MATCH($F8,'表３(コ)'!$A$3:$Y$3,0)))","v":1},null,null,null,"透過率",{"$f":"IF(OR($M29=0,A点!$AL$8=1,A点!$AL$8=\"○\"),1,INDEX('表３(コ)'!$A$3:$Y$36,MATCH($AX6,'表３(コ)'!$A$3:$A$36,0),MATCH($F8,'表３(コ)'!$A$3:$Y$3,0)))","v":1},{"$f":"IF(OR($N29=0,A点!$AL$8=1,A点!$AL$8=\"○\"),1,INDEX('表３(コ)'!$A$3:$Y$36,MATCH($AX16,'表３(コ)'!$A$3:$A$36,0),MATCH($F8,'表３(コ)'!$A$3:$Y$3,0)))","v":1},null,null,null,"透過率",{"$f":"IF(OR($S29=0,A点!$AL$8=1,A点!$AL$8=\"○\"),1,INDEX('表３(コ)'!$A$3:$Y$36,MATCH($AY6,'表３(コ)'!$A$3:$A$36,0),MATCH($F8,'表３(コ)'!$A$3:$Y$3,0)))","v":1},{"$f":"IF(OR($T29=0,A点!$AL$8=1,A点!$AL$8=\"○\"),1,INDEX('表３(コ)'!$A$3:$Y$36,MATCH($AY16,'表３(コ)'!$A$3:$A$36,0),MATCH($F8,'表３(コ)'!$A$3:$Y$3,0)))","v":1},null,null,{"$f":"SUM(W24:W28)","v":0},{"$f":"SUM(X24:X28)","v":0},0,0,0,0,"第2～6遮蔽材合計",null,null,null,null,null,null,null,null,null,null,null,null,null,null,null,null,null,null,"第7遮蔽材",{"$f":"IF($AW34=\"11\",AB$8,\"\")","v":""},{"$f":"IF($AW34=\"11\",AB$20,\"\")","v":""},{"$f":"IF($AW34=\"11\",AB$32,\"\")","v":""}]
[null,null,null,"c)　鉄(表4)",null,"等価厚さ",{"$f":"IF($G24=$Y$10,$W$9*$AE$10,0)","v":0},{"$f":"IF($H24=$Y$10,$W$9*$AE$10,0)","v":0},null,"c)　鉄(表4)",null,"等価厚さ",{"$f":"IF($M24=$Y$22,$W$21*$AE$10,0)","v":0},{"$f":"IF($N24=$Y$22,$W$21*$AE$10,0)","v":0},null,"c)　鉄(表4)",null,"等価厚さ",{"$f":"IF($S24=$Y$34,$W$33*$AE$10,0)","v":0},{"$f":"IF($T24=$Y$34,$W$33*$AE$10,0)","v":0},null,null,"C\"点"]
[null,null,null,null,null,"透過率",{"$f":"IF(OR($G31=0,A点!$AL$8=1,A点!$AL$8=\"○\"),1,INDEX('表4(Fe)'!$A$3:$Y$36,MATCH($AW7,'表4(Fe)'!$A$3:$A$36,0),MATCH($F8,'表4(Fe)'!$A$3:$Y$3,0)))","v":1},{"$f":"IF(OR($H31=0,A点!$AL$8=1,A点!$AL$8=\"○\"),1,INDEX('表4(Fe)'!$A$3:$Y$36,MATCH($AW17,'表4(Fe)'!$A$3:$A$36,0),MATCH($F8,'表4(Fe)'!$A$3:$Y$3,0)))","v":1},null,null,null,"透過率",{"$f":"IF(OR($M31=0,A点!$AL$8=1,A点!$AL$8=\"○\"),1,INDEX('表4(Fe)'!$A$3:$Y$36,MATCH($AX7,'表4(Fe)'!$A$3:$A$36,0),MATCH($F8,'表4(Fe)'!$A$3:$Y$3,0)))","v":1},{"$f":"IF(OR($N31=0,A点!$AL$8=1,A点!$AL$8=\"○\"),1,INDEX('表4(Fe)'!$A$3:$Y$36,MATCH($AX17,'表4(Fe)'!$A$3:$A$36,0),MATCH($F8,'表4(Fe)'!$A$3:$Y$3,0)))","v":1},null,null,null,"透過率",{"$f":"IF(OR($S31=0,A点!$AL$8=1,A点!$AL$8=\"○\"),1,INDEX('表4(Fe)'!$A$3:$Y$36,MATCH($AY7,'表4(Fe)'!$A$3:$A$36,0),MATCH($F8,'表4(Fe)'!$A$3:$Y$3,0)))","v":1},{"$f":"IF(OR($T31=0,A点!$AL$8=1,A点!$AL$8=\"○\"),1,INDEX('表4(Fe)'!$A$3:$Y$36,MATCH($AY17,'表4(Fe)'!$A$3:$A$36,0),MATCH($F8,'表4(Fe)'!$A$3:$Y$3,0)))","v":1},null,null,{"$f":"入力用シート!N54","v":0},{"$f":"入力用シート!P54","v":0},{"$f":"入力用シート!R54","v":0},{"$f":"入力用シート!T54","v":0},{"$f":"入力用シート!V54","v":0},{"$f":"入力用シート!X54","v":0},null,null,null,null,null,null,null,null,null,null,null,null,null,null,null,null,null,null,null,"遮蔽体有無",{"$f":"IF($S8>0,1,0)","v":0},"遮蔽体有：１"]
[null,null,null,"d)　石膏(表5)",null,"等価厚さ",{"$f":"IF($G24=$Z$10,$W$9*$AE$11,0)","v":0},{"$f":"IF($H24=$Z$10,$W$9*$AE$11,0)","v":0},null,"d)　石膏(表5)",null,"等価厚さ",{"$f":"IF($M24=$Z$22,$W$21*$AE$11,0)","v":0},{"$f":"IF($N24=$Z$22,$W$21*$AE$11,0)","v":0},null,"d)　石膏(表5)",null,"等価厚さ",{"$f":"IF($S24=$Z$34,$W$33*$AE$11,0)","v":0},{"$f":"IF($T24=$Z$34,$W$33*$AE$11,0)","v":0},null,null,{"$f":"入力用シート!N55","v":0},{"$f":"入力用シート!P55","v":0},{"$f":"入力用シート!R55","v":0},{"$f":"入力用シート!T55","v":0},{"$f":"入力用シート!V55","v":0},{"$f":"入力用シート!X55","v":0},null,null,null,null,null,null,null,null,null,null,null,null,null,null,null,null,null,null,null,"照射方向",{"$f":"IF($M9>0,1,2)","v":2},"直接線：1、散乱線：2"]
[null,null,null,null,null,"透過率",{"$f":"IF(OR($G33=0,A点!$AL$8=1,A点!$AL$8=\"○\"),1,INDEX('表5(CaSO4)'!$A$3:$Y$36,MATCH($AW8,'表5(CaSO4)'!$A$3:$A$36,0),MATCH($F8,'表5(CaSO4)'!$A$3:$Y$3,0)))","v":1},{"$f":"IF(OR($H33=0,A点!$AL$8=1,A点!$AL$8=\"○\"),1,INDEX('表5(CaSO4)'!$A$3:$Y$36,MATCH($AW18,'表5(CaSO4)'!$A$3:$A$36,0),MATCH($F8,'表5(CaSO4)'!$A$3:$Y$3,0)))","v":1},null,null,null,"透過率",{"$f":"IF(OR($M33=0,A点!$AL$8=1,A点!$AL$8=\"○\"),1,INDEX('表5(CaSO4)'!$A$3:$Y$36,MATCH($AX8,'表5(CaSO4)'!$A$3:$A$36,0),MATCH($F8,'表5(CaSO4)'!$A$3:$Y$3,0)))","v":1},{"$f":"IF(OR($N33=0,A点!$AL$8=1,A点!$AL$8=\"○\"),1,INDEX('表5(CaSO4)'!$A$3:$Y$36,MATCH($AX18,'表5(CaSO4)'!$A$3:$A$36,0),MATCH($F8,'表5(CaSO4)'!$A$3:$Y$3,0)))","v":1},null,null,null,"透過率",{"$f":"IF(OR($S33=0,A点!$AL$8=1,A点!$AL$8=\"○\"),1,INDEX('表5(CaSO4)'!$A$3:$Y$36,MATCH($AY8,'表5(CaSO4)'!$A$3:$A$36,0),MATCH($F8,'表5(CaSO4)'!$A$3:$Y$3,0)))","v":1},{"$f":"IF(OR($T33=0,A点!$AL$8=1,A点!$AL$8=\"○\"),1,INDEX('表5(CaSO4)'!$A$3:$Y$36,MATCH($AY18,'表5(CaSO4)'!$A$3:$A$36,0),MATCH($F8,'表5(CaSO4)'!$A$3:$Y$3,0)))","v":1},null,null,"Pb","ｺﾝｸﾘ","Fe","石膏","ｶﾞﾗｽ","木材",null,null,null,null,null,null,null,null,null,null,null,null,null,null,null,null,null,null,null,"判定コード",{"$f":"AW32&AW33","v":"02"}]
[null,null,null,"e）　ガラス(表6)",null,"等価厚さ",{"$f":"IF($G24=$AA$10,$W$9*$AE$12,0)","v":0},{"$f":"IF($H24=$AA$10,$W$9*$AE$12,0)","v":0},null,"e）　ガラス(表6)",null,"等価厚さ",{"$f":"IF($M24=$AA$22,$W$21*$AE$12,0)","v":0},{"$f":"IF($N24=$AA$22,$W$21*$AE$12,0)","v":0},null,"e）　ガラス(表6)",null,"等価厚さ",{"$f":"IF($S24=$AA$34,$W$33*$AE$12,0)","v":0},{"$f":"IF($T24=$AA$34,$W$33*$AE$12,0)","v":0},null,null,{"$f":"IF($W32=\"Pb\",$W33,0)","v":0},{"$f":"IF($W32=\"ｺﾝｸﾘ\",$W33,0)","v":0},{"$f":"IF($W32=\"Fe\",$W33,0)","v":0},{"$f":"IF($W32=\"石膏\",$W33,0)","v":0},{"$f":"IF($W32=\"ｶﾞﾗｽ\",$W33,0)","v":0},{"$f":"IF($W32=\"木材\",$W33,0)","v":0}]
[null,null,null,null,null,"透過率",{"$f":"IF(OR($G35=0,A点!$AL$8=1,A点!$AL$8=\"○\"),1,INDEX('表6(SiO2)'!$A$3:$Y$36,MATCH($AW9,'表6(SiO2)'!$A$3:$A$36,0),MATCH($F8,'表6(SiO2)'!$A$3:$Y$3,0)))","v":1},{"$f":"IF(OR($H35=0,A点!$AL$8=1,A点!$AL$8=\"○\"),1,INDEX('表6(SiO2)'!$A$3:$Y$36,MATCH($AW19,'表6(SiO2)'!$A$3:$A$36,0),MATCH($F8,'表6(SiO2)'!$A$3:$Y$3,0)))","v":1},null,null,null,"透過率",{"$f":"IF(OR($M35=0,A点!$AL$8=1,A点!$AL$8=\"○\"),1,INDEX('表6(SiO2)'!$A$3:$Y$36,MATCH($AX9,'表6(SiO2)'!$A$3:$A$36,0),MATCH($F8,'表6(SiO2)'!$A$3:$Y$3,0)))","v":1},{"$f":"IF(OR($N35=0,A点!$AL$8=1,A点!$AL$8=\"○\"),1,INDEX('表6(SiO2)'!$A$3:$Y$36,MATCH($AX19,'表6(SiO2)'!$A$3:$A$36,0),MATCH($F8,'表6(SiO2)'!$A$3:$Y$3,0)))","v":1},null,null,null,"透過率",{"$f":"IF(OR($S35=0,A点!$AL$8=1,A点!$AL$8=\"○\"),1,INDEX('表6(SiO2)'!$A$3:$Y$36,MATCH($AY9,'表6(SiO2)'!$A$3:$A$36,0),MATCH($F8,'表6(SiO2)'!$A$3:$Y$3,0)))","v":1},{"$f":"IF(OR($T35=0,A点!$AL$8=1,A点!$AL$8=\"○\"),1,INDEX('表6(SiO2)'!$A$3:$Y$36,MATCH($AY19,'表6(SiO2)'!$A$3:$A$36,0),MATCH($F8,'表6(SiO2)'!$A$3:$Y$3,0)))","v":1},null,null,{"$f":"IF($X32=\"Pb\",$X33,0)","v":0},{"$f":"IF($X32=\"ｺﾝｸﾘ\",$X33,0)","v":0},{"$f":"IF($X32=\"Fe\",$X33,0)","v":0},{"$f":"IF($X32=\"石膏\",$X33,0)","v":0},{"$f":"IF($X32=\"ｶﾞﾗｽ\",$X33,0)","v":0},{"$f":"IF($X32=\"木材\",$X33,0)","v":0}]
[null,null,null,"f)　木材(表7)",null,"等価厚さ",{"$f":"IF($G24=$AB$10,$W$9*$AE$13,0)","v":0},{"$f":"IF($H24=$AB$10,$W$9*$AE$13,0)","v":0},null,"f)　木材(表7)",null,"等価厚さ",{"$f":"IF($M24=$AB$22,$W$21*$AE$13,0)","v":0},{"$f":"IF($N24=$AB$22,$W$21*$AE$13,0)","v":0},null,"f)　木材(表7)",null,"等価厚さ",{"$f":"IF($S24=$AB$34,$W$33*$AE$13,0)","v":0},{"$f":"IF($T24=$AB$34,$W$33*$AE$13,0)","v":0},null,null,{"$f":"IF($Y32=\"Pb\",$Y33,0)","v":0},{"$f":"IF($Y32=\"ｺﾝｸﾘ\",$Y33,0)","v":0},{"$f":"IF($Y32=\"Fe\",$Y33,0)","v":0},{"$f":"IF($Y32=\"石膏\",$Y33,0)","v":0},{"$f":"IF($Y32=\"ｶﾞﾗｽ\",$Y33,0)","v":0},{"$f":"IF($Y32=\"木材\",$Y33,0)","v":0}]
[null,null,null,null,null,"透過率",{"$f":"IF(OR($G37=0,A点!$AL$8=1,A点!$AL$8=\"○\"),1,INDEX('表7(木)'!$A$3:$Y$36,MATCH($AW10,'表7(木)'!$A$3:$A$36,0),MATCH($F8,'表7(木)'!$A$3:$Y$3,0)))","v":1},{"$f":"IF(OR($H37=0,A点!$AL$8=1,A点!$AL$8=\"○\"),1,INDEX('表7(木)'!$A$3:$Y$36,MATCH($AW20,'表7(木)'!$A$3:$A$36,0),MATCH($F8,'表7(木)'!$A$3:$Y$3,0)))","v":1},null,null,null,"透過率",{"$f":"IF(OR($M37=0,A点!$AL$8=1,A点!$AL$8=\"○\"),1,INDEX('表7(木)'!$A$3:$Y$36,MATCH($AX10,'表7(木)'!$A$3:$A$36,0),MATCH($F8,'表7(木)'!$A$3:$Y$3,0)))","v":1},{"$f":"IF(OR($N37=0,A点!$AL$8=1,A点!$AL$8=\"○\"),1,INDEX('表7(木)'!$A$3:$Y$36,MATCH($AX20,'表7(木)'!$A$3:$A$36,0),MATCH($F8,'表7(木)'!$A$3:$Y$3,0)))","v":1},null,null,null,"透過率",{"$f":"IF(OR($S37=0,A点!$AL$8=1,A点!$AL$8=\"○\"),1,INDEX('表7(木)'!$A$3:$Y$36,MATCH($AY10,'表7(木)'!$A$3:$A$36,0),MATCH($F8,'表7(木)'!$A$3:$Y$3,0)))","v":1},{"$f":"IF(OR($T37=0,A点!$AL$8=1,A点!$AL$8=\"○\"),1,INDEX('表7(木)'!$A$3:$Y$36,MATCH($AY20,'表7(木)'!$A$3:$A$36,0),MATCH($F8,'表7(木)'!$A$3:$Y$3,0)))","v":1},null,null,{"$f":"IF($Z32=\"Pb\",$Z33,0)","v":0},{"$f":"IF($Z32=\"ｺﾝｸﾘ\",$Z33,0)","v":0},{"$f":"IF($Z32=\"Fe\",$Z33,0)","v":0},{"$f":"IF($Z32=\"石膏\",$Z33,0)","v":0},{"$f":"IF($Z32=\"ｶﾞﾗｽ\",$Z33,0)","v":0},{"$f":"IF($Z32=\"木材\",$Z33,0)","v":0}]
[null,null,null,null,null,null,null,null,null,null,null,null,null,null,null,null,null,null,null,null,null,null,{"$f":"IF($AA32=\"Pb\",$AA33,0)","v":0},{"$f":"IF($AA32=\"ｺﾝｸﾘ\",$AA33,0)","v":0},{"$f":"IF($AA32=\"Fe\",$AA33,0)","v":0},{"$f":"IF($AA32=\"石膏\",$AA33,0)","v":0},{"$f":"IF($AA32=\"ｶﾞﾗｽ\",$AA33,0)","v":0},{"$f":"IF($AA32=\"木材\",$AA33,0)","v":0}]
[null,null,null,"b)　第２遮蔽材以後による一次線の減衰表9",null,null,null,null,null,"2)　第２遮蔽材以後による一次線の減衰表9",null,null,null,null,null,"2)　第２遮蔽材以後による一次線の減衰表9",null,null,null,null,null,null,{"$f":"IF($AB32=\"Pb\",$AB33,0)","v":0},{"$f":"IF($AB32=\"ｺﾝｸﾘ\",$AB33,0)","v":0},{"$f":"IF($AB32=\"Fe\",$AB33,0)","v":0},{"$f":"IF($AB32=\"石膏\",$AB33,0)","v":0},{"$f":"IF($AB32=\"ｶﾞﾗｽ\",$AB33,0)","v":0},{"$f":"IF($AB32=\"木材\",$AB33,0)","v":0}]
[null,null,null,null,"Dt2=",{"$f":"F44*F46*F48*F50*F52*F54","v":0},{"$f":"G44*G46*G48*G50*G52*G54","v":0},0,null,null,"Dt2=",{"$f":"L44*L46*L48*L50*L52*L54","v":0},{"$f":"M44*M46*M48*M50*M52*M54","v":0},0,null,null,"Dt2=",{"$f":"R44*R46*R48*R50*R52*R54","v":0},{"$f":"S44*S46*S48*S50*S52*S54","v":0},0,null,null,{"$f":"SUM(W35:W40)","v":0},{"$f":"SUM(X35:X40)","v":0},0,0,0,0,"第1～6遮蔽材合計"]
[null,null,null,null,null,"一次線用","散乱線用","漏洩線用",null,null,null,"一次線用","散乱線用","漏洩線用",null,null,null,"一次線用","散乱線用","漏洩線用",null,null,{"$f":"SUM(W36:W40)","v":0},{"$f":"SUM(X36:X40)","v":0},0,0,0,0,"第2～6遮蔽材合計"]
[null,null,null,"a)　鉛(表9)","半価層(mm)",{"$f":"IF(OR(A点!$AL$8=1,A点!$AL$8=\"○\"),\"\",VLOOKUP($F8,'表9(BB)'!$A$4:$M$27,2,0))","v":""},null,null,null,"a)　鉛(表9)","半価層(mm)",{"$f":"IF(OR(A点!$AL$8=1,A点!$AL$8=\"○\"),\"\",VLOOKUP($F8,'表9(BB)'!$A$4:$M$27,2,0))","v":""},null,null,null,"a)　鉛(表9)","半価層(mm)",{"$f":"IF(OR(A点!$AL$8=1,A点!$AL$8=\"○\"),\"\",VLOOKUP($F8,'表9(BB)'!$A$4:$M$27,2,0))","v":""}]
[null,null,null,null,"透過率",{"$f":"IF($S$8>0,$H44,$G44)","v":0},{"$f":"IF($F43=\"\",0,(1/2)^($W18*$AE$8/$F43))","v":0},{"$f":"IF($F43=\"\",0,(1/2)^($W17*$AE$8/$F43))","v":0},null,null,"透過率",{"$f":"IF($S$8>0,$N44,$M44)","v":0},{"$f":"IF($L43=\"\",0,(1/2)^($W30*$AE$8/$L43))","v":0},{"$f":"IF($L43=\"\",0,(1/2)^($W29*$AE$8/$L43))","v":0},null,null,"透過率",{"$f":"IF($S$8>0,$T44,$S44)","v":0},{"$f":"IF($R43=\"\",0,(1/2)^($W42*$AE$8/$R43))","v":0},{"$f":"IF($R43=\"\",0,(1/2)^($W41*$AE$8/$R43))","v":0},null,null,"遮蔽材判定"]
[null,null,null,"b)　コンクリート(表9)","半価層(mm)",{"$f":"IF(OR(A点!$AL$8=1,A点!$AL$8=\"○\"),\"\",VLOOKUP($F8,'表9(BB)'!$A$4:$M$27,4,0))","v":""},null,null,null,"b)　コンクリート(表9)","半価層(mm)",{"$f":"IF(OR(A点!$AL$8=1,A点!$AL$8=\"○\"),\"\",VLOOKUP($F8,'表9(BB)'!$A$4:$M$27,4,0))","v":""},null,null,null,"b)　コンクリート(表9)","半価層(mm)",{"$f":"IF(OR(A点!$AL$8=1,A点!$AL$8=\"○\"),\"\",VLOOKUP($F8,'表9(BB)'!$A$4:$M$27,4,0))","v":""},null,null,null,null,{"$f":"SUM(W17:AB17)+SUM(W29:AB29)+SUM(W41:AB41)","v":0}]
[null,null,null,null,"透過率",{"$f":"IF($S$8>0,$H46,$G46)","v":0},{"$f":"IF($F45=\"\",0,(1/2)^($X18*$AE$9/$F45))","v":0},{"$f":"IF($F45=\"\",0,(1/2)^($X17*$AE$9/$F45))","v":0},null,null,"透過率",{"$f":"IF($S$8>0,$N46,$M46)","v":0},{"$f":"IF($L45=\"\",0,(1/2)^($X30*$AE$9/$L45))","v":0},{"$f":"IF($L45=\"\",0,(1/2)^($X29*$AE$9/$L45))","v":0},null,null,"透過率",{"$f":"IF($S$8>0,$T46,$S46)","v":0},{"$f":"IF($R45=\"\",0,(1/2)^($X42*$AE$9/$R45))","v":0},{"$f":"IF($R45=\"\",0,(1/2)^($X41*$AE$9/$R45))","v":0}]
[null,null,null,"c)　鉄(表9)","半価層(mm)",{"$f":"IF(OR(A点!$AL$8=1,A点!$AL$8=\"○\"),\"\",VLOOKUP($F8,'表9(BB)'!$A$4:$M$27,6,0))","v":""},null,null,null,"c)　鉄(表9)","半価層(mm)",{"$f":"IF(OR(A点!$AL$8=1,A点!$AL$8=\"○\"),\"\",VLOOKUP($F8,'表9(BB)'!$A$4:$M$27,6,0))","v":""},null,null,null,"c)　鉄(表9)","半価層(mm)",{"$f":"IF(OR(A点!$AL$8=1,A点!$AL$8=\"○\"),\"\",VLOOKUP($F8,'表9(BB)'!$A$4:$M$27,6,0))","v":""}]
[null,null,null,null,"透過率",{"$f":"IF($S$8>0,$H48,$G48)","v":0},{"$f":"IF($F47=\"\",0,(1/2)^($Y18*$AE$10/$F47))","v":0},{"$f":"IF($F47=\"\",0,(1/2)^($Y17*$AE$10/$F47))","v":0},null,null,"透過率",{"$f":"IF($S$8>0,$N48,$M48)","v":0},{"$f":"IF($L47=\"\",0,(1/2)^($Y30*$AE$10/$L47))","v":0},{"$f":"IF($L47=\"\",0,(1/2)^($Y29*$AE$10/$L47))","v":0},null,null,"透過率",{"$f":"IF($S$8>0,$T48,$S48)","v":0},{"$f":"IF($R47=\"\",0,(1/2)^($Y42*$AE$10/$R47))","v":0},{"$f":"IF($R47=\"\",0,(1/2)^($Y41*$AE$10/$R47))","v":0}]
[null,null,null,"d)　石膏(表9)","半価層(mm)",{"$f":"IF(OR(A点!$AL$8=1,A点!$AL$8=\"○\"),\"\",VLOOKUP($F8,'表9(BB)'!$A$4:$M$27,8,0))","v":""},null,null,null,"d)　石膏(表9)","半価層(mm)",{"$f":"IF(OR(A点!$AL$8=1,A点!$AL$8=\"○\"),\"\",VLOOKUP($F8,'表9(BB)'!$A$4:$M$27,8,0))","v":""},null,null,null,"d)　石膏(表9)","半価層(mm)",{"$f":"IF(OR(A点!$AL$8=1,A点!$AL$8=\"○\"),\"\",VLOOKUP($F8,'表9(BB)'!$A$4:$M$27,8,0))","v":""}]
[null,null,null,null,"透過率",{"$f":"IF($S$8>0,$H50,$G50)","v":0},{"$f":"IF($F49=\"\",0,(1/2)^($Z18*$AE$11/$F49))","v":0},{"$f":"IF($F49=\"\",0,(1/2)^($Z17*$AE$11/$F49))","v":0},null,null,"透過率",{"$f":"IF($S$8>0,$N50,$M50)","v":0},{"$f":"IF($L49=\"\",0,(1/2)^($Z30*$AE$11/$L49))","v":0},{"$f":"IF($L49=\"\",0,(1/2)^($Z29*$AE$11/$L49))","v":0},null,null,"透過率",{"$f":"IF($S$8>0,$T50,$S50)","v":0},{"$f":"IF($R49=\"\",0,(1/2)^($Z42*$AE$11/$R49))","v":0},{"$f":"IF($R49=\"\",0,(1/2)^($Z41*$AE$11/$R49))","v":0}]
[null,null,null,"e）　ガラス(表9)","半価層(mm)",{"$f":"IF(OR(A点!$AL$8=1,A点!$AL$8=\"○\"),\"\",VLOOKUP($F8,'表9(BB)'!$A$4:$M$27,10,0))","v":""},null,null,null,"e）　ガラス(表9)","半価層(mm)",{"$f":"IF(OR(A点!$AL$8=1,A点!$AL$8=\"○\"),\"\",VLOOKUP($F8,'表9(BB)'!$A$4:$M$27,10,0))","v":""},null,null,null,"e）　ガラス(表9)","半価層(mm)",{"$f":"IF(OR(A点!$AL$8=1,A点!$AL$8=\"○\"),\"\",VLOOKUP($F8,'表9(BB)'!$A$4:$M$27,10,0))","v":""}]
[null,null,null,null,"透過率",{"$f":"IF($S$8>0,$H52,$G52)","v":0},{"$f":"IF($F51=\"\",0,(1/2)^($AA18*$AE$12/$F51))","v":0},{"$f":"IF($F51=\"\",0,(1/2)^($AA17*$AE$12/$F51))","v":0},null,null,"透過率",{"$f":"IF($S$8>0,$N52,$M52)","v":0},{"$f":"IF($L51=\"\",0,(1/2)^($AA30*$AE$12/$L51))","v":0},{"$f":"IF($L51=\"\",0,(1/2)^($AA29*$AE$12/$L51))","v":0},null,null,"透過率",{"$f":"IF($S$8>0,$T52,$S52)","v":0},{"$f":"IF($R51=\"\",0,(1/2)^($AA42*$AE$12/$R51))","v":0},{"$f":"IF($R51=\"\",0,(1/2)^($AA41*$AE$12/$R51))","v":0}]
[null,null,null,"f)　木材(表9)","半価層(mm)",{"$f":"IF(OR(A点!$AL$8=1,A点!$AL$8=\"○\"),\"\",VLOOKUP($F8,'表9(BB)'!$A$4:$M$27,12,0))","v":""},null,null,null,"f)　木材(表9)","半価層(mm)",{"$f":"IF(OR(A点!$AL$8=1,A点!$AL$8=\"○\"),\"\",VLOOKUP($F8,'表9(BB)'!$A$4:$M$27,12,0))","v":""},null,null,null,"f)　木材(表9)","半価層(mm)",{"$f":"IF(OR(A点!$AL$8=1,A点!$AL$8=\"○\"),\"\",VLOOKUP($F8,'表9(BB)'!$A$4:$M$27,12,0))","v":""}]
[null,null,null,null,"透過率",{"$f":"IF($S$8>0,$H54,$G54)","v":0},{"$f":"IF($F53=\"\",0,(1/2)^($AB18*$AE$13/$F53))","v":0},{"$f":"IF($F53=\"\",0,(1/2)^($AB17*$AE$13/$F53))","v":0},null,null,"透過率",{"$f":"IF($S$8>0,$N54,$M54)","v":0},{"$f":"IF($L53=\"\",0,(1/2)^($AB$30*$AE$13/$L$53))","v":0},{"$f":"IF($L53=\"\",0,(1/2)^($AB$29*$AE$13/$L$53))","v":0},null,null,"透過率",{"$f":"IF($S$8>0,$T54,$S54)","v":0},{"$f":"IF($R53=\"\",0,(1/2)^($AB42*$AE$13/$R53))","v":0},{"$f":"IF($R53=\"\",0,(1/2)^($AB41*$AE$13/$R53))","v":0}]
[]
[]
[null,null,null,"2)　Es：散乱エックス線の漏洩線量(散乱角90度)",null,null,null,null,null,"2)　Es：散乱エックス線の漏洩線量(散乱角90度)",null,null,null,null,null,"2)　Es：散乱エックス線の漏洩線量(散乱角90度)"]
[null,null,null,null,"Dt=",{"$f":"H25*G41","v":0},null,null,null,null,"Dt=",{"$f":"N25*M41","v":0},null,null,null,null,"Dt=",{"$f":"T25*S41","v":0}]
[null,null,null,null,"Es=",{"$f":"IF(OR($F8=0,$M10=0,$M11=0,AND($W$8=0,$W$45>0),A点!$AQ$7=1),0,$G8*F58*$G12*$G11*$M7*$M8*($K11/100)*$K12/(400*($M10^2)*($M11^2)))","v":0},"μSv/3ヶ月",null,null,null,"Es=",{"$f":"IF(OR($F8=0,$M10=0,$M11=0,AND($W$20=0,$W$45>0),A点!$AQ$7=1),0,$G8*$G12*$G11*L58*$M7*$M8*($K11/100)*$K12/(400*($M10^2)*($M11^2)))","v":0},"μSv/3ヶ月",null,null,null,"Es=",{"$f":"IF(OR($F8=0,$M10=0,$M11=0,AND($W$32=0,$W$45>0),A点!$AQ$7=1),0,$G8*$G12*$G11*R58*$M7*$M8*($K11/100)*$K12/(400*($M10^2)*($M11^2)))","v":0},"μSv/3ヶ月"]
[]
[]
[null,null,null,"3)　EL：エックス線管容器からの漏洩線量(最大見積)",null,null,null,null,null,"3)　EL：エックス線管容器からの漏洩線量(最大見積)",null,null,null,null,null,"3)　EL：エックス線管容器からの漏洩線量(最大見積)"]
[]
[null,null,null,null,"EL=",{"$f":"IF(OR($F8=0,$M12=0,A点!$AQ$7=1,AND($W$8=0,$W$45>0)),0,$S17*$G11*$M13*H41*$M7*$M8/($M12^2))","v":0},"μGy/h",null,null,null,"EL=",{"$f":"IF(OR($F8=0,$M12=0,A点!$AQ$7=1,AND($W$20=0,$W$45>0)),0,$S17*$G11*$M13*N41*$M7*$M8/($M12^2))","v":0},"μGy/h",null,null,null,"EL=",{"$f":"IF(OR($F8=0,$M12=0,A点!$AQ$7=1,AND($W$32=0,$W$45>0)),0,$S17*$G11*$M13*T41*$M7*$M8/($M12^2))","v":0},"μGy/h"]
[]
[]
[null,"一般撮影",null,"①　X：空気カーマ(表1)",null,null,null,"④　使用係数",null,null,null,"Ｕ＝",1,null,null,"1)対向板による一次線の減衰(表２)",null,null,null,null,null,null,null,null,null,null,null,null,null,null,null,null,null,null,null,null,null,null,null,null,null,null,null,null,null,null,"③撮影用透過率（表2-7）"]
[null,null,null,null,"採用管電圧",{"$f":"A点!$F$68","v":0},{"$f":"A点!$G$68","v":0},"⑤　居住係数",null,null,null,"Ｔ＝",1,null,null,null,null,"等価厚さ",{"$f":"入力用シート!$AA$9","v":0},"mm",null,null,null,null,null,null,null,null,null,null,null,null,null,null,null,null,null,null,null,null,null,null,null,null,null,null,"1)直接線用"]
[null,null,null,null,"電流",{"$f":"A点!$F$69","v":0},null,"⑥　距離",null,null,null,"d1=",{"$f":"M9","v":0},"ｍ",null,null,"使用管電圧",{"$f":"A点!$AM$5","v":0},null,null,null,null,null,null,null,null,null,null,null,null,null,null,null,null,null,null,null,null,null,null,null,null,null,null,null,null,"遮蔽厚参照値"]
[null,null,null,"②　E/Ka：空気カーマ換算係数（表10）",null,null,null,"⑧　照射野400cm2空気ｶｰﾏ率表8",null,null,null,"d2=",{"$f":"M10","v":0},"ｍ",null,null,"透過率",{"$f":"IF(A点!$AM$8=\"○\",\"\",IF(A点!$AM$8=1,\"データなし\",IF($S68>3,HLOOKUP($R69,'表２(Pb)'!$B$3:$Y$36,32+ROUNDDOWN(($S68-3)/0.5,0),0),HLOOKUP($R69,'表２(Pb)'!$B$3:$Y$36,2+S68/0.1,0))))","v":""},null,null,null,null,null,null,null,null,null,null,null,null,null,null,null,null,null,null,null,null,null,null,null,null,null,null,null,null,null,null,"C点","C'点","C\"点"]
[null,null,null,null,"採用管電圧",{"$f":"A点!$F$71","v":0},{"$f":"A点!$G$71","v":0},null,null,null,{"$f":"A点!$AM$7","v":0},"d3=",0,"ｍ",null,null,null,null,null,null,null,null,null,null,null,null,null,null,null,null,null,null,null,null,null,null,null,null,null,null,null,null,null,null,null,null,null,"Pb",{"$f":"IF($G87=0,\"\",IF($G87<=3,INT(10*$G87)/10,IF($G87>4,4,0.5*INT($G87/0.5))))","v":""},{"$f":"IF($M87=0,\"\",IF($M87<=3,INT(10*$M87)/10,IF($M87>4,4,0.5*INT($M87/0.5))))","v":""},{"$f":"IF($S87=0,\"\",IF($S87<=3,INT(10*$S87)/10,IF($S87>4,4,0.5*INT($S87/0.5))))","v":""}]
[null,null,null,"③　W：３Ｍ実効稼動負荷",null,"合計",{"$f":"13*(入力用シート!$L$26*入力用シート!$Q$26*入力用シート!$H$27*入力用シート!$L$27*入力用シート!$Q$27)","v":0},"⑨　受像面照射野",null,null,{"$f":"入力用シート!$E$16","v":1225},"d4=",0,"ｍ",null,null,null,null,null,null,null,null,null,null,null,null,null,null,null,null,null,null,null,null,null,null,null,null,null,null,null,null,null,null,null,null,null,"ｺﾝｸﾘ",{"$f":"IF($G89=0,\"\",IF($G89<=300,INT($G89/10)*10,IF($G89>400,400,50*INT($G89/50))))","v":""},{"$f":"IF($M89=0,\"\",IF($M89<=300,INT($M89/10)*10,IF($M89>400,400,50*INT($M89/50))))","v":""},{"$f":"IF($S89=0,\"\",IF($S89<=300,INT($S89/10)*10,IF($S89>400,400,50*INT($S89/50))))","v":""}]
[null,null,null,null,null,null,null,"⑩　tw：３月間における稼働時間(h)",null,null,null,null,{"$f":"IF(F69=0,0,G72/(F69*3600))","v":0},null,null,"機器の種類",null,"管容器からの空気ｶｰﾏ率（mGy/h）",null,null,null,null,null,null,null,null,null,null,null,null,null,null,null,null,null,null,null,null,null,null,null,null,null,null,null,null,null,"Fe",{"$f":"IF($G91=0,\"\",IF($G91<=30,INT($G91),IF($G91>40,40,5*INT($G91/5))))","v":""},{"$f":"IF($M91=0,\"\",IF($M91<=30,INT($M91),IF($M91>40,40,5*INT($M91/5))))","v":""},{"$f":"IF($S91=0,\"\",IF($S91<=30,INT($S91),IF($S91>40,40,5*INT($S91/5))))","v":""}]
[null,null,null,"C点の漏洩エックス線量の計算(利用線錘方向）",null,null,null,null,"C点の漏洩エックス線量の計算(被写体・管球）",null,null,null,null,null,1,"治療用ｴｯｸｽ線装置（≧50ｋV）",null,1,"選んだ機器",null,null,null,null,null,null,null,null,null,null,null,null,null,null,null,null,null,null,null,null,null,null,null,null,null,null,null,null,"石膏",{"$f":"IF($G93=0,\"\",IF($G93<=30,INT($G93),IF($G93>40,40,5*INT($G93/5))))","v":""},{"$f":"IF($M93=0,\"\",IF($M93<=30,INT($M93),IF($M93>40,40,5*INT($M93/5))))","v":""},{"$f":"IF($S93=0,\"\",IF($S93<=30,INT($S93),IF($S93>40,40,5*INT($S93/5))))","v":""}]
[null,null,null,null,"Ea=",{"$f":"MAX(F81,L81,R81)","v":0},"μSv/3ヶ月",null,null,"Es＝",{"$f":"MAX(F119,L119,R119)","v":0},"μSv/3ヶ月",null,null,2,"治療用ｴｯｸｽ線装置（＜50ｋV）",null,10,{"$f":"入力用シート!$C$7","v":0},null,null,null,null,null,null,null,null,null,null,null,null,null,null,null,null,null,null,null,null,null,null,null,null,null,null,null,null,"ｶﾞﾗｽ",{"$f":"IF($G95=0,\"\",IF($G95<=30,INT($G95),IF($G95>40,40,5*INT($G95/5))))","v":""},{"$f":"IF($M95=0,\"\",IF($M95<=30,INT($M95),IF($M95>40,40,5*INT($M95/5))))","v":""},{"$f":"IF($S95=0,\"\",IF($S95<=30,INT($S95),IF($S95>40,40,5*INT($S95/5))))","v":""}]
[null,null,null,null,null,null,null,null,null,"EL＝",{"$f":"MAX(F124,L124,R124)","v":0},"μSv/3ヶ月",null,null,3,"口内法撮影用X線装置（≦120ｋV）",null,0.25,"選ばれた空気ｶｰﾏ率XL",null,null,null,null,null,null,null,null,null,null,null,null,null,null,null,null,null,null,null,null,null,null,null,null,null,null,null,null,"木材",{"$f":"IF($G97=0,\"\",IF($G97<=300,INT($G97/10)*10,IF($G97>400,400,50*INT($G97/50))))","v":""},{"$f":"IF($M97=0,\"\",IF($M97<=300,INT($M97/10)*10,IF($M97>400,400,50*INT($M97/50))))","v":""},{"$f":"IF($S97=0,\"\",IF($S97<=300,INT($S97/10)*10,IF($S97>400,400,50*INT($S97/50))))","v":""}]
[null,null,null,null,null,null,null,null,null,"合計",{"$f":"+K75+K76","v":0},null,null,null,4,"上記以外の診断用X線装置",null,1,{"$f":"IF(S75=0,0,VLOOKUP(S75,O74:R77,4,0)*1000)","v":0}]
[null,null,null,null,null,null,null,null,null,null,null,null,null,null,null,null,null,null,null,null,null,null,null,null,null,null,null,null,null,null,null,null,null,null,null,null,null,null,null,null,null,null,null,null,null,null,"2)散乱線用"]
[null,null,null,"C点の計算",null,null,null,null,null,"C'点の計算",null,null,null,null,null,"C\"点の計算",null,null,null,null,null,null,null,null,null,null,null,null,null,null,null,null,null,null,null,null,null,null,null,null,null,null,null,null,null,null,"遮蔽厚参照値"]
[null,null,null,"1) Ep：一次エックス線（撮影方向）",null,null,null,null,null,"1) Ep：一次エックス線（撮影方向）",null,null,null,null,null,"1) Ep：一次エックス線（撮影方向）",null,null,null,null,null,null,null,null,null,null,null,null,null,null,null,null,null,null,null,null,null,null,null,null,null,null,null,null,null,null,null,null,"C点","C'点","C\"点"]
[null,null,null,"　",null,{"$f":"IF(OR($F68=0,$M69=0,A点!$AQ$7=1,AND($W$8=0,$W$45>0)),0,($G68*$R70*$G85*$F101*$G72*$G71*$M67*$M68)/($M69^2))","v":0},"μSv/3ヶ月",null,null,"　",null,{"$f":"IF(OR($F68=0,$M69=0,A点!$AQ$7=1,AND($W$20=0,$W$45>0)),0,($G68*$R70*$M85*$L101*$G72*$G71*$M67*$M68)/($M69^2))","v":0},"μSv/3ヶ月",null,null,"　",null,{"$f":"IF(OR($F68=0,$M69=0,A点!$AQ$7=1,AND($W$32=0,$W$45>0)),0,($G68*$R70*$S85*$R101*$G72*$G71*$M67*$M68)/($M69^2))","v":0},"μSv/3ヶ月",null,null,null,null,null,null,null,null,null,null,null,null,null,null,null,null,null,null,null,null,null,null,null,null,null,null,null,null,"Pb",{"$f":"IF($H87=0,\"\",IF($H87<=3,INT(10*$H87)/10,IF($H87>4,4,0.5*INT($H87/0.5))))","v":""},{"$f":"IF($N87=0,\"\",IF($N87<=3,INT(10*$N87)/10,IF($N87>4,4,0.5*INT($N87/0.5))))","v":""},{"$f":"IF($T87=0,\"\",IF($T87<=3,INT(10*$T87)/10,IF($T87>4,4,0.5*INT($T87/0.5))))","v":""}]
[null,null,null,null,null,null,null,null,null,null,null,null,null,null,null,null,null,null,null,null,null,null,null,null,null,null,null,null,null,null,null,null,null,null,null,null,null,null,null,null,null,null,null,null,null,null,null,"ｺﾝｸﾘ",{"$f":"IF($H89=0,\"\",IF($H89<=300,INT($H89/10)*10,IF($H89>400,400,50*INT($H89/50))))","v":""},{"$f":"IF($N89=0,\"\",IF($N89<=300,INT($N89/10)*10,IF($N89>400,400,50*INT($N89/50))))","v":""},{"$f":"IF($T89=0,\"\",IF($T89<=300,INT($T89/10)*10,IF($T89>400,400,50*INT($T89/50))))","v":""}]
[null,null,null,"a) 第１遮蔽材による減衰(遮蔽体がある場合透過率=1)",null,null,null,null,null,"a) 第１遮蔽材による減衰(遮蔽体がある場合透過率=1)",null,null,null,null,null,"a) 第１遮蔽材による減衰(遮蔽体がある場合透過率=1)",null,null,null,null,null,null,null,null,null,null,null,null,null,null,null,null,null,null,null,null,null,null,null,null,null,null,null,null,null,null,null,"Fe",{"$f":"IF($H91=0,\"\",IF($H91<=30,INT($H91),IF($H91>40,40,5*INT($H91/5))))","v":""},{"$f":"IF($N91=0,\"\",IF($N91<=30,INT($N91),IF($N91>40,40,5*INT($N91/5))))","v":""},{"$f":"IF($T91=0,\"\",IF($T91<=30,INT($T91),IF($T91>40,40,5*INT($T91/5))))","v":""}]
[null,null,null,null,null,"第1遮蔽材",{"$f":"IF($S$68>0,\"遮蔽体\",$W$8)","v":0},{"$f":"$W$8","v":0},null,null,null,"第1遮蔽材",{"$f":"IF($S$68>0,\"遮蔽体\",$W$20)","v":0},{"$f":"$W$20","v":0},null,null,null,"第1遮蔽材",{"$f":"IF($S$68>0,\"遮蔽体\",$W$32)","v":0},{"$f":"$W$32","v":0},null,null,null,null,null,null,null,null,null,null,null,null,null,null,null,null,null,null,null,null,null,null,null,null,null,null,null,"石膏",{"$f":"IF($H93=0,\"\",IF($H93<=30,INT($H93),IF($H93>40,40,5*INT($H93/5))))","v":""},{"$f":"IF($N93=0,\"\",IF($N93<=30,INT($N93),IF($N93>40,40,5*INT($N93/5))))","v":""},{"$f":"IF($T93=0,\"\",IF($T93<=30,INT($T93),IF($T93>40,40,5*INT($T93/5))))","v":""}]
[null,null,null,null,null,"Dt1=",{"$f":"G88*G90*G92*G94*G96*G98","v":1},{"$f":"H88*H90*H92*H94*H96*H98","v":1},null,null,null,"Dt1=",{"$f":"M88*M90*M92*M94*M96*M98","v":1},{"$f":"N88*N90*N92*N94*N96*N98","v":1},null,null,null,"Dt1=",{"$f":"S88*S90*S92*S94*S96*S98","v":1},{"$f":"T88*T90*T92*T94*T96*T98","v":1},null,null,null,null,null,null,null,null,null,null,null,null,null,null,null,null,null,null,null,null,null,null,null,null,null,null,null,"ｶﾞﾗｽ",{"$f":"IF($H95=0,\"\",IF($H95<=30,INT($H95),IF($H95>40,40,5*INT($H95/5))))","v":""},{"$f":"IF($N95=0,\"\",IF($N95<=30,INT($N95),IF($N95>40,40,5*INT($N95/5))))","v":""},{"$f":"IF($T95=0,\"\",IF($T95<=30,INT($T95),IF($T95>40,40,5*INT($T95/5))))","v":""}]
[null,null,null,null,null,null,"一次線用","散乱線用",null,null,null,null,"一次線用","散乱線用",null,null,null,null,"一次線用","散乱線用",null,null,null,null,null,null,null,null,null,null,null,null,null,null,null,null,null,null,null,null,null,null,null,null,null,null,null,"木材",{"$f":"IF($H97=0,\"\",IF($H97<=300,INT($H97/10)*10,IF($H97>400,400,50*INT($H97/50))))","v":""},{"$f":"IF($N97=0,\"\",IF($N97<=300,INT($N97/10)*10,IF($N97>400,400,50*INT($N97/50))))","v":""},{"$f":"IF($T97=0,\"\",IF($T97<=300,INT($T97/10)*10,IF($T97>400,400,50*INT($T97/50))))","v":""}]
[null,null,null,"a)　鉛(表2)",null,"等価厚さ",{"$f":"IF($G84=$W$10,$W$9*$AE$8,0)","v":0},{"$f":"IF($H84=$W$10,$W$9*$AE$8,0)","v":0},null,"a)　鉛(表2)",null,"等価厚さ",{"$f":"IF($M84=$W$22,$W$21*$AE$8,0)","v":0},{"$f":"IF($N84=$W$22,$W$21*$AE$8,0)","v":0},null,"a)　鉛(表2)",null,"等価厚さ",{"$f":"IF($S84=$W$34,$W$33*$AE$8,0)","v":0},{"$f":"IF($T84=$W$34,$W$33*$AE$8,0)","v":0}]
[null,null,null,null,null,"透過率",{"$f":"IF(OR($G87=0,A点!$AM$8=1,A点!$AM$8=\"○\"),1,INDEX('表２(Pb)'!$A$3:$Y$36,MATCH($AW71,'表２(Pb)'!$A$3:$A$36,0),MATCH($F68,'表２(Pb)'!$A$3:$Y$3,0)))","v":1},{"$f":"IF(OR($H87=0,A点!$AM$8=1,A点!$AM$8=\"○\"),1,INDEX('表２(Pb)'!$A$3:$Y$36,MATCH($AW81,'表２(Pb)'!$A$3:$A$36,0),MATCH($F68,'表２(Pb)'!$A$3:$Y$3,0)))","v":1},null,null,null,"透過率",{"$f":"IF(OR($M87=0,A点!$AM$8=1,A点!$AM$8=\"○\"),1,INDEX('表２(Pb)'!$A$3:$Y$36,MATCH($AX71,'表２(Pb)'!$A$3:$A$36,0),MATCH($F68,'表２(Pb)'!$A$3:$Y$3,0)))","v":1},{"$f":"IF(OR($N87=0,A点!$AM$8=1,A点!$AM$8=\"○\"),1,INDEX('表２(Pb)'!$A$3:$Y$36,MATCH($AX81,'表２(Pb)'!$A$3:$A$36,0),MATCH($F68,'表２(Pb)'!$A$3:$Y$3,0)))","v":1},null,null,null,"透過率",{"$f":"IF(OR($S87=0,A点!$AM$8=1,A点!$AM$8=\"○\"),1,INDEX('表２(Pb)'!$A$3:$Y$36,MATCH($AY71,'表２(Pb)'!$A$3:$A$36,0),MATCH($F68,'表２(Pb)'!$A$3:$Y$3,0)))","v":1},{"$f":"IF(OR($T87=0,A点!$AM$8=1,A点!$AM$8=\"○\"),1,INDEX('表２(Pb)'!$A$3:$Y$36,MATCH($AY81,'表２(Pb)'!$A$3:$A$36,0),MATCH($F68,'表２(Pb)'!$A$3:$Y$3,0)))","v":1},null,null,null,null,null,null,null,null,null,null,null,null,null,null,null,null,null,null,null,null,null,null,null,null,null,null,"3)","遮蔽材順"]
[null,null,null,"b)　コンクリート(表3)",null,"等価厚さ",{"$f":"IF($G84=$X$10,$W$9*$AE$9,0)","v":0},{"$f":"IF($H84=$X$10,$W$9*$AE$9,0)","v":0},null,"b)　コンクリート(表3)",null,"等価厚さ",{"$f":"IF($M84=$X$22,$W$21*$AE$9,0)","v":0},{"$f":"IF($N84=$X$22,$W$21*$AE$9,0)","v":0},null,"b)　コンクリート(表3)",null,"等価厚さ",{"$f":"IF($S84=$X$34,$W$33*$AE$9,0)","v":0},{"$f":"IF($T84=$X$34,$W$33*$AE$9,0)","v":0},null,null,null,null,null,null,null,null,null,null,null,null,null,null,null,null,null,null,null,null,null,null,null,null,null,null,null,null,"C点","C'点","C\"点"]
[null,null,null,null,null,"透過率",{"$f":"IF(OR($G89=0,A点!$AM$8=1,A点!$AM$8=\"○\"),1,INDEX('表３(コ)'!$A$3:$Y$36,MATCH($AW72,'表３(コ)'!$A$3:$A$36,0),MATCH($F68,'表３(コ)'!$A$3:$Y$3,0)))","v":1},{"$f":"IF(OR($H89=0,A点!$AM$8=1,A点!$AM$8=\"○\"),1,INDEX('表３(コ)'!$A$3:$Y$36,MATCH($AW82,'表３(コ)'!$A$3:$A$36,0),MATCH($F68,'表３(コ)'!$A$3:$Y$3,0)))","v":1},null,null,null,"透過率",{"$f":"IF(OR($M89=0,A点!$AM$8=1,A点!$AM$8=\"○\"),1,INDEX('表３(コ)'!$A$3:$Y$36,MATCH($AX72,'表３(コ)'!$A$3:$A$36,0),MATCH($F68,'表３(コ)'!$A$3:$Y$3,0)))","v":1},{"$f":"IF(OR($N89=0,A点!$AM$8=1,A点!$AM$8=\"○\"),1,INDEX('表３(コ)'!$A$3:$Y$36,MATCH($AX82,'表３(コ)'!$A$3:$A$36,0),MATCH($F68,'表３(コ)'!$A$3:$Y$3,0)))","v":1},null,null,null,"透過率",{"$f":"IF(OR($S89=0,A点!$AM$8=1,A点!$AM$8=\"○\"),1,INDEX('表３(コ)'!$A$3:$Y$36,MATCH($AY72,'表３(コ)'!$A$3:$A$36,0),MATCH($F68,'表３(コ)'!$A$3:$Y$3,0)))","v":1},{"$f":"IF(OR($T89=0,A点!$AM$8=1,A点!$AM$8=\"○\"),1,INDEX('表３(コ)'!$A$3:$Y$36,MATCH($AY82,'表３(コ)'!$A$3:$A$36,0),MATCH($F68,'表３(コ)'!$A$3:$Y$3,0)))","v":1},null,null,null,null,null,null,null,null,null,null,null,null,null,null,null,null,null,null,null,null,null,null,null,null,null,null,null,"第1遮蔽材",{"$f":"IF($AW100=\"11\",G$84,H$84)","v":0},{"$f":"IF($AW100=\"11\",M$84,N$84)","v":0},{"$f":"IF($AW100=\"11\",S$84,T$84)","v":0}]
[null,null,null,"c)　鉄(表4)",null,"等価厚さ",{"$f":"IF($G84=$Y$10,$W$9*$AE$10,0)","v":0},{"$f":"IF($H84=$Y$10,$W$9*$AE$10,0)","v":0},null,"c)　鉄(表4)",null,"等価厚さ",{"$f":"IF($M84=$Y$22,$W$21*$AE$10,0)","v":0},{"$f":"IF($N84=$Y$22,$W$21*$AE$10,0)","v":0},null,"c)　鉄(表4)",null,"等価厚さ",{"$f":"IF($S84=$Y$34,$W$33*$AE$10,0)","v":0},{"$f":"IF($T84=$Y$34,$W$33*$AE$10,0)","v":0},null,null,null,null,null,null,null,null,null,null,null,null,null,null,null,null,null,null,null,null,null,null,null,null,null,null,null,"第2遮蔽材",{"$f":"IF($AW100=\"11\",W$8,X$8)","v":0},{"$f":"IF($AW100=\"11\",W$20,X$20)","v":0},{"$f":"IF($AW100=\"11\",W$32,X$32)","v":0}]
[null,null,null,null,null,"透過率",{"$f":"IF(OR($G91=0,A点!$AM$8=1,A点!$AM$8=\"○\"),1,INDEX('表4(Fe)'!$A$3:$Y$36,MATCH($AW73,'表4(Fe)'!$A$3:$A$36,0),MATCH($F68,'表4(Fe)'!$A$3:$Y$3,0)))","v":1},{"$f":"IF(OR($H91=0,A点!$AM$8=1,A点!$AM$8=\"○\"),1,INDEX('表4(Fe)'!$A$3:$Y$36,MATCH($AW83,'表4(Fe)'!$A$3:$A$36,0),MATCH($F68,'表4(Fe)'!$A$3:$Y$3,0)))","v":1},null,null,null,"透過率",{"$f":"IF(OR($M91=0,A点!$AM$8=1,A点!$AM$8=\"○\"),1,INDEX('表4(Fe)'!$A$3:$Y$36,MATCH($AX73,'表4(Fe)'!$A$3:$A$36,0),MATCH($F68,'表4(Fe)'!$A$3:$Y$3,0)))","v":1},{"$f":"IF(OR($N91=0,A点!$AM$8=1,A点!$AM$8=\"○\"),1,INDEX('表4(Fe)'!$A$3:$Y$36,MATCH($AX83,'表4(Fe)'!$A$3:$A$36,0),MATCH($F68,'表4(Fe)'!$A$3:$Y$3,0)))","v":1},null,null,null,"透過率",{"$f":"IF(OR($S91=0,A点!$AM$8=1,A点!$AM$8=\"○\"),1,INDEX('表4(Fe)'!$A$3:$Y$36,MATCH($AY73,'表4(Fe)'!$A$3:$A$36,0),MATCH($F68,'表4(Fe)'!$A$3:$Y$3,0)))","v":1},{"$f":"IF(OR($T91=0,A点!$AM$8=1,A点!$AM$8=\"○\"),1,INDEX('表4(Fe)'!$A$3:$Y$36,MATCH($AY83,'表4(Fe)'!$A$3:$A$36,0),MATCH($F68,'表4(Fe)'!$A$3:$Y$3,0)))","v":1},null,null,null,null,null,null,null,null,null,null,null,null,null,null,null,null,null,null,null,null,null,null,null,null,null,null,null,"第3遮蔽材",{"$f":"IF($AW100=\"11\",X$8,Y$8)","v":0},{"$f":"IF($AW100=\"11\",X$20,Y$20)","v":0},{"$f":"IF($AW100=\"11\",X$32,Y$32)","v":0}]
[null,null,null,"d)　石膏(表5)",null,"等価厚さ",{"$f":"IF($G84=$Z$10,$W$9*$AE$11,0)","v":0},{"$f":"IF($H84=$Z$10,$W$9*$AE$11,0)","v":0},null,"d)　石膏(表5)",null,"等価厚さ",{"$f":"IF($M84=$Z$22,$W$21*$AE$11,0)","v":0},{"$f":"IF($N84=$Z$22,$W$21*$AE$11,0)","v":0},null,"d)　石膏(表5)",null,"等価厚さ",{"$f":"IF($S84=$Z$34,$W$33*$AE$11,0)","v":0},{"$f":"IF($T84=$Z$34,$W$33*$AE$11,0)","v":0},null,null,null,null,null,null,null,null,null,null,null,null,null,null,null,null,null,null,null,null,null,null,null,null,null,null,null,"第4遮蔽材",{"$f":"IF($AW100=\"11\",Y$8,Z$8)","v":0},{"$f":"IF($AW100=\"11\",Y$20,Z$20)","v":0},{"$f":"IF($AW100=\"11\",Y$32,Z$32)","v":0}]
[null,null,null,null,null,"透過率",{"$f":"IF(OR($G93=0,A点!$AM$8=1,A点!$AM$8=\"○\"),1,INDEX('表5(CaSO4)'!$A$3:$Y$36,MATCH($AW74,'表5(CaSO4)'!$A$3:$A$36,0),MATCH($F68,'表5(CaSO4)'!$A$3:$Y$3,0)))","v":1},{"$f":"IF(OR($H93=0,A点!$AM$8=1,A点!$AM$8=\"○\"),1,INDEX('表5(CaSO4)'!$A$3:$Y$36,MATCH($AW84,'表5(CaSO4)'!$A$3:$A$36,0),MATCH($F68,'表5(CaSO4)'!$A$3:$Y$3,0)))","v":1},null,null,null,"透過率",{"$f":"IF(OR($M93=0,A点!$AM$8=1,A点!$AM$8=\"○\"),1,INDEX('表5(CaSO4)'!$A$3:$Y$36,MATCH($AX74,'表5(CaSO4)'!$A$3:$A$36,0),MATCH($F68,'表5(CaSO4)'!$A$3:$Y$3,0)))","v":1},{"$f":"IF(OR($N93=0,A点!$AM$8=1,A点!$AM$8=\"○\"),1,INDEX('表5(CaSO4)'!$A$3:$Y$36,MATCH($AX84,'表5(CaSO4)'!$A$3:$A$36,0),MATCH($F68,'表5(CaSO4)'!$A$3:$Y$3,0)))","v":1},null,null,null,"透過率",{"$f":"IF(OR($S93=0,A点!$AM$8=1,A点!$AM$8=\"○\"),1,INDEX('表5(CaSO4)'!$A$3:$Y$36,MATCH($AY74,'表5(CaSO4)'!$A$3:$A$36,0),MATCH($F68,'表5(CaSO4)'!$A$3:$Y$3,0)))","v":1},{"$f":"IF(OR($T93=0,A点!$AM$8=1,A点!$AM$8=\"○\"),1,INDEX('表5(CaSO4)'!$A$3:$Y$36,MATCH($AY84,'表5(CaSO4)'!$A$3:$A$36,0),MATCH($F68,'表5(CaSO4)'!$A$3:$Y$3,0)))","v":1},null,null,null,null,null,null,null,null,null,null,null,null,null,null,null,null,null,null,null,null,null,null,null,null,null,null,null,"第5遮蔽材",{"$f":"IF($AW100=\"11\",Z$8,AA$8)","v":0},{"$f":"IF($AW100=\"11\",Z$20,AA$20)","v":0},{"$f":"IF($AW100=\"11\",Z$32,AA$32)","v":0}]
[null,null,null,"e）　ガラス(表6)",null,"等価厚さ",{"$f":"IF($G84=$AA$10,$W$9*$AE$12,0)","v":0},{"$f":"IF($H84=$AA$10,$W$9*$AE$12,0)","v":0},null,"e）　ガラス(表6)",null,"等価厚さ",{"$f":"IF($M84=$AA$22,$W$21*$AE$12,0)","v":0},{"$f":"IF($N84=$AA$22,$W$21*$AE$12,0)","v":0},null,"e）　ガラス(表6)",null,"等価厚さ",{"$f":"IF($S84=$AA$34,$W$33*$AE$12,0)","v":0},{"$f":"IF($T84=$AA$34,$W$33*$AE$12,0)","v":0},null,null,null,null,null,null,null,null,null,null,null,null,null,null,null,null,null,null,null,null,null,null,null,null,null,null,null,"第6遮蔽材",{"$f":"IF($AW100=\"11\",AA$8,AB$8)","v":0},{"$f":"IF($AW100=\"11\",AA$20,AB$20)","v":0},{"$f":"IF($AW100=\"11\",AA$32,AB$32)","v":0}]
[null,null,null,null,null,"透過率",{"$f":"IF(OR($G95=0,A点!$AM$8=1,A点!$AM$8=\"○\"),1,INDEX('表6(SiO2)'!$A$3:$Y$36,MATCH($AW75,'表6(SiO2)'!$A$3:$A$36,0),MATCH($F68,'表6(SiO2)'!$A$3:$Y$3,0)))","v":1},{"$f":"IF(OR($H95=0,A点!$AM$8=1,A点!$AM$8=\"○\"),1,INDEX('表6(SiO2)'!$A$3:$Y$36,MATCH($AW85,'表6(SiO2)'!$A$3:$A$36,0),MATCH($F68,'表6(SiO2)'!$A$3:$Y$3,0)))","v":1},null,null,null,"透過率",{"$f":"IF(OR($M95=0,A点!$AM$8=1,A点!$AM$8=\"○\"),1,INDEX('表6(SiO2)'!$A$3:$Y$36,MATCH($AX75,'表6(SiO2)'!$A$3:$A$36,0),MATCH($F68,'表6(SiO2)'!$A$3:$Y$3,0)))","v":1},{"$f":"IF(OR($N95=0,A点!$AM$8=1,A点!$AM$8=\"○\"),1,INDEX('表6(SiO2)'!$A$3:$Y$36,MATCH($AX85,'表6(SiO2)'!$A$3:$A$36,0),MATCH($F68,'表6(SiO2)'!$A$3:$Y$3,0)))","v":1},null,null,null,"透過率",{"$f":"IF(OR($S95=0,A点!$AM$8=1,A点!$AM$8=\"○\"),1,INDEX('表6(SiO2)'!$A$3:$Y$36,MATCH($AY75,'表6(SiO2)'!$A$3:$A$36,0),MATCH($F68,'表6(SiO2)'!$A$3:$Y$3,0)))","v":1},{"$f":"IF(OR($T95=0,A点!$AM$8=1,A点!$AM$8=\"○\"),1,INDEX('表6(SiO2)'!$A$3:$Y$36,MATCH($AY85,'表6(SiO2)'!$A$3:$A$36,0),MATCH($F68,'表6(SiO2)'!$A$3:$Y$3,0)))","v":1},null,null,null,null,null,null,null,null,null,null,null,null,null,null,null,null,null,null,null,null,null,null,null,null,null,null,null,"第7遮蔽材",{"$f":"IF($AW100=\"11\",AB$8,\"\")","v":""},{"$f":"IF($AW100=\"11\",AB$20,\"\")","v":""},{"$f":"IF($AW100=\"11\",AB$32,\"\")","v":""}]
[null,null,null,"f)　木材(表7)",null,"等価厚さ",{"$f":"IF($G84=$AB$10,$W$9*$AE$13,0)","v":0},{"$f":"IF($H84=$AB$10,$W$9*$AE$13,0)","v":0},null,"f)　木材(表7)",null,"等価厚さ",{"$f":"IF($M84=$AB$22,$W$21*$AE$13,0)","v":0},{"$f":"IF($N84=$AB$22,$W$21*$AE$13,0)","v":0},null,"f)　木材(表7)",null,"等価厚さ",{"$f":"IF($S84=$AB$34,$W$33*$AE$13,0)","v":0},{"$f":"IF($T84=$AB$34,$W$33*$AE$13,0)","v":0}]
[null,null,null,null,null,"透過率",{"$f":"IF(OR($G97=0,A点!$AM$8=1,A点!$AM$8=\"○\"),1,INDEX('表7(木)'!$A$3:$Y$36,MATCH($AW76,'表7(木)'!$A$3:$A$36,0),MATCH($F68,'表7(木)'!$A$3:$Y$3,0)))","v":1},{"$f":"IF(OR($H97=0,A点!$AM$8=1,A点!$AM$8=\"○\"),1,INDEX('表7(木)'!$A$3:$Y$36,MATCH($AW86,'表7(木)'!$A$3:$A$36,0),MATCH($F68,'表7(木)'!$A$3:$Y$3,0)))","v":1},null,null,null,"透過率",{"$f":"IF(OR($M97=0,A点!$AM$8=1,A点!$AM$8=\"○\"),1,INDEX('表7(木)'!$A$3:$Y$36,MATCH($AX76,'表7(木)'!$A$3:$A$36,0),MATCH($F68,'表7(木)'!$A$3:$Y$3,0)))","v":1},{"$f":"IF(OR($N97=0,A点!$AM$8=1,A点!$AM$8=\"○\"),1,INDEX('表7(木)'!$A$3:$Y$36,MATCH($AX86,'表7(木)'!$A$3:$A$36,0),MATCH($F68,'表7(木)'!$A$3:$Y$3,0)))","v":1},null,null,null,"透過率",{"$f":"IF(OR($S97=0,A点!$AM$8=1,A点!$AM$8=\"○\"),1,INDEX('表7(木)'!$A$3:$Y$36,MATCH($AY76,'表7(木)'!$A$3:$A$36,0),MATCH($F68,'表7(木)'!$A$3:$Y$3,0)))","v":1},{"$f":"IF(OR($T97=0,A点!$AM$8=1,A点!$AM$8=\"○\"),1,INDEX('表7(木)'!$A$3:$Y$36,MATCH($AY86,'表7(木)'!$A$3:$A$36,0),MATCH($F68,'表7(木)'!$A$3:$Y$3,0)))","v":1},null,null,null,null,null,null,null,null,null,null,null,null,null,null,null,null,null,null,null,null,null,null,null,null,null,null,null,"遮蔽体有無",{"$f":"IF($S68>0,1,0)","v":0},"遮蔽体有：１"]
[null,null,null,null,null,null,null,null,null,null,null,null,null,null,null,null,null,null,null,null,null,null,null,null,null,null,null,null,null,null,null,null,null,null,null,null,null,null,null,null,null,null,null,null,null,null,null,"照射方向",{"$f":"IF($M69>0,1,2)","v":2},"直接線：1、散乱線：2"]
[null,null,null,"b)　第２遮蔽材以後による一次線の減衰表9",null,null,null,null,null,"b)　第２遮蔽材以後による一次線の減衰表9",null,null,null,null,null,"b)　第２遮蔽材以後による一次線の減衰表9",null,null,null,null,null,null,null,null,null,null,null,null,null,null,null,null,null,null,null,null,null,null,null,null,null,null,null,null,null,null,null,"判定コード",{"$f":"AW98&AW99","v":"02"}]
[null,null,null,null,"Dt2=",{"$f":"F104*F106*F108*F110*F112*F114","v":0},{"$f":"G104*G106*G108*G110*G112*G114","v":0},0,null,null,"Dt2=",{"$f":"L104*L106*L108*L110*L112*L114","v":0},{"$f":"M104*M106*M108*M110*M112*M114","v":0},0,null,null,"Dt2=",{"$f":"R104*R106*R108*R110*R112*R114","v":0},{"$f":"S104*S106*S108*S110*S112*S114","v":0},0]
[null,null,null,null,null,"一次線用","散乱線用","漏洩線用",null,null,null,"一次線用","散乱線用","漏洩線用",null,null,null,"一次線用","散乱線用","漏洩線用"]
[null,null,null,"a)　鉛(表9)","半価層(mm)",{"$f":"IF(OR(A点!$AM$8=1,A点!$AM$8=\"○\"),\"\",VLOOKUP($F68,'表9(BB)'!$A$4:$M$27,2,0))","v":""},null,null,null,"a)　鉛(表9)","半価層(mm)",{"$f":"IF(OR(A点!$AM$8=1,A点!$AM$8=\"○\"),\"\",VLOOKUP($F68,'表9(BB)'!$A$4:$M$27,2,0))","v":""},null,null,null,"a)　鉛(表9)","半価層(mm)",{"$f":"IF(OR(A点!$AM$8=1,A点!$AM$8=\"○\"),\"\",VLOOKUP($F68,'表9(BB)'!$A$4:$M$27,2,0))","v":""}]
[null,null,null,null,"透過率",{"$f":"IF($S$68>0,$H104,$G104)","v":0},{"$f":"IF($F103=\"\",0,(1/2)^($W18*$AE$8/$F103))","v":0},{"$f":"IF($F103=\"\",0,(1/2)^($W17*$AE$8/$F103))","v":0},null,null,"透過率",{"$f":"IF($S$68>0,$N104,$M104)","v":0},{"$f":"IF($L103=\"\",0,(1/2)^($W30*$AE$8/$L103))","v":0},{"$f":"IF($L103=\"\",0,(1/2)^($W29*$AE$8/$L103))","v":0},null,null,"透過率",{"$f":"IF($S$68>0,$T104,$S104)","v":0},{"$f":"IF($R103=\"\",0,(1/2)^($W42*$AE$8/$R103))","v":0},{"$f":"IF($R103=\"\",0,(1/2)^($W41*$AE$8/$R103))","v":0}]
[null,null,null,"b)　コンクリート(表9)","半価層(mm)",{"$f":"IF(OR(A点!$AM$8=1,A点!$AM$8=\"○\"),\"\",VLOOKUP($F68,'表9(BB)'!$A$4:$M$27,4,0))","v":""},null,null,null,"b)　コンクリート(表9)","半価層(mm)",{"$f":"IF(OR(A点!$AM$8=1,A点!$AM$8=\"○\"),\"\",VLOOKUP($F68,'表9(BB)'!$A$4:$M$27,4,0))","v":""},null,null,null,"b)　コンクリート(表9)","半価層(mm)",{"$f":"IF(OR(A点!$AM$8=1,A点!$AM$8=\"○\"),\"\",VLOOKUP($F68,'表9(BB)'!$A$4:$M$27,4,0))","v":""}]
[null,null,null,null,"透過率",{"$f":"IF($S$68>0,$H106,$G106)","v":0},{"$f":"IF($F105=\"\",0,(1/2)^($X18*$AE$9/$F105))","v":0},{"$f":"IF($F105=\"\",0,(1/2)^($X17*$AE$9/$F105))","v":0},null,null,"透過率",{"$f":"IF($S$68>0,$N106,$M106)","v":0},{"$f":"IF($L105=\"\",0,(1/2)^($X30*$AE$9/$L105))","v":0},{"$f":"IF($L105=\"\",0,(1/2)^($X29*$AE$9/$L105))","v":0},null,null,"透過率",{"$f":"IF($S$68>0,$T106,$S106)","v":0},{"$f":"IF($R105=\"\",0,(1/2)^($X42*$AE$9/$R105))","v":0},{"$f":"IF($R105=\"\",0,(1/2)^($X41*$AE$9/$R105))","v":0}]
[null,null,null,"c)　鉄(表9)","半価層(mm)",{"$f":"IF(OR(A点!$AM$8=1,A点!$AM$8=\"○\"),\"\",VLOOKUP($F68,'表9(BB)'!$A$4:$M$27,6,0))","v":""},null,null,null,"c)　鉄(表9)","半価層(mm)",{"$f":"IF(OR(A点!$AM$8=1,A点!$AM$8=\"○\"),\"\",VLOOKUP($F68,'表9(BB)'!$A$4:$M$27,6,0))","v":""},null,null,null,"c)　鉄(表9)","半価層(mm)",{"$f":"IF(OR(A点!$AM$8=1,A点!$AM$8=\"○\"),\"\",VLOOKUP($F68,'表9(BB)'!$A$4:$M$27,6,0))","v":""}]
[null,null,null,null,"透過率",{"$f":"IF($S$68>0,$H108,$G108)","v":0},{"$f":"IF($F107=\"\",0,(1/2)^($Y18*$AE$10/$F107))","v":0},{"$f":"IF($F107=\"\",0,(1/2)^($Y17*$AE$10/$F107))","v":0},null,null,"透過率",{"$f":"IF($S$68>0,$N108,$M108)","v":0},{"$f":"IF($L107=\"\",0,(1/2)^($Y30*$AE$10/$L107))","v":0},{"$f":"IF($L107=\"\",0,(1/2)^($Y29*$AE$10/$L107))","v":0},null,null,"透過率",{"$f":"IF($S$68>0,$T108,$S108)","v":0},{"$f":"IF($R107=\"\",0,(1/2)^($Y42*$AE$10/$R107))","v":0},{"$f":"IF($R107=\"\",0,(1/2)^($Y41*$AE$10/$R107))","v":0}]
[null,null,null,"d)　石膏(表9)","半価層(mm)",{"$f":"IF(OR(A点!$AM$8=1,A点!$AM$8=\"○\"),\"\",VLOOKUP($F68,'表9(BB)'!$A$4:$M$27,8,0))","v":""},null,null,null,"d)　石膏(表9)","半価層(mm)",{"$f":"IF(OR(A点!$AM$8=1,A点!$AM$8=\"○\"),\"\",VLOOKUP($F68,'表9(BB)'!$A$4:$M$27,8,0))","v":""},null,null,null,"d)　石膏(表9)","半価層(mm)",{"$f":"IF(OR(A点!$AM$8=1,A点!$AM$8=\"○\"),\"\",VLOOKUP($F68,'表9(BB)'!$A$4:$M$27,8,0))","v":""}]
[null,null,null,null,"透過率",{"$f":"IF($S$68>0,$H110,$G110)","v":0},{"$f":"IF($F109=\"\",0,(1/2)^($Z18*$AE$11/$F109))","v":0},{"$f":"IF($F109=\"\",0,(1/2)^($Z17*$AE$11/$F109))","v":0},null,null,"透過率",{"$f":"IF($S$68>0,$N110,$M110)","v":0},{"$f":"IF($L109=\"\",0,(1/2)^($Z30*$AE$11/$L109))","v":0},{"$f":"IF($L109=\"\",0,(1/2)^($Z29*$AE$11/$L109))","v":0},null,null,"透過率",{"$f":"IF($S$68>0,$T110,$S110)","v":0},{"$f":"IF($R109=\"\",0,(1/2)^($Z42*$AE$11/$R109))","v":0},{"$f":"IF($R109=\"\",0,(1/2)^($Z41*$AE$11/$R109))","v":0}]
[null,null,null,"e）　ガラス(表9)","半価層(mm)",{"$f":"IF(OR(A点!$AM$8=1,A点!$AM$8=\"○\"),\"\",VLOOKUP($F68,'表9(BB)'!$A$4:$M$27,10,0))","v":""},null,null,null,"e）　ガラス(表9)","半価層(mm)",{"$f":"IF(OR(A点!$AM$8=1,A点!$AM$8=\"○\"),\"\",VLOOKUP($F68,'表9(BB)'!$A$4:$M$27,10,0))","v":""},null,null,null,"e）　ガラス(表9)","半価層(mm)",{"$f":"IF(OR(A点!$AM$8=1,A点!$AM$8=\"○\"),\"\",VLOOKUP($F68,'表9(BB)'!$A$4:$M$27,10,0))","v":""}]
[null,null,null,null,"透過率",{"$f":"IF($S$68>0,$H112,$G112)","v":0},{"$f":"IF($F111=\"\",0,(1/2)^($AA18*$AE$12/$F111))","v":0},{"$f":"IF($F111=\"\",0,(1/2)^($AA17*$AE$12/$F111))","v":0},null,null,"透過率",{"$f":"IF($S$68>0,$N112,$M112)","v":0},{"$f":"IF($L111=\"\",0,(1/2)^($AA30*$AE$12/$L111))","v":0},{"$f":"IF($L111=\"\",0,(1/2)^($AA29*$AE$12/$L111))","v":0},null,null,"透過率",{"$f":"IF($S$68>0,$T112,$S112)","v":0},{"$f":"IF($R111=\"\",0,(1/2)^($AA42*$AE$12/$R111))","v":0},{"$f":"IF($R111=\"\",0,(1/2)^($AA41*$AE$12/$R111))","v":0}]
[null,null,null,"f)　木材(表9)","半価層(mm)",{"$f":"IF(OR(A点!$AM$8=1,A点!$AM$8=\"○\"),\"\",VLOOKUP($F68,'表9(BB)'!$A$4:$M$27,12,0))","v":""},null,null,null,"f)　木材(表9)","半価層(mm)",{"$f":"IF(OR(A点!$AM$8=1,A点!$AM$8=\"○\"),\"\",VLOOKUP($F68,'表9(BB)'!$A$4:$M$27,12,0))","v":""},null,null,null,"f)　木材(表9)","半価層(mm)",{"$f":"IF(OR(A点!$AM$8=1,A点!$AM$8=\"○\"),\"\",VLOOKUP($F68,'表9(BB)'!$A$4:$M$27,12,0))","v":""}]
[null,null,null,null,"透過率",{"$f":"IF($S$68>0,$H114,$G114)","v":0},{"$f":"IF($F113=\"\",0,(1/2)^($AB18*$AE$13/$F113))","v":0},{"$f":"IF($F113=\"\",0,(1/2)^($AB17*$AE$13/$F113))","v":0},null,null,"透過率",{"$f":"IF($S$68>0,$N114,$M114)","v":0},{"$f":"IF(L113=\"\",0,(1/2)^($AB30*$AE$13/$L113))","v":0},{"$f":"IF($L113=\"\",0,(1/2)^($AB29*$AE$13/$L113))","v":0},null,null,"透過率",{"$f":"IF($S$68>0,$T114,$S114)","v":0},{"$f":"IF($R113=\"\",0,(1/2)^($AB42*$AE$13/$R113))","v":0},{"$f":"IF($R113=\"\",0,(1/2)^($AB41*$AE$13/$R113))","v":0}]
[]
[]
[null,null,null,"2)　Es：散乱エックス線の漏洩線量(散乱角90度)",null,null,null,null,null,"2)　Es：散乱エックス線の漏洩線量(散乱角90度)",null,null,null,null,null,"2)　Es：散乱エックス線の漏洩線量(散乱角90度)"]
[null,null,null,null,"Dt=",{"$f":"H85*G101","v":0},null,null,null,null,"Dt=",{"$f":"N85*M101","v":0},null,null,null,null,"Dt=",{"$f":"T85*S101","v":0}]
[null,null,null,null,"Es=",{"$f":"IF(OR($F68=0,$M70=0,$M71=0,AND($W$8=0,$W$45>0),A点!$AQ$7=1),0,$G68*$G72*$G71*F118*$M67*$M68*($K71/100)*$K72/(400*($M70^2)*($M71^2)))","v":0},"μSv/3ヶ月",null,null,null,"Es=",{"$f":"IF(OR($F68=0,$M70=0,$M71=0,AND($W$20=0,$W$45>0),A点!$AQ$7=1),0,$G68*$G72*$G71*L118*$M67*$M68*($K71/100)*$K72/(400*($M70^2)*($M71^2)))","v":0},"μSv/3ヶ月",null,null,null,"Es=",{"$f":"IF(OR($F68=0,$M70=0,$M71=0,AND($W$32=0,$W$45>0),A点!$AQ$7=1),0,$G68*$G72*$G71*R118*$M67*$M68*($K71/100)*$K72/(400*($M70^2)*($M71^2)))","v":0},"μSv/3ヶ月"]
[]
[]
[null,null,null,"3)　EL：エックス線管容器からの漏洩線量(最大見積)",null,null,null,null,null,"3)　EL：エックス線管容器からの漏洩線量(最大見積)",null,null,null,null,null,"3)　EL：エックス線管容器からの漏洩線量(最大見積)"]
[]
[null,null,null,null,"EL=",{"$f":"IF(OR($F68=0,$M72=0,AND($W$8=0,$W$45>0),A点!$AQ$7=1),0,$S77*$G71*$M73*H101*$M67*$M68/($M72^2))","v":0},"μGy/h",null,null,null,"EL=",{"$f":"IF(OR($F68=0,$M72=0,AND($W$20=0,$W$45>0),A点!$AQ$7=1),0,$S77*$G71*$M73*N101*$M67*$M68/($M72^2))","v":0},"μGy/h",null,null,null,"EL=",{"$f":"IF(OR($F68=0,$F68=0,$M72=0,AND($W$32=0,$W$45>0)),0,$S77*$G71*$M73*T101*$M67*$M68/($M72^2))","v":0},"μGy/h"]
[]
[]
[null,"CT撮影",null,"①　X：空気カーマ(表1)",null,null,null,"④　使用係数",null,null,null,"Ｕ＝",1,null,null,"1)対向板による一次線の減衰(表２)",null,null,null,null,null,null,null,null,null,null,null,null,null,null,null,null,null,null,null,null,null,null,null,null,null,null,null,null,null,null,"③CT用透過率（表2-7）"]
[null,null,null,null,"使用管電圧",{"$f":"A点!$F$128","v":0},{"$f":"A点!$G$128","v":0},"⑤　居住係数",null,null,null,"Ｔ＝",1,null,null,null,null,"等価厚さ",{"$f":"入力用シート!$AA$10","v":0},"mm",null,null,null,null,null,null,null,null,null,null,null,null,null,null,null,null,null,null,null,null,null,null,null,null,null,null,"1)直接線用"]
[null,null,null,null,"電流",{"$f":"A点!$F$129","v":0},null,"⑥　距離",null,null,null,"d1=",{"$f":"M9","v":0},"ｍ",null,null,"使用管電圧",{"$f":"A点!$AN$5","v":0},null,null,null,null,null,null,null,null,null,null,null,null,null,null,null,null,null,null,null,null,null,null,null,null,null,null,null,null,"遮蔽厚参照値"]
[null,null,null,"②　E/Ka：空気カーマ換算係数（表10）",null,null,null,"⑧　照射野400cm2空気ｶｰﾏ率表8",null,null,null,"d2=",{"$f":"M10","v":0},"ｍ",null,null,"透過率",{"$f":"IF(A点!$AN$8=\"○\",\"\",IF(A点!$AN$8=1,\"データなし\",IF($S128>3,HLOOKUP($R129,'表２(Pb)'!$B$3:$Y$36,32+ROUNDDOWN(($S128-3)/0.5,0),0),HLOOKUP($R129,'表２(Pb)'!$B$3:$Y$36,2+S128/0.1,0))))","v":""},null,null,null,null,null,null,null,null,null,null,null,null,null,null,null,null,null,null,null,null,null,null,null,null,null,null,null,null,null,null,"C点","C'点","C\"点"]
[null,null,null,null,"使用管電圧",{"$f":"A点!$F$131","v":0},{"$f":"A点!$G$131","v":0},null,null,null,{"$f":"A点!$AN$7","v":0},"d3=",0,"ｍ",null,null,null,null,null,null,null,null,null,null,null,null,null,null,null,null,null,null,null,null,null,null,null,null,null,null,null,null,null,null,null,null,null,"Pb",{"$f":"IF($G147=0,\"\",IF($G147<=3,INT(10*$G147)/10,IF($G147>4,4,0.5*INT($G147/0.5))))","v":""},{"$f":"IF($M147=0,\"\",IF($M147<=3,INT(10*$M147)/10,IF($M147>4,4,0.5*INT($M147/0.5))))","v":""},{"$f":"IF($S147=0,\"\",IF($S147<=3,INT(10*$S147)/10,IF($S147>4,4,0.5*INT($S147/0.5))))","v":""}]
[null,null,null,"③　W：３Ｍ実効稼動負荷",null,"合計",{"$f":"13*(入力用シート!$L$32*入力用シート!$Q$32*入力用シート!$H$33*入力用シート!$L$33*入力用シート!$Q$33)","v":0},"⑨　受像面照射野",null,null,{"$f":"入力用シート!$E$17","v":60},"d4=",0,"ｍ",null,null,null,null,null,null,null,null,null,null,null,null,null,null,null,null,null,null,null,null,null,null,null,null,null,null,null,null,null,null,null,null,null,"ｺﾝｸﾘ",{"$f":"IF($G149=0,\"\",IF($G149<=300,INT($G149/10)*10,IF($G149>400,400,50*INT($G149/50))))","v":""},{"$f":"IF($M149=0,\"\",IF($M149<=300,INT($M149/10)*10,IF($M149>400,400,50*INT($M149/50))))","v":""},{"$f":"IF($S149=0,\"\",IF($S149<=300,INT($S149/10)*10,IF($S149>400,400,50*INT($S149/50))))","v":""}]
[null,null,null,null,null,null,null,"⑩　tw：３月間における稼働時間(h)",null,null,null,null,{"$f":"IF(F129=0,0,G132/(F129*3600))","v":0},null,null,"機器の種類",null,"管容器からの空気ｶｰﾏ率（mGy/h）",null,null,null,null,null,null,null,null,null,null,null,null,null,null,null,null,null,null,null,null,null,null,null,null,null,null,null,null,null,"Fe",{"$f":"IF($G151=0,\"\",IF($G151<=30,INT($G151),IF($G151>40,40,5*INT($G151/5))))","v":""},{"$f":"IF($M151=0,\"\",IF($M151<=30,INT($M151),IF($M151>40,40,5*INT($M151/5))))","v":""},{"$f":"IF($S151=0,\"\",IF($S151<=30,INT($S151),IF($S151>40,40,5*INT($S151/5))))","v":""}]
[null,null,null,"C点の漏洩エックス線量の計算(利用線錘方向）",null,null,null,null,"C点の漏洩エックス線量の計算(被写体・管球）",null,null,null,null,null,1,"治療用ｴｯｸｽ線装置（≧50ｋV）",null,1,"選んだ機器",null,null,null,null,null,null,null,null,null,null,null,null,null,null,null,null,null,null,null,null,null,null,null,null,null,null,null,null,"石膏",{"$f":"IF($G153=0,\"\",IF($G153<=30,INT($G153),IF($G153>40,40,5*INT($G153/5))))","v":""},{"$f":"IF($M153=0,\"\",IF($M153<=30,INT($M153),IF($M153>40,40,5*INT($M153/5))))","v":""},{"$f":"IF($S153=0,\"\",IF($S153<=30,INT($S153),IF($S153>40,40,5*INT($S153/5))))","v":""}]
[null,null,null,null,"Ea=",{"$f":"MAX(F141,L141,R141)","v":0},"μSv/3ヶ月",null,null,"Es＝",{"$f":"MAX(F179,L179,R179)","v":0},"μSv/3ヶ月",null,null,2,"治療用ｴｯｸｽ線装置（＜50ｋV）",null,10,{"$f":"入力用シート!$C$7","v":0},null,null,null,null,null,null,null,null,null,null,null,null,null,null,null,null,null,null,null,null,null,null,null,null,null,null,null,null,"ｶﾞﾗｽ",{"$f":"IF($G155=0,\"\",IF($G155<=30,INT($G155),IF($G155>40,40,5*INT($G155/5))))","v":""},{"$f":"IF($M155=0,\"\",IF($M155<=30,INT($M155),IF($M155>40,40,5*INT($M155/5))))","v":""},{"$f":"IF($S155=0,\"\",IF($S155<=30,INT($S155),IF($S155>40,40,5*INT($S155/5))))","v":""}]
[null,null,null,null,null,null,null,null,null,"EL＝",{"$f":"MAX(F184,L184,R184)","v":0},"μSv/3ヶ月",null,null,3,"口内法撮影用X線装置（≦120ｋV）",null,0.25,"選ばれた空気ｶｰﾏ率XL",null,null,null,null,null,null,null,null,null,null,null,null,null,null,null,null,null,null,null,null,null,null,null,null,null,null,null,null,"木材",{"$f":"IF($G157=0,\"\",IF($G157<=300,INT($G157/10)*10,IF($G157>400,400,50*INT($G157/50))))","v":""},{"$f":"IF($M157=0,\"\",IF($M157<=300,INT($M157/10)*10,IF($M157>400,400,50*INT($M157/50))))","v":""},{"$f":"IF($S157=0,\"\",IF($S157<=300,INT($S157/10)*10,IF($S157>400,400,50*INT($S157/50))))","v":""}]
[null,null,null,null,null,null,null,null,null,"合計",{"$f":"+K135+K136","v":0},null,null,null,4,"上記以外の診断用X線装置",null,1,{"$f":"IF(S135=0,0,VLOOKUP(S135,O134:R137,4,0)*1000)","v":0}]
[null,null,null,null,null,null,null,null,null,null,null,null,null,null,null,null,null,null,null,null,null,null,null,null,null,null,null,null,null,null,null,null,null,null,null,null,null,null,null,null,null,null,null,null,null,null,"2)散乱線用"]
[null,null,null,"C点の計算",null,null,null,null,null,"C'点の計算",null,null,null,null,null,"C\"点の計算",null,null,null,null,null,null,null,null,null,null,null,null,null,null,null,null,null,null,null,null,null,null,null,null,null,null,null,null,null,null,"遮蔽厚参照値"]
[null,null,null,"1) Ep：一次エックス線（撮影方向）",null,null,null,null,null,"1) Ep：一次エックス線（撮影方向）",null,null,null,null,null,"1) Ep：一次エックス線（撮影方向）",null,null,null,null,null,null,null,null,null,null,null,null,null,null,null,null,null,null,null,null,null,null,null,null,null,null,null,null,null,null,null,null,"C点","C'点","C\"点"]
[null,null,null,"　",null,{"$f":"IF(OR($F128=0,$M129=0,A点!$AQ$7=1,AND($W$8=0,$W$45>0)),0,($G128*$R130*$G145*$F161*0.25*$G132*$G131*$M127*$M128)/($M129^2))","v":0},"μSv/3ヶ月",null,null,"　",null,{"$f":"IF(OR($F128=0,$M129=0,A点!$AQ$7=1,AND($W$20=0,$W$45>0)),0,($G128*$R130*$M145*$L161*0.25*$G132*$G131*$M127*$M128)/($M129^2))","v":0},"μSv/3ヶ月",null,null,"　",null,{"$f":"IF(OR($F128=0,$M129=0,A点!$AQ$7=1,AND($W$32=0,$W$45>0)),0,($G128*$R130*$S145*$R161*0.25*$G132*$G131*$M127*$M128)/($M129^2))","v":0},"μSv/3ヶ月",null,null,null,null,null,null,null,null,null,null,null,null,null,null,null,null,null,null,null,null,null,null,null,null,null,null,null,null,"Pb",{"$f":"IF($H147=0,\"\",IF($H147<=3,INT(10*$H147)/10,IF($H147>4,4,0.5*INT($H147/0.5))))","v":""},{"$f":"IF($N147=0,\"\",IF($N147<=3,INT(10*$N147)/10,IF($N147>4,4,0.5*INT($N147/0.5))))","v":""},{"$f":"IF($T147=0,\"\",IF($T147<=3,INT(10*$T147)/10,IF($T147>4,4,0.5*INT($T147/0.5))))","v":""}]
[null,null,null,null,null,null,null,null,null,null,null,null,null,null,null,null,null,null,null,null,null,null,null,null,null,null,null,null,null,null,null,null,null,null,null,null,null,null,null,null,null,null,null,null,null,null,null,"ｺﾝｸﾘ",{"$f":"IF($H149=0,\"\",IF($H149<=300,INT($H149/10)*10,IF($H149>400,400,50*INT($H149/50))))","v":""},{"$f":"IF($N149=0,\"\",IF($N149<=300,INT($N149/10)*10,IF($N149>400,400,50*INT($N149/50))))","v":""},{"$f":"IF($T149=0,\"\",IF($T149<=300,INT($T149/10)*10,IF($T149>400,400,50*INT($T149/50))))","v":""}]
[null,null,null,"a) 第１遮蔽材による減衰(遮蔽体がある場合透過率=1)",null,null,null,null,null,"a) 第１遮蔽材による減衰(遮蔽体がある場合透過率=1)",null,null,null,null,null,"a) 第１遮蔽材による減衰(遮蔽体がある場合透過率=1)",null,null,null,null,null,null,null,null,null,null,null,null,null,null,null,null,null,null,null,null,null,null,null,null,null,null,null,null,null,null,null,"Fe",{"$f":"IF($H151=0,\"\",IF($H151<=30,INT($H151),IF($H151>40,40,5*INT($H151/5))))","v":""},{"$f":"IF($N151=0,\"\",IF($N151<=30,INT($N151),IF($N151>40,40,5*INT($N151/5))))","v":""},{"$f":"IF($T151=0,\"\",IF($T151<=30,INT($T151),IF($T151>40,40,5*INT($T151/5))))","v":""}]
[null,null,null,null,null,"第1遮蔽材",{"$f":"IF($S$128>0,\"遮蔽体\",$W$8)","v":0},{"$f":"$W$8","v":0},null,null,null,"第1遮蔽材",{"$f":"IF($S$128>0,\"遮蔽体\",$W$20)","v":0},{"$f":"$W$20","v":0},null,null,null,"第1遮蔽材",{"$f":"IF($S$128>0,\"遮蔽体\",$W$32)","v":0},{"$f":"$W$32","v":0},null,null,null,null,null,null,null,null,null,null,null,null,null,null,null,null,null,null,null,null,null,null,null,null,null,null,null,"石膏",{"$f":"IF($H153=0,\"\",IF($H153<=30,INT($H153),IF($H153>40,40,5*INT($H153/5))))","v":""},{"$f":"IF($N153=0,\"\",IF($N153<=30,INT($N153),IF($N153>40,40,5*INT($N153/5))))","v":""},{"$f":"IF($T153=0,\"\",IF($T153<=30,INT($T153),IF($T153>40,40,5*INT($T153/5))))","v":""}]
[null,null,null,null,null,"Dt1=",{"$f":"G148*G150*G152*G154*G156*G158","v":1},{"$f":"H148*H150*H152*H154*H156*H158","v":1},null,null,null,"Dt1=",{"$f":"M148*M150*M152*M154*M156*M158","v":1},{"$f":"N148*N150*N152*N154*N156*N158","v":1},null,null,null,"Dt1=",{"$f":"S148*S150*S152*S154*S156*S158","v":1},{"$f":"T148*T150*T152*T154*T156*T158","v":1},null,null,null,null,null,null,null,null,null,null,null,null,null,null,null,null,null,null,null,null,null,null,null,null,null,null,null,"ｶﾞﾗｽ",{"$f":"IF($H155=0,\"\",IF($H155<=30,INT($H155),IF($H155>40,40,5*INT($H155/5))))","v":""},{"$f":"IF($N155=0,\"\",IF($N155<=30,INT($N155),IF($N155>40,40,5*INT($N155/5))))","v":""},{"$f":"IF($T155=0,\"\",IF($T155<=30,INT($T155),IF($T155>40,40,5*INT($T155/5))))","v":""}]
[null,null,null,null,null,null,"一次線用","散乱線用",null,null,null,null,"一次線用","散乱線用",null,null,null,null,"一次線用","散乱線用",null,null,null,null,null,null,null,null,null,null,null,null,null,null,null,null,null,null,null,null,null,null,null,null,null,null,null,"木材",{"$f":"IF($H157=0,\"\",IF($H157<=300,INT($H157/10)*10,IF($H157>400,400,50*INT($H157/50))))","v":""},{"$f":"IF($N157=0,\"\",IF($N157<=300,INT($N157/10)*10,IF($N157>400,400,50*INT($N157/50))))","v":""},{"$f":"IF($T157=0,\"\",IF($T157<=300,INT($T157/10)*10,IF($T157>400,400,50*INT($T157/50))))","v":""}]
[null,null,null,"a)　鉛(表2)",null,"等価厚さ",{"$f":"IF($G144=$W$10,$W$9*$AE$8,0)","v":0},{"$f":"IF($H144=$W$10,$W$9*$AE$8,0)","v":0},null,"a)　鉛(表2)",null,"等価厚さ",{"$f":"IF($M144=$W$22,$W$21*$AE$8,0)","v":0},{"$f":"IF($N144=$W$22,$W$21*$AE$8,0)","v":0},null,"a)　鉛(表2)",null,"等価厚さ",{"$f":"IF($S144=$W$34,$W$33*$AE$8,0)","v":0},{"$f":"IF($T144=$W$34,$W$33*$AE$8,0)","v":0}]
[null,null,null,null,null,"透過率",{"$f":"IF(OR($G147=0,A点!$AN$8=1,A点!$AN$8=\"○\"),1,INDEX('表２(Pb)'!$A$3:$Y$36,MATCH($AW131,'表２(Pb)'!$A$3:$A$36,0),MATCH($F128,'表２(Pb)'!$A$3:$Y$3,0)))","v":1},{"$f":"IF(OR($H147=0,A点!$AN$8=1,A点!$AN$8=\"○\"),1,INDEX('表２(Pb)'!$A$3:$Y$36,MATCH($AW141,'表２(Pb)'!$A$3:$A$36,0),MATCH($F128,'表２(Pb)'!$A$3:$Y$3,0)))","v":1},null,null,null,"透過率",{"$f":"IF(OR($M147=0,A点!$AN$8=1,A点!$AN$8=\"○\"),1,INDEX('表２(Pb)'!$A$3:$Y$36,MATCH($AX131,'表２(Pb)'!$A$3:$A$36,0),MATCH($F128,'表２(Pb)'!$A$3:$Y$3,0)))","v":1},{"$f":"IF(OR($N147=0,A点!$AN$8=1,A点!$AN$8=\"○\"),1,INDEX('表２(Pb)'!$A$3:$Y$36,MATCH($AX141,'表２(Pb)'!$A$3:$A$36,0),MATCH($F128,'表２(Pb)'!$A$3:$Y$3,0)))","v":1},null,null,null,"透過率",{"$f":"IF(OR($S147=0,A点!$AN$8=1,A点!$AN$8=\"○\"),1,INDEX('表２(Pb)'!$A$3:$Y$36,MATCH($AY131,'表２(Pb)'!$A$3:$A$36,0),MATCH($F128,'表２(Pb)'!$A$3:$Y$3,0)))","v":1},{"$f":"IF(OR($T147=0,A点!$AN$8=1,A点!$AN$8=\"○\"),1,INDEX('表２(Pb)'!$A$3:$Y$36,MATCH($AY141,'表２(Pb)'!$A$3:$A$36,0),MATCH($F128,'表２(Pb)'!$A$3:$Y$3,0)))","v":1},null,null,null,null,null,null,null,null,null,null,null,null,null,null,null,null,null,null,null,null,null,null,null,null,null,null,"3)","遮蔽材順"]
[null,null,null,"b)　コンクリート(表3)",null,"等価厚さ",{"$f":"IF($G144=$X$10,$W$9*$AE$9,0)","v":0},{"$f":"IF($H144=$X$10,$W$9*$AE$9,0)","v":0},null,"b)　コンクリート(表3)",null,"等価厚さ",{"$f":"IF($M144=$X$22,$W$21*$AE$9,0)","v":0},{"$f":"IF($N144=$X$22,$W$21*$AE$9,0)","v":0},null,"b)　コンクリート(表3)",null,"等価厚さ",{"$f":"IF($S144=$X$34,$W$33*$AE$9,0)","v":0},{"$f":"IF($T144=$X$34,$W$33*$AE$9,0)","v":0},null,null,null,null,null,null,null,null,null,null,null,null,null,null,null,null,null,null,null,null,null,null,null,null,null,null,null,null,"C点","C'点","C\"点"]
[null,null,null,null,null,"透過率",{"$f":"IF(OR($G149=0,A点!$AN$8=1,A点!$AN$8=\"○\"),1,INDEX('表３(コ)'!$A$3:$Y$36,MATCH($AW132,'表３(コ)'!$A$3:$A$36,0),MATCH($F128,'表３(コ)'!$A$3:$Y$3,0)))","v":1},{"$f":"IF(OR($H149=0,A点!$AN$8=1,A点!$AN$8=\"○\"),1,INDEX('表３(コ)'!$A$3:$Y$36,MATCH($AW142,'表３(コ)'!$A$3:$A$36,0),MATCH($F128,'表３(コ)'!$A$3:$Y$3,0)))","v":1},null,null,null,"透過率",{"$f":"IF(OR($M149=0,A点!$AN$8=1,A点!$AN$8=\"○\"),1,INDEX('表３(コ)'!$A$3:$Y$36,MATCH($AX132,'表３(コ)'!$A$3:$A$36,0),MATCH($F128,'表３(コ)'!$A$3:$Y$3,0)))","v":1},{"$f":"IF(OR($N149=0,A点!$AN$8=1,A点!$AN$8=\"○\"),1,INDEX('表３(コ)'!$A$3:$Y$36,MATCH($AX142,'表３(コ)'!$A$3:$A$36,0),MATCH($F128,'表３(コ)'!$A$3:$Y$3,0)))","v":1},null,null,null,"透過率",{"$f":"IF(OR($S149=0,A点!$AN$8=1,A点!$AN$8=\"○\"),1,INDEX('表３(コ)'!$A$3:$Y$36,MATCH($AY132,'表３(コ)'!$A$3:$A$36,0),MATCH($F128,'表３(コ)'!$A$3:$Y$3,0)))","v":1},{"$f":"IF(OR($T149=0,A点!$AN$8=1,A点!$AN$8=\"○\"),1,INDEX('表３(コ)'!$A$3:$Y$36,MATCH($AY142,'表３(コ)'!$A$3:$A$36,0),MATCH($F128,'表３(コ)'!$A$3:$Y$3,0)))","v":1},null,null,null,null,null,null,null,null,null,null,null,null,null,null,null,null,null,null,null,null,null,null,null,null,null,null,null,"第1遮蔽材",{"$f":"IF($AW160=\"11\",G$144,H$144)","v":0},{"$f":"IF($AW160=\"11\",M$144,N$144)","v":0},{"$f":"IF($AW160=\"11\",S$144,T$144)","v":0}]
[null,null,null,"c)　鉄(表4)",null,"等価厚さ",{"$f":"IF($G144=$Y$10,$W$9*$AE$10,0)","v":0},{"$f":"IF($H144=$Y$10,$W$9*$AE$10,0)","v":0},null,"c)　鉄(表4)",null,"等価厚さ",{"$f":"IF($M144=$Y$22,$W$21*$AE$10,0)","v":0},{"$f":"IF($N144=$Y$22,$W$21*$AE$10,0)","v":0},null,"c)　鉄(表4)",null,"等価厚さ",{"$f":"IF($S144=$Y$34,$W$33*$AE$10,0)","v":0},{"$f":"IF($T144=$Y$34,$W$33*$AE$10,0)","v":0},null,null,null,null,null,null,null,null,null,null,null,null,null,null,null,null,null,null,null,null,null,null,null,null,null,null,null,"第2遮蔽材",{"$f":"IF($AW160=\"11\",W$8,X$8)","v":0},{"$f":"IF($AW160=\"11\",W$20,X$20)","v":0},{"$f":"IF($AW160=\"11\",W$32,X$32)","v":0}]
[null,null,null,null,null,"透過率",{"$f":"IF(OR($G151=0,A点!$AN$8=1,A点!$AN$8=\"○\"),1,INDEX('表4(Fe)'!$A$3:$Y$36,MATCH($AW133,'表4(Fe)'!$A$3:$A$36,0),MATCH($F128,'表4(Fe)'!$A$3:$Y$3,0)))","v":1},{"$f":"IF(OR($H151=0,A点!$AN$8=1,A点!$AN$8=\"○\"),1,INDEX('表4(Fe)'!$A$3:$Y$36,MATCH($AW143,'表4(Fe)'!$A$3:$A$36,0),MATCH($F128,'表4(Fe)'!$A$3:$Y$3,0)))","v":1},null,null,null,"透過率",{"$f":"IF(OR($M151=0,A点!$AN$8=1,A点!$AN$8=\"○\"),1,INDEX('表4(Fe)'!$A$3:$Y$36,MATCH($AX133,'表4(Fe)'!$A$3:$A$36,0),MATCH($F128,'表4(Fe)'!$A$3:$Y$3,0)))","v":1},{"$f":"IF(OR($N151=0,A点!$AN$8=1,A点!$AN$8=\"○\"),1,INDEX('表4(Fe)'!$A$3:$Y$36,MATCH($AX143,'表4(Fe)'!$A$3:$A$36,0),MATCH($F128,'表4(Fe)'!$A$3:$Y$3,0)))","v":1},null,null,null,"透過率",{"$f":"IF(OR($S151=0,A点!$AN$8=1,A点!$AN$8=\"○\"),1,INDEX('表4(Fe)'!$A$3:$Y$36,MATCH($AY133,'表4(Fe)'!$A$3:$A$36,0),MATCH($F128,'表4(Fe)'!$A$3:$Y$3,0)))","v":1},{"$f":"IF(OR($T151=0,A点!$AN$8=1,A点!$AN$8=\"○\"),1,INDEX('表4(Fe)'!$A$3:$Y$36,MATCH($AY143,'表4(Fe)'!$A$3:$A$36,0),MATCH($F128,'表4(Fe)'!$A$3:$Y$3,0)))","v":1},null,null,null,null,null,null,null,null,null,null,null,null,null,null,null,null,null,null,null,null,null,null,null,null,null,null,null,"第3遮蔽材",{"$f":"IF($AW160=\"11\",X$8,Y$8)","v":0},{"$f":"IF($AW160=\"11\",X$20,Y$20)","v":0},{"$f":"IF($AW160=\"11\",X$32,Y$32)","v":0}]
[null,null,null,"d)　石膏(表5)",null,"等価厚さ",{"$f":"IF($G144=$Z$10,$W$9*$AE$11,0)","v":0},{"$f":"IF($H144=$Z$10,$W$9*$AE$11,0)","v":0},null,"d)　石膏(表5)",null,"等価厚さ",{"$f":"IF($M144=$Z$22,$W$21*$AE$11,0)","v":0},{"$f":"IF($N144=$Z$22,$W$21*$AE$11,0)","v":0},null,"d)　石膏(表5)",null,"等価厚さ",{"$f":"IF($S144=$Z$34,$W$33*$AE$11,0)","v":0},{"$f":"IF($T144=$Z$34,$W$33*$AE$11,0)","v":0},null,null,null,null,null,null,null,null,null,null,null,null,null,null,null,null,null,null,null,null,null,null,null,null,null,null,null,"第4遮蔽材",{"$f":"IF($AW160=\"11\",Y$8,Z$8)","v":0},{"$f":"IF($AW160=\"11\",Y$20,Z$20)","v":0},{"$f":"IF($AW160=\"11\",Y$32,Z$32)","v":0}]
[null,null,null,null,null,"透過率",{"$f":"IF(OR($G153=0,A点!$AN$8=1,A点!$AN$8=\"○\"),1,INDEX('表5(CaSO4)'!$A$3:$Y$36,MATCH($AW134,'表5(CaSO4)'!$A$3:$A$36,0),MATCH($F128,'表5(CaSO4)'!$A$3:$Y$3,0)))","v":1},{"$f":"IF(OR($H153=0,A点!$AN$8=1,A点!$AN$8=\"○\"),1,INDEX('表5(CaSO4)'!$A$3:$Y$36,MATCH($AW144,'表5(CaSO4)'!$A$3:$A$36,0),MATCH($F128,'表5(CaSO4)'!$A$3:$Y$3,0)))","v":1},null,null,null,"透過率",{"$f":"IF(OR($M153=0,A点!$AN$8=1,A点!$AN$8=\"○\"),1,INDEX('表5(CaSO4)'!$A$3:$Y$36,MATCH($AX134,'表5(CaSO4)'!$A$3:$A$36,0),MATCH($F128,'表5(CaSO4)'!$A$3:$Y$3,0)))","v":1},{"$f":"IF(OR($N153=0,A点!$AN$8=1,A点!$AN$8=\"○\"),1,INDEX('表5(CaSO4)'!$A$3:$Y$36,MATCH($AX144,'表5(CaSO4)'!$A$3:$A$36,0),MATCH($F128,'表5(CaSO4)'!$A$3:$Y$3,0)))","v":1},null,null,null,"透過率",{"$f":"IF(OR($S153=0,A点!$AN$8=1,A点!$AN$8=\"○\"),1,INDEX('表5(CaSO4)'!$A$3:$Y$36,MATCH($AY134,'表5(CaSO4)'!$A$3:$A$36,0),MATCH($F128,'表5(CaSO4)'!$A$3:$Y$3,0)))","v":1},{"$f":"IF(OR($T153=0,A点!$AN$8=1,A点!$AN$8=\"○\"),1,INDEX('表5(CaSO4)'!$A$3:$Y$36,MATCH($AY144,'表5(CaSO4)'!$A$3:$A$36,0),MATCH($F128,'表5(CaSO4)'!$A$3:$Y$3,0)))","v":1},null,null,null,null,null,null,null,null,null,null,null,null,null,null,null,null,null,null,null,null,null,null,null,null,null,null,null,"第5遮蔽材",{"$f":"IF($AW160=\"11\",Z$8,AA$8)","v":0},{"$f":"IF($AW160=\"11\",Z$20,AA$20)","v":0},{"$f":"IF($AW160=\"11\",Z$32,AA$32)","v":0}]
[null,null,null,"e）　ガラス(表6)",null,"等価厚さ",{"$f":"IF($G144=$AA$10,$W$9*$AE$12,0)","v":0},{"$f":"IF($H144=$AA$10,$W$9*$AE$12,0)","v":0},null,"e）　ガラス(表6)",null,"等価厚さ",{"$f":"IF($M144=$AA$22,$W$21*$AE$12,0)","v":0},{"$f":"IF($N144=$AA$22,$W$21*$AE$12,0)","v":0},null,"e）　ガラス(表6)",null,"等価厚さ",{"$f":"IF($S144=$AA$34,$W$33*$AE$12,0)","v":0},{"$f":"IF($T144=$AA$34,$W$33*$AE$12,0)","v":0},null,null,null,null,null,null,null,null,null,null,null,null,null,null,null,null,null,null,null,null,null,null,null,null,null,null,null,"第6遮蔽材",{"$f":"IF($AW160=\"11\",AA$8,AB$8)","v":0},{"$f":"IF($AW160=\"11\",AA$20,AB$20)","v":0},{"$f":"IF($AW160=\"11\",AA$32,AB$32)","v":0}]
[null,null,null,null,null,"透過率",{"$f":"IF(OR($G155=0,A点!$AN$8=1,A点!$AN$8=\"○\"),1,INDEX('表6(SiO2)'!$A$3:$Y$36,MATCH($AW135,'表6(SiO2)'!$A$3:$A$36,0),MATCH($F128,'表6(SiO2)'!$A$3:$Y$3,0)))","v":1},{"$f":"IF(OR($H155=0,A点!$AN$8=1,A点!$AN$8=\"○\"),1,INDEX('表6(SiO2)'!$A$3:$Y$36,MATCH($AW145,'表6(SiO2)'!$A$3:$A$36,0),MATCH($F128,'表6(SiO2)'!$A$3:$Y$3,0)))","v":1},null,null,null,"透過率",{"$f":"IF(OR($M155=0,A点!$AN$8=1,A点!$AN$8=\"○\"),1,INDEX('表6(SiO2)'!$A$3:$Y$36,MATCH($AX135,'表6(SiO2)'!$A$3:$A$36,0),MATCH($F128,'表6(SiO2)'!$A$3:$Y$3,0)))","v":1},{"$f":"IF(OR($N155=0,A点!$AN$8=1,A点!$AN$8=\"○\"),1,INDEX('表6(SiO2)'!$A$3:$Y$36,MATCH($AX145,'表6(SiO2)'!$A$3:$A$36,0),MATCH($F128,'表6(SiO2)'!$A$3:$Y$3,0)))","v":1},null,null,null,"透過率",{"$f":"IF(OR($S155=0,A点!$AN$8=1,A点!$AN$8=\"○\"),1,INDEX('表6(SiO2)'!$A$3:$Y$36,MATCH($AY135,'表6(SiO2)'!$A$3:$A$36,0),MATCH($F128,'表6(SiO2)'!$A$3:$Y$3,0)))","v":1},{"$f":"IF(OR($T155=0,A点!$AN$8=1,A点!$AN$8=\"○\"),1,INDEX('表6(SiO2)'!$A$3:$Y$36,MATCH($AY145,'表6(SiO2)'!$A$3:$A$36,0),MATCH($F128,'表6(SiO2)'!$A$3:$Y$3,0)))","v":1},null,null,null,null,null,null,null,null,null,null,null,null,null,null,null,null,null,null,null,null,null,null,null,null,null,null,null,"第7遮蔽材",{"$f":"IF($AW160=\"11\",AB$8,\"\")","v":""},{"$f":"IF($AW160=\"11\",AB$20,\"\")","v":""},{"$f":"IF($AW160=\"11\",AB$32,\"\")","v":""}]
[null,null,null,"f)　木材(表7)",null,"等価厚さ",{"$f":"IF($G144=$AB$10,$W$9*$AE$13,0)","v":0},{"$f":"IF($H144=$AB$10,$W$9*$AE$13,0)","v":0},null,"f)　木材(表7)",null,"等価厚さ",{"$f":"IF($M144=$AB$22,$W$21*$AE$13,0)","v":0},{"$f":"IF($N144=$AB$22,$W$21*$AE$13,0)","v":0},null,"f)　木材(表7)",null,"等価厚さ",{"$f":"IF($S144=$AB$34,$W$33*$AE$13,0)","v":0},{"$f":"IF($T144=$AB$34,$W$33*$AE$13,0)","v":0}]
[null,null,null,null,null,"透過率",{"$f":"IF(OR($G157=0,A点!$AN$8=1,A点!$AN$8=\"○\"),1,INDEX('表7(木)'!$A$3:$Y$36,MATCH($AW136,'表7(木)'!$A$3:$A$36,0),MATCH($F128,'表7(木)'!$A$3:$Y$3,0)))","v":1},{"$f":"IF(OR($H157=0,A点!$AN$8=1,A点!$AN$8=\"○\"),1,INDEX('表7(木)'!$A$3:$Y$36,MATCH($AW146,'表7(木)'!$A$3:$A$36,0),MATCH($F128,'表7(木)'!$A$3:$Y$3,0)))","v":1},null,null,null,"透過率",{"$f":"IF(OR($M157=0,A点!$AN$8=1,A点!$AN$8=\"○\"),1,INDEX('表7(木)'!$A$3:$Y$36,MATCH($AX136,'表7(木)'!$A$3:$A$36,0),MATCH($F128,'表7(木)'!$A$3:$Y$3,0)))","v":1},{"$f":"IF(OR($N157=0,A点!$AN$8=1,A点!$AN$8=\"○\"),1,INDEX('表7(木)'!$A$3:$Y$36,MATCH($AX146,'表7(木)'!$A$3:$A$36,0),MATCH($F128,'表7(木)'!$A$3:$Y$3,0)))","v":1},null,null,null,"透過率",{"$f":"IF(OR($S157=0,A点!$AN$8=1,A点!$AN$8=\"○\"),1,INDEX('表7(木)'!$A$3:$Y$36,MATCH($AY136,'表7(木)'!$A$3:$A$36,0),MATCH($F128,'表7(木)'!$A$3:$Y$3,0)))","v":1},{"$f":"IF(OR($T157=0,A点!$AN$8=1,A点!$AN$8=\"○\"),1,INDEX('表7(木)'!$A$3:$Y$36,MATCH($AY146,'表7(木)'!$A$3:$A$36,0),MATCH($F128,'表7(木)'!$A$3:$Y$3,0)))","v":1},null,null,null,null,null,null,null,null,null,null,null,null,null,null,null,null,null,null,null,null,null,null,null,null,null,null,null,"遮蔽体有無",{"$f":"IF($S128>0,1,0)","v":0},"遮蔽体有：１"]
[null,null,null,null,null,null,null,null,null,null,null,null,null,null,null,null,null,null,null,null,null,null,null,null,null,null,null,null,null,null,null,null,null,null,null,null,null,null,null,null,null,null,null,null,null,null,null,"照射方向",{"$f":"IF($M129>0,1,2)","v":2},"直接線：1、散乱線：2"]
[null,null,null,"b)　第２遮蔽材以後による一次線の減衰表9",null,null,null,null,null,"b)　第２遮蔽材以後による一次線の減衰表9",null,null,null,null,null,"b)　第２遮蔽材以後による一次線の減衰表9",null,null,null,null,null,null,null,null,null,null,null,null,null,null,null,null,null,null,null,null,null,null,null,null,null,null,null,null,null,null,null,"判定コード",{"$f":"AW158&AW159","v":"02"}]
[null,null,null,null,"Dt2=",{"$f":"F164*F166*F168*F170*F172*F174","v":0},{"$f":"G164*G166*G168*G170*G172*G174","v":0},0,null,null,"Dt2=",{"$f":"L164*L166*L168*L170*L172*L174","v":0},{"$f":"M164*M166*M168*M170*M172*M174","v":0},0,null,null,"Dt2=",{"$f":"R164*R166*R168*R170*R172*R174","v":0},{"$f":"S164*S166*S168*S170*S172*S174","v":0},0]
[null,null,null,null,null,"一次線用","散乱線用","漏洩線用",null,null,null,"一次線用","散乱線用","漏洩線用",null,null,null,"一次線用","散乱線用","漏洩線用"]
[null,null,null,"a)　鉛(表9)","半価層(mm)",{"$f":"IF(OR(A点!$AN$8=1,A点!$AN$8=\"○\"),\"\",VLOOKUP($F128,'表9(BB)'!$A$4:$M$27,2,0))","v":""},null,null,null,"a)　鉛(表9)","半価層(mm)",{"$f":"IF(OR(A点!$AN$8=1,A点!$AN$8=\"○\"),\"\",VLOOKUP($F128,'表9(BB)'!$A$4:$M$27,2,0))","v":""},null,null,null,"a)　鉛(表9)","半価層(mm)",{"$f":"IF(OR(A点!$AN$8=1,A点!$AN$8=\"○\"),\"\",VLOOKUP($F128,'表9(BB)'!$A$4:$M$27,2,0))","v":""}]
[null,null,null,null,"透過率",{"$f":"IF($S$128>0,H164,G164)","v":0},{"$f":"IF($F163=\"\",0,(1/2)^($W18*$AE$8/$F163))","v":0},{"$f":"IF($F163=\"\",0,(1/2)^($W17*$AE$8/$F163))","v":0},null,null,"透過率",{"$f":"IF($S$128>0,N164,M164)","v":0},{"$f":"IF($L$163=\"\",0,(1/2)^($W30*$AE$8/$L163))","v":0},{"$f":"IF($L163=\"\",0,(1/2)^($W29*$AE$8/$L163))","v":0},null,null,"透過率",{"$f":"IF($S$128>0,T164,S164)","v":0},{"$f":"IF($R163=\"\",0,(1/2)^($W42*$AE$8/$R163))","v":0},{"$f":"IF($R163=\"\",0,(1/2)^($W41*$AE$8/$R163))","v":0}]
[null,null,null,"b)　コンクリート(表9)","半価層(mm)",{"$f":"IF(OR(A点!$AN$8=1,A点!$AN$8=\"○\"),\"\",VLOOKUP($F128,'表9(BB)'!$A$4:$M$27,4,0))","v":""},null,null,null,"b)　コンクリート(表9)","半価層(mm)",{"$f":"IF(OR(A点!$AN$8=1,A点!$AN$8=\"○\"),\"\",VLOOKUP($F128,'表9(BB)'!$A$4:$M$27,4,0))","v":""},null,null,null,"b)　コンクリート(表9)","半価層(mm)",{"$f":"IF(OR(A点!$AN$8=1,A点!$AN$8=\"○\"),\"\",VLOOKUP($F128,'表9(BB)'!$A$4:$M$27,4,0))","v":""}]
[null,null,null,null,"透過率",{"$f":"IF($S$128>0,H166,G166)","v":0},{"$f":"IF($F165=\"\",0,(1/2)^($X18*$AE$9/$F165))","v":0},{"$f":"IF($F165=\"\",0,(1/2)^($X17*$AE$9/$F165))","v":0},null,null,"透過率",{"$f":"IF($S$128>0,N166,M166)","v":0},{"$f":"IF($L165=\"\",0,(1/2)^($X30*$AE$9/$L165))","v":0},{"$f":"IF($L165=\"\",0,(1/2)^($X29*$AE$9/$L165))","v":0},null,null,"透過率",{"$f":"IF($S$128>0,T166,S166)","v":0},{"$f":"IF($R165=\"\",0,(1/2)^($X42*$AE$9/$R165))","v":0},{"$f":"IF($R165=\"\",0,(1/2)^($X41*$AE$9/$R165))","v":0}]
[null,null,null,"c)　鉄(表9)","半価層(mm)",{"$f":"IF(OR(A点!$AN$8=1,A点!$AN$8=\"○\"),\"\",VLOOKUP($F128,'表9(BB)'!$A$4:$M$27,6,0))","v":""},null,null,null,"c)　鉄(表9)","半価層(mm)",{"$f":"IF(OR(A点!$AN$8=1,A点!$AN$8=\"○\"),\"\",VLOOKUP($F128,'表9(BB)'!$A$4:$M$27,6,0))","v":""},null,null,null,"c)　鉄(表9)","半価層(mm)",{"$f":"IF(OR(A点!$AN$8=1,A点!$AN$8=\"○\"),\"\",VLOOKUP($F128,'表9(BB)'!$A$4:$M$27,6,0))","v":""}]
[null,null,null,null,"透過率",{"$f":"IF($S$128>0,H168,G168)","v":0},{"$f":"IF($F167=\"\",0,(1/2)^($Y18*$AE$10/$F167))","v":0},{"$f":"IF($F167=\"\",0,(1/2)^($Y17*$AE$10/$F167))","v":0},null,null,"透過率",{"$f":"IF($S$128>0,N168,M168)","v":0},{"$f":"IF($L167=\"\",0,(1/2)^($Y30*$AE$10/$L167))","v":0},{"$f":"IF($L167=\"\",0,(1/2)^($Y29*$AE$10/$L167))","v":0},null,null,"透過率",{"$f":"IF($S$128>0,T168,S168)","v":0},{"$f":"IF($R167=\"\",0,(1/2)^($Y42*$AE$10/$R167))","v":0},{"$f":"IF($R167=\"\",0,(1/2)^($Y41*$AE$10/$R167))","v":0}]
[null,null,null,"d)　石膏(表9)","半価層(mm)",{"$f":"IF(OR(A点!$AN$8=1,A点!$AN$8=\"○\"),\"\",VLOOKUP($F128,'表9(BB)'!$A$4:$M$27,8,0))","v":""},null,null,null,"d)　石膏(表9)","半価層(mm)",{"$f":"IF(OR(A点!$AN$8=1,A点!$AN$8=\"○\"),\"\",VLOOKUP($F128,'表9(BB)'!$A$4:$M$27,8,0))","v":""},null,null,null,"d)　石膏(表9)","半価層(mm)",{"$f":"IF(OR(A点!$AN$8=1,A点!$AN$8=\"○\"),\"\",VLOOKUP($F128,'表9(BB)'!$A$4:$M$27,8,0))","v":""}]
[null,null,null,null,"透過率",{"$f":"IF($S$128>0,H170,G170)","v":0},{"$f":"IF($F169=\"\",0,(1/2)^($Z18*$AE$11/$F169))","v":0},{"$f":"IF($F169=\"\",0,(1/2)^($Z17*$AE$11/$F169))","v":0},null,null,"透過率",{"$f":"IF($S$128>0,N170,M170)","v":0},{"$f":"IF($L169=\"\",0,(1/2)^($Z30*$AE$11/$L169))","v":0},{"$f":"IF($L169=\"\",0,(1/2)^($Z29*$AE$11/$L169))","v":0},null,null,"透過率",{"$f":"IF($S$128>0,T170,S170)","v":0},{"$f":"IF($R169=\"\",0,(1/2)^($Z42*$AE$11/$R169))","v":0},{"$f":"IF($R169=\"\",0,(1/2)^($Z41*$AE$11/$R169))","v":0}]
[null,null,null,"e）　ガラス(表9)","半価層(mm)",{"$f":"IF(OR(A点!$AN$8=1,A点!$AN$8=\"○\"),\"\",VLOOKUP($F128,'表9(BB)'!$A$4:$M$27,10,0))","v":""},null,null,null,"e）　ガラス(表9)","半価層(mm)",{"$f":"IF(OR(A点!$AN$8=1,A点!$AN$8=\"○\"),\"\",VLOOKUP($F128,'表9(BB)'!$A$4:$M$27,10,0))","v":""},null,null,null,"e）　ガラス(表9)","半価層(mm)",{"$f":"IF(OR(A点!$AN$8=1,A点!$AN$8=\"○\"),\"\",VLOOKUP($F128,'表9(BB)'!$A$4:$M$27,10,0))","v":""}]
[null,null,null,null,"透過率",{"$f":"IF($S$128>0,H172,G172)","v":0},{"$f":"IF($F171=\"\",0,(1/2)^($AA18*$AE$12/$F171))","v":0},{"$f":"IF($F171=\"\",0,(1/2)^($AA17*$AE$12/$F171))","v":0},null,null,"透過率",{"$f":"IF($S$128>0,N172,M172)","v":0},{"$f":"IF($L171=\"\",0,(1/2)^($AA30*$AE$12/$L171))","v":0},{"$f":"IF($L171=\"\",0,(1/2)^($AA29*$AE$12/$L171))","v":0},null,null,"透過率",{"$f":"IF($S$128>0,T172,S172)","v":0},{"$f":"IF($R$171=\"\",0,(1/2)^($AA42*$AE$12/$R171))","v":0},{"$f":"IF($R171=\"\",0,(1/2)^($AA41*$AE$12/$R171))","v":0}]
[null,null,null,"f)　木材(表9)","半価層(mm)",{"$f":"IF(OR(A点!$AN$8=1,A点!$AN$8=\"○\"),\"\",VLOOKUP($F128,'表9(BB)'!$A$4:$M$27,12,0))","v":""},null,null,null,"f)　木材(表9)","半価層(mm)",{"$f":"IF(OR(A点!$AN$8=1,A点!$AN$8=\"○\"),\"\",VLOOKUP($F128,'表9(BB)'!$A$4:$M$27,12,0))","v":""},null,null,null,"f)　木材(表9)","半価層(mm)",{"$f":"IF(OR(A点!$AN$8=1,A点!$AN$8=\"○\"),\"\",VLOOKUP($F128,'表9(BB)'!$A$4:$M$27,12,0))","v":""}]
[null,null,null,null,"透過率",{"$f":"IF($S$128>0,H174,G174)","v":0},{"$f":"IF($F173=\"\",0,(1/2)^($AB18*$AE$13/$F173))","v":0},{"$f":"IF($F173=\"\",0,(1/2)^($AB17*$AE$13/$F173))","v":0},null,null,"透過率",{"$f":"IF($S$128>0,N174,M174)","v":0},{"$f":"IF($L173=\"\",0,(1/2)^($AB30*$AE$13/$L173))","v":0},{"$f":"IF($L173=\"\",0,(1/2)^($AB29*$AE$13/$L173))","v":0},null,null,"透過率",{"$f":"IF($S$128>0,T174,S174)","v":0},{"$f":"IF($R173=\"\",0,(1/2)^($AB42*$AE$13/$R173))","v":0},{"$f":"IF($R173=\"\",0,(1/2)^($AB41*$AE$13/$R173))","v":0}]
[]
[]
[null,null,null,"2)　Es：散乱エックス線の漏洩線量(散乱角90度)",null,null,null,null,null,"2)　Es：散乱エックス線の漏洩線量(散乱角90度)",null,null,null,null,null,"2)　Es：散乱エックス線の漏洩線量(散乱角90度)"]
[null,null,null,null,"Dt=",{"$f":"H145*G161","v":0},null,null,null,null,"Dt=",{"$f":"N145*M161","v":0},null,null,null,null,"Dt=",{"$f":"T145*S161","v":0}]
[null,null,null,null,"Es=",{"$f":"IF(OR($F128=0,$M130=0,$M131=0,AND($W$8=0,$W$45>0),A点!$AQ$7=1),0,$G128*$G132*$G131*F178*$M127*$M128*($K131/100)*$K132/(400*($M130^2)*($M131^2)))","v":0},"μSv/3ヶ月",null,null,null,"Es=",{"$f":"IF(OR($F128=0,$M130=0,$M131=0,AND($W$20=0,$W$45>0),A点!$AQ$7=1),0,$G128*$G132*$G131*L178*$M127*$M128*($K131/100)*$K132/(400*($M130^2)*($M131^2)))","v":0},"μSv/3ヶ月",null,null,null,"Es=",{"$f":"IF(OR($F128=0,$M130=0,$M131=0,AND($W$32=0,$W$45>0),A点!$AQ$7=1),0,$G128*$G132*$G131*R178*$M127*$M128*($K131/100)*$K132/(400*($M130^2)*($M131^2)))","v":0},"μSv/3ヶ月"]
[]
[]
[null,null,null,"3)　EL：エックス線管容器からの漏洩線量(最大見積)",null,null,null,null,null,"3)　EL：エックス線管容器からの漏洩線量(最大見積)",null,null,null,null,null,"3)　EL：エックス線管容器からの漏洩線量(最大見積)"]
[]
[null,null,null,null,"EL=",{"$f":"IF(OR($F128=0,$M132=0,AND($W$8=0,$W$45>0),A点!$AQ$7=1),0,H161*$S137*$M133*$G131*$M127*$M128/($M132^2))","v":0},"μGy/h",null,null,null,"EL=",{"$f":"IF(OR($F128=0,$M132=0,AND($W$20=0,$W$45>0),A点!$AQ$7=1),0,N161*$S137*$M133*$G131*$M127*$M128/($M132^2))","v":0},"μGy/h",null,null,null,"EL=",{"$f":"IF(OR($F128=0,$M132=0,AND($W$32=0,$W$45>0),A点!$AQ$7=1),0,T161*$S137*$M133*$G131*$M127*$M128/($M132^2))","v":0},"μGy/h"]

{"sheet":"D点","index":4,"n_rows":184,"n_cols":51,"rows_kept":184,"cut":false,"hidden":true,"merged":[[66,1,124,1],[126,1,184,1],[13,15,13,16],[14,15,14,16],[15,15,15,16],[16,15,16,16],[6,1,64,1],[5,15,5,16],[0,15,0,16],[1,15,1,16],[2,15,2,16],[3,15,3,16],[4,15,4,16]]}
[null,null,"エックス線診療室の画壁等の実効線量",null,null,null,null,null,null,null,null,null,null,null,null,"W：３Ｍ実効稼動負荷",null,{"$f":"+G12","v":0},{"$f":"+G72","v":0},{"$f":"+G132","v":0},null,null,null,null,null,null,null,null,null,null,null,null,null,null,null,null,null,null,null,null,null,null,null,null,null,null,"③透視用透過率（表2-7）"]
[null,null,null,"D点の漏洩エックス線量の計算(利用線錘方向）",null,null,null,null,"D点の漏洩エックス線量の計算(被写体・管球）",null,null,null,null,null,null,"X：空気ｶｰﾏ(表1)",null,{"$f":"+G8","v":0},{"$f":"+G68","v":0},{"$f":"+G128","v":0},null,null,null,null,null,null,null,null,null,null,null,null,null,null,null,null,null,null,null,null,null,null,null,null,null,null,"1)直接線用"]
[null,null,null,null,"Ep=",{"$f":"IF(A点!$AQ$4=3,\"\",IF(A点!$AQ$5>0,\"No Data\",F15+F75+F135))","v":""},"μSv/3ヶ月",null,null,"Es＝",{"$f":"IF(A点!$AQ$4=3,\"\",IF(A点!$AQ$5>0,\"No Data\",K15+K75+K135))","v":""},"μSv/3ヶ月",null,null,null,"空気ｶｰﾏ率(表8)",null,{"$f":"+K11","v":0},{"$f":"+K71","v":0},{"$f":"+K131","v":0},null,null,null,null,null,null,null,null,null,null,null,null,null,null,null,null,null,null,null,null,null,null,null,null,null,null,"遮蔽厚参照値"]
[null,null,null,null,null,null,null,null,null,"EL＝",{"$f":"IF(A点!$AQ$4=3,\"\",IF(A点!$AQ$5>0,\"No Data\",K16+K76+K136))","v":""},"μSv/3ヶ月",null,null,null,"E/Ka（表10）",null,{"$f":"+G11","v":0},{"$f":"+G71","v":0},{"$f":"+G131","v":0},null,null,null,null,null,null,null,null,null,null,null,null,null,null,null,null,null,null,null,null,null,null,null,null,null,null,null,null,"D点","D'点","D\"点"]
[null,null,null,null,null,null,null,null,null,"合計",{"$f":"IF(A点!$AQ$4=3,\"\",IF(A点!$AQ$5>0,\"No Data\",K17+K77+K137))","v":""},null,null,null,null,"対向板Dt",null,{"$f":"+R10","v":""},{"$f":"+R70","v":""},{"$f":"+R130","v":""},null,null,null,null,null,null,null,null,null,null,null,null,null,null,null,null,null,null,null,null,null,null,null,null,null,null,null,"Pb",{"$f":"IF($G27=0,\"\",IF($G27<=3,INT(10*$G27)/10,IF($G27>4,4,0.5*INT($G27/0.5))))","v":""},{"$f":"IF($M27=0,\"\",IF($M27<=3,INT(10*$M27)/10,IF($M27>4,4,0.5*INT($M27/0.5))))","v":""},{"$f":"IF($S27=0,\"\",IF($S27<=3,INT(10*$S27)/10,IF($S27>4,4,0.5*INT($S27/0.5))))","v":""}]
[null,null,null,null,null,null,null,null,null,null,null,null,null,null,null,null,null,null,null,null,null,null,null,null,null,null,null,null,null,null,null,null,null,null,null,null,null,null,null,null,null,null,null,null,null,null,null,"ｺﾝｸﾘ",{"$f":"IF($G29=0,\"\",IF($G29<=300,INT($G29/10)*10,IF($G29>400,400,50*INT($G29/50))))","v":""},{"$f":"IF($M29=0,\"\",IF($M29<=300,INT($M29/10)*10,IF($M29>400,400,50*INT($M29/50))))","v":""},{"$f":"IF($S29=0,\"\",IF($S29<=300,INT($S29/10)*10,IF($S29>400,400,50*INT($S29/50))))","v":""}]
[null,"透視装置",null,"①　X：空気ｶｰﾏ：表1",null,null,null,"④　使用係数",null,null,null,"Ｕ＝",1,null,null,"1)対向板による一次線の減衰(表２)",null,null,null,null,null,null,"D点",null,null,null,null,null,null,"リスト",{"$f":"入力用シート!BQ2","v":"密度比"},null,null,null,null,null,null,null,null,null,null,null,null,null,null,null,null,"Fe",{"$f":"IF($G31=0,\"\",IF($G31<=30,INT($G31),IF($G31>40,40,5*INT($G31/5))))","v":""},{"$f":"IF($M31=0,\"\",IF($M31<=30,INT($M31),IF($M31>40,40,5*INT($M31/5))))","v":""},{"$f":"IF($S31=0,\"\",IF($S31<=30,INT($S31),IF($S31>40,40,5*INT($S31/5))))","v":""}]
[null,null,null,null,"採用管電圧",{"$f":"A点!$F$8","v":0},{"$f":"A点!$G$8","v":0},"⑤　居住係数",null,null,null,"Ｔ＝",1,null,null,null,null,"等価厚さ",{"$f":"入力用シート!$AA$8","v":0},"mm",null,null,{"$f":"入力用シート!N56","v":0},{"$f":"入力用シート!P56","v":0},{"$f":"入力用シート!R56","v":0},{"$f":"入力用シート!T56","v":0},{"$f":"入力用シート!V56","v":0},{"$f":"入力用シート!X56","v":0},null,"Pb",{"$f":"入力用シート!BQ3","v":0.96916299559471364},null,null,null,null,null,null,null,null,null,null,null,null,null,null,null,null,"石膏",{"$f":"IF($G33=0,\"\",IF($G33<=30,INT($G33),IF($G33>40,40,5*INT($G33/5))))","v":""},{"$f":"IF($M33=0,\"\",IF($M33<=30,INT($M33),IF($M33>40,40,5*INT($M33/5))))","v":""},{"$f":"IF($S33=0,\"\",IF($S33<=30,INT($S33),IF($S33>40,40,5*INT($S33/5))))","v":""}]
[null,null,null,null,"電流",{"$f":"A点!$F$9","v":0},null,"⑥　距離",null,null,null,"d1=",{"$f":"入力用シート!E$56","v":0},"ｍ",null,null,"使用管電圧",{"$f":"A点!$AL$5","v":0},null,null,null,null,{"$f":"入力用シート!N57","v":0},{"$f":"入力用シート!P57","v":0},{"$f":"入力用シート!R57","v":0},{"$f":"入力用シート!T57","v":0},{"$f":"入力用シート!V57","v":0},{"$f":"入力用シート!X57","v":0},null,"ｺﾝｸﾘ",{"$f":"入力用シート!BQ4","v":0.8936170212765957},null,null,null,null,null,null,null,null,null,null,null,null,null,null,null,null,"ｶﾞﾗｽ",{"$f":"IF($G35=0,\"\",IF($G35<=30,INT($G35),IF($G35>40,40,5*INT($G35/5))))","v":""},{"$f":"IF($M35=0,\"\",IF($M35<=30,INT($M35),IF($M35>40,40,5*INT($M35/5))))","v":""},{"$f":"IF($S35=0,\"\",IF($S35<=30,INT($S35),IF($S35>40,40,5*INT($S35/5))))","v":""}]
[null,null,null,"②　E/Ka：空気カーマ換算係数（表10）",null,null,null,"⑧　照射野400cm2空気ｶｰﾏ率表8",null,null,null,"d2=",{"$f":"入力用シート!G$56","v":0},"ｍ",null,null,"透過率",{"$f":"IF(A点!$AL$8=\"○\",\"\",IF(A点!$AL$8=1,\"データなし\",IF($S8>3,HLOOKUP($R9,'表２(Pb)'!$B$3:$Y$36,32+ROUNDDOWN(($S8-3)/0.5,0),0),HLOOKUP($R9,'表２(Pb)'!$B$3:$Y$36,2+S8/0.1,0))))","v":""},null,null,null,null,"Pb","ｺﾝｸﾘ","Fe","石膏","ｶﾞﾗｽ","木材",null,"Fe",{"$f":"入力用シート!BQ5","v":0.98339719029374206},null,null,null,null,null,null,null,null,null,null,null,null,null,null,null,null,"木材",{"$f":"IF($G37=0,\"\",IF($G37<=300,INT($G37/10)*10,IF($G37>400,400,50*INT($G37/50))))","v":""},{"$f":"IF($M37=0,\"\",IF($M37<=300,INT($M37/10)*10,IF($M37>400,400,50*INT($M37/50))))","v":""},{"$f":"IF($S37=0,\"\",IF($S37<=300,INT($S37/10)*10,IF($S37>400,400,50*INT($S37/50))))","v":""}]
[null,null,null,null,"採用管電圧",{"$f":"A点!$F$11","v":0},{"$f":"A点!$G$11","v":0},null,null,null,{"$f":"A点!$AL$7","v":0},"d3=",{"$f":"入力用シート!I$56","v":0},"ｍ",null,null,null,null,null,null,null,1,{"$f":"IF($W8=\"Pb\",$W9,0)","v":0},{"$f":"IF($W8=\"ｺﾝｸﾘ\",$W9,0)","v":0},{"$f":"IF($W8=\"Fe\",$W9,0)","v":0},{"$f":"IF($W8=\"石膏\",$W9,0)","v":0},{"$f":"IF($W8=\"ｶﾞﾗｽ\",$W9,0)","v":0},{"$f":"IF($W8=\"木材\",$W9,0)","v":0},null,"石膏",{"$f":"入力用シート!BQ6","v":1}]
[null,null,null,"③　W：３Ｍ実効稼動負荷",null,"合計",{"$f":"13*(入力用シート!$L$22*入力用シート!$Q$22*60*入力用シート!$L$23*入力用シート!$Q$23)","v":0},"⑨　受像面照射野",null,null,{"$f":"入力用シート!$E$16","v":1225},"d4=",{"$f":"入力用シート!K$56","v":0},"ｍ",null,null,null,null,null,null,null,2,{"$f":"IF($X8=\"Pb\",$X9,0)","v":0},{"$f":"IF($X8=\"ｺﾝｸﾘ\",$X9,0)","v":0},{"$f":"IF($X8=\"Fe\",$X9,0)","v":0},{"$f":"IF($X8=\"石膏\",$X9,0)","v":0},{"$f":"IF($X8=\"ｶﾞﾗｽ\",$X9,0)","v":0},{"$f":"IF($X8=\"木材\",$X9,0)","v":0},null,"ｶﾞﾗｽ",{"$f":"入力用シート!BQ7","v":0.9765625},null,null,null,null,null,null,null,null,null,null,null,null,null,null,null,"2)散乱線用"]
[null,null,null,null,null,null,null,"⑩　tw：３月間における稼働時間(h)",null,null,null,null,{"$f":"IF(F9=0,0,G12/(F9*3600))","v":0},null,null,"機器の種類",null,"管容器からの空気ｶｰﾏ率（mGy/h）",null,null,null,3,{"$f":"IF($Y8=\"Pb\",$Y9,0)","v":0},{"$f":"IF($Y8=\"ｺﾝｸﾘ\",$Y9,0)","v":0},{"$f":"IF($Y8=\"Fe\",$Y9,0)","v":0},{"$f":"IF($Y8=\"石膏\",$Y9,0)","v":0},{"$f":"IF($Y8=\"ｶﾞﾗｽ\",$Y9,0)","v":0},{"$f":"IF($Y8=\"木材\",$Y9,0)","v":0},null,"木材",{"$f":"入力用シート!BQ8","v":1},null,null,null,null,null,null,null,null,null,null,null,null,null,null,null,"遮蔽厚参照値"]
[null,null,null,"D点の漏洩エックス線量の計算(利用線錘方向）",null,null,null,null,"D点の漏洩エックス線量の計算(被写体・管球）",null,null,null,null,null,1,"1:治療用ｴｯｸｽ線装置（≦50ｋV）",null,1,"選んだ機器",null,null,4,{"$f":"IF($Z8=\"Pb\",$Z9,0)","v":0},{"$f":"IF($Z8=\"ｺﾝｸﾘ\",$Z9,0)","v":0},{"$f":"IF($Z8=\"Fe\",$Z9,0)","v":0},{"$f":"IF($Z8=\"石膏\",$Z9,0)","v":0},{"$f":"IF($Z8=\"ｶﾞﾗｽ\",$Z9,0)","v":0},{"$f":"IF($Z8=\"木材\",$Z9,0)","v":0},null,null,null,null,null,null,null,null,null,null,null,null,null,null,null,null,null,null,null,null,"D点","D'点","D\"点"]
[null,null,null,null,"Ea=",{"$f":"MAX(F21,L21,R21)","v":0},"μSv/3ヶ月",null,null,"Es＝",{"$f":"MAX(F59,L59,R59)","v":0},"μSv/3ヶ月",null,null,2,"2:治療用ｴｯｸｽ線装置（＞50ｋV）",null,10,{"$f":"入力用シート!$C$7","v":0},null,null,5,{"$f":"IF($AA8=\"Pb\",$AA9,0)","v":0},{"$f":"IF($AA8=\"ｺﾝｸﾘ\",$AA9,0)","v":0},{"$f":"IF($AA8=\"Fe\",$AA9,0)","v":0},{"$f":"IF($AA8=\"石膏\",$AA9,0)","v":0},{"$f":"IF($AA8=\"ｶﾞﾗｽ\",$AA9,0)","v":0},{"$f":"IF($AA8=\"木材\",$AA9,0)","v":0},null,null,null,null,null,null,null,null,null,null,null,null,null,null,null,null,null,null,null,"Pb",{"$f":"IF($H27=0,\"\",IF($H27<=3,INT(10*$H27)/10,IF($H27>4,4,0.5*INT($H27/0.5))))","v":""},{"$f":"IF($N27=0,\"\",IF($N27<=3,INT(10*$N27)/10,IF($N27>4,4,0.5*INT($N27/0.5))))","v":""},{"$f":"IF($T27=0,\"\",IF($T27<=3,INT(10*$T27)/10,IF($T27>4,4,0.5*INT($T27/0.5))))","v":""}]
[null,null,null,null,null,null,null,null,null,"EL＝",{"$f":"MAX(F64,L64,R64)","v":0},"μSv/3ヶ月",null,null,3,"3:口内法撮影用X線装置（≦125ｋV）",null,0.25,"選ばれた空気ｶｰﾏ率XL",null,null,6,{"$f":"IF($AB8=\"Pb\",$AB9,0)","v":0},{"$f":"IF($AB8=\"ｺﾝｸﾘ\",$AB9,0)","v":0},{"$f":"IF($AB8=\"Fe\",$AB9,0)","v":0},{"$f":"IF($AB8=\"石膏\",$AB9,0)","v":0},{"$f":"IF($AB8=\"ｶﾞﾗｽ\",$AB9,0)","v":0},{"$f":"IF($AB8=\"木材\",$AB9,0)","v":0},null,null,null,null,null,null,null,null,null,null,null,null,null,null,null,null,null,null,null,"ｺﾝｸﾘ",{"$f":"IF($H29=0,\"\",IF($H29<=300,INT($H29/10)*10,IF($H29>400,400,50*INT($H29/50))))","v":""},{"$f":"IF($N29=0,\"\",IF($N29<=300,INT($N29/10)*10,IF($N29>400,400,50*INT($N29/50))))","v":""},{"$f":"IF($T29=0,\"\",IF($T29<=300,INT($T29/10)*10,IF($T29>400,400,50*INT($T29/50))))","v":""}]
[null,null,null,null,null,null,null,null,null,"合計",{"$f":"+K15+K16","v":0},null,null,null,4,"4:上記以外の診断用X線装置",null,1,{"$f":"IF(S15=0,0,VLOOKUP(S15,O14:R17,4,0)*1000)","v":0},null,null,null,{"$f":"SUM(W11:W16)","v":0},{"$f":"SUM(X11:X16)","v":0},0,0,0,0,"第1～6遮蔽材合計",null,null,null,null,null,null,null,null,null,null,null,null,null,null,null,null,null,null,"Fe",{"$f":"IF($H31=0,\"\",IF($H31<=30,INT($H31),IF($H31>40,40,5*INT($H31/5))))","v":""},{"$f":"IF($N31=0,\"\",IF($N31<=30,INT($N31),IF($N31>40,40,5*INT($N31/5))))","v":""},{"$f":"IF($T31=0,\"\",IF($T31<=30,INT($T31),IF($T31>40,40,5*INT($T31/5))))","v":""}]
[null,null,null,null,null,null,null,null,null,null,null,null,null,null,null,"※１：治療用装置は、装置接触可能5cmの数値であるため任意の数値に変更可能",null,null,null,null,null,null,{"$f":"SUM(W12:W16)","v":0},{"$f":"SUM(X12:X16)","v":0},0,0,0,0,"第2～6遮蔽材合計",null,null,null,null,null,null,null,null,null,null,null,null,null,null,null,null,null,null,"石膏",{"$f":"IF($H33=0,\"\",IF($H33<=30,INT($H33),IF($H33>40,40,5*INT($H33/5))))","v":""},{"$f":"IF($N33=0,\"\",IF($N33<=30,INT($N33),IF($N33>40,40,5*INT($N33/5))))","v":""},{"$f":"IF($T33=0,\"\",IF($T33<=30,INT($T33),IF($T33>40,40,5*INT($T33/5))))","v":""}]
[null,null,null,"D点の計算",null,null,null,null,null,"D'点の計算",null,null,null,null,null,"D\"点の計算",null,null,null,null,null,null,"D'点",null,null,null,null,null,null,null,null,null,null,null,null,null,null,null,null,null,null,null,null,null,null,null,null,"ｶﾞﾗｽ",{"$f":"IF($H35=0,\"\",IF($H35<=30,INT($H35),IF($H35>40,40,5*INT($H35/5))))","v":""},{"$f":"IF($N35=0,\"\",IF($N35<=30,INT($N35),IF($N35>40,40,5*INT($N35/5))))","v":""},{"$f":"IF($T35=0,\"\",IF($T35<=30,INT($T35),IF($T35>40,40,5*INT($T35/5))))","v":""}]
[null,null,null,"1) Ep：撮影方向",null,null,null,null,null,"1) Ep：撮影方向",null,null,null,null,null,"1) Ep：撮影方向",null,null,null,null,null,null,{"$f":"入力用シート!N58","v":0},{"$f":"入力用シート!P58","v":0},{"$f":"入力用シート!R58","v":0},{"$f":"入力用シート!T58","v":0},{"$f":"入力用シート!V58","v":0},{"$f":"入力用シート!X58","v":0},null,null,null,null,null,null,null,null,null,null,null,null,null,null,null,null,null,null,null,"木材",{"$f":"IF($H37=0,\"\",IF($H37<=300,INT($H37/10)*10,IF($H37>400,400,50*INT($H37/50))))","v":""},{"$f":"IF($N37=0,\"\",IF($N37<=300,INT($N37/10)*10,IF($N37>400,400,50*INT($N37/50))))","v":""},{"$f":"IF($T37=0,\"\",IF($T37<=300,INT($T37/10)*10,IF($T37>400,400,50*INT($T37/50))))","v":""}]
[null,null,null,"　",null,{"$f":"IF(OR($F8=0,$M9=0,A点!$AQ$7=1,AND($W$8=0,$W$45>0)),0,($G8*$R10*$G25*$F41*$G12*$G11*$M7*$M8)/($M9^2))","v":0},"μSv/3ヶ月",null,null,"　",null,{"$f":"IF(OR($F8=0,$M9=0,A点!$AQ$7=1,AND($W$20=0,$W$45>0)),0,($G8*$R10*$M25*$L41*$G12*$G11*$M7*$M8)/($M9^2))","v":0},"μSv/3ヶ月",null,null,"　",null,{"$f":"IF(OR($F8=0,$M9=0,A点!$AQ$7=1,AND($W$32=0,$W$45>0)),0,($G8*$R10*$S25*$R41*$G12*$G11*$M7*$M8)/($M9^2))","v":0},"μSv/3ヶ月",null,null,null,{"$f":"入力用シート!N59","v":0},{"$f":"入力用シート!P59","v":0},{"$f":"入力用シート!R59","v":0},{"$f":"入力用シート!T59","v":0},{"$f":"入力用シート!V59","v":0},{"$f":"入力用シート!X59","v":0}]
[null,null,null,null,null,null,null,null,null,null,null,null,null,null,null,null,null,null,null,null,null,null,"Pb","ｺﾝｸﾘ","Fe","石膏","ｶﾞﾗｽ","木材",null,null,null,null,null,null,null,null,null,null,null,null,null,null,null,null,null,null,"3)","遮蔽材順"]
[null,null,null,"a) 第１遮蔽材による減衰(遮蔽体がある場合透過率=1)",null,null,null,null,null,"○ 第１遮蔽材による減衰(遮蔽体がある場合透過率=1)",null,null,null,null,null,"○ 第１遮蔽材による減衰(遮蔽体がある場合透過率=1)",null,null,null,null,null,null,{"$f":"IF($W20=\"Pb\",$W21,0)","v":0},{"$f":"IF($W20=\"ｺﾝｸﾘ\",$W21,0)","v":0},{"$f":"IF($W20=\"Fe\",$W21,0)","v":0},{"$f":"IF($W20=\"石膏\",$W21,0)","v":0},{"$f":"IF($W20=\"ｶﾞﾗｽ\",$W21,0)","v":0},{"$f":"IF($W20=\"木材\",$W21,0)","v":0},null,null,null,null,null,null,null,null,null,null,null,null,null,null,null,null,null,null,null,null,"D点","D'点","D\"点"]
[null,null,null,null,null,"第1遮蔽材",{"$f":"IF($S$8>0,\"遮蔽体\",$W$8)","v":0},{"$f":"$W$8","v":0},null,null,null,"第1遮蔽材",{"$f":"IF($S$8>0,\"遮蔽体\",$W$20)","v":0},{"$f":"$W$20","v":0},null,null,null,"第1遮蔽材",{"$f":"IF($S$8>0,\"遮蔽体\",$W$32)","v":0},{"$f":"$W$32","v":0},null,null,{"$f":"IF($X20=\"Pb\",$X21,0)","v":0},{"$f":"IF($X20=\"ｺﾝｸﾘ\",$X21,0)","v":0},{"$f":"IF($X20=\"Fe\",$X21,0)","v":0},{"$f":"IF($X20=\"石膏\",$X21,0)","v":0},{"$f":"IF($X20=\"ｶﾞﾗｽ\",$X21,0)","v":0},{"$f":"IF($X20=\"木材\",$X21,0)","v":0},null,null,null,null,null,null,null,null,null,null,null,null,null,null,null,null,null,null,null,"第1遮蔽材",{"$f":"IF($AW34=\"11\",G$24,H$24)","v":0},{"$f":"IF($AW34=\"11\",M$24,N$24)","v":0},{"$f":"IF($AW34=\"11\",S$24,T$24)","v":0}]
[null,null,null,null,null,"Dt1=",{"$f":"G28*G30*G32*G34*G36*G38","v":1},{"$f":"H28*H30*H32*H34*H36*H38","v":1},null,null,null,"Dt1=",{"$f":"M28*M30*M32*M34*M36*M38","v":1},{"$f":"N28*N30*N32*N34*N36*N38","v":1},null,null,null,"Dt1=",{"$f":"S28*S30*S32*S34*S36*S38","v":1},{"$f":"T28*T30*T32*T34*T36*T38","v":1},null,null,{"$f":"IF($Y20=\"Pb\",$Y21,0)","v":0},{"$f":"IF($Y20=\"ｺﾝｸﾘ\",$Y21,0)","v":0},{"$f":"IF($Y20=\"Fe\",$Y21,0)","v":0},{"$f":"IF($Y20=\"石膏\",$Y21,0)","v":0},{"$f":"IF($Y20=\"ｶﾞﾗｽ\",$Y21,0)","v":0},{"$f":"IF($Y20=\"木材\",$Y21,0)","v":0},null,null,null,null,null,null,null,null,null,null,null,null,null,null,null,null,null,null,null,"第2遮蔽材",{"$f":"IF($AW34=\"11\",W$8,X$8)","v":0},{"$f":"IF($AW34=\"11\",W$20,X$20)","v":0},{"$f":"IF($AW34=\"11\",W$32,X$32)","v":0}]
[null,null,null,null,null,null,"一次線用","散乱線用",null,null,null,null,"一次線用","散乱線用",null,null,null,null,"一次線用","散乱線用",null,null,{"$f":"IF($Z20=\"Pb\",$Z21,0)","v":0},{"$f":"IF($Z20=\"ｺﾝｸﾘ\",$Z21,0)","v":0},{"$f":"IF($Z20=\"Fe\",$Z21,0)","v":0},{"$f":"IF($Z20=\"石膏\",$Z21,0)","v":0},{"$f":"IF($Z20=\"ｶﾞﾗｽ\",$Z21,0)","v":0},{"$f":"IF($Z20=\"木材\",$Z21,0)","v":0},null,null,null,null,null,null,null,null,null,null,null,null,null,null,null,null,null,null,null,"第3遮蔽材",{"$f":"IF($AW34=\"11\",X$8,Y$8)","v":0},{"$f":"IF($AW34=\"11\",X$20,Y$20)","v":0},{"$f":"IF($AW34=\"11\",X$32,Y$32)","v":0}]
[null,null,null,"a)　鉛(表2)",null,"等価厚さ",{"$f":"IF($G24=$W$10,$W$9*$AE$8,0)","v":0},{"$f":"IF($H24=$W$10,$W$9*$AE$8,0)","v":0},null,"a)　鉛(表2)",null,"等価厚さ",{"$f":"IF($M24=$W$22,$W$21*$AE$8,0)","v":0},{"$f":"IF($N24=$W$22,$W$21*$AE$8,0)","v":0},null,"a)　鉛(表2)",null,"等価厚さ",{"$f":"IF($S24=$W$34,$W$33*$AE$8,0)","v":0},{"$f":"IF($T24=$W$34,$W$33*$AE$8,0)","v":0},null,null,{"$f":"IF($AA20=\"Pb\",$AA21,0)","v":0},{"$f":"IF($AA20=\"ｺﾝｸﾘ\",$AA21,0)","v":0},{"$f":"IF($AA20=\"Fe\",$AA21,0)","v":0},{"$f":"IF($AA20=\"石膏\",$AA21,0)","v":0},{"$f":"IF($AA20=\"ｶﾞﾗｽ\",$AA21,0)","v":0},{"$f":"IF($AA20=\"木材\",$AA21,0)","v":0},null,null,null,null,null,null,null,null,null,null,null,null,null,null,null,null,null,null,null,"第4遮蔽材",{"$f":"IF($AW34=\"11\",Y$8,Z$8)","v":0},{"$f":"IF($AW34=\"11\",Y$20,Z$20)","v":0},{"$f":"IF($AW34=\"11\",Y$32,Z$32)","v":0}]
[null,null,null,null,null,"透過率",{"$f":"IF(OR($G27=0,A点!$AL$8=1,A点!$AL$8=\"○\"),1,INDEX('表２(Pb)'!$A$3:$Y$36,MATCH($AW5,'表２(Pb)'!$A$3:$A$36,0),MATCH($F8,'表２(Pb)'!$A$3:$Y$3,0)))","v":1},{"$f":"IF(OR($H27=0,A点!$AL$8=1,A点!$AL$8=\"○\"),1,INDEX('表２(Pb)'!$A$3:$Y$36,MATCH($AW15,'表２(Pb)'!$A$3:$A$36,0),MATCH($F8,'表２(Pb)'!$A$3:$Y$3,0)))","v":1},null,null,null,"透過率",{"$f":"IF(OR($M27=0,A点!$AL$8=1,A点!$AL$8=\"○\"),1,INDEX('表２(Pb)'!$A$3:$Y$36,MATCH($AX5,'表２(Pb)'!$A$3:$A$36,0),MATCH($F8,'表２(Pb)'!$A$3:$Y$3,0)))","v":1},{"$f":"IF(OR($N27=0,A点!$AL$8=1,A点!$AL$8=\"○\"),1,INDEX('表２(Pb)'!$A$3:$Y$36,MATCH($AX15,'表２(Pb)'!$A$3:$A$36,0),MATCH($F8,'表２(Pb)'!$A$3:$Y$3,0)))","v":1},null,null,null,"透過率",{"$f":"IF(OR($S27=0,A点!$AL$8=1,A点!$AL$8=\"○\"),1,INDEX('表２(Pb)'!$A$3:$Y$36,MATCH($AY5,'表２(Pb)'!$A$3:$A$36,0),MATCH($F8,'表２(Pb)'!$A$3:$Y$3,0)))","v":1},{"$f":"IF(OR($T27=0,A点!$AL$8=1,A点!$AL$8=\"○\"),1,INDEX('表２(Pb)'!$A$3:$Y$36,MATCH($AY15,'表２(Pb)'!$A$3:$A$36,0),MATCH($F8,'表２(Pb)'!$A$3:$Y$3,0)))","v":1},null,null,{"$f":"IF($AB20=\"Pb\",$AB21,0)","v":0},{"$f":"IF($AB20=\"ｺﾝｸﾘ\",$AB21,0)","v":0},{"$f":"IF($AB20=\"Fe\",$AB21,0)","v":0},{"$f":"IF($AB20=\"石膏\",$AB21,0)","v":0},{"$f":"IF($AB20=\"ｶﾞﾗｽ\",$AB21,0)","v":0},{"$f":"IF($AB20=\"木材\",$AB21,0)","v":0},null,null,null,null,null,null,null,null,null,null,null,null,null,null,null,null,null,null,null,"第5遮蔽材",{"$f":"IF($AW34=\"11\",Z$8,AA$8)","v":0},{"$f":"IF($AW34=\"11\",Z$20,AA$20)","v":0},{"$f":"IF($AW34=\"11\",Z$32,AA$32)","v":0}]
[null,null,null,"b)　コンクリート(表3)",null,"等価厚さ",{"$f":"IF($G24=$X$10,$W$9*$AE$9,0)","v":0},{"$f":"IF($H24=$X$10,$W$9*$AE$9,0)","v":0},null,"b)　コンクリート(表3)",null,"等価厚さ",{"$f":"IF($M24=$X$22,$W$21*$AE$9,0)","v":0},{"$f":"IF($N24=$X$22,$W$21*$AE$9,0)","v":0},null,"b)　コンクリート(表3)",null,"等価厚さ",{"$f":"IF($S24=$X$34,$W$33*$AE$9,0)","v":0},{"$f":"IF($T24=$X$34,$W$33*$AE$9,0)","v":0},null,null,{"$f":"SUM(W23:W28)","v":0},{"$f":"SUM(X23:X28)","v":0},0,0,0,0,"第1～6遮蔽材合計",null,null,null,null,null,null,null,null,null,null,null,null,null,null,null,null,null,null,"第6遮蔽材",{"$f":"IF($AW34=\"11\",AA$8,AB$8)","v":0},{"$f":"IF($AW34=\"11\",AA$20,AB$20)","v":0},{"$f":"IF($AW34=\"11\",AA$32,AB$32)","v":0}]
[null,null,null,null,null,"透過率",{"$f":"IF(OR($G29=0,A点!$AL$8=1,A点!$AL$8=\"○\"),1,INDEX('表３(コ)'!$A$3:$Y$36,MATCH($AW6,'表３(コ)'!$A$3:$A$36,0),MATCH($F8,'表３(コ)'!$A$3:$Y$3,0)))","v":1},{"$f":"IF(OR($H29=0,A点!$AL$8=1,A点!$AL$8=\"○\"),1,INDEX('表３(コ)'!$A$3:$Y$36,MATCH($AW16,'表３(コ)'!$A$3:$A$36,0),MATCH($F8,'表３(コ)'!$A$3:$Y$3,0)))","v":1},null,null,null,"透過率",{"$f":"IF(OR($M29=0,A点!$AL$8=1,A点!$AL$8=\"○\"),1,INDEX('表３(コ)'!$A$3:$Y$36,MATCH($AX6,'表３(コ)'!$A$3:$A$36,0),MATCH($F8,'表３(コ)'!$A$3:$Y$3,0)))","v":1},{"$f":"IF(OR($N29=0,A点!$AL$8=1,A点!$AL$8=\"○\"),1,INDEX('表３(コ)'!$A$3:$Y$36,MATCH($AX16,'表３(コ)'!$A$3:$A$36,0),MATCH($F8,'表３(コ)'!$A$3:$Y$3,0)))","v":1},null,null,null,"透過率",{"$f":"IF(OR($S29=0,A点!$AL$8=1,A点!$AL$8=\"○\"),1,INDEX('表３(コ)'!$A$3:$Y$36,MATCH($AY6,'表３(コ)'!$A$3:$A$36,0),MATCH($F8,'表３(コ)'!$A$3:$Y$3,0)))","v":1},{"$f":"IF(OR($T29=0,A点!$AL$8=1,A点!$AL$8=\"○\"),1,INDEX('表３(コ)'!$A$3:$Y$36,MATCH($AY16,'表３(コ)'!$A$3:$A$36,0),MATCH($F8,'表３(コ)'!$A$3:$Y$3,0)))","v":1},null,null,{"$f":"SUM(W24:W28)","v":0},{"$f":"SUM(X24:X28)","v":0},0,0,0,0,"第2～6遮蔽材合計",null,null,null,null,null,null,null,null,null,null,null,null,null,null,null,null,null,null,"第7遮蔽材",{"$f":"IF($AW34=\"11\",AB$8,\"\")","v":""},{"$f":"IF($AW34=\"11\",AB$20,\"\")","v":""},{"$f":"IF($AW34=\"11\",AB$32,\"\")","v":""}]
[null,null,null,"c)　鉄(表4)",null,"等価厚さ",{"$f":"IF($G24=$Y$10,$W$9*$AE$10,0)","v":0},{"$f":"IF($H24=$Y$10,$W$9*$AE$10,0)","v":0},null,"c)　鉄(表4)",null,"等価厚さ",{"$f":"IF($M24=$Y$22,$W$21*$AE$10,0)","v":0},{"$f":"IF($N24=$Y$22,$W$21*$AE$10,0)","v":0},null,"c)　鉄(表4)",null,"等価厚さ",{"$f":"IF($S24=$Y$34,$W$33*$AE$10,0)","v":0},{"$f":"IF($T24=$Y$34,$W$33*$AE$10,0)","v":0},null,null,"D\"点"]
[null,null,null,null,null,"透過率",{"$f":"IF(OR($G31=0,A点!$AL$8=1,A点!$AL$8=\"○\"),1,INDEX('表4(Fe)'!$A$3:$Y$36,MATCH($AW7,'表4(Fe)'!$A$3:$A$36,0),MATCH($F8,'表4(Fe)'!$A$3:$Y$3,0)))","v":1},{"$f":"IF(OR($H31=0,A点!$AL$8=1,A点!$AL$8=\"○\"),1,INDEX('表4(Fe)'!$A$3:$Y$36,MATCH($AW17,'表4(Fe)'!$A$3:$A$36,0),MATCH($F8,'表4(Fe)'!$A$3:$Y$3,0)))","v":1},null,null,null,"透過率",{"$f":"IF(OR($M31=0,A点!$AL$8=1,A点!$AL$8=\"○\"),1,INDEX('表4(Fe)'!$A$3:$Y$36,MATCH($AX7,'表4(Fe)'!$A$3:$A$36,0),MATCH($F8,'表4(Fe)'!$A$3:$Y$3,0)))","v":1},{"$f":"IF(OR($N31=0,A点!$AL$8=1,A点!$AL$8=\"○\"),1,INDEX('表4(Fe)'!$A$3:$Y$36,MATCH($AX17,'表4(Fe)'!$A$3:$A$36,0),MATCH($F8,'表4(Fe)'!$A$3:$Y$3,0)))","v":1},null,null,null,"透過率",{"$f":"IF(OR($S31=0,A点!$AL$8=1,A点!$AL$8=\"○\"),1,INDEX('表4(Fe)'!$A$3:$Y$36,MATCH($AY7,'表4(Fe)'!$A$3:$A$36,0),MATCH($F8,'表4(Fe)'!$A$3:$Y$3,0)))","v":1},{"$f":"IF(OR($T31=0,A点!$AL$8=1,A点!$AL$8=\"○\"),1,INDEX('表4(Fe)'!$A$3:$Y$36,MATCH($AY17,'表4(Fe)'!$A$3:$A$36,0),MATCH($F8,'表4(Fe)'!$A$3:$Y$3,0)))","v":1},null,null,{"$f":"入力用シート!N60","v":0},{"$f":"入力用シート!P60","v":0},{"$f":"入力用シート!R60","v":0},{"$f":"入力用シート!T60","v":0},{"$f":"入力用シート!V60","v":0},{"$f":"入力用シート!X60","v":0},null,null,null,null,null,null,null,null,null,null,null,null,null,null,null,null,null,null,null,"遮蔽体有無",{"$f":"IF($S8>0,1,0)","v":0},"遮蔽体有：１"]
[null,null,null,"d)　石膏(表5)",null,"等価厚さ",{"$f":"IF($G24=$Z$10,$W$9*$AE$11,0)","v":0},{"$f":"IF($H24=$Z$10,$W$9*$AE$11,0)","v":0},null,"d)　石膏(表5)",null,"等価厚さ",{"$f":"IF($M24=$Z$22,$W$21*$AE$11,0)","v":0},{"$f":"IF($N24=$Z$22,$W$21*$AE$11,0)","v":0},null,"d)　石膏(表5)",null,"等価厚さ",{"$f":"IF($S24=$Z$34,$W$33*$AE$11,0)","v":0},{"$f":"IF($T24=$Z$34,$W$33*$AE$11,0)","v":0},null,null,{"$f":"入力用シート!N61","v":0},{"$f":"入力用シート!P61","v":0},{"$f":"入力用シート!R61","v":0},{"$f":"入力用シート!T61","v":0},{"$f":"入力用シート!V61","v":0},{"$f":"入力用シート!X61","v":0},null,null,null,null,null,null,null,null,null,null,null,null,null,null,null,null,null,null,null,"照射方向",{"$f":"IF($M9>0,1,2)","v":2},"直接線：1、散乱線：2"]
[null,null,null,null,null,"透過率",{"$f":"IF(OR($G33=0,A点!$AL$8=1,A点!$AL$8=\"○\"),1,INDEX('表5(CaSO4)'!$A$3:$Y$36,MATCH($AW8,'表5(CaSO4)'!$A$3:$A$36,0),MATCH($F8,'表5(CaSO4)'!$A$3:$Y$3,0)))","v":1},{"$f":"IF(OR($H33=0,A点!$AL$8=1,A点!$AL$8=\"○\"),1,INDEX('表5(CaSO4)'!$A$3:$Y$36,MATCH($AW18,'表5(CaSO4)'!$A$3:$A$36,0),MATCH($F8,'表5(CaSO4)'!$A$3:$Y$3,0)))","v":1},null,null,null,"透過率",{"$f":"IF(OR($M33=0,A点!$AL$8=1,A点!$AL$8=\"○\"),1,INDEX('表5(CaSO4)'!$A$3:$Y$36,MATCH($AX8,'表5(CaSO4)'!$A$3:$A$36,0),MATCH($F8,'表5(CaSO4)'!$A$3:$Y$3,0)))","v":1},{"$f":"IF(OR($N33=0,A点!$AL$8=1,A点!$AL$8=\"○\"),1,INDEX('表5(CaSO4)'!$A$3:$Y$36,MATCH($AX18,'表5(CaSO4)'!$A$3:$A$36,0),MATCH($F8,'表5(CaSO4)'!$A$3:$Y$3,0)))","v":1},null,null,null,"透過率",{"$f":"IF(OR($S33=0,A点!$AL$8=1,A点!$AL$8=\"○\"),1,INDEX('表5(CaSO4)'!$A$3:$Y$36,MATCH($AY8,'表5(CaSO4)'!$A$3:$A$36,0),MATCH($F8,'表5(CaSO4)'!$A$3:$Y$3,0)))","v":1},{"$f":"IF(OR($T33=0,A点!$AL$8=1,A点!$AL$8=\"○\"),1,INDEX('表5(CaSO4)'!$A$3:$Y$36,MATCH($AY18,'表5(CaSO4)'!$A$3:$A$36,0),MATCH($F8,'表5(CaSO4)'!$A$3:$Y$3,0)))","v":1},null,null,"Pb","ｺﾝｸﾘ","Fe","石膏","ｶﾞﾗｽ","木材",null,null,null,null,null,null,null,null,null,null,null,null,null,null,null,null,null,null,null,"判定コード",{"$f":"AW32&AW33","v":"02"}]
[null,null,null,"e）　ガラス(表6)",null,"等価厚さ",{"$f":"IF($G24=$AA$10,$W$9*$AE$12,0)","v":0},{"$f":"IF($H24=$AA$10,$W$9*$AE$12,0)","v":0},null,"e）　ガラス(表6)",null,"等価厚さ",{"$f":"IF($M24=$AA$22,$W$21*$AE$12,0)","v":0},{"$f":"IF($N24=$AA$22,$W$21*$AE$12,0)","v":0},null,"e）　ガラス(表6)",null,"等価厚さ",{"$f":"IF($S24=$AA$34,$W$33*$AE$12,0)","v":0},{"$f":"IF($T24=$AA$34,$W$33*$AE$12,0)","v":0},null,null,{"$f":"IF($W32=\"Pb\",$W33,0)","v":0},{"$f":"IF($W32=\"ｺﾝｸﾘ\",$W33,0)","v":0},{"$f":"IF($W32=\"Fe\",$W33,0)","v":0},{"$f":"IF($W32=\"石膏\",$W33,0)","v":0},{"$f":"IF($W32=\"ｶﾞﾗｽ\",$W33,0)","v":0},{"$f":"IF($W32=\"木材\",$W33,0)","v":0}]
[null,null,null,null,null,"透過率",{"$f":"IF(OR($G35=0,A点!$AL$8=1,A点!$AL$8=\"○\"),1,INDEX('表6(SiO2)'!$A$3:$Y$36,MATCH($AW9,'表6(SiO2)'!$A$3:$A$36,0),MATCH($F8,'表6(SiO2)'!$A$3:$Y$3,0)))","v":1},{"$f":"IF(OR($H35=0,A点!$AL$8=1,A点!$AL$8=\"○\"),1,INDEX('表6(SiO2)'!$A$3:$Y$36,MATCH($AW19,'表6(SiO2)'!$A$3:$A$36,0),MATCH($F8,'表6(SiO2)'!$A$3:$Y$3,0)))","v":1},null,null,null,"透過率",{"$f":"IF(OR($M35=0,A点!$AL$8=1,A点!$AL$8=\"○\"),1,INDEX('表6(SiO2)'!$A$3:$Y$36,MATCH($AX9,'表6(SiO2)'!$A$3:$A$36,0),MATCH($F8,'表6(SiO2)'!$A$3:$Y$3,0)))","v":1},{"$f":"IF(OR($N35=0,A点!$AL$8=1,A点!$AL$8=\"○\"),1,INDEX('表6(SiO2)'!$A$3:$Y$36,MATCH($AX19,'表6(SiO2)'!$A$3:$A$36,0),MATCH($F8,'表6(SiO2)'!$A$3:$Y$3,0)))","v":1},null,null,null,"透過率",{"$f":"IF(OR($S35=0,A点!$AL$8=1,A点!$AL$8=\"○\"),1,INDEX('表6(SiO2)'!$A$3:$Y$36,MATCH($AY9,'表6(SiO2)'!$A$3:$A$36,0),MATCH($F8,'表6(SiO2)'!$A$3:$Y$3,0)))","v":1},{"$f":"IF(OR($T35=0,A点!$AL$8=1,A点!$AL$8=\"○\"),1,INDEX('表6(SiO2)'!$A$3:$Y$36,MATCH($AY19,'表6(SiO2)'!$A$3:$A$36,0),MATCH($F8,'表6(SiO2)'!$A$3:$Y$3,0)))","v":1},null,null,{"$f":"IF($X32=\"Pb\",$X33,0)","v":0},{"$f":"IF($X32=\"ｺﾝｸﾘ\",$X33,0)","v":0},{"$f":"IF($X32=\"Fe\",$X33,0)","v":0},{"$f":"IF($X32=\"石膏\",$X33,0)","v":0},{"$f":"IF($X32=\"ｶﾞﾗｽ\",$X33,0)","v":0},{"$f":"IF($X32=\"木材\",$X33,0)","v":0}]
[null,null,null,"f)　木材(表7)",null,"等価厚さ",{"$f":"IF($G24=$AB$10,$W$9*$AE$13,0)","v":0},{"$f":"IF($H24=$AB$10,$W$9*$AE$13,0)","v":0},null,"f)　木材(表7)",null,"等価厚さ",{"$f":"IF($M24=$AB$22,$W$21*$AE$13,0)","v":0},{"$f":"IF($N24=$AB$22,$W$21*$AE$13,0)","v":0},null,"f)　木材(表7)",null,"等価厚さ",{"$f":"IF($S24=$AB$34,$W$33*$AE$13,0)","v":0},{"$f":"IF($T24=$AB$34,$W$33*$AE$13,0)","v":0},null,null,{"$f":"IF($Y32=\"Pb\",$Y33,0)","v":0},{"$f":"IF($Y32=\"ｺﾝｸﾘ\",$Y33,0)","v":0},{"$f":"IF($Y32=\"Fe\",$Y33,0)","v":0},{"$f":"IF($Y32=\"石膏\",$Y33,0)","v":0},{"$f":"IF($Y32=\"ｶﾞﾗｽ\",$Y33,0)","v":0},{"$f":"IF($Y32=\"木材\",$Y33,0)","v":0}]
[null,null,null,null,null,"透過率",{"$f":"IF(OR($G37=0,A点!$AL$8=1,A点!$AL$8=\"○\"),1,INDEX('表7(木)'!$A$3:$Y$36,MATCH($AW10,'表7(木)'!$A$3:$A$36,0),MATCH($F8,'表7(木)'!$A$3:$Y$3,0)))","v":1},{"$f":"IF(OR($H37=0,A点!$AL$8=1,A点!$AL$8=\"○\"),1,INDEX('表7(木)'!$A$3:$Y$36,MATCH($AW20,'表7(木)'!$A$3:$A$36,0),MATCH($F8,'表7(木)'!$A$3:$Y$3,0)))","v":1},null,null,null,"透過率",{"$f":"IF(OR($M37=0,A点!$AL$8=1,A点!$AL$8=\"○\"),1,INDEX('表7(木)'!$A$3:$Y$36,MATCH($AX10,'表7(木)'!$A$3:$A$36,0),MATCH($F8,'表7(木)'!$A$3:$Y$3,0)))","v":1},{"$f":"IF(OR($N37=0,A点!$AL$8=1,A点!$AL$8=\"○\"),1,INDEX('表7(木)'!$A$3:$Y$36,MATCH($AX20,'表7(木)'!$A$3:$A$36,0),MATCH($F8,'表7(木)'!$A$3:$Y$3,0)))","v":1},null,null,null,"透過率",{"$f":"IF(OR($S37=0,A点!$AL$8=1,A点!$AL$8=\"○\"),1,INDEX('表7(木)'!$A$3:$Y$36,MATCH($AY10,'表7(木)'!$A$3:$A$36,0),MATCH($F8,'表7(木)'!$A$3:$Y$3,0)))","v":1},{"$f":"IF(OR($T37=0,A点!$AL$8=1,A点!$AL$8=\"○\"),1,INDEX('表7(木)'!$A$3:$Y$36,MATCH($AY20,'表7(木)'!$A$3:$A$36,0),MATCH($F8,'表7(木)'!$A$3:$Y$3,0)))","v":1},null,null,{"$f":"IF($Z32=\"Pb\",$Z33,0)","v":0},{"$f":"IF($Z32=\"ｺﾝｸﾘ\",$Z33,0)","v":0},{"$f":"IF($Z32=\"Fe\",$Z33,0)","v":0},{"$f":"IF($Z32=\"石膏\",$Z33,0)","v":0},{"$f":"IF($Z32=\"ｶﾞﾗｽ\",$Z33,0)","v":0},{"$f":"IF($Z32=\"木材\",$Z33,0)","v":0}]
[null,null,null,null,null,null,null,null,null,null,null,null,null,null,null,null,null,null,null,null,null,null,{"$f":"IF($AA32=\"Pb\",$AA33,0)","v":0},{"$f":"IF($AA32=\"ｺﾝｸﾘ\",$AA33,0)","v":0},{"$f":"IF($AA32=\"Fe\",$AA33,0)","v":0},{"$f":"IF($AA32=\"石膏\",$AA33,0)","v":0},{"$f":"IF($AA32=\"ｶﾞﾗｽ\",$AA33,0)","v":0},{"$f":"IF($AA32=\"木材\",$AA33,0)","v":0}]
[null,null,null,"b)　第２遮蔽材以後による一次線の減衰表9",null,null,null,null,null,"2)　第２遮蔽材以後による一次線の減衰表9",null,null,null,null,null,"2)　第２遮蔽材以後による一次線の減衰表9",null,null,null,null,null,null,{"$f":"IF($AB32=\"Pb\",$AB33,0)","v":0},{"$f":"IF($AB32=\"ｺﾝｸﾘ\",$AB33,0)","v":0},{"$f":"IF($AB32=\"Fe\",$AB33,0)","v":0},{"$f":"IF($AB32=\"石膏\",$AB33,0)","v":0},{"$f":"IF($AB32=\"ｶﾞﾗｽ\",$AB33,0)","v":0},{"$f":"IF($AB32=\"木材\",$AB33,0)","v":0}]
[null,null,null,null,"Dt2=",{"$f":"F44*F46*F48*F50*F52*F54","v":0},{"$f":"G44*G46*G48*G50*G52*G54","v":0},0,null,null,"Dt2=",{"$f":"L44*L46*L48*L50*L52*L54","v":0},{"$f":"M44*M46*M48*M50*M52*M54","v":0},0,null,null,"Dt2=",{"$f":"R44*R46*R48*R50*R52*R54","v":0},{"$f":"S44*S46*S48*S50*S52*S54","v":0},0,null,null,{"$f":"SUM(W35:W40)","v":0},{"$f":"SUM(X35:X40)","v":0},0,0,0,0,"第1～6遮蔽材合計"]
[null,null,null,null,null,"一次線用","散乱線用","漏洩線用",null,null,null,"一次線用","散乱線用","漏洩線用",null,null,null,"一次線用","散乱線用","漏洩線用",null,null,{"$f":"SUM(W36:W40)","v":0},{"$f":"SUM(X36:X40)","v":0},0,0,0,0,"第2～6遮蔽材合計"]
[null,null,null,"a)　鉛(表9)","半価層(mm)",{"$f":"IF(OR(A点!$AL$8=1,A点!$AL$8=\"○\"),\"\",VLOOKUP($F8,'表9(BB)'!$A$4:$M$27,2,0))","v":""},null,null,null,"a)　鉛(表9)","半価層(mm)",{"$f":"IF(OR(A点!$AL$8=1,A点!$AL$8=\"○\"),\"\",VLOOKUP($F8,'表9(BB)'!$A$4:$M$27,2,0))","v":""},null,null,null,"a)　鉛(表9)","半価層(mm)",{"$f":"IF(OR(A点!$AL$8=1,A点!$AL$8=\"○\"),\"\",VLOOKUP($F8,'表9(BB)'!$A$4:$M$27,2,0))","v":""}]
[null,null,null,null,"透過率",{"$f":"IF($S$8>0,$H44,$G44)","v":0},{"$f":"IF($F43=\"\",0,(1/2)^($W18*$AE$8/$F43))","v":0},{"$f":"IF($F43=\"\",0,(1/2)^($W17*$AE$8/$F43))","v":0},null,null,"透過率",{"$f":"IF($S$8>0,$N44,$M44)","v":0},{"$f":"IF($L43=\"\",0,(1/2)^($W30*$AE$8/$L43))","v":0},{"$f":"IF($L43=\"\",0,(1/2)^($W29*$AE$8/$L43))","v":0},null,null,"透過率",{"$f":"IF($S$8>0,$T44,$S44)","v":0},{"$f":"IF($R43=\"\",0,(1/2)^($W42*$AE$8/$R43))","v":0},{"$f":"IF($R43=\"\",0,(1/2)^($W41*$AE$8/$R43))","v":0},null,null,"遮蔽材判定"]
[null,null,null,"b)　コンクリート(表9)","半価層(mm)",{"$f":"IF(OR(A点!$AL$8=1,A点!$AL$8=\"○\"),\"\",VLOOKUP($F8,'表9(BB)'!$A$4:$M$27,4,0))","v":""},null,null,null,"b)　コンクリート(表9)","半価層(mm)",{"$f":"IF(OR(A点!$AL$8=1,A点!$AL$8=\"○\"),\"\",VLOOKUP($F8,'表9(BB)'!$A$4:$M$27,4,0))","v":""},null,null,null,"b)　コンクリート(表9)","半価層(mm)",{"$f":"IF(OR(A点!$AL$8=1,A点!$AL$8=\"○\"),\"\",VLOOKUP($F8,'表9(BB)'!$A$4:$M$27,4,0))","v":""},null,null,null,null,{"$f":"SUM(W17:AB17)+SUM(W29:AB29)+SUM(W41:AB41)","v":0}]
[null,null,null,null,"透過率",{"$f":"IF($S$8>0,$H46,$G46)","v":0},{"$f":"IF($F45=\"\",0,(1/2)^($X18*$AE$9/$F45))","v":0},{"$f":"IF($F45=\"\",0,(1/2)^($X17*$AE$9/$F45))","v":0},null,null,"透過率",{"$f":"IF($S$8>0,$N46,$M46)","v":0},{"$f":"IF($L45=\"\",0,(1/2)^($X30*$AE$9/$L45))","v":0},{"$f":"IF($L45=\"\",0,(1/2)^($X29*$AE$9/$L45))","v":0},null,null,"透過率",{"$f":"IF($S$8>0,$T46,$S46)","v":0},{"$f":"IF($R45=\"\",0,(1/2)^($X42*$AE$9/$R45))","v":0},{"$f":"IF($R45=\"\",0,(1/2)^($X41*$AE$9/$R45))","v":0}]
[null,null,null,"c)　鉄(表9)","半価層(mm)",{"$f":"IF(OR(A点!$AL$8=1,A点!$AL$8=\"○\"),\"\",VLOOKUP($F8,'表9(BB)'!$A$4:$M$27,6,0))","v":""},null,null,null,"c)　鉄(表9)","半価層(mm)",{"$f":"IF(OR(A点!$AL$8=1,A点!$AL$8=\"○\"),\"\",VLOOKUP($F8,'表9(BB)'!$A$4:$M$27,6,0))","v":""},null,null,null,"c)　鉄(表9)","半価層(mm)",{"$f":"IF(OR(A点!$AL$8=1,A点!$AL$8=\"○\"),\"\",VLOOKUP($F8,'表9(BB)'!$A$4:$M$27,6,0))","v":""}]
[null,null,null,null,"透過率",{"$f":"IF($S$8>0,$H48,$G48)","v":0},{"$f":"IF($F47=\"\",0,(1/2)^($Y18*$AE$10/$F47))","v":0},{"$f":"IF($F47=\"\",0,(1/2)^($Y17*$AE$10/$F47))","v":0},null,null,"透過率",{"$f":"IF($S$8>0,$N48,$M48)","v":0},{"$f":"IF($L47=\"\",0,(1/2)^($Y30*$AE$10/$L47))","v":0},{"$f":"IF($L47=\"\",0,(1/2)^($Y29*$AE$10/$L47))","v":0},null,null,"透過率",{"$f":"IF($S$8>0,$T48,$S48)","v":0},{"$f":"IF($R47=\"\",0,(1/2)^($Y42*$AE$10/$R47))","v":0},{"$f":"IF($R47=\"\",0,(1/2)^($Y41*$AE$10/$R47))","v":0}]
[null,null,null,"d)　石膏(表9)","半価層(mm)",{"$f":"IF(OR(A点!$AL$8=1,A点!$AL$8=\"○\"),\"\",VLOOKUP($F8,'表9(BB)'!$A$4:$M$27,8,0))","v":""},null,null,null,"d)　石膏(表9)","半価層(mm)",{"$f":"IF(OR(A点!$AL$8=1,A点!$AL$8=\"○\"),\"\",VLOOKUP($F8,'表9(BB)'!$A$4:$M$27,8,0))","v":""},null,null,null,"d)　石膏(表9)","半価層(mm)",{"$f":"IF(OR(A点!$AL$8=1,A点!$AL$8=\"○\"),\"\",VLOOKUP($F8,'表9(BB)'!$A$4:$M$27,8,0))","v":""}]
[null,null,null,null,"透過率",{"$f":"IF($S$8>0,$H50,$G50)","v":0},{"$f":"IF($F49=\"\",0,(1/2)^($Z18*$AE$11/$F49))","v":0},{"$f":"IF($F49=\"\",0,(1/2)^($Z17*$AE$11/$F49))","v":0},null,null,"透過率",{"$f":"IF($S$8>0,$N50,$M50)","v":0},{"$f":"IF($L49=\"\",0,(1/2)^($Z30*$AE$11/$L49))","v":0},{"$f":"IF($L49=\"\",0,(1/2)^($Z29*$AE$11/$L49))","v":0},null,null,"透過率",{"$f":"IF($S$8>0,$T50,$S50)","v":0},{"$f":"IF($R49=\"\",0,(1/2)^($Z42*$AE$11/$R49))","v":0},{"$f":"IF($R49=\"\",0,(1/2)^($Z41*$AE$11/$R49))","v":0}]
[null,null,null,"e）　ガラス(表9)","半価層(mm)",{"$f":"IF(OR(A点!$AL$8=1,A点!$AL$8=\"○\"),\"\",VLOOKUP($F8,'表9(BB)'!$A$4:$M$27,10,0))","v":""},null,null,null,"e）　ガラス(表9)","半価層(mm)",{"$f":"IF(OR(A点!$AL$8=1,A点!$AL$8=\"○\"),\"\",VLOOKUP($F8,'表9(BB)'!$A$4:$M$27,10,0))","v":""},null,null,null,"e）　ガラス(表9)","半価層(mm)",{"$f":"IF(OR(A点!$AL$8=1,A点!$AL$8=\"○\"),\"\",VLOOKUP($F8,'表9(BB)'!$A$4:$M$27,10,0))","v":""}]
[null,null,null,null,"透過率",{"$f":"IF($S$8>0,$H52,$G52)","v":0},{"$f":"IF($F51=\"\",0,(1/2)^($AA18*$AE$12/$F51))","v":0},{"$f":"IF($F51=\"\",0,(1/2)^($AA17*$AE$12/$F51))","v":0},null,null,"透過率",{"$f":"IF($S$8>0,$N52,$M52)","v":0},{"$f":"IF($L51=\"\",0,(1/2)^($AA30*$AE$12/$L51))","v":0},{"$f":"IF($L51=\"\",0,(1/2)^($AA29*$AE$12/$L51))","v":0},null,null,"透過率",{"$f":"IF($S$8>0,$T52,$S52)","v":0},{"$f":"IF($R51=\"\",0,(1/2)^($AA42*$AE$12/$R51))","v":0},{"$f":"IF($R51=\"\",0,(1/2)^($AA41*$AE$12/$R51))","v":0}]
[null,null,null,"f)　木材(表9)","半価層(mm)",{"$f":"IF(OR(A点!$AL$8=1,A点!$AL$8=\"○\"),\"\",VLOOKUP($F8,'表9(BB)'!$A$4:$M$27,12,0))","v":""},null,null,null,"f)　木材(表9)","半価層(mm)",{"$f":"IF(OR(A点!$AL$8=1,A点!$AL$8=\"○\"),\"\",VLOOKUP($F8,'表9(BB)'!$A$4:$M$27,12,0))","v":""},null,null,null,"f)　木材(表9)","半価層(mm)",{"$f":"IF(OR(A点!$AL$8=1,A点!$AL$8=\"○\"),\"\",VLOOKUP($F8,'表9(BB)'!$A$4:$M$27,12,0))","v":""}]
[null,null,null,null,"透過率",{"$f":"IF($S$8>0,$H54,$G54)","v":0},{"$f":"IF($F53=\"\",0,(1/2)^($AB18*$AE$13/$F53))","v":0},{"$f":"IF($F53=\"\",0,(1/2)^($AB17*$AE$13/$F53))","v":0},null,null,"透過率",{"$f":"IF($S$8>0,$N54,$M54)","v":0},{"$f":"IF($L53=\"\",0,(1/2)^($AB$30*$AE$13/$L$53))","v":0},{"$f":"IF($L53=\"\",0,(1/2)^($AB$29*$AE$13/$L$53))","v":0},null,null,"透過率",{"$f":"IF($S$8>0,$T54,$S54)","v":0},{"$f":"IF($R53=\"\",0,(1/2)^($AB42*$AE$13/$R53))","v":0},{"$f":"IF($R53=\"\",0,(1/2)^($AB41*$AE$13/$R53))","v":0}]
[]
[]
[null,null,null,"2)　Es：散乱エックス線の漏洩線量(散乱角90度)",null,null,null,null,null,"2)　Es：散乱エックス線の漏洩線量(散乱角90度)",null,null,null,null,null,"2)　Es：散乱エックス線の漏洩線量(散乱角90度)"]
[null,null,null,null,"Dt=",{"$f":"H25*G41","v":0},null,null,null,null,"Dt=",{"$f":"N25*M41","v":0},null,null,null,null,"Dt=",{"$f":"T25*S41","v":0}]
[null,null,null,null,"Es=",{"$f":"IF(OR($F8=0,$M10=0,$M11=0,AND($W$8=0,$W$45>0),A点!$AQ$7=1),0,$G8*F58*$G12*$G11*$M7*$M8*($K11/100)*$K12/(400*($M10^2)*($M11^2)))","v":0},"μSv/3ヶ月",null,null,null,"Es=",{"$f":"IF(OR($F8=0,$M10=0,$M11=0,AND($W$20=0,$W$45>0),A点!$AQ$7=1),0,$G8*$G12*$G11*L58*$M7*$M8*($K11/100)*$K12/(400*($M10^2)*($M11^2)))","v":0},"μSv/3ヶ月",null,null,null,"Es=",{"$f":"IF(OR($F8=0,$M10=0,$M11=0,AND($W$32=0,$W$45>0),A点!$AQ$7=1),0,$G8*$G12*$G11*R58*$M7*$M8*($K11/100)*$K12/(400*($M10^2)*($M11^2)))","v":0},"μSv/3ヶ月"]
[]
[]
[null,null,null,"3)　EL：エックス線管容器からの漏洩線量(最大見積)",null,null,null,null,null,"3)　EL：エックス線管容器からの漏洩線量(最大見積)",null,null,null,null,null,"3)　EL：エックス線管容器からの漏洩線量(最大見積)"]
[]
[null,null,null,null,"EL=",{"$f":"IF(OR($F8=0,$M12=0,A点!$AQ$7=1,AND($W$8=0,$W$45>0)),0,$S17*$G11*$M13*H41*$M7*$M8/($M12^2))","v":0},"μGy/h",null,null,null,"EL=",{"$f":"IF(OR($F8=0,$M12=0,A点!$AQ$7=1,AND($W$20=0,$W$45>0)),0,$S17*$G11*$M13*N41*$M7*$M8/($M12^2))","v":0},"μGy/h",null,null,null,"EL=",{"$f":"IF(OR($F8=0,$M12=0,A点!$AQ$7=1,AND($W$32=0,$W$45>0)),0,$S17*$G11*$M13*T41*$M7*$M8/($M12^2))","v":0},"μGy/h"]
[]
[]
[null,"一般撮影",null,"①　X：空気カーマ(表1)",null,null,null,"④　使用係数",null,null,null,"Ｕ＝",1,null,null,"1)対向板による一次線の減衰(表２)",null,null,null,null,null,null,null,null,null,null,null,null,null,null,null,null,null,null,null,null,null,null,null,null,null,null,null,null,null,null,"③撮影用透過率（表2-7）"]
[null,null,null,null,"採用管電圧",{"$f":"A点!$F$68","v":0},{"$f":"A点!$G$68","v":0},"⑤　居住係数",null,null,null,"Ｔ＝",1,null,null,null,null,"等価厚さ",{"$f":"入力用シート!$AA$9","v":0},"mm",null,null,null,null,null,null,null,null,null,null,null,null,null,null,null,null,null,null,null,null,null,null,null,null,null,null,"1)直接線用"]
[null,null,null,null,"電流",{"$f":"A点!$F$69","v":0},null,"⑥　距離",null,null,null,"d1=",{"$f":"M9","v":0},"ｍ",null,null,"使用管電圧",{"$f":"A点!$AM$5","v":0},null,null,null,null,null,null,null,null,null,null,null,null,null,null,null,null,null,null,null,null,null,null,null,null,null,null,null,null,"遮蔽厚参照値"]
[null,null,null,"②　E/Ka：空気カーマ換算係数（表10）",null,null,null,"⑧　照射野400cm2空気ｶｰﾏ率表8",null,null,null,"d2=",{"$f":"M10","v":0},"ｍ",null,null,"透過率",{"$f":"IF(A点!$AM$8=\"○\",\"\",IF(A点!$AM$8=1,\"データなし\",IF($S68>3,HLOOKUP($R69,'表２(Pb)'!$B$3:$Y$36,32+ROUNDDOWN(($S68-3)/0.5,0),0),HLOOKUP($R69,'表２(Pb)'!$B$3:$Y$36,2+S68/0.1,0))))","v":""},null,null,null,null,null,null,null,null,null,null,null,null,null,null,null,null,null,null,null,null,null,null,null,null,null,null,null,null,null,null,"D点","D'点","D\"点"]
[null,null,null,null,"採用管電圧",{"$f":"A点!$F$71","v":0},{"$f":"A点!$G$71","v":0},null,null,null,{"$f":"A点!$AM$7","v":0},"d3=",0,"ｍ",null,null,null,null,null,null,null,null,null,null,null,null,null,null,null,null,null,null,null,null,null,null,null,null,null,null,null,null,null,null,null,null,null,"Pb",{"$f":"IF($G87=0,\"\",IF($G87<=3,INT(10*$G87)/10,IF($G87>4,4,0.5*INT($G87/0.5))))","v":""},{"$f":"IF($M87=0,\"\",IF($M87<=3,INT(10*$M87)/10,IF($M87>4,4,0.5*INT($M87/0.5))))","v":""},{"$f":"IF($S87=0,\"\",IF($S87<=3,INT(10*$S87)/10,IF($S87>4,4,0.5*INT($S87/0.5))))","v":""}]
[null,null,null,"③　W：３Ｍ実効稼動負荷",null,"合計",{"$f":"13*(入力用シート!$L$26*入力用シート!$Q$26*入力用シート!$H$27*入力用シート!$L$27*入力用シート!$Q$27)","v":0},"⑨　受像面照射野",null,null,{"$f":"入力用シート!$E$16","v":1225},"d4=",0,"ｍ",null,null,null,null,null,null,null,null,null,null,null,null,null,null,null,null,null,null,null,null,null,null,null,null,null,null,null,null,null,null,null,null,null,"ｺﾝｸﾘ",{"$f":"IF($G89=0,\"\",IF($G89<=300,INT($G89/10)*10,IF($G89>400,400,50*INT($G89/50))))","v":""},{"$f":"IF($M89=0,\"\",IF($M89<=300,INT($M89/10)*10,IF($M89>400,400,50*INT($M89/50))))","v":""},{"$f":"IF($S89=0,\"\",IF($S89<=300,INT($S89/10)*10,IF($S89>400,400,50*INT($S89/50))))","v":""}]
[null,null,null,null,null,null,null,"⑩　tw：３月間における稼働時間(h)",null,null,null,null,{"$f":"IF(F69=0,0,G72/(F69*3600))","v":0},null,null,"機器の種類",null,"管容器からの空気ｶｰﾏ率（mGy/h）",null,null,null,null,null,null,null,null,null,null,null,null,null,null,null,null,null,null,null,null,null,null,null,null,null,null,null,null,null,"Fe",{"$f":"IF($G91=0,\"\",IF($G91<=30,INT($G91),IF($G91>40,40,5*INT($G91/5))))","v":""},{"$f":"IF($M91=0,\"\",IF($M91<=30,INT($M91),IF($M91>40,40,5*INT($M91/5))))","v":""},{"$f":"IF($S91=0,\"\",IF($S91<=30,INT($S91),IF($S91>40,40,5*INT($S91/5))))","v":""}]
[null,null,null,"D点の漏洩エックス線量の計算(利用線錘方向）",null,null,null,null,"D点の漏洩エックス線量の計算(被写体・管球）",null,null,null,null,null,1,"治療用ｴｯｸｽ線装置（≧50ｋV）",null,1,"選んだ機器",null,null,null,null,null,null,null,null,null,null,null,null,null,null,null,null,null,null,null,null,null,null,null,null,null,null,null,null,"石膏",{"$f":"IF($G93=0,\"\",IF($G93<=30,INT($G93),IF($G93>40,40,5*INT($G93/5))))","v":""},{"$f":"IF($M93=0,\"\",IF($M93<=30,INT($M93),IF($M93>40,40,5*INT($M93/5))))","v":""},{"$f":"IF($S93=0,\"\",IF($S93<=30,INT($S93),IF($S93>40,40,5*INT($S93/5))))","v":""}]
[null,null,null,null,"Ea=",{"$f":"MAX(F81,L81,R81)","v":0},"μSv/3ヶ月",null,null,"Es＝",{"$f":"MAX(F119,L119,R119)","v":0},"μSv/3ヶ月",null,null,2,"治療用ｴｯｸｽ線装置（＜50ｋV）",null,10,{"$f":"入力用シート!$C$7","v":0},null,null,null,null,null,null,null,null,null,null,null,null,null,null,null,null,null,null,null,null,null,null,null,null,null,null,null,null,"ｶﾞﾗｽ",{"$f":"IF($G95=0,\"\",IF($G95<=30,INT($G95),IF($G95>40,40,5*INT($G95/5))))","v":""},{"$f":"IF($M95=0,\"\",IF($M95<=30,INT($M95),IF($M95>40,40,5*INT($M95/5))))","v":""},{"$f":"IF($S95=0,\"\",IF($S95<=30,INT($S95),IF($S95>40,40,5*INT($S95/5))))","v":""}]
[null,null,null,null,null,null,null,null,null,"EL＝",{"$f":"MAX(F124,L124,R124)","v":0},"μSv/3ヶ月",null,null,3,"口内法撮影用X線装置（≦120ｋV）",null,0.25,"選ばれた空気ｶｰﾏ率XL",null,null,null,null,null,null,null,null,null,null,null,null,null,null,null,null,null,null,null,null,null,null,null,null,null,null,null,null,"木材",{"$f":"IF($G97=0,\"\",IF($G97<=300,INT($G97/10)*10,IF($G97>400,400,50*INT($G97/50))))","v":""},{"$f":"IF($M97=0,\"\",IF($M97<=300,INT($M97/10)*10,IF($M97>400,400,50*INT($M97/50))))","v":""},{"$f":"IF($S97=0,\"\",IF($S97<=300,INT($S97/10)*10,IF($S97>400,400,50*INT($S97/50))))","v":""}]
[null,null,null,null,null,null,null,null,null,"合計",{"$f":"+K75+K76","v":0},null,null,null,4,"上記以外の診断用X線装置",null,1,{"$f":"IF(S75=0,0,VLOOKUP(S75,O74:R77,4,0)*1000)","v":0}]
[null,null,null,null,null,null,null,null,null,null,null,null,null,null,null,null,null,null,null,null,null,null,null,null,null,null,null,null,null,null,null,null,null,null,null,null,null,null,null,null,null,null,null,null,null,null,"2)散乱線用"]
[null,null,null,"D点の計算",null,null,null,null,null,"D'点の計算",null,null,null,null,null,"D\"点の計算",null,null,null,null,null,null,null,null,null,null,null,null,null,null,null,null,null,null,null,null,null,null,null,null,null,null,null,null,null,null,"遮蔽厚参照値"]
[null,null,null,"1) Ep：一次エックス線（撮影方向）",null,null,null,null,null,"1) Ep：一次エックス線（撮影方向）",null,null,null,null,null,"1) Ep：一次エックス線（撮影方向）",null,null,null,null,null,null,null,null,null,null,null,null,null,null,null,null,null,null,null,null,null,null,null,null,null,null,null,null,null,null,null,null,"D点","D'点","D\"点"]
[null,null,null,"　",null,{"$f":"IF(OR($F68=0,$M69=0,A点!$AQ$7=1,AND($W$8=0,$W$45>0)),0,($G68*$R70*$G85*$F101*$G72*$G71*$M67*$M68)/($M69^2))","v":0},"μSv/3ヶ月",null,null,"　",null,{"$f":"IF(OR($F68=0,$M69=0,A点!$AQ$7=1,AND($W$20=0,$W$45>0)),0,($G68*$R70*$M85*$L101*$G72*$G71*$M67*$M68)/($M69^2))","v":0},"μSv/3ヶ月",null,null,"　",null,{"$f":"IF(OR($F68=0,$M69=0,A点!$AQ$7=1,AND($W$32=0,$W$45>0)),0,($G68*$R70*$S85*$R101*$G72*$G71*$M67*$M68)/($M69^2))","v":0},"μSv/3ヶ月",null,null,null,null,null,null,null,null,null,null,null,null,null,null,null,null,null,null,null,null,null,null,null,null,null,null,null,null,"Pb",{"$f":"IF($H87=0,\"\",IF($H87<=3,INT(10*$H87)/10,IF($H87>4,4,0.5*INT($H87/0.5))))","v":""},{"$f":"IF($N87=0,\"\",IF($N87<=3,INT(10*$N87)/10,IF($N87>4,4,0.5*INT($N87/0.5))))","v":""},{"$f":"IF($T87=0,\"\",IF($T87<=3,INT(10*$T87)/10,IF($T87>4,4,0.5*INT($T87/0.5))))","v":""}]
[null,null,null,null,null,null,null,null,null,null,null,null,null,null,null,null,null,null,null,null,null,null,null,null,null,null,null,null,null,null,null,null,null,null,null,null,null,null,null,null,null,null,null,null,null,null,null,"ｺﾝｸﾘ",{"$f":"IF($H89=0,\"\",IF($H89<=300,INT($H89/10)*10,IF($H89>400,400,50*INT($H89/50))))","v":""},{"$f":"IF($N89=0,\"\",IF($N89<=300,INT($N89/10)*10,IF($N89>400,400,50*INT($N89/50))))","v":""},{"$f":"IF($T89=0,\"\",IF($T89<=300,INT($T89/10)*10,IF($T89>400,400,50*INT($T89/50))))","v":""}]
[null,null,null,"a) 第１遮蔽材による減衰(遮蔽体がある場合透過率=1)",null,null,null,null,null,"a) 第１遮蔽材による減衰(遮蔽体がある場合透過率=1)",null,null,null,null,null,"a) 第１遮蔽材による減衰(遮蔽体がある場合透過率=1)",null,null,null,null,null,null,null,null,null,null,null,null,null,null,null,null,null,null,null,null,null,null,null,null,null,null,null,null,null,null,null,"Fe",{"$f":"IF($H91=0,\"\",IF($H91<=30,INT($H91),IF($H91>40,40,5*INT($H91/5))))","v":""},{"$f":"IF($N91=0,\"\",IF($N91<=30,INT($N91),IF($N91>40,40,5*INT($N91/5))))","v":""},{"$f":"IF($T91=0,\"\",IF($T91<=30,INT($T91),IF($T91>40,40,5*INT($T91/5))))","v":""}]
[null,null,null,null,null,"第1遮蔽材",{"$f":"IF($S$68>0,\"遮蔽体\",$W$8)","v":0},{"$f":"$W$8","v":0},null,null,null,"第1遮蔽材",{"$f":"IF($S$68>0,\"遮蔽体\",$W$20)","v":0},{"$f":"$W$20","v":0},null,null,null,"第1遮蔽材",{"$f":"IF($S$68>0,\"遮蔽体\",$W$32)","v":0},{"$f":"$W$32","v":0},null,null,null,null,null,null,null,null,null,null,null,null,null,null,null,null,null,null,null,null,null,null,null,null,null,null,null,"石膏",{"$f":"IF($H93=0,\"\",IF($H93<=30,INT($H93),IF($H93>40,40,5*INT($H93/5))))","v":""},{"$f":"IF($N93=0,\"\",IF($N93<=30,INT($N93),IF($N93>40,40,5*INT($N93/5))))","v":""},{"$f":"IF($T93=0,\"\",IF($T93<=30,INT($T93),IF($T93>40,40,5*INT($T93/5))))","v":""}]
[null,null,null,null,null,"Dt1=",{"$f":"G88*G90*G92*G94*G96*G98","v":1},{"$f":"H88*H90*H92*H94*H96*H98","v":1},null,null,null,"Dt1=",{"$f":"M88*M90*M92*M94*M96*M98","v":1},{"$f":"N88*N90*N92*N94*N96*N98","v":1},null,null,null,"Dt1=",{"$f":"S88*S90*S92*S94*S96*S98","v":1},{"$f":"T88*T90*T92*T94*T96*T98","v":1},null,null,null,null,null,null,null,null,null,null,null,null,null,null,null,null,null,null,null,null,null,null,null,null,null,null,null,"ｶﾞﾗｽ",{"$f":"IF($H95=0,\"\",IF($H95<=30,INT($H95),IF($H95>40,40,5*INT($H95/5))))","v":""},{"$f":"IF($N95=0,\"\",IF($N95<=30,INT($N95),IF($N95>40,40,5*INT($N95/5))))","v":""},{"$f":"IF($T95=0,\"\",IF($T95<=30,INT($T95),IF($T95>40,40,5*INT($T95/5))))","v":""}]
[null,null,null,null,null,null,"一次線用","散乱線用",null,null,null,null,"一次線用","散乱線用",null,null,null,null,"一次線用","散乱線用",null,null,null,null,null,null,null,null,null,null,null,null,null,null,null,null,null,null,null,null,null,null,null,null,null,null,null,"木材",{"$f":"IF($H97=0,\"\",IF($H97<=300,INT($H97/10)*10,IF($H97>400,400,50*INT($H97/50))))","v":""},{"$f":"IF($N97=0,\"\",IF($N97<=300,INT($N97/10)*10,IF($N97>400,400,50*INT($N97/50))))","v":""},{"$f":"IF($T97=0,\"\",IF($T97<=300,INT($T97/10)*10,IF($T97>400,400,50*INT($T97/50))))","v":""}]
[null,null,null,"a)　鉛(表2)",null,"等価厚さ",{"$f":"IF($G84=$W$10,$W$9*$AE$8,0)","v":0},{"$f":"IF($H84=$W$10,$W$9*$AE$8,0)","v":0},null,"a)　鉛(表2)",null,"等価厚さ",{"$f":"IF($M84=$W$22,$W$21*$AE$8,0)","v":0},{"$f":"IF($N84=$W$22,$W$21*$AE$8,0)","v":0},null,"a)　鉛(表2)",null,"等価厚さ",{"$f":"IF($S84=$W$34,$W$33*$AE$8,0)","v":0},{"$f":"IF($T84=$W$34,$W$33*$AE$8,0)","v":0}]
[null,null,null,null,null,"透過率",{"$f":"IF(OR($G87=0,A点!$AM$8=1,A点!$AM$8=\"○\"),1,INDEX('表２(Pb)'!$A$3:$Y$36,MATCH($AW71,'表２(Pb)'!$A$3:$A$36,0),MATCH($F68,'表２(Pb)'!$A$3:$Y$3,0)))","v":1},{"$f":"IF(OR($H87=0,A点!$AM$8=1,A点!$AM$8=\"○\"),1,INDEX('表２(Pb)'!$A$3:$Y$36,MATCH($AW81,'表２(Pb)'!$A$3:$A$36,0),MATCH($F68,'表２(Pb)'!$A$3:$Y$3,0)))","v":1},null,null,null,"透過率",{"$f":"IF(OR($M87=0,A点!$AM$8=1,A点!$AM$8=\"○\"),1,INDEX('表２(Pb)'!$A$3:$Y$36,MATCH($AX71,'表２(Pb)'!$A$3:$A$36,0),MATCH($F68,'表２(Pb)'!$A$3:$Y$3,0)))","v":1},{"$f":"IF(OR($N87=0,A点!$AM$8=1,A点!$AM$8=\"○\"),1,INDEX('表２(Pb)'!$A$3:$Y$36,MATCH($AX81,'表２(Pb)'!$A$3:$A$36,0),MATCH($F68,'表２(Pb)'!$A$3:$Y$3,0)))","v":1},null,null,null,"透過率",{"$f":"IF(OR($S87=0,A点!$AM$8=1,A点!$AM$8=\"○\"),1,INDEX('表２(Pb)'!$A$3:$Y$36,MATCH($AY71,'表２(Pb)'!$A$3:$A$36,0),MATCH($F68,'表２(Pb)'!$A$3:$Y$3,0)))","v":1},{"$f":"IF(OR($T87=0,A点!$AM$8=1,A点!$AM$8=\"○\"),1,INDEX('表２(Pb)'!$A$3:$Y$36,MATCH($AY81,'表２(Pb)'!$A$3:$A$36,0),MATCH($F68,'表２(Pb)'!$A$3:$Y$3,0)))","v":1},null,null,null,null,null,null,null,null,null,null,null,null,null,null,null,null,null,null,null,null,null,null,null,null,null,null,"3)","遮蔽材順"]
[null,null,null,"b)　コンクリート(表3)",null,"等価厚さ",{"$f":"IF($G84=$X$10,$W$9*$AE$9,0)","v":0},{"$f":"IF($H84=$X$10,$W$9*$AE$9,0)","v":0},null,"b)　コンクリート(表3)",null,"等価厚さ",{"$f":"IF($M84=$X$22,$W$21*$AE$9,0)","v":0},{"$f":"IF($N84=$X$22,$W$21*$AE$9,0)","v":0},null,"b)　コンクリート(表3)",null,"等価厚さ",{"$f":"IF($S84=$X$34,$W$33*$AE$9,0)","v":0},{"$f":"IF($T84=$X$34,$W$33*$AE$9,0)","v":0},null,null,null,null,null,null,null,null,null,null,null,null,null,null,null,null,null,null,null,null,null,null,null,null,null,null,null,null,"D点","D'点","D\"点"]
[null,null,null,null,null,"透過率",{"$f":"IF(OR($G89=0,A点!$AM$8=1,A点!$AM$8=\"○\"),1,INDEX('表３(コ)'!$A$3:$Y$36,MATCH($AW72,'表３(コ)'!$A$3:$A$36,0),MATCH($F68,'表３(コ)'!$A$3:$Y$3,0)))","v":1},{"$f":"IF(OR($H89=0,A点!$AM$8=1,A点!$AM$8=\"○\"),1,INDEX('表３(コ)'!$A$3:$Y$36,MATCH($AW82,'表３(コ)'!$A$3:$A$36,0),MATCH($F68,'表３(コ)'!$A$3:$Y$3,0)))","v":1},null,null,null,"透過率",{"$f":"IF(OR($M89=0,A点!$AM$8=1,A点!$AM$8=\"○\"),1,INDEX('表３(コ)'!$A$3:$Y$36,MATCH($AX72,'表３(コ)'!$A$3:$A$36,0),MATCH($F68,'表３(コ)'!$A$3:$Y$3,0)))","v":1},{"$f":"IF(OR($N89=0,A点!$AM$8=1,A点!$AM$8=\"○\"),1,INDEX('表３(コ)'!$A$3:$Y$36,MATCH($AX82,'表３(コ)'!$A$3:$A$36,0),MATCH($F68,'表３(コ)'!$A$3:$Y$3,0)))","v":1},null,null,null,"透過率",{"$f":"IF(OR($S89=0,A点!$AM$8=1,A点!$AM$8=\"○\"),1,INDEX('表３(コ)'!$A$3:$Y$36,MATCH($AY72,'表３(コ)'!$A$3:$A$36,0),MATCH($F68,'表３(コ)'!$A$3:$Y$3,0)))","v":1},{"$f":"IF(OR($T89=0,A点!$AM$8=1,A点!$AM$8=\"○\"),1,INDEX('表３(コ)'!$A$3:$Y$36,MATCH($AY82,'表３(コ)'!$A$3:$A$36,0),MATCH($F68,'表３(コ)'!$A$3:$Y$3,0)))","v":1},null,null,null,null,null,null,null,null,null,null,null,null,null,null,null,null,null,null,null,null,null,null,null,null,null,null,null,"第1遮蔽材",{"$f":"IF($AW100=\"11\",G$84,H$84)","v":0},{"$f":"IF($AW100=\"11\",M$84,N$84)","v":0},{"$f":"IF($AW100=\"11\",S$84,T$84)","v":0}]
[null,null,null,"c)　鉄(表4)",null,"等価厚さ",{"$f":"IF($G84=$Y$10,$W$9*$AE$10,0)","v":0},{"$f":"IF($H84=$Y$10,$W$9*$AE$10,0)","v":0},null,"c)　鉄(表4)",null,"等価厚さ",{"$f":"IF($M84=$Y$22,$W$21*$AE$10,0)","v":0},{"$f":"IF($N84=$Y$22,$W$21*$AE$10,0)","v":0},null,"c)　鉄(表4)",null,"等価厚さ",{"$f":"IF($S84=$Y$34,$W$33*$AE$10,0)","v":0},{"$f":"IF($T84=$Y$34,$W$33*$AE$10,0)","v":0},null,null,null,null,null,null,null,null,null,null,null,null,null,null,null,null,null,null,null,null,null,null,null,null,null,null,null,"第2遮蔽材",{"$f":"IF($AW100=\"11\",W$8,X$8)","v":0},{"$f":"IF($AW100=\"11\",W$20,X$20)","v":0},{"$f":"IF($AW100=\"11\",W$32,X$32)","v":0}]
[null,null,null,null,null,"透過率",{"$f":"IF(OR($G91=0,A点!$AM$8=1,A点!$AM$8=\"○\"),1,INDEX('表4(Fe)'!$A$3:$Y$36,MATCH($AW73,'表4(Fe)'!$A$3:$A$36,0),MATCH($F68,'表4(Fe)'!$A$3:$Y$3,0)))","v":1},{"$f":"IF(OR($H91=0,A点!$AM$8=1,A点!$AM$8=\"○\"),1,INDEX('表4(Fe)'!$A$3:$Y$36,MATCH($AW83,'表4(Fe)'!$A$3:$A$36,0),MATCH($F68,'表4(Fe)'!$A$3:$Y$3,0)))","v":1},null,null,null,"透過率",{"$f":"IF(OR($M91=0,A点!$AM$8=1,A点!$AM$8=\"○\"),1,INDEX('表4(Fe)'!$A$3:$Y$36,MATCH($AX73,'表4(Fe)'!$A$3:$A$36,0),MATCH($F68,'表4(Fe)'!$A$3:$Y$3,0)))","v":1},{"$f":"IF(OR($N91=0,A点!$AM$8=1,A点!$AM$8=\"○\"),1,INDEX('表4(Fe)'!$A$3:$Y$36,MATCH($AX83,'表4(Fe)'!$A$3:$A$36,0),MATCH($F68,'表4(Fe)'!$A$3:$Y$3,0)))","v":1},null,null,null,"透過率",{"$f":"IF(OR($S91=0,A点!$AM$8=1,A点!$AM$8=\"○\"),1,INDEX('表4(Fe)'!$A$3:$Y$36,MATCH($AY73,'表4(Fe)'!$A$3:$A$36,0),MATCH($F68,'表4(Fe)'!$A$3:$Y$3,0)))","v":1},{"$f":"IF(OR($T91=0,A点!$AM$8=1,A点!$AM$8=\"○\"),1,INDEX('表4(Fe)'!$A$3:$Y$36,MATCH($AY83,'表4(Fe)'!$A$3:$A$36,0),MATCH($F68,'表4(Fe)'!$A$3:$Y$3,0)))","v":1},null,null,null,null,null,null,null,null,null,null,null,null,null,null,null,null,null,null,null,null,null,null,null,null,null,null,null,"第3遮蔽材",{"$f":"IF($AW100=\"11\",X$8,Y$8)","v":0},{"$f":"IF($AW100=\"11\",X$20,Y$20)","v":0},{"$f":"IF($AW100=\"11\",X$32,Y$32)","v":0}]
[null,null,null,"d)　石膏(表5)",null,"等価厚さ",{"$f":"IF($G84=$Z$10,$W$9*$AE$11,0)","v":0},{"$f":"IF($H84=$Z$10,$W$9*$AE$11,0)","v":0},null,"d)　石膏(表5)",null,"等価厚さ",{"$f":"IF($M84=$Z$22,$W$21*$AE$11,0)","v":0},{"$f":"IF($N84=$Z$22,$W$21*$AE$11,0)","v":0},null,"d)　石膏(表5)",null,"等価厚さ",{"$f":"IF($S84=$Z$34,$W$33*$AE$11,0)","v":0},{"$f":"IF($T84=$Z$34,$W$33*$AE$11,0)","v":0},null,null,null,null,null,null,null,null,null,null,null,null,null,null,null,null,null,null,null,null,null,null,null,null,null,null,null,"第4遮蔽材",{"$f":"IF($AW100=\"11\",Y$8,Z$8)","v":0},{"$f":"IF($AW100=\"11\",Y$20,Z$20)","v":0},{"$f":"IF($AW100=\"11\",Y$32,Z$32)","v":0}]
[null,null,null,null,null,"透過率",{"$f":"IF(OR($G93=0,A点!$AM$8=1,A点!$AM$8=\"○\"),1,INDEX('表5(CaSO4)'!$A$3:$Y$36,MATCH($AW74,'表5(CaSO4)'!$A$3:$A$36,0),MATCH($F68,'表5(CaSO4)'!$A$3:$Y$3,0)))","v":1},{"$f":"IF(OR($H93=0,A点!$AM$8=1,A点!$AM$8=\"○\"),1,INDEX('表5(CaSO4)'!$A$3:$Y$36,MATCH($AW84,'表5(CaSO4)'!$A$3:$A$36,0),MATCH($F68,'表5(CaSO4)'!$A$3:$Y$3,0)))","v":1},null,null,null,"透過率",{"$f":"IF(OR($M93=0,A点!$AM$8=1,A点!$AM$8=\"○\"),1,INDEX('表5(CaSO4)'!$A$3:$Y$36,MATCH($AX74,'表5(CaSO4)'!$A$3:$A$36,0),MATCH($F68,'表5(CaSO4)'!$A$3:$Y$3,0)))","v":1},{"$f":"IF(OR($N93=0,A点!$AM$8=1,A点!$AM$8=\"○\"),1,INDEX('表5(CaSO4)'!$A$3:$Y$36,MATCH($AX84,'表5(CaSO4)'!$A$3:$A$36,0),MATCH($F68,'表5(CaSO4)'!$A$3:$Y$3,0)))","v":1},null,null,null,"透過率",{"$f":"IF(OR($S93=0,A点!$AM$8=1,A点!$AM$8=\"○\"),1,INDEX('表5(CaSO4)'!$A$3:$Y$36,MATCH($AY74,'表5(CaSO4)'!$A$3:$A$36,0),MATCH($F68,'表5(CaSO4)'!$A$3:$Y$3,0)))","v":1},{"$f":"IF(OR($T93=0,A点!$AM$8=1,A点!$AM$8=\"○\"),1,INDEX('表5(CaSO4)'!$A$3:$Y$36,MATCH($AY84,'表5(CaSO4)'!$A$3:$A$36,0),MATCH($F68,'表5(CaSO4)'!$A$3:$Y$3,0)))","v":1},null,null,null,null,null,null,null,null,null,null,null,null,null,null,null,null,null,null,null,null,null,null,null,null,null,null,null,"第5遮蔽材",{"$f":"IF($AW100=\"11\",Z$8,AA$8)","v":0},{"$f":"IF($AW100=\"11\",Z$20,AA$20)","v":0},{"$f":"IF($AW100=\"11\",Z$32,AA$32)","v":0}]
[null,null,null,"e）　ガラス(表6)",null,"等価厚さ",{"$f":"IF($G84=$AA$10,$W$9*$AE$12,0)","v":0},{"$f":"IF($H84=$AA$10,$W$9*$AE$12,0)","v":0},null,"e）　ガラス(表6)",null,"等価厚さ",{"$f":"IF($M84=$AA$22,$W$21*$AE$12,0)","v":0},{"$f":"IF($N84=$AA$22,$W$21*$AE$12,0)","v":0},null,"e）　ガラス(表6)",null,"等価厚さ",{"$f":"IF($S84=$AA$34,$W$33*$AE$12,0)","v":0},{"$f":"IF($T84=$AA$34,$W$33*$AE$12,0)","v":0},null,null,null,null,null,null,null,null,null,null,null,null,null,null,null,null,null,null,null,null,null,null,null,null,null,null,null,"第6遮蔽材",{"$f":"IF($AW100=\"11\",AA$8,AB$8)","v":0},{"$f":"IF($AW100=\"11\",AA$20,AB$20)","v":0},{"$f":"IF($AW100=\"11\",AA$32,AB$32)","v":0}]
[null,null,null,null,null,"透過率",{"$f":"IF(OR($G95=0,A点!$AM$8=1,A点!$AM$8=\"○\"),1,INDEX('表6(SiO2)'!$A$3:$Y$36,MATCH($AW75,'表6(SiO2)'!$A$3:$A$36,0),MATCH($F68,'表6(SiO2)'!$A$3:$Y$3,0)))","v":1},{"$f":"IF(OR($H95=0,A点!$AM$8=1,A点!$AM$8=\"○\"),1,INDEX('表6(SiO2)'!$A$3:$Y$36,MATCH($AW85,'表6(SiO2)'!$A$3:$A$36,0),MATCH($F68,'表6(SiO2)'!$A$3:$Y$3,0)))","v":1},null,null,null,"透過率",{"$f":"IF(OR($M95=0,A点!$AM$8=1,A点!$AM$8=\"○\"),1,INDEX('表6(SiO2)'!$A$3:$Y$36,MATCH($AX75,'表6(SiO2)'!$A$3:$A$36,0),MATCH($F68,'表6(SiO2)'!$A$3:$Y$3,0)))","v":1},{"$f":"IF(OR($N95=0,A点!$AM$8=1,A点!$AM$8=\"○\"),1,INDEX('表6(SiO2)'!$A$3:$Y$36,MATCH($AX85,'表6(SiO2)'!$A$3:$A$36,0),MATCH($F68,'表6(SiO2)'!$A$3:$Y$3,0)))","v":1},null,null,null,"透過率",{"$f":"IF(OR($S95=0,A点!$AM$8=1,A点!$AM$8=\"○\"),1,INDEX('表6(SiO2)'!$A$3:$Y$36,MATCH($AY75,'表6(SiO2)'!$A$3:$A$36,0),MATCH($F68,'表6(SiO2)'!$A$3:$Y$3,0)))","v":1},{"$f":"IF(OR($T95=0,A点!$AM$8=1,A点!$AM$8=\"○\"),1,INDEX('表6(SiO2)'!$A$3:$Y$36,MATCH($AY85,'表6(SiO2)'!$A$3:$A$36,0),MATCH($F68,'表6(SiO2)'!$A$3:$Y$3,0)))","v":1},null,null,null,null,null,null,null,null,null,null,null,null,null,null,null,null,null,null,null,null,null,null,null,null,null,null,null,"第7遮蔽材",{"$f":"IF($AW100=\"11\",AB$8,\"\")","v":""},{"$f":"IF($AW100=\"11\",AB$20,\"\")","v":""},{"$f":"IF($AW100=\"11\",AB$32,\"\")","v":""}]
[null,null,null,"f)　木材(表7)",null,"等価厚さ",{"$f":"IF($G84=$AB$10,$W$9*$AE$13,0)","v":0},{"$f":"IF($H84=$AB$10,$W$9*$AE$13,0)","v":0},null,"f)　木材(表7)",null,"等価厚さ",{"$f":"IF($M84=$AB$22,$W$21*$AE$13,0)","v":0},{"$f":"IF($N84=$AB$22,$W$21*$AE$13,0)","v":0},null,"f)　木材(表7)",null,"等価厚さ",{"$f":"IF($S84=$AB$34,$W$33*$AE$13,0)","v":0},{"$f":"IF($T84=$AB$34,$W$33*$AE$13,0)","v":0}]
[null,null,null,null,null,"透過率",{"$f":"IF(OR($G97=0,A点!$AM$8=1,A点!$AM$8=\"○\"),1,INDEX('表7(木)'!$A$3:$Y$36,MATCH($AW76,'表7(木)'!$A$3:$A$36,0),MATCH($F68,'表7(木)'!$A$3:$Y$3,0)))","v":1},{"$f":"IF(OR($H97=0,A点!$AM$8=1,A点!$AM$8=\"○\"),1,INDEX('表7(木)'!$A$3:$Y$36,MATCH($AW86,'表7(木)'!$A$3:$A$36,0),MATCH($F68,'表7(木)'!$A$3:$Y$3,0)))","v":1},null,null,null,"透過率",{"$f":"IF(OR($M97=0,A点!$AM$8=1,A点!$AM$8=\"○\"),1,INDEX('表7(木)'!$A$3:$Y$36,MATCH($AX76,'表7(木)'!$A$3:$A$36,0),MATCH($F68,'表7(木)'!$A$3:$Y$3,0)))","v":1},{"$f":"IF(OR($N97=0,A点!$AM$8=1,A点!$AM$8=\"○\"),1,INDEX('表7(木)'!$A$3:$Y$36,MATCH($AX86,'表7(木)'!$A$3:$A$36,0),MATCH($F68,'表7(木)'!$A$3:$Y$3,0)))","v":1},null,null,null,"透過率",{"$f":"IF(OR($S97=0,A点!$AM$8=1,A点!$AM$8=\"○\"),1,INDEX('表7(木)'!$A$3:$Y$36,MATCH($AY76,'表7(木)'!$A$3:$A$36,0),MATCH($F68,'表7(木)'!$A$3:$Y$3,0)))","v":1},{"$f":"IF(OR($T97=0,A点!$AM$8=1,A点!$AM$8=\"○\"),1,INDEX('表7(木)'!$A$3:$Y$36,MATCH($AY86,'表7(木)'!$A$3:$A$36,0),MATCH($F68,'表7(木)'!$A$3:$Y$3,0)))","v":1},null,null,null,null,null,null,null,null,null,null,null,null,null,null,null,null,null,null,null,null,null,null,null,null,null,null,null,"遮蔽体有無",{"$f":"IF($S68>0,1,0)","v":0},"遮蔽体有：１"]
[null,null,null,null,null,null,null,null,null,null,null,null,null,null,null,null,null,null,null,null,null,null,null,null,null,null,null,null,null,null,null,null,null,null,null,null,null,null,null,null,null,null,null,null,null,null,null,"照射方向",{"$f":"IF($M69>0,1,2)","v":2},"直接線：1、散乱線：2"]
[null,null,null,"b)　第２遮蔽材以後による一次線の減衰表9",null,null,null,null,null,"b)　第２遮蔽材以後による一次線の減衰表9",null,null,null,null,null,"b)　第２遮蔽材以後による一次線の減衰表9",null,null,null,null,null,null,null,null,null,null,null,null,null,null,null,null,null,null,null,null,null,null,null,null,null,null,null,null,null,null,null,"判定コード",{"$f":"AW98&AW99","v":"02"}]
[null,null,null,null,"Dt2=",{"$f":"F104*F106*F108*F110*F112*F114","v":0},{"$f":"G104*G106*G108*G110*G112*G114","v":0},0,null,null,"Dt2=",{"$f":"L104*L106*L108*L110*L112*L114","v":0},{"$f":"M104*M106*M108*M110*M112*M114","v":0},0,null,null,"Dt2=",{"$f":"R104*R106*R108*R110*R112*R114","v":0},{"$f":"S104*S106*S108*S110*S112*S114","v":0},0]
[null,null,null,null,null,"一次線用","散乱線用","漏洩線用",null,null,null,"一次線用","散乱線用","漏洩線用",null,null,null,"一次線用","散乱線用","漏洩線用"]
[null,null,null,"a)　鉛(表9)","半価層(mm)",{"$f":"IF(OR(A点!$AM$8=1,A点!$AM$8=\"○\"),\"\",VLOOKUP($F68,'表9(BB)'!$A$4:$M$27,2,0))","v":""},null,null,null,"a)　鉛(表9)","半価層(mm)",{"$f":"IF(OR(A点!$AM$8=1,A点!$AM$8=\"○\"),\"\",VLOOKUP($F68,'表9(BB)'!$A$4:$M$27,2,0))","v":""},null,null,null,"a)　鉛(表9)","半価層(mm)",{"$f":"IF(OR(A点!$AM$8=1,A点!$AM$8=\"○\"),\"\",VLOOKUP($F68,'表9(BB)'!$A$4:$M$27,2,0))","v":""}]
[null,null,null,null,"透過率",{"$f":"IF($S$68>0,$H104,$G104)","v":0},{"$f":"IF($F103=\"\",0,(1/2)^($W18*$AE$8/$F103))","v":0},{"$f":"IF($F103=\"\",0,(1/2)^($W17*$AE$8/$F103))","v":0},null,null,"透過率",{"$f":"IF($S$68>0,$N104,$M104)","v":0},{"$f":"IF($L103=\"\",0,(1/2)^($W30*$AE$8/$L103))","v":0},{"$f":"IF($L103=\"\",0,(1/2)^($W29*$AE$8/$L103))","v":0},null,null,"透過率",{"$f":"IF($S$68>0,$T104,$S104)","v":0},{"$f":"IF($R103=\"\",0,(1/2)^($W42*$AE$8/$R103))","v":0},{"$f":"IF($R103=\"\",0,(1/2)^($W41*$AE$8/$R103))","v":0}]
[null,null,null,"b)　コンクリート(表9)","半価層(mm)",{"$f":"IF(OR(A点!$AM$8=1,A点!$AM$8=\"○\"),\"\",VLOOKUP($F68,'表9(BB)'!$A$4:$M$27,4,0))","v":""},null,null,null,"b)　コンクリート(表9)","半価層(mm)",{"$f":"IF(OR(A点!$AM$8=1,A点!$AM$8=\"○\"),\"\",VLOOKUP($F68,'表9(BB)'!$A$4:$M$27,4,0))","v":""},null,null,null,"b)　コンクリート(表9)","半価層(mm)",{"$f":"IF(OR(A点!$AM$8=1,A点!$AM$8=\"○\"),\"\",VLOOKUP($F68,'表9(BB)'!$A$4:$M$27,4,0))","v":""}]
[null,null,null,null,"透過率",{"$f":"IF($S$68>0,$H106,$G106)","v":0},{"$f":"IF($F105=\"\",0,(1/2)^($X18*$AE$9/$F105))","v":0},{"$f":"IF($F105=\"\",0,(1/2)^($X17*$AE$9/$F105))","v":0},null,null,"透過率",{"$f":"IF($S$68>0,$N106,$M106)","v":0},{"$f":"IF($L105=\"\",0,(1/2)^($X30*$AE$9/$L105))","v":0},{"$f":"IF($L105=\"\",0,(1/2)^($X29*$AE$9/$L105))","v":0},null,null,"透過率",{"$f":"IF($S$68>0,$T106,$S106)","v":0},{"$f":"IF($R105=\"\",0,(1/2)^($X42*$AE$9/$R105))","v":0},{"$f":"IF($R105=\"\",0,(1/2)^($X41*$AE$9/$R105))","v":0}]
[null,null,null,"c)　鉄(表9)","半価層(mm)",{"$f":"IF(OR(A点!$AM$8=1,A点!$AM$8=\"○\"),\"\",VLOOKUP($F68,'表9(BB)'!$A$4:$M$27,6,0))","v":""},null,null,null,"c)　鉄(表9)","半価層(mm)",{"$f":"IF(OR(A点!$AM$8=1,A点!$AM$8=\"○\"),\"\",VLOOKUP($F68,'表9(BB)'!$A$4:$M$27,6,0))","v":""},null,null,null,"c)　鉄(表9)","半価層(mm)",{"$f":"IF(OR(A点!$AM$8=1,A点!$AM$8=\"○\"),\"\",VLOOKUP($F68,'表9(BB)'!$A$4:$M$27,6,0))","v":""}]
[null,null,null,null,"透過率",{"$f":"IF($S$68>0,$H108,$G108)","v":0},{"$f":"IF($F107=\"\",0,(1/2)^($Y18*$AE$10/$F107))","v":0},{"$f":"IF($F107=\"\",0,(1/2)^($Y17*$AE$10/$F107))","v":0},null,null,"透過率",{"$f":"IF($S$68>0,$N108,$M108)","v":0},{"$f":"IF($L107=\"\",0,(1/2)^($Y30*$AE$10/$L107))","v":0},{"$f":"IF($L107=\"\",0,(1/2)^($Y29*$AE$10/$L107))","v":0},null,null,"透過率",{"$f":"IF($S$68>0,$T108,$S108)","v":0},{"$f":"IF($R107=\"\",0,(1/2)^($Y42*$AE$10/$R107))","v":0},{"$f":"IF($R107=\"\",0,(1/2)^($Y41*$AE$10/$R107))","v":0}]
[null,null,null,"d)　石膏(表9)","半価層(mm)",{"$f":"IF(OR(A点!$AM$8=1,A点!$AM$8=\"○\"),\"\",VLOOKUP($F68,'表9(BB)'!$A$4:$M$27,8,0))","v":""},null,null,null,"d)　石膏(表9)","半価層(mm)",{"$f":"IF(OR(A点!$AM$8=1,A点!$AM$8=\"○\"),\"\",VLOOKUP($F68,'表9(BB)'!$A$4:$M$27,8,0))","v":""},null,null,null,"d)　石膏(表9)","半価層(mm)",{"$f":"IF(OR(A点!$AM$8=1,A点!$AM$8=\"○\"),\"\",VLOOKUP($F68,'表9(BB)'!$A$4:$M$27,8,0))","v":""}]
[null,null,null,null,"透過率",{"$f":"IF($S$68>0,$H110,$G110)","v":0},{"$f":"IF($F109=\"\",0,(1/2)^($Z18*$AE$11/$F109))","v":0},{"$f":"IF($F109=\"\",0,(1/2)^($Z17*$AE$11/$F109))","v":0},null,null,"透過率",{"$f":"IF($S$68>0,$N110,$M110)","v":0},{"$f":"IF($L109=\"\",0,(1/2)^($Z30*$AE$11/$L109))","v":0},{"$f":"IF($L109=\"\",0,(1/2)^($Z29*$AE$11/$L109))","v":0},null,null,"透過率",{"$f":"IF($S$68>0,$T110,$S110)","v":0},{"$f":"IF($R109=\"\",0,(1/2)^($Z42*$AE$11/$R109))","v":0},{"$f":"IF($R109=\"\",0,(1/2)^($Z41*$AE$11/$R109))","v":0}]
[null,null,null,"e）　ガラス(表9)","半価層(mm)",{"$f":"IF(OR(A点!$AM$8=1,A点!$AM$8=\"○\"),\"\",VLOOKUP($F68,'表9(BB)'!$A$4:$M$27,10,0))","v":""},null,null,null,"e）　ガラス(表9)","半価層(mm)",{"$f":"IF(OR(A点!$AM$8=1,A点!$AM$8=\"○\"),\"\",VLOOKUP($F68,'表9(BB)'!$A$4:$M$27,10,0))","v":""},null,null,null,"e）　ガラス(表9)","半価層(mm)",{"$f":"IF(OR(A点!$AM$8=1,A点!$AM$8=\"○\"),\"\",VLOOKUP($F68,'表9(BB)'!$A$4:$M$27,10,0))","v":""}]
[null,null,null,null,"透過率",{"$f":"IF($S$68>0,$H112,$G112)","v":0},{"$f":"IF($F111=\"\",0,(1/2)^($AA18*$AE$12/$F111))","v":0},{"$f":"IF($F111=\"\",0,(1/2)^($AA17*$AE$12/$F111))","v":0},null,null,"透過率",{"$f":"IF($S$68>0,$N112,$M112)","v":0},{"$f":"IF($L111=\"\",0,(1/2)^($AA30*$AE$12/$L111))","v":0},{"$f":"IF($L111=\"\",0,(1/2)^($AA29*$AE$12/$L111))","v":0},null,null,"透過率",{"$f":"IF($S$68>0,$T112,$S112)","v":0},{"$f":"IF($R111=\"\",0,(1/2)^($AA42*$AE$12/$R111))","v":0},{"$f":"IF($R111=\"\",0,(1/2)^($AA41*$AE$12/$R111))","v":0}]
[null,null,null,"f)　木材(表9)","半価層(mm)",{"$f":"IF(OR(A点!$AM$8=1,A点!$AM$8=\"○\"),\"\",VLOOKUP($F68,'表9(BB)'!$A$4:$M$27,12,0))","v":""},null,null,null,"f)　木材(表9)","半価層(mm)",{"$f":"IF(OR(A点!$AM$8=1,A点!$AM$8=\"○\"),\"\",VLOOKUP($F68,'表9(BB)'!$A$4:$M$27,12,0))","v":""},null,null,null,"f)　木材(表9)","半価層(mm)",{"$f":"IF(OR(A点!$AM$8=1,A点!$AM$8=\"○\"),\"\",VLOOKUP($F68,'表9(BB)'!$A$4:$M$27,12,0))","v":""}]
[null,null,null,null,"透過率",{"$f":"IF($S$68>0,$H114,$G114)","v":0},{"$f":"IF($F113=\"\",0,(1/2)^($AB18*$AE$13/$F113))","v":0},{"$f":"IF($F113=\"\",0,(1/2)^($AB17*$AE$13/$F113))","v":0},null,null,"透過率",{"$f":"IF($S$68>0,$N114,$M114)","v":0},{"$f":"IF(L113=\"\",0,(1/2)^($AB30*$AE$13/$L113))","v":0},{"$f":"IF($L113=\"\",0,(1/2)^($AB29*$AE$13/$L113))","v":0},null,null,"透過率",{"$f":"IF($S$68>0,$T114,$S114)","v":0},{"$f":"IF($R113=\"\",0,(1/2)^($AB42*$AE$13/$R113))","v":0},{"$f":"IF($R113=\"\",0,(1/2)^($AB41*$AE$13/$R113))","v":0}]
[]
[]
[null,null,null,"2)　Es：散乱エックス線の漏洩線量(散乱角90度)",null,null,null,null,null,"2)　Es：散乱エックス線の漏洩線量(散乱角90度)",null,null,null,null,null,"2)　Es：散乱エックス線の漏洩線量(散乱角90度)"]
[null,null,null,null,"Dt=",{"$f":"H85*G101","v":0},null,null,null,null,"Dt=",{"$f":"N85*M101","v":0},null,null,null,null,"Dt=",{"$f":"T85*S101","v":0}]
[null,null,null,null,"Es=",{"$f":"IF(OR($F68=0,$M70=0,$M71=0,AND($W$8=0,$W$45>0),A点!$AQ$7=1),0,$G68*$G72*$G71*F118*$M67*$M68*($K71/100)*$K72/(400*($M70^2)*($M71^2)))","v":0},"μSv/3ヶ月",null,null,null,"Es=",{"$f":"IF(OR($F68=0,$M70=0,$M71=0,AND($W$20=0,$W$45>0),A点!$AQ$7=1),0,$G68*$G72*$G71*L118*$M67*$M68*($K71/100)*$K72/(400*($M70^2)*($M71^2)))","v":0},"μSv/3ヶ月",null,null,null,"Es=",{"$f":"IF(OR($F68=0,$M70=0,$M71=0,AND($W$32=0,$W$45>0),A点!$AQ$7=1),0,$G68*$G72*$G71*R118*$M67*$M68*($K71/100)*$K72/(400*($M70^2)*($M71^2)))","v":0},"μSv/3ヶ月"]
[]
[]
[null,null,null,"3)　EL：エックス線管容器からの漏洩線量(最大見積)",null,null,null,null,null,"3)　EL：エックス線管容器からの漏洩線量(最大見積)",null,null,null,null,null,"3)　EL：エックス線管容器からの漏洩線量(最大見積)"]
[]
[null,null,null,null,"EL=",{"$f":"IF(OR($F68=0,$M72=0,AND($W$8=0,$W$45>0),A点!$AQ$7=1),0,$S77*$G71*$M73*H101*$M67*$M68/($M72^2))","v":0},"μGy/h",null,null,null,"EL=",{"$f":"IF(OR($F68=0,$M72=0,AND($W$20=0,$W$45>0),A点!$AQ$7=1),0,$S77*$G71*$M73*N101*$M67*$M68/($M72^2))","v":0},"μGy/h",null,null,null,"EL=",{"$f":"IF(OR($F68=0,$F68=0,$M72=0,AND($W$32=0,$W$45>0)),0,$S77*$G71*$M73*T101*$M67*$M68/($M72^2))","v":0},"μGy/h"]
[]
[]
[null,"CT撮影",null,"①　X：空気カーマ(表1)",null,null,null,"④　使用係数",null,null,null,"Ｕ＝",1,null,null,"1)対向板による一次線の減衰(表２)",null,null,null,null,null,null,null,null,null,null,null,null,null,null,null,null,null,null,null,null,null,null,null,null,null,null,null,null,null,null,"③CT用透過率（表2-7）"]
[null,null,null,null,"使用管電圧",{"$f":"A点!$F$128","v":0},{"$f":"A点!$G$128","v":0},"⑤　居住係数",null,null,null,"Ｔ＝",1,null,null,null,null,"等価厚さ",{"$f":"入力用シート!$AA$10","v":0},"mm",null,null,null,null,null,null,null,null,null,null,null,null,null,null,null,null,null,null,null,null,null,null,null,null,null,null,"1)直接線用"]
[null,null,null,null,"電流",{"$f":"A点!$F$129","v":0},null,"⑥　距離",null,null,null,"d1=",{"$f":"M9","v":0},"ｍ",null,null,"使用管電圧",{"$f":"A点!$AN$5","v":0},null,null,null,null,null,null,null,null,null,null,null,null,null,null,null,null,null,null,null,null,null,null,null,null,null,null,null,null,"遮蔽厚参照値"]
[null,null,null,"②　E/Ka：空気カーマ換算係数（表10）",null,null,null,"⑧　照射野400cm2空気ｶｰﾏ率表8",null,null,null,"d2=",{"$f":"M10","v":0},"ｍ",null,null,"透過率",{"$f":"IF(A点!$AN$8=\"○\",\"\",IF(A点!$AN$8=1,\"データなし\",IF($S128>3,HLOOKUP($R129,'表２(Pb)'!$B$3:$Y$36,32+ROUNDDOWN(($S128-3)/0.5,0),0),HLOOKUP($R129,'表２(Pb)'!$B$3:$Y$36,2+S128/0.1,0))))","v":""},null,null,null,null,null,null,null,null,null,null,null,null,null,null,null,null,null,null,null,null,null,null,null,null,null,null,null,null,null,null,"D点","D'点","D\"点"]
[null,null,null,null,"使用管電圧",{"$f":"A点!$F$131","v":0},{"$f":"A点!$G$131","v":0},null,null,null,{"$f":"A点!$AN$7","v":0},"d3=",0,"ｍ",null,null,null,null,null,null,null,null,null,null,null,null,null,null,null,null,null,null,null,null,null,null,null,null,null,null,null,null,null,null,null,null,null,"Pb",{"$f":"IF($G147=0,\"\",IF($G147<=3,INT(10*$G147)/10,IF($G147>4,4,0.5*INT($G147/0.5))))","v":""},{"$f":"IF($M147=0,\"\",IF($M147<=3,INT(10*$M147)/10,IF($M147>4,4,0.5*INT($M147/0.5))))","v":""},{"$f":"IF($S147=0,\"\",IF($S147<=3,INT(10*$S147)/10,IF($S147>4,4,0.5*INT($S147/0.5))))","v":""}]
[null,null,null,"③　W：３Ｍ実効稼動負荷",null,"合計",{"$f":"13*(入力用シート!$L$32*入力用シート!$Q$32*入力用シート!$H$33*入力用シート!$L$33*入力用シート!$Q$33)","v":0},"⑨　受像面照射野",null,null,{"$f":"入力用シート!$E$17","v":60},"d4=",0,"ｍ",null,null,null,null,null,null,null,null,null,null,null,null,null,null,null,null,null,null,null,null,null,null,null,null,null,null,null,null,null,null,null,null,null,"ｺﾝｸﾘ",{"$f":"IF($G149=0,\"\",IF($G149<=300,INT($G149/10)*10,IF($G149>400,400,50*INT($G149/50))))","v":""},{"$f":"IF($M149=0,\"\",IF($M149<=300,INT($M149/10)*10,IF($M149>400,400,50*INT($M149/50))))","v":""},{"$f":"IF($S149=0,\"\",IF($S149<=300,INT($S149/10)*10,IF($S149>400,400,50*INT($S149/50))))","v":""}]
[null,null,null,null,null,null,null,"⑩　tw：３月間における稼働時間(h)",null,null,null,null,{"$f":"IF(F129=0,0,G132/(F129*3600))","v":0},null,null,"機器の種類",null,"管容器からの空気ｶｰﾏ率（mGy/h）",null,null,null,null,null,null,null,null,null,null,null,null,null,null,null,null,null,null,null,null,null,null,null,null,null,null,null,null,null,"Fe",{"$f":"IF($G151=0,\"\",IF($G151<=30,INT($G151),IF($G151>40,40,5*INT($G151/5))))","v":""},{"$f":"IF($M151=0,\"\",IF($M151<=30,INT($M151),IF($M151>40,40,5*INT($M151/5))))","v":""},{"$f":"IF($S151=0,\"\",IF($S151<=30,INT($S151),IF($S151>40,40,5*INT($S151/5))))","v":""}]
[null,null,null,"D点の漏洩エックス線量の計算(利用線錘方向）",null,null,null,null,"D点の漏洩エックス線量の計算(被写体・管球）",null,null,null,null,null,1,"治療用ｴｯｸｽ線装置（≧50ｋV）",null,1,"選んだ機器",null,null,null,null,null,null,null,null,null,null,null,null,null,null,null,null,null,null,null,null,null,null,null,null,null,null,null,null,"石膏",{"$f":"IF($G153=0,\"\",IF($G153<=30,INT($G153),IF($G153>40,40,5*INT($G153/5))))","v":""},{"$f":"IF($M153=0,\"\",IF($M153<=30,INT($M153),IF($M153>40,40,5*INT($M153/5))))","v":""},{"$f":"IF($S153=0,\"\",IF($S153<=30,INT($S153),IF($S153>40,40,5*INT($S153/5))))","v":""}]
[null,null,null,null,"Ea=",{"$f":"MAX(F141,L141,R141)","v":0},"μSv/3ヶ月",null,null,"Es＝",{"$f":"MAX(F179,L179,R179)","v":0},"μSv/3ヶ月",null,null,2,"治療用ｴｯｸｽ線装置（＜50ｋV）",null,10,{"$f":"入力用シート!$C$7","v":0},null,null,null,null,null,null,null,null,null,null,null,null,null,null,null,null,null,null,null,null,null,null,null,null,null,null,null,null,"ｶﾞﾗｽ",{"$f":"IF($G155=0,\"\",IF($G155<=30,INT($G155),IF($G155>40,40,5*INT($G155/5))))","v":""},{"$f":"IF($M155=0,\"\",IF($M155<=30,INT($M155),IF($M155>40,40,5*INT($M155/5))))","v":""},{"$f":"IF($S155=0,\"\",IF($S155<=30,INT($S155),IF($S155>40,40,5*INT($S155/5))))","v":""}]
[null,null,null,null,null,null,null,null,null,"EL＝",{"$f":"MAX(F184,L184,R184)","v":0},"μSv/3ヶ月",null,null,3,"口内法撮影用X線装置（≦120ｋV）",null,0.25,"選ばれた空気ｶｰﾏ率XL",null,null,null,null,null,null,null,null,null,null,null,null,null,null,null,null,null,null,null,null,null,null,null,null,null,null,null,null,"木材",{"$f":"IF($G157=0,\"\",IF($G157<=300,INT($G157/10)*10,IF($G157>400,400,50*INT($G157/50))))","v":""},{"$f":"IF($M157=0,\"\",IF($M157<=300,INT($M157/10)*10,IF($M157>400,400,50*INT($M157/50))))","v":""},{"$f":"IF($S157=0,\"\",IF($S157<=300,INT($S157/10)*10,IF($S157>400,400,50*INT($S157/50))))","v":""}]
[null,null,null,null,null,null,null,null,null,"合計",{"$f":"+K135+K136","v":0},null,null,null,4,"上記以外の診断用X線装置",null,1,{"$f":"IF(S135=0,0,VLOOKUP(S135,O134:R137,4,0)*1000)","v":0}]
[null,null,null,null,null,null,null,null,null,null,null,null,null,null,null,null,null,null,null,null,null,null,null,null,null,null,null,null,null,null,null,null,null,null,null,null,null,null,null,null,null,null,null,null,null,null,"2)散乱線用"]
[null,null,null,"D点の計算",null,null,null,null,null,"D'点の計算",null,null,null,null,null,"D\"点の計算",null,null,null,null,null,null,null,null,null,null,null,null,null,null,null,null,null,null,null,null,null,null,null,null,null,null,null,null,null,null,"遮蔽厚参照値"]
[null,null,null,"1) Ep：一次エックス線（撮影方向）",null,null,null,null,null,"1) Ep：一次エックス線（撮影方向）",null,null,null,null,null,"1) Ep：一次エックス線（撮影方向）",null,null,null,null,null,null,null,null,null,null,null,null,null,null,null,null,null,null,null,null,null,null,null,null,null,null,null,null,null,null,null,null,"D点","D'点","D\"点"]
[null,null,null,"　",null,{"$f":"IF(OR($F128=0,$M129=0,A点!$AQ$7=1,AND($W$8=0,$W$45>0)),0,($G128*$R130*$G145*$F161*0.25*$G132*$G131*$M127*$M128)/($M129^2))","v":0},"μSv/3ヶ月",null,null,"　",null,{"$f":"IF(OR($F128=0,$M129=0,A点!$AQ$7=1,AND($W$20=0,$W$45>0)),0,($G128*$R130*$M145*$L161*0.25*$G132*$G131*$M127*$M128)/($M129^2))","v":0},"μSv/3ヶ月",null,null,"　",null,{"$f":"IF(OR($F128=0,$M129=0,A点!$AQ$7=1,AND($W$32=0,$W$45>0)),0,($G128*$R130*$S145*$R161*0.25*$G132*$G131*$M127*$M128)/($M129^2))","v":0},"μSv/3ヶ月",null,null,null,null,null,null,null,null,null,null,null,null,null,null,null,null,null,null,null,null,null,null,null,null,null,null,null,null,"Pb",{"$f":"IF($H147=0,\"\",IF($H147<=3,INT(10*$H147)/10,IF($H147>4,4,0.5*INT($H147/0.5))))","v":""},{"$f":"IF($N147=0,\"\",IF($N147<=3,INT(10*$N147)/10,IF($N147>4,4,0.5*INT($N147/0.5))))","v":""},{"$f":"IF($T147=0,\"\",IF($T147<=3,INT(10*$T147)/10,IF($T147>4,4,0.5*INT($T147/0.5))))","v":""}]
[null,null,null,null,null,null,null,null,null,null,null,null,null,null,null,null,null,null,null,null,null,null,null,null,null,null,null,null,null,null,null,null,null,null,null,null,null,null,null,null,null,null,null,null,null,null,null,"ｺﾝｸﾘ",{"$f":"IF($H149=0,\"\",IF($H149<=300,INT($H149/10)*10,IF($H149>400,400,50*INT($H149/50))))","v":""},{"$f":"IF($N149=0,\"\",IF($N149<=300,INT($N149/10)*10,IF($N149>400,400,50*INT($N149/50))))","v":""},{"$f":"IF($T149=0,\"\",IF($T149<=300,INT($T149/10)*10,IF($T149>400,400,50*INT($T149/50))))","v":""}]
[null,null,null,"a) 第１遮蔽材による減衰(遮蔽体がある場合透過率=1)",null,null,null,null,null,"a) 第１遮蔽材による減衰(遮蔽体がある場合透過率=1)",null,null,null,null,null,"a) 第１遮蔽材による減衰(遮蔽体がある場合透過率=1)",null,null,null,null,null,null,null,null,null,null,null,null,null,null,null,null,null,null,null,null,null,null,null,null,null,null,null,null,null,null,null,"Fe",{"$f":"IF($H151=0,\"\",IF($H151<=30,INT($H151),IF($H151>40,40,5*INT($H151/5))))","v":""},{"$f":"IF($N151=0,\"\",IF($N151<=30,INT($N151),IF($N151>40,40,5*INT($N151/5))))","v":""},{"$f":"IF($T151=0,\"\",IF($T151<=30,INT($T151),IF($T151>40,40,5*INT($T151/5))))","v":""}]
[null,null,null,null,null,"第1遮蔽材",{"$f":"IF($S$128>0,\"遮蔽体\",$W$8)","v":0},{"$f":"$W$8","v":0},null,null,null,"第1遮蔽材",{"$f":"IF($S$128>0,\"遮蔽体\",$W$20)","v":0},{"$f":"$W$20","v":0},null,null,null,"第1遮蔽材",{"$f":"IF($S$128>0,\"遮蔽体\",$W$32)","v":0},{"$f":"$W$32","v":0},null,null,null,null,null,null,null,null,null,null,null,null,null,null,null,null,null,null,null,null,null,null,null,null,null,null,null,"石膏",{"$f":"IF($H153=0,\"\",IF($H153<=30,INT($H153),IF($H153>40,40,5*INT($H153/5))))","v":""},{"$f":"IF($N153=0,\"\",IF($N153<=30,INT($N153),IF($N153>40,40,5*INT($N153/5))))","v":""},{"$f":"IF($T153=0,\"\",IF($T153<=30,INT($T153),IF($T153>40,40,5*INT($T153/5))))","v":""}]
[null,null,null,null,null,"Dt1=",{"$f":"G148*G150*G152*G154*G156*G158","v":1},{"$f":"H148*H150*H152*H154*H156*H158","v":1},null,null,null,"Dt1=",{"$f":"M148*M150*M152*M154*M156*M158","v":1},{"$f":"N148*N150*N152*N154*N156*N158","v":1},null,null,null,"Dt1=",{"$f":"S148*S150*S152*S154*S156*S158","v":1},{"$f":"T148*T150*T152*T154*T156*T158","v":1},null,null,null,null,null,null,null,null,null,null,null,null,null,null,null,null,null,null,null,null,null,null,null,null,null,null,null,"ｶﾞﾗｽ",{"$f":"IF($H155=0,\"\",IF($H155<=30,INT($H155),IF($H155>40,40,5*INT($H155/5))))","v":""},{"$f":"IF($N155=0,\"\",IF($N155<=30,INT($N155),IF($N155>40,40,5*INT($N155/5))))","v":""},{"$f":"IF($T155=0,\"\",IF($T155<=30,INT($T155),IF($T155>40,40,5*INT($T155/5))))","v":""}]
[null,null,null,null,null,null,"一次線用","散乱線用",null,null,null,null,"一次線用","散乱線用",null,null,null,null,"一次線用","散乱線用",null,null,null,null,null,null,null,null,null,null,null,null,null,null,null,null,null,null,null,null,null,null,null,null,null,null,null,"木材",{"$f":"IF($H157=0,\"\",IF($H157<=300,INT($H157/10)*10,IF($H157>400,400,50*INT($H157/50))))","v":""},{"$f":"IF($N157=0,\"\",IF($N157<=300,INT($N157/10)*10,IF($N157>400,400,50*INT($N157/50))))","v":""},{"$f":"IF($T157=0,\"\",IF($T157<=300,INT($T157/10)*10,IF($T157>400,400,50*INT($T157/50))))","v":""}]
[null,null,null,"a)　鉛(表2)",null,"等価厚さ",{"$f":"IF($G144=$W$10,$W$9*$AE$8,0)","v":0},{"$f":"IF($H144=$W$10,$W$9*$AE$8,0)","v":0},null,"a)　鉛(表2)",null,"等価厚さ",{"$f":"IF($M144=$W$22,$W$21*$AE$8,0)","v":0},{"$f":"IF($N144=$W$22,$W$21*$AE$8,0)","v":0},null,"a)　鉛(表2)",null,"等価厚さ",{"$f":"IF($S144=$W$34,$W$33*$AE$8,0)","v":0},{"$f":"IF($T144=$W$34,$W$33*$AE$8,0)","v":0}]
[null,null,null,null,null,"透過率",{"$f":"IF(OR($G147=0,A点!$AN$8=1,A点!$AN$8=\"○\"),1,INDEX('表２(Pb)'!$A$3:$Y$36,MATCH($AW131,'表２(Pb)'!$A$3:$A$36,0),MATCH($F128,'表２(Pb)'!$A$3:$Y$3,0)))","v":1},{"$f":"IF(OR($H147=0,A点!$AN$8=1,A点!$AN$8=\"○\"),1,INDEX('表２(Pb)'!$A$3:$Y$36,MATCH($AW141,'表２(Pb)'!$A$3:$A$36,0),MATCH($F128,'表２(Pb)'!$A$3:$Y$3,0)))","v":1},null,null,null,"透過率",{"$f":"IF(OR($M147=0,A点!$AN$8=1,A点!$AN$8=\"○\"),1,INDEX('表２(Pb)'!$A$3:$Y$36,MATCH($AX131,'表２(Pb)'!$A$3:$A$36,0),MATCH($F128,'表２(Pb)'!$A$3:$Y$3,0)))","v":1},{"$f":"IF(OR($N147=0,A点!$AN$8=1,A点!$AN$8=\"○\"),1,INDEX('表２(Pb)'!$A$3:$Y$36,MATCH($AX141,'表２(Pb)'!$A$3:$A$36,0),MATCH($F128,'表２(Pb)'!$A$3:$Y$3,0)))","v":1},null,null,null,"透過率",{"$f":"IF(OR($S147=0,A点!$AN$8=1,A点!$AN$8=\"○\"),1,INDEX('表２(Pb)'!$A$3:$Y$36,MATCH($AY131,'表２(Pb)'!$A$3:$A$36,0),MATCH($F128,'表２(Pb)'!$A$3:$Y$3,0)))","v":1},{"$f":"IF(OR($T147=0,A点!$AN$8=1,A点!$AN$8=\"○\"),1,INDEX('表２(Pb)'!$A$3:$Y$36,MATCH($AY141,'表２(Pb)'!$A$3:$A$36,0),MATCH($F128,'表２(Pb)'!$A$3:$Y$3,0)))","v":1},null,null,null,null,null,null,null,null,null,null,null,null,null,null,null,null,null,null,null,null,null,null,null,null,null,null,"3)","遮蔽材順"]
[null,null,null,"b)　コンクリート(表3)",null,"等価厚さ",{"$f":"IF($G144=$X$10,$W$9*$AE$9,0)","v":0},{"$f":"IF($H144=$X$10,$W$9*$AE$9,0)","v":0},null,"b)　コンクリート(表3)",null,"等価厚さ",{"$f":"IF($M144=$X$22,$W$21*$AE$9,0)","v":0},{"$f":"IF($N144=$X$22,$W$21*$AE$9,0)","v":0},null,"b)　コンクリート(表3)",null,"等価厚さ",{"$f":"IF($S144=$X$34,$W$33*$AE$9,0)","v":0},{"$f":"IF($T144=$X$34,$W$33*$AE$9,0)","v":0},null,null,null,null,null,null,null,null,null,null,null,null,null,null,null,null,null,null,null,null,null,null,null,null,null,null,null,null,"D点","D'点","D\"点"]
[null,null,null,null,null,"透過率",{"$f":"IF(OR($G149=0,A点!$AN$8=1,A点!$AN$8=\"○\"),1,INDEX('表３(コ)'!$A$3:$Y$36,MATCH($AW132,'表３(コ)'!$A$3:$A$36,0),MATCH($F128,'表３(コ)'!$A$3:$Y$3,0)))","v":1},{"$f":"IF(OR($H149=0,A点!$AN$8=1,A点!$AN$8=\"○\"),1,INDEX('表３(コ)'!$A$3:$Y$36,MATCH($AW142,'表３(コ)'!$A$3:$A$36,0),MATCH($F128,'表３(コ)'!$A$3:$Y$3,0)))","v":1},null,null,null,"透過率",{"$f":"IF(OR($M149=0,A点!$AN$8=1,A点!$AN$8=\"○\"),1,INDEX('表３(コ)'!$A$3:$Y$36,MATCH($AX132,'表３(コ)'!$A$3:$A$36,0),MATCH($F128,'表３(コ)'!$A$3:$Y$3,0)))","v":1},{"$f":"IF(OR($N149=0,A点!$AN$8=1,A点!$AN$8=\"○\"),1,INDEX('表３(コ)'!$A$3:$Y$36,MATCH($AX142,'表３(コ)'!$A$3:$A$36,0),MATCH($F128,'表３(コ)'!$A$3:$Y$3,0)))","v":1},null,null,null,"透過率",{"$f":"IF(OR($S149=0,A点!$AN$8=1,A点!$AN$8=\"○\"),1,INDEX('表３(コ)'!$A$3:$Y$36,MATCH($AY132,'表３(コ)'!$A$3:$A$36,0),MATCH($F128,'表３(コ)'!$A$3:$Y$3,0)))","v":1},{"$f":"IF(OR($T149=0,A点!$AN$8=1,A点!$AN$8=\"○\"),1,INDEX('表３(コ)'!$A$3:$Y$36,MATCH($AY142,'表３(コ)'!$A$3:$A$36,0),MATCH($F128,'表３(コ)'!$A$3:$Y$3,0)))","v":1},null,null,null,null,null,null,null,null,null,null,null,null,null,null,null,null,null,null,null,null,null,null,null,null,null,null,null,"第1遮蔽材",{"$f":"IF($AW160=\"11\",G$144,H$144)","v":0},{"$f":"IF($AW160=\"11\",M$144,N$144)","v":0},{"$f":"IF($AW160=\"11\",S$144,T$144)","v":0}]
[null,null,null,"c)　鉄(表4)",null,"等価厚さ",{"$f":"IF($G144=$Y$10,$W$9*$AE$10,0)","v":0},{"$f":"IF($H144=$Y$10,$W$9*$AE$10,0)","v":0},null,"c)　鉄(表4)",null,"等価厚さ",{"$f":"IF($M144=$Y$22,$W$21*$AE$10,0)","v":0},{"$f":"IF($N144=$Y$22,$W$21*$AE$10,0)","v":0},null,"c)　鉄(表4)",null,"等価厚さ",{"$f":"IF($S144=$Y$34,$W$33*$AE$10,0)","v":0},{"$f":"IF($T144=$Y$34,$W$33*$AE$10,0)","v":0},null,null,null,null,null,null,null,null,null,null,null,null,null,null,null,null,null,null,null,null,null,null,null,null,null,null,null,"第2遮蔽材",{"$f":"IF($AW160=\"11\",W$8,X$8)","v":0},{"$f":"IF($AW160=\"11\",W$20,X$20)","v":0},{"$f":"IF($AW160=\"11\",W$32,X$32)","v":0}]
[null,null,null,null,null,"透過率",{"$f":"IF(OR($G151=0,A点!$AN$8=1,A点!$AN$8=\"○\"),1,INDEX('表4(Fe)'!$A$3:$Y$36,MATCH($AW133,'表4(Fe)'!$A$3:$A$36,0),MATCH($F128,'表4(Fe)'!$A$3:$Y$3,0)))","v":1},{"$f":"IF(OR($H151=0,A点!$AN$8=1,A点!$AN$8=\"○\"),1,INDEX('表4(Fe)'!$A$3:$Y$36,MATCH($AW143,'表4(Fe)'!$A$3:$A$36,0),MATCH($F128,'表4(Fe)'!$A$3:$Y$3,0)))","v":1},null,null,null,"透過率",{"$f":"IF(OR($M151=0,A点!$AN$8=1,A点!$AN$8=\"○\"),1,INDEX('表4(Fe)'!$A$3:$Y$36,MATCH($AX133,'表4(Fe)'!$A$3:$A$36,0),MATCH($F128,'表4(Fe)'!$A$3:$Y$3,0)))","v":1},{"$f":"IF(OR($N151=0,A点!$AN$8=1,A点!$AN$8=\"○\"),1,INDEX('表4(Fe)'!$A$3:$Y$36,MATCH($AX143,'表4(Fe)'!$A$3:$A$36,0),MATCH($F128,'表4(Fe)'!$A$3:$Y$3,0)))","v":1},null,null,null,"透過率",{"$f":"IF(OR($S151=0,A点!$AN$8=1,A点!$AN$8=\"○\"),1,INDEX('表4(Fe)'!$A$3:$Y$36,MATCH($AY133,'表4(Fe)'!$A$3:$A$36,0),MATCH($F128,'表4(Fe)'!$A$3:$Y$3,0)))","v":1},{"$f":"IF(OR($T151=0,A点!$AN$8=1,A点!$AN$8=\"○\"),1,INDEX('表4(Fe)'!$A$3:$Y$36,MATCH($AY143,'表4(Fe)'!$A$3:$A$36,0),MATCH($F128,'表4(Fe)'!$A$3:$Y$3,0)))","v":1},null,null,null,null,null,null,null,null,null,null,null,null,null,null,null,null,null,null,null,null,null,null,null,null,null,null,null,"第3遮蔽材",{"$f":"IF($AW160=\"11\",X$8,Y$8)","v":0},{"$f":"IF($AW160=\"11\",X$20,Y$20)","v":0},{"$f":"IF($AW160=\"11\",X$32,Y$32)","v":0}]
[null,null,null,"d)　石膏(表5)",null,"等価厚さ",{"$f":"IF($G144=$Z$10,$W$9*$AE$11,0)","v":0},{"$f":"IF($H144=$Z$10,$W$9*$AE$11,0)","v":0},null,"d)　石膏(表5)",null,"等価厚さ",{"$f":"IF($M144=$Z$22,$W$21*$AE$11,0)","v":0},{"$f":"IF($N144=$Z$22,$W$21*$AE$11,0)","v":0},null,"d)　石膏(表5)",null,"等価厚さ",{"$f":"IF($S144=$Z$34,$W$33*$AE$11,0)","v":0},{"$f":"IF($T144=$Z$34,$W$33*$AE$11,0)","v":0},null,null,null,null,null,null,null,null,null,null,null,null,null,null,null,null,null,null,null,null,null,null,null,null,null,null,null,"第4遮蔽材",{"$f":"IF($AW160=\"11\",Y$8,Z$8)","v":0},{"$f":"IF($AW160=\"11\",Y$20,Z$20)","v":0},{"$f":"IF($AW160=\"11\",Y$32,Z$32)","v":0}]
[null,null,null,null,null,"透過率",{"$f":"IF(OR($G153=0,A点!$AN$8=1,A点!$AN$8=\"○\"),1,INDEX('表5(CaSO4)'!$A$3:$Y$36,MATCH($AW134,'表5(CaSO4)'!$A$3:$A$36,0),MATCH($F128,'表5(CaSO4)'!$A$3:$Y$3,0)))","v":1},{"$f":"IF(OR($H153=0,A点!$AN$8=1,A点!$AN$8=\"○\"),1,INDEX('表5(CaSO4)'!$A$3:$Y$36,MATCH($AW144,'表5(CaSO4)'!$A$3:$A$36,0),MATCH($F128,'表5(CaSO4)'!$A$3:$Y$3,0)))","v":1},null,null,null,"透過率",{"$f":"IF(OR($M153=0,A点!$AN$8=1,A点!$AN$8=\"○\"),1,INDEX('表5(CaSO4)'!$A$3:$Y$36,MATCH($AX134,'表5(CaSO4)'!$A$3:$A$36,0),MATCH($F128,'表5(CaSO4)'!$A$3:$Y$3,0)))","v":1},{"$f":"IF(OR($N153=0,A点!$AN$8=1,A点!$AN$8=\"○\"),1,INDEX('表5(CaSO4)'!$A$3:$Y$36,MATCH($AX144,'表5(CaSO4)'!$A$3:$A$36,0),MATCH($F128,'表5(CaSO4)'!$A$3:$Y$3,0)))","v":1},null,null,null,"透過率",{"$f":"IF(OR($S153=0,A点!$AN$8=1,A点!$AN$8=\"○\"),1,INDEX('表5(CaSO4)'!$A$3:$Y$36,MATCH($AY134,'表5(CaSO4)'!$A$3:$A$36,0),MATCH($F128,'表5(CaSO4)'!$A$3:$Y$3,0)))","v":1},{"$f":"IF(OR($T153=0,A点!$AN$8=1,A点!$AN$8=\"○\"),1,INDEX('表5(CaSO4)'!$A$3:$Y$36,MATCH($AY144,'表5(CaSO4)'!$A$3:$A$36,0),MATCH($F128,'表5(CaSO4)'!$A$3:$Y$3,0)))","v":1},null,null,null,null,null,null,null,null,null,null,null,null,null,null,null,null,null,null,null,null,null,null,null,null,null,null,null,"第5遮蔽材",{"$f":"IF($AW160=\"11\",Z$8,AA$8)","v":0},{"$f":"IF($AW160=\"11\",Z$20,AA$20)","v":0},{"$f":"IF($AW160=\"11\",Z$32,AA$32)","v":0}]
[null,null,null,"e）　ガラス(表6)",null,"等価厚さ",{"$f":"IF($G144=$AA$10,$W$9*$AE$12,0)","v":0},{"$f":"IF($H144=$AA$10,$W$9*$AE$12,0)","v":0},null,"e）　ガラス(表6)",null,"等価厚さ",{"$f":"IF($M144=$AA$22,$W$21*$AE$12,0)","v":0},{"$f":"IF($N144=$AA$22,$W$21*$AE$12,0)","v":0},null,"e）　ガラス(表6)",null,"等価厚さ",{"$f":"IF($S144=$AA$34,$W$33*$AE$12,0)","v":0},{"$f":"IF($T144=$AA$34,$W$33*$AE$12,0)","v":0},null,null,null,null,null,null,null,null,null,null,null,null,null,null,null,null,null,null,null,null,null,null,null,null,null,null,null,"第6遮蔽材",{"$f":"IF($AW160=\"11\",AA$8,AB$8)","v":0},{"$f":"IF($AW160=\"11\",AA$20,AB$20)","v":0},{"$f":"IF($AW160=\"11\",AA$32,AB$32)","v":0}]
[null,null,null,null,null,"透過率",{"$f":"IF(OR($G155=0,A点!$AN$8=1,A点!$AN$8=\"○\"),1,INDEX('表6(SiO2)'!$A$3:$Y$36,MATCH($AW135,'表6(SiO2)'!$A$3:$A$36,0),MATCH($F128,'表6(SiO2)'!$A$3:$Y$3,0)))","v":1},{"$f":"IF(OR($H155=0,A点!$AN$8=1,A点!$AN$8=\"○\"),1,INDEX('表6(SiO2)'!$A$3:$Y$36,MATCH($AW145,'表6(SiO2)'!$A$3:$A$36,0),MATCH($F128,'表6(SiO2)'!$A$3:$Y$3,0)))","v":1},null,null,null,"透過率",{"$f":"IF(OR($M155=0,A点!$AN$8=1,A点!$AN$8=\"○\"),1,INDEX('表6(SiO2)'!$A$3:$Y$36,MATCH($AX135,'表6(SiO2)'!$A$3:$A$36,0),MATCH($F128,'表6(SiO2)'!$A$3:$Y$3,0)))","v":1},{"$f":"IF(OR($N155=0,A点!$AN$8=1,A点!$AN$8=\"○\"),1,INDEX('表6(SiO2)'!$A$3:$Y$36,MATCH($AX145,'表6(SiO2)'!$A$3:$A$36,0),MATCH($F128,'表6(SiO2)'!$A$3:$Y$3,0)))","v":1},null,null,null,"透過率",{"$f":"IF(OR($S155=0,A点!$AN$8=1,A点!$AN$8=\"○\"),1,INDEX('表6(SiO2)'!$A$3:$Y$36,MATCH($AY135,'表6(SiO2)'!$A$3:$A$36,0),MATCH($F128,'表6(SiO2)'!$A$3:$Y$3,0)))","v":1},{"$f":"IF(OR($T155=0,A点!$AN$8=1,A点!$AN$8=\"○\"),1,INDEX('表6(SiO2)'!$A$3:$Y$36,MATCH($AY145,'表6(SiO2)'!$A$3:$A$36,0),MATCH($F128,'表6(SiO2)'!$A$3:$Y$3,0)))","v":1},null,null,null,null,null,null,null,null,null,null,null,null,null,null,null,null,null,null,null,null,null,null,null,null,null,null,null,"第7遮蔽材",{"$f":"IF($AW160=\"11\",AB$8,\"\")","v":""},{"$f":"IF($AW160=\"11\",AB$20,\"\")","v":""},{"$f":"IF($AW160=\"11\",AB$32,\"\")","v":""}]
[null,null,null,"f)　木材(表7)",null,"等価厚さ",{"$f":"IF($G144=$AB$10,$W$9*$AE$13,0)","v":0},{"$f":"IF($H144=$AB$10,$W$9*$AE$13,0)","v":0},null,"f)　木材(表7)",null,"等価厚さ",{"$f":"IF($M144=$AB$22,$W$21*$AE$13,0)","v":0},{"$f":"IF($N144=$AB$22,$W$21*$AE$13,0)","v":0},null,"f)　木材(表7)",null,"等価厚さ",{"$f":"IF($S144=$AB$34,$W$33*$AE$13,0)","v":0},{"$f":"IF($T144=$AB$34,$W$33*$AE$13,0)","v":0}]
[null,null,null,null,null,"透過率",{"$f":"IF(OR($G157=0,A点!$AN$8=1,A点!$AN$8=\"○\"),1,INDEX('表7(木)'!$A$3:$Y$36,MATCH($AW136,'表7(木)'!$A$3:$A$36,0),MATCH($F128,'表7(木)'!$A$3:$Y$3,0)))","v":1},{"$f":"IF(OR($H157=0,A点!$AN$8=1,A点!$AN$8=\"○\"),1,INDEX('表7(木)'!$A$3:$Y$36,MATCH($AW146,'表7(木)'!$A$3:$A$36,0),MATCH($F128,'表7(木)'!$A$3:$Y$3,0)))","v":1},null,null,null,"透過率",{"$f":"IF(OR($M157=0,A点!$AN$8=1,A点!$AN$8=\"○\"),1,INDEX('表7(木)'!$A$3:$Y$36,MATCH($AX136,'表7(木)'!$A$3:$A$36,0),MATCH($F128,'表7(木)'!$A$3:$Y$3,0)))","v":1},{"$f":"IF(OR($N157=0,A点!$AN$8=1,A点!$AN$8=\"○\"),1,INDEX('表7(木)'!$A$3:$Y$36,MATCH($AX146,'表7(木)'!$A$3:$A$36,0),MATCH($F128,'表7(木)'!$A$3:$Y$3,0)))","v":1},null,null,null,"透過率",{"$f":"IF(OR($S157=0,A点!$AN$8=1,A点!$AN$8=\"○\"),1,INDEX('表7(木)'!$A$3:$Y$36,MATCH($AY136,'表7(木)'!$A$3:$A$36,0),MATCH($F128,'表7(木)'!$A$3:$Y$3,0)))","v":1},{"$f":"IF(OR($T157=0,A点!$AN$8=1,A点!$AN$8=\"○\"),1,INDEX('表7(木)'!$A$3:$Y$36,MATCH($AY146,'表7(木)'!$A$3:$A$36,0),MATCH($F128,'表7(木)'!$A$3:$Y$3,0)))","v":1},null,null,null,null,null,null,null,null,null,null,null,null,null,null,null,null,null,null,null,null,null,null,null,null,null,null,null,"遮蔽体有無",{"$f":"IF($S128>0,1,0)","v":0},"遮蔽体有：１"]
[null,null,null,null,null,null,null,null,null,null,null,null,null,null,null,null,null,null,null,null,null,null,null,null,null,null,null,null,null,null,null,null,null,null,null,null,null,null,null,null,null,null,null,null,null,null,null,"照射方向",{"$f":"IF($M129>0,1,2)","v":2},"直接線：1、散乱線：2"]
[null,null,null,"b)　第２遮蔽材以後による一次線の減衰表9",null,null,null,null,null,"b)　第２遮蔽材以後による一次線の減衰表9",null,null,null,null,null,"b)　第２遮蔽材以後による一次線の減衰表9",null,null,null,null,null,null,null,null,null,null,null,null,null,null,null,null,null,null,null,null,null,null,null,null,null,null,null,null,null,null,null,"判定コード",{"$f":"AW158&AW159","v":"02"}]
[null,null,null,null,"Dt2=",{"$f":"F164*F166*F168*F170*F172*F174","v":0},{"$f":"G164*G166*G168*G170*G172*G174","v":0},0,null,null,"Dt2=",{"$f":"L164*L166*L168*L170*L172*L174","v":0},{"$f":"M164*M166*M168*M170*M172*M174","v":0},0,null,null,"Dt2=",{"$f":"R164*R166*R168*R170*R172*R174","v":0},{"$f":"S164*S166*S168*S170*S172*S174","v":0},0]
[null,null,null,null,null,"一次線用","散乱線用","漏洩線用",null,null,null,"一次線用","散乱線用","漏洩線用",null,null,null,"一次線用","散乱線用","漏洩線用"]
[null,null,null,"a)　鉛(表9)","半価層(mm)",{"$f":"IF(OR(A点!$AN$8=1,A点!$AN$8=\"○\"),\"\",VLOOKUP($F128,'表9(BB)'!$A$4:$M$27,2,0))","v":""},null,null,null,"a)　鉛(表9)","半価層(mm)",{"$f":"IF(OR(A点!$AN$8=1,A点!$AN$8=\"○\"),\"\",VLOOKUP($F128,'表9(BB)'!$A$4:$M$27,2,0))","v":""},null,null,null,"a)　鉛(表9)","半価層(mm)",{"$f":"IF(OR(A点!$AN$8=1,A点!$AN$8=\"○\"),\"\",VLOOKUP($F128,'表9(BB)'!$A$4:$M$27,2,0))","v":""}]
[null,null,null,null,"透過率",{"$f":"IF($S$128>0,H164,G164)","v":0},{"$f":"IF($F163=\"\",0,(1/2)^($W18*$AE$8/$F163))","v":0},{"$f":"IF($F163=\"\",0,(1/2)^($W17*$AE$8/$F163))","v":0},null,null,"透過率",{"$f":"IF($S$128>0,N164,M164)","v":0},{"$f":"IF($L$163=\"\",0,(1/2)^($W30*$AE$8/$L163))","v":0},{"$f":"IF($L163=\"\",0,(1/2)^($W29*$AE$8/$L163))","v":0},null,null,"透過率",{"$f":"IF($S$128>0,T164,S164)","v":0},{"$f":"IF($R163=\"\",0,(1/2)^($W42*$AE$8/$R163))","v":0},{"$f":"IF($R163=\"\",0,(1/2)^($W41*$AE$8/$R163))","v":0}]
[null,null,null,"b)　コンクリート(表9)","半価層(mm)",{"$f":"IF(OR(A点!$AN$8=1,A点!$AN$8=\"○\"),\"\",VLOOKUP($F128,'表9(BB)'!$A$4:$M$27,4,0))","v":""},null,null,null,"b)　コンクリート(表9)","半価層(mm)",{"$f":"IF(OR(A点!$AN$8=1,A点!$AN$8=\"○\"),\"\",VLOOKUP($F128,'表9(BB)'!$A$4:$M$27,4,0))","v":""},null,null,null,"b)　コンクリート(表9)","半価層(mm)",{"$f":"IF(OR(A点!$AN$8=1,A点!$AN$8=\"○\"),\"\",VLOOKUP($F128,'表9(BB)'!$A$4:$M$27,4,0))","v":""}]
[null,null,null,null,"透過率",{"$f":"IF($S$128>0,H166,G166)","v":0},{"$f":"IF($F165=\"\",0,(1/2)^($X18*$AE$9/$F165))","v":0},{"$f":"IF($F165=\"\",0,(1/2)^($X17*$AE$9/$F165))","v":0},null,null,"透過率",{"$f":"IF($S$128>0,N166,M166)","v":0},{"$f":"IF($L165=\"\",0,(1/2)^($X30*$AE$9/$L165))","v":0},{"$f":"IF($L165=\"\",0,(1/2)^($X29*$AE$9/$L165))","v":0},null,null,"透過率",{"$f":"IF($S$128>0,T166,S166)","v":0},{"$f":"IF($R165=\"\",0,(1/2)^($X42*$AE$9/$R165))","v":0},{"$f":"IF($R165=\"\",0,(1/2)^($X41*$AE$9/$R165))","v":0}]
[null,null,null,"c)　鉄(表9)","半価層(mm)",{"$f":"IF(OR(A点!$AN$8=1,A点!$AN$8=\"○\"),\"\",VLOOKUP($F128,'表9(BB)'!$A$4:$M$27,6,0))","v":""},null,null,null,"c)　鉄(表9)","半価層(mm)",{"$f":"IF(OR(A点!$AN$8=1,A点!$AN$8=\"○\"),\"\",VLOOKUP($F128,'表9(BB)'!$A$4:$M$27,6,0))","v":""},null,null,null,"c)　鉄(表9)","半価層(mm)",{"$f":"IF(OR(A点!$AN$8=1,A点!$AN$8=\"○\"),\"\",VLOOKUP($F128,'表9(BB)'!$A$4:$M$27,6,0))","v":""}]
[null,null,null,null,"透過率",{"$f":"IF($S$128>0,H168,G168)","v":0},{"$f":"IF($F167=\"\",0,(1/2)^($Y18*$AE$10/$F167))","v":0},{"$f":"IF($F167=\"\",0,(1/2)^($Y17*$AE$10/$F167))","v":0},null,null,"透過率",{"$f":"IF($S$128>0,N168,M168)","v":0},{"$f":"IF($L167=\"\",0,(1/2)^($Y30*$AE$10/$L167))","v":0},{"$f":"IF($L167=\"\",0,(1/2)^($Y29*$AE$10/$L167))","v":0},null,null,"透過率",{"$f":"IF($S$128>0,T168,S168)","v":0},{"$f":"IF($R167=\"\",0,(1/2)^($Y42*$AE$10/$R167))","v":0},{"$f":"IF($R167=\"\",0,(1/2)^($Y41*$AE$10/$R167))","v":0}]
[null,null,null,"d)　石膏(表9)","半価層(mm)",{"$f":"IF(OR(A点!$AN$8=1,A点!$AN$8=\"○\"),\"\",VLOOKUP($F128,'表9(BB)'!$A$4:$M$27,8,0))","v":""},null,null,null,"d)　石膏(表9)","半価層(mm)",{"$f":"IF(OR(A点!$AN$8=1,A点!$AN$8=\"○\"),\"\",VLOOKUP($F128,'表9(BB)'!$A$4:$M$27,8,0))","v":""},null,null,null,"d)　石膏(表9)","半価層(mm)",{"$f":"IF(OR(A点!$AN$8=1,A点!$AN$8=\"○\"),\"\",VLOOKUP($F128,'表9(BB)'!$A$4:$M$27,8,0))","v":""}]
[null,null,null,null,"透過率",{"$f":"IF($S$128>0,H170,G170)","v":0},{"$f":"IF($F169=\"\",0,(1/2)^($Z18*$AE$11/$F169))","v":0},{"$f":"IF($F169=\"\",0,(1/2)^($Z17*$AE$11/$F169))","v":0},null,null,"透過率",{"$f":"IF($S$128>0,N170,M170)","v":0},{"$f":"IF($L169=\"\",0,(1/2)^($Z30*$AE$11/$L169))","v":0},{"$f":"IF($L169=\"\",0,(1/2)^($Z29*$AE$11/$L169))","v":0},null,null,"透過率",{"$f":"IF($S$128>0,T170,S170)","v":0},{"$f":"IF($R169=\"\",0,(1/2)^($Z42*$AE$11/$R169))","v":0},{"$f":"IF($R169=\"\",0,(1/2)^($Z41*$AE$11/$R169))","v":0}]
[null,null,null,"e）　ガラス(表9)","半価層(mm)",{"$f":"IF(OR(A点!$AN$8=1,A点!$AN$8=\"○\"),\"\",VLOOKUP($F128,'表9(BB)'!$A$4:$M$27,10,0))","v":""},null,null,null,"e）　ガラス(表9)","半価層(mm)",{"$f":"IF(OR(A点!$AN$8=1,A点!$AN$8=\"○\"),\"\",VLOOKUP($F128,'表9(BB)'!$A$4:$M$27,10,0))","v":""},null,null,null,"e）　ガラス(表9)","半価層(mm)",{"$f":"IF(OR(A点!$AN$8=1,A点!$AN$8=\"○\"),\"\",VLOOKUP($F128,'表9(BB)'!$A$4:$M$27,10,0))","v":""}]
[null,null,null,null,"透過率",{"$f":"IF($S$128>0,H172,G172)","v":0},{"$f":"IF($F171=\"\",0,(1/2)^($AA18*$AE$12/$F171))","v":0},{"$f":"IF($F171=\"\",0,(1/2)^($AA17*$AE$12/$F171))","v":0},null,null,"透過率",{"$f":"IF($S$128>0,N172,M172)","v":0},{"$f":"IF($L171=\"\",0,(1/2)^($AA30*$AE$12/$L171))","v":0},{"$f":"IF($L171=\"\",0,(1/2)^($AA29*$AE$12/$L171))","v":0},null,null,"透過率",{"$f":"IF($S$128>0,T172,S172)","v":0},{"$f":"IF($R$171=\"\",0,(1/2)^($AA42*$AE$12/$R171))","v":0},{"$f":"IF($R171=\"\",0,(1/2)^($AA41*$AE$12/$R171))","v":0}]
[null,null,null,"f)　木材(表9)","半価層(mm)",{"$f":"IF(OR(A点!$AN$8=1,A点!$AN$8=\"○\"),\"\",VLOOKUP($F128,'表9(BB)'!$A$4:$M$27,12,0))","v":""},null,null,null,"f)　木材(表9)","半価層(mm)",{"$f":"IF(OR(A点!$AN$8=1,A点!$AN$8=\"○\"),\"\",VLOOKUP($F128,'表9(BB)'!$A$4:$M$27,12,0))","v":""},null,null,null,"f)　木材(表9)","半価層(mm)",{"$f":"IF(OR(A点!$AN$8=1,A点!$AN$8=\"○\"),\"\",VLOOKUP($F128,'表9(BB)'!$A$4:$M$27,12,0))","v":""}]
[null,null,null,null,"透過率",{"$f":"IF($S$128>0,H174,G174)","v":0},{"$f":"IF($F173=\"\",0,(1/2)^($AB18*$AE$13/$F173))","v":0},{"$f":"IF($F173=\"\",0,(1/2)^($AB17*$AE$13/$F173))","v":0},null,null,"透過率",{"$f":"IF($S$128>0,N174,M174)","v":0},{"$f":"IF($L173=\"\",0,(1/2)^($AB30*$AE$13/$L173))","v":0},{"$f":"IF($L173=\"\",0,(1/2)^($AB29*$AE$13/$L173))","v":0},null,null,"透過率",{"$f":"IF($S$128>0,T174,S174)","v":0},{"$f":"IF($R173=\"\",0,(1/2)^($AB42*$AE$13/$R173))","v":0},{"$f":"IF($R173=\"\",0,(1/2)^($AB41*$AE$13/$R173))","v":0}]
[]
[]
[null,null,null,"2)　Es：散乱エックス線の漏洩線量(散乱角90度)",null,null,null,null,null,"2)　Es：散乱エックス線の漏洩線量(散乱角90度)",null,null,null,null,null,"2)　Es：散乱エックス線の漏洩線量(散乱角90度)"]
[null,null,null,null,"Dt=",{"$f":"H145*G161","v":0},null,null,null,null,"Dt=",{"$f":"N145*M161","v":0},null,null,null,null,"Dt=",{"$f":"T145*S161","v":0}]
[null,null,null,null,"Es=",{"$f":"IF(OR($F128=0,$M130=0,$M131=0,AND($W$8=0,$W$45>0),A点!$AQ$7=1),0,$G128*$G132*$G131*F178*$M127*$M128*($K131/100)*$K132/(400*($M130^2)*($M131^2)))","v":0},"μSv/3ヶ月",null,null,null,"Es=",{"$f":"IF(OR($F128=0,$M130=0,$M131=0,AND($W$20=0,$W$45>0),A点!$AQ$7=1),0,$G128*$G132*$G131*L178*$M127*$M128*($K131/100)*$K132/(400*($M130^2)*($M131^2)))","v":0},"μSv/3ヶ月",null,null,null,"Es=",{"$f":"IF(OR($F128=0,$M130=0,$M131=0,AND($W$32=0,$W$45>0),A点!$AQ$7=1),0,$G128*$G132*$G131*R178*$M127*$M128*($K131/100)*$K132/(400*($M130^2)*($M131^2)))","v":0},"μSv/3ヶ月"]
[]
[]
[null,null,null,"3)　EL：エックス線管容器からの漏洩線量(最大見積)",null,null,null,null,null,"3)　EL：エックス線管容器からの漏洩線量(最大見積)",null,null,null,null,null,"3)　EL：エックス線管容器からの漏洩線量(最大見積)"]
[]
[null,null,null,null,"EL=",{"$f":"IF(OR($F128=0,$M132=0,AND($W$8=0,$W$45>0),A点!$AQ$7=1),0,H161*$S137*$M133*$G131*$M127*$M128/($M132^2))","v":0},"μGy/h",null,null,null,"EL=",{"$f":"IF(OR($F128=0,$M132=0,AND($W$20=0,$W$45>0),A点!$AQ$7=1),0,N161*$S137*$M133*$G131*$M127*$M128/($M132^2))","v":0},"μGy/h",null,null,null,"EL=",{"$f":"IF(OR($F128=0,$M132=0,AND($W$32=0,$W$45>0),A点!$AQ$7=1),0,T161*$S137*$M133*$G131*$M127*$M128/($M132^2))","v":0},"μGy/h"]

{"sheet":"E点","index":5,"n_rows":184,"n_cols":51,"rows_kept":184,"cut":false,"hidden":true,"merged":[[66,1,124,1],[126,1,184,1],[13,15,13,16],[14,15,14,16],[15,15,15,16],[16,15,16,16],[6,1,64,1],[5,15,5,16],[0,15,0,16],[1,15,1,16],[2,15,2,16],[3,15,3,16],[4,15,4,16]]}
[null,null,"エックス線診療室の画壁等の実効線量",null,null,null,null,null,null,null,null,null,null,null,null,"W：３Ｍ実効稼動負荷",null,{"$f":"+G12","v":0},{"$f":"+G72","v":0},{"$f":"+G132","v":0},null,null,null,null,null,null,null,null,null,null,null,null,null,null,null,null,null,null,null,null,null,null,null,null,null,null,"③透視用透過率（表2-7）"]
[null,null,null,"E点の漏洩エックス線量の計算(利用線錘方向）",null,null,null,null,"E点の漏洩エックス線量の計算(被写体・管球）",null,null,null,null,null,null,"X：空気ｶｰﾏ(表1)",null,{"$f":"+G8","v":0},{"$f":"+G68","v":0},{"$f":"+G128","v":0},null,null,null,null,null,null,null,null,null,null,null,null,null,null,null,null,null,null,null,null,null,null,null,null,null,null,"1)直接線用"]
[null,null,null,null,"Ep=",{"$f":"IF(A点!$AQ$4=3,\"\",IF(A点!$AQ$5>0,\"No Data\",F15+F75+F135))","v":""},"μSv/3ヶ月",null,null,"Es＝",{"$f":"IF(A点!$AQ$4=3,\"\",IF(A点!$AQ$5>0,\"No Data\",K15+K75+K135))","v":""},"μSv/3ヶ月",null,null,null,"空気ｶｰﾏ率(表8)",null,{"$f":"+K11","v":0},{"$f":"+K71","v":0},{"$f":"+K131","v":0},null,null,null,null,null,null,null,null,null,null,null,null,null,null,null,null,null,null,null,null,null,null,null,null,null,null,"遮蔽厚参照値"]
[null,null,null,null,null,null,null,null,null,"EL＝",{"$f":"IF(A点!$AQ$4=3,\"\",IF(A点!$AQ$5>0,\"No Data\",K16+K76+K136))","v":""},"μSv/3ヶ月",null,null,null,"E/Ka（表10）",null,{"$f":"+G11","v":0},{"$f":"+G71","v":0},{"$f":"+G131","v":0},null,null,null,null,null,null,null,null,null,null,null,null,null,null,null,null,null,null,null,null,null,null,null,null,null,null,null,null,"E点","E'点","E\"点"]
[null,null,null,null,null,null,null,null,null,"合計",{"$f":"IF(A点!$AQ$4=3,\"\",IF(A点!$AQ$5>0,\"No Data\",K17+K77+K137))","v":""},null,null,null,null,"対向板Dt",null,{"$f":"+R10","v":""},{"$f":"+R70","v":""},{"$f":"+R130","v":""},null,null,null,null,null,null,null,null,null,null,null,null,null,null,null,null,null,null,null,null,null,null,null,null,null,null,null,"Pb",{"$f":"IF($G27=0,\"\",IF($G27<=3,INT(10*$G27)/10,IF($G27>4,4,0.5*INT($G27/0.5))))","v":""},{"$f":"IF($M27=0,\"\",IF($M27<=3,INT(10*$M27)/10,IF($M27>4,4,0.5*INT($M27/0.5))))","v":""},{"$f":"IF($S27=0,\"\",IF($S27<=3,INT(10*$S27)/10,IF($S27>4,4,0.5*INT($S27/0.5))))","v":""}]
[null,null,null,null,null,null,null,null,null,null,null,null,null,null,null,null,null,null,null,null,null,null,null,null,null,null,null,null,null,null,null,null,null,null,null,null,null,null,null,null,null,null,null,null,null,null,null,"ｺﾝｸﾘ",{"$f":"IF($G29=0,\"\",IF($G29<=300,INT($G29/10)*10,IF($G29>400,400,50*INT($G29/50))))","v":""},{"$f":"IF($M29=0,\"\",IF($M29<=300,INT($M29/10)*10,IF($M29>400,400,50*INT($M29/50))))","v":""},{"$f":"IF($S29=0,\"\",IF($S29<=300,INT($S29/10)*10,IF($S29>400,400,50*INT($S29/50))))","v":""}]
[null,"透視装置",null,"①　X：空気ｶｰﾏ：表1",null,null,null,"④　使用係数",null,null,null,"Ｕ＝",1,null,null,"1)対向板による一次線の減衰(表２)",null,null,null,null,null,null,"E点",null,null,null,null,null,null,"リスト",{"$f":"入力用シート!BQ2","v":"密度比"},null,null,null,null,null,null,null,null,null,null,null,null,null,null,null,null,"Fe",{"$f":"IF($G31=0,\"\",IF($G31<=30,INT($G31),IF($G31>40,40,5*INT($G31/5))))","v":""},{"$f":"IF($M31=0,\"\",IF($M31<=30,INT($M31),IF($M31>40,40,5*INT($M31/5))))","v":""},{"$f":"IF($S31=0,\"\",IF($S31<=30,INT($S31),IF($S31>40,40,5*INT($S31/5))))","v":""}]
[null,null,null,null,"採用管電圧",{"$f":"A点!$F$8","v":0},{"$f":"A点!$G$8","v":0},"⑤　居住係数",null,null,null,"Ｔ＝",1,null,null,null,null,"等価厚さ",{"$f":"入力用シート!$AA$8","v":0},"mm",null,null,{"$f":"入力用シート!N62","v":0},{"$f":"入力用シート!P62","v":0},{"$f":"入力用シート!R62","v":0},{"$f":"入力用シート!T62","v":0},{"$f":"入力用シート!V62","v":0},{"$f":"入力用シート!X62","v":0},null,"Pb",{"$f":"入力用シート!BQ3","v":0.96916299559471364},null,null,null,null,null,null,null,null,null,null,null,null,null,null,null,null,"石膏",{"$f":"IF($G33=0,\"\",IF($G33<=30,INT($G33),IF($G33>40,40,5*INT($G33/5))))","v":""},{"$f":"IF($M33=0,\"\",IF($M33<=30,INT($M33),IF($M33>40,40,5*INT($M33/5))))","v":""},{"$f":"IF($S33=0,\"\",IF($S33<=30,INT($S33),IF($S33>40,40,5*INT($S33/5))))","v":""}]
[null,null,null,null,"電流",{"$f":"A点!$F$9","v":0},null,"⑥　距離",null,null,null,"d1=",{"$f":"入力用シート!E$62","v":0},"ｍ",null,null,"使用管電圧",{"$f":"A点!$AL$5","v":0},null,null,null,null,{"$f":"入力用シート!N63","v":0},{"$f":"入力用シート!P63","v":0},{"$f":"入力用シート!R63","v":0},{"$f":"入力用シート!T63","v":0},{"$f":"入力用シート!V63","v":0},{"$f":"入力用シート!X63","v":0},null,"ｺﾝｸﾘ",{"$f":"入力用シート!BQ4","v":0.8936170212765957},null,null,null,null,null,null,null,null,null,null,null,null,null,null,null,null,"ｶﾞﾗｽ",{"$f":"IF($G35=0,\"\",IF($G35<=30,INT($G35),IF($G35>40,40,5*INT($G35/5))))","v":""},{"$f":"IF($M35=0,\"\",IF($M35<=30,INT($M35),IF($M35>40,40,5*INT($M35/5))))","v":""},{"$f":"IF($S35=0,\"\",IF($S35<=30,INT($S35),IF($S35>40,40,5*INT($S35/5))))","v":""}]
[null,null,null,"②　E/Ka：空気カーマ換算係数（表10）",null,null,null,"⑧　照射野400cm2空気ｶｰﾏ率表8",null,null,null,"d2=",{"$f":"入力用シート!G$62","v":0},"ｍ",null,null,"透過率",{"$f":"IF(A点!$AL$8=\"○\",\"\",IF(A点!$AL$8=1,\"データなし\",IF($S8>3,HLOOKUP($R9,'表２(Pb)'!$B$3:$Y$36,32+ROUNDDOWN(($S8-3)/0.5,0),0),HLOOKUP($R9,'表２(Pb)'!$B$3:$Y$36,2+S8/0.1,0))))","v":""},null,null,null,null,"Pb","ｺﾝｸﾘ","Fe","石膏","ｶﾞﾗｽ","木材",null,"Fe",{"$f":"入力用シート!BQ5","v":0.98339719029374206},null,null,null,null,null,null,null,null,null,null,null,null,null,null,null,null,"木材",{"$f":"IF($G37=0,\"\",IF($G37<=300,INT($G37/10)*10,IF($G37>400,400,50*INT($G37/50))))","v":""},{"$f":"IF($M37=0,\"\",IF($M37<=300,INT($M37/10)*10,IF($M37>400,400,50*INT($M37/50))))","v":""},{"$f":"IF($S37=0,\"\",IF($S37<=300,INT($S37/10)*10,IF($S37>400,400,50*INT($S37/50))))","v":""}]
[null,null,null,null,"採用管電圧",{"$f":"A点!$F$11","v":0},{"$f":"A点!$G$11","v":0},null,null,null,{"$f":"A点!$AL$7","v":0},"d3=",{"$f":"入力用シート!I$62","v":0},"ｍ",null,null,null,null,null,null,null,1,{"$f":"IF($W8=\"Pb\",$W9,0)","v":0},{"$f":"IF($W8=\"ｺﾝｸﾘ\",$W9,0)","v":0},{"$f":"IF($W8=\"Fe\",$W9,0)","v":0},{"$f":"IF($W8=\"石膏\",$W9,0)","v":0},{"$f":"IF($W8=\"ｶﾞﾗｽ\",$W9,0)","v":0},{"$f":"IF($W8=\"木材\",$W9,0)","v":0},null,"石膏",{"$f":"入力用シート!BQ6","v":1}]
[null,null,null,"③　W：３Ｍ実効稼動負荷",null,"合計",{"$f":"13*(入力用シート!$L$22*入力用シート!$Q$22*60*入力用シート!$L$23*入力用シート!$Q$23)","v":0},"⑨　受像面照射野",null,null,{"$f":"入力用シート!$E$16","v":1225},"d4=",{"$f":"入力用シート!K$62","v":0},"ｍ",null,null,null,null,null,null,null,2,{"$f":"IF($X8=\"Pb\",$X9,0)","v":0},{"$f":"IF($X8=\"ｺﾝｸﾘ\",$X9,0)","v":0},{"$f":"IF($X8=\"Fe\",$X9,0)","v":0},{"$f":"IF($X8=\"石膏\",$X9,0)","v":0},{"$f":"IF($X8=\"ｶﾞﾗｽ\",$X9,0)","v":0},{"$f":"IF($X8=\"木材\",$X9,0)","v":0},null,"ｶﾞﾗｽ",{"$f":"入力用シート!BQ7","v":0.9765625},null,null,null,null,null,null,null,null,null,null,null,null,null,null,null,"2)散乱線用"]
[null,null,null,null,null,null,null,"⑩　tw：３月間における稼働時間(h)",null,null,null,null,{"$f":"IF(F9=0,0,G12/(F9*3600))","v":0},null,null,"機器の種類",null,"管容器からの空気ｶｰﾏ率（mGy/h）",null,null,null,3,{"$f":"IF($Y8=\"Pb\",$Y9,0)","v":0},{"$f":"IF($Y8=\"ｺﾝｸﾘ\",$Y9,0)","v":0},{"$f":"IF($Y8=\"Fe\",$Y9,0)","v":0},{"$f":"IF($Y8=\"石膏\",$Y9,0)","v":0},{"$f":"IF($Y8=\"ｶﾞﾗｽ\",$Y9,0)","v":0},{"$f":"IF($Y8=\"木材\",$Y9,0)","v":0},null,"木材",{"$f":"入力用シート!BQ8","v":1},null,null,null,null,null,null,null,null,null,null,null,null,null,null,null,"遮蔽厚参照値"]
[null,null,null,"E点の漏洩エックス線量の計算(利用線錘方向）",null,null,null,null,"E点の漏洩エックス線量の計算(被写体・管球）",null,null,null,null,null,1,"1:治療用ｴｯｸｽ線装置（≦50ｋV）",null,1,"選んだ機器",null,null,4,{"$f":"IF($Z8=\"Pb\",$Z9,0)","v":0},{"$f":"IF($Z8=\"ｺﾝｸﾘ\",$Z9,0)","v":0},{"$f":"IF($Z8=\"Fe\",$Z9,0)","v":0},{"$f":"IF($Z8=\"石膏\",$Z9,0)","v":0},{"$f":"IF($Z8=\"ｶﾞﾗｽ\",$Z9,0)","v":0},{"$f":"IF($Z8=\"木材\",$Z9,0)","v":0},null,null,null,null,null,null,null,null,null,null,null,null,null,null,null,null,null,null,null,null,"E点","E'点","E\"点"]
[null,null,null,null,"Ea=",{"$f":"MAX(F21,L21,R21)","v":0},"μSv/3ヶ月",null,null,"Es＝",{"$f":"MAX(F59,L59,R59)","v":0},"μSv/3ヶ月",null,null,2,"2:治療用ｴｯｸｽ線装置（＞50ｋV）",null,10,{"$f":"入力用シート!$C$7","v":0},null,null,5,{"$f":"IF($AA8=\"Pb\",$AA9,0)","v":0},{"$f":"IF($AA8=\"ｺﾝｸﾘ\",$AA9,0)","v":0},{"$f":"IF($AA8=\"Fe\",$AA9,0)","v":0},{"$f":"IF($AA8=\"石膏\",$AA9,0)","v":0},{"$f":"IF($AA8=\"ｶﾞﾗｽ\",$AA9,0)","v":0},{"$f":"IF($AA8=\"木材\",$AA9,0)","v":0},null,null,null,null,null,null,null,null,null,null,null,null,null,null,null,null,null,null,null,"Pb",{"$f":"IF($H27=0,\"\",IF($H27<=3,INT(10*$H27)/10,IF($H27>4,4,0.5*INT($H27/0.5))))","v":""},{"$f":"IF($N27=0,\"\",IF($N27<=3,INT(10*$N27)/10,IF($N27>4,4,0.5*INT($N27/0.5))))","v":""},{"$f":"IF($T27=0,\"\",IF($T27<=3,INT(10*$T27)/10,IF($T27>4,4,0.5*INT($T27/0.5))))","v":""}]
[null,null,null,null,null,null,null,null,null,"EL＝",{"$f":"MAX(F64,L64,R64)","v":0},"μSv/3ヶ月",null,null,3,"3:口内法撮影用X線装置（≦125ｋV）",null,0.25,"選ばれた空気ｶｰﾏ率XL",null,null,6,{"$f":"IF($AB8=\"Pb\",$AB9,0)","v":0},{"$f":"IF($AB8=\"ｺﾝｸﾘ\",$AB9,0)","v":0},{"$f":"IF($AB8=\"Fe\",$AB9,0)","v":0},{"$f":"IF($AB8=\"石膏\",$AB9,0)","v":0},{"$f":"IF($AB8=\"ｶﾞﾗｽ\",$AB9,0)","v":0},{"$f":"IF($AB8=\"木材\",$AB9,0)","v":0},null,null,null,null,null,null,null,null,null,null,null,null,null,null,null,null,null,null,null,"ｺﾝｸﾘ",{"$f":"IF($H29=0,\"\",IF($H29<=300,INT($H29/10)*10,IF($H29>400,400,50*INT($H29/50))))","v":""},{"$f":"IF($N29=0,\"\",IF($N29<=300,INT($N29/10)*10,IF($N29>400,400,50*INT($N29/50))))","v":""},{"$f":"IF($T29=0,\"\",IF($T29<=300,INT($T29/10)*10,IF($T29>400,400,50*INT($T29/50))))","v":""}]
[null,null,null,null,null,null,null,null,null,"合計",{"$f":"+K15+K16","v":0},null,null,null,4,"4:上記以外の診断用X線装置",null,1,{"$f":"IF(S15=0,0,VLOOKUP(S15,O14:R17,4,0)*1000)","v":0},null,null,null,{"$f":"SUM(W11:W16)","v":0},{"$f":"SUM(X11:X16)","v":0},0,0,0,0,"第1～6遮蔽材合計",null,null,null,null,null,null,null,null,null,null,null,null,null,null,null,null,null,null,"Fe",{"$f":"IF($H31=0,\"\",IF($H31<=30,INT($H31),IF($H31>40,40,5*INT($H31/5))))","v":""},{"$f":"IF($N31=0,\"\",IF($N31<=30,INT($N31),IF($N31>40,40,5*INT($N31/5))))","v":""},{"$f":"IF($T31=0,\"\",IF($T31<=30,INT($T31),IF($T31>40,40,5*INT($T31/5))))","v":""}]
[null,null,null,null,null,null,null,null,null,null,null,null,null,null,null,"※１：治療用装置は、装置接触可能5cmの数値であるため任意の数値に変更可能",null,null,null,null,null,null,{"$f":"SUM(W12:W16)","v":0},{"$f":"SUM(X12:X16)","v":0},0,0,0,0,"第2～6遮蔽材合計",null,null,null,null,null,null,null,null,null,null,null,null,null,null,null,null,null,null,"石膏",{"$f":"IF($H33=0,\"\",IF($H33<=30,INT($H33),IF($H33>40,40,5*INT($H33/5))))","v":""},{"$f":"IF($N33=0,\"\",IF($N33<=30,INT($N33),IF($N33>40,40,5*INT($N33/5))))","v":""},{"$f":"IF($T33=0,\"\",IF($T33<=30,INT($T33),IF($T33>40,40,5*INT($T33/5))))","v":""}]
[null,null,null,"E点の計算",null,null,null,null,null,"E'点の計算",null,null,null,null,null,"E\"点の計算",null,null,null,null,null,null,"E'点",null,null,null,null,null,null,null,null,null,null,null,null,null,null,null,null,null,null,null,null,null,null,null,null,"ｶﾞﾗｽ",{"$f":"IF($H35=0,\"\",IF($H35<=30,INT($H35),IF($H35>40,40,5*INT($H35/5))))","v":""},{"$f":"IF($N35=0,\"\",IF($N35<=30,INT($N35),IF($N35>40,40,5*INT($N35/5))))","v":""},{"$f":"IF($T35=0,\"\",IF($T35<=30,INT($T35),IF($T35>40,40,5*INT($T35/5))))","v":""}]
[null,null,null,"1) Ep：撮影方向",null,null,null,null,null,"1) Ep：撮影方向",null,null,null,null,null,"1) Ep：撮影方向",null,null,null,null,null,null,{"$f":"入力用シート!N64","v":0},{"$f":"入力用シート!P64","v":0},{"$f":"入力用シート!R64","v":0},{"$f":"入力用シート!T64","v":0},{"$f":"入力用シート!V64","v":0},{"$f":"入力用シート!X64","v":0},null,null,null,null,null,null,null,null,null,null,null,null,null,null,null,null,null,null,null,"木材",{"$f":"IF($H37=0,\"\",IF($H37<=300,INT($H37/10)*10,IF($H37>400,400,50*INT($H37/50))))","v":""},{"$f":"IF($N37=0,\"\",IF($N37<=300,INT($N37/10)*10,IF($N37>400,400,50*INT($N37/50))))","v":""},{"$f":"IF($T37=0,\"\",IF($T37<=300,INT($T37/10)*10,IF($T37>400,400,50*INT($T37/50))))","v":""}]
[null,null,null,"　",null,{"$f":"IF(OR($F8=0,$M9=0,A点!$AQ$7=1,AND($W$8=0,$W$45>0)),0,($G8*$R10*$G25*$F41*$G12*$G11*$M7*$M8)/($M9^2))","v":0},"μSv/3ヶ月",null,null,"　",null,{"$f":"IF(OR($F8=0,$M9=0,A点!$AQ$7=1,AND($W$20=0,$W$45>0)),0,($G8*$R10*$M25*$L41*$G12*$G11*$M7*$M8)/($M9^2))","v":0},"μSv/3ヶ月",null,null,"　",null,{"$f":"IF(OR($F8=0,$M9=0,A点!$AQ$7=1,AND($W$32=0,$W$45>0)),0,($G8*$R10*$S25*$R41*$G12*$G11*$M7*$M8)/($M9^2))","v":0},"μSv/3ヶ月",null,null,null,{"$f":"入力用シート!N65","v":0},{"$f":"入力用シート!P65","v":0},{"$f":"入力用シート!R65","v":0},{"$f":"入力用シート!T65","v":0},{"$f":"入力用シート!V65","v":0},{"$f":"入力用シート!X65","v":0}]
[null,null,null,null,null,null,null,null,null,null,null,null,null,null,null,null,null,null,null,null,null,null,"Pb","ｺﾝｸﾘ","Fe","石膏","ｶﾞﾗｽ","木材",null,null,null,null,null,null,null,null,null,null,null,null,null,null,null,null,null,null,"3)","遮蔽材順"]
[null,null,null,"a) 第１遮蔽材による減衰(遮蔽体がある場合透過率=1)",null,null,null,null,null,"○ 第１遮蔽材による減衰(遮蔽体がある場合透過率=1)",null,null,null,null,null,"○ 第１遮蔽材による減衰(遮蔽体がある場合透過率=1)",null,null,null,null,null,null,{"$f":"IF($W20=\"Pb\",$W21,0)","v":0},{"$f":"IF($W20=\"ｺﾝｸﾘ\",$W21,0)","v":0},{"$f":"IF($W20=\"Fe\",$W21,0)","v":0},{"$f":"IF($W20=\"石膏\",$W21,0)","v":0},{"$f":"IF($W20=\"ｶﾞﾗｽ\",$W21,0)","v":0},{"$f":"IF($W20=\"木材\",$W21,0)","v":0},null,null,null,null,null,null,null,null,null,null,null,null,null,null,null,null,null,null,null,null,"E点","E'点","E\"点"]
[null,null,null,null,null,"第1遮蔽材",{"$f":"IF($S$8>0,\"遮蔽体\",$W$8)","v":0},{"$f":"$W$8","v":0},null,null,null,"第1遮蔽材",{"$f":"IF($S$8>0,\"遮蔽体\",$W$20)","v":0},{"$f":"$W$20","v":0},null,null,null,"第1遮蔽材",{"$f":"IF($S$8>0,\"遮蔽体\",$W$32)","v":0},{"$f":"$W$32","v":0},null,null,{"$f":"IF($X20=\"Pb\",$X21,0)","v":0},{"$f":"IF($X20=\"ｺﾝｸﾘ\",$X21,0)","v":0},{"$f":"IF($X20=\"Fe\",$X21,0)","v":0},{"$f":"IF($X20=\"石膏\",$X21,0)","v":0},{"$f":"IF($X20=\"ｶﾞﾗｽ\",$X21,0)","v":0},{"$f":"IF($X20=\"木材\",$X21,0)","v":0},null,null,null,null,null,null,null,null,null,null,null,null,null,null,null,null,null,null,null,"第1遮蔽材",{"$f":"IF($AW34=\"11\",G$24,H$24)","v":0},{"$f":"IF($AW34=\"11\",M$24,N$24)","v":0},{"$f":"IF($AW34=\"11\",S$24,T$24)","v":0}]
[null,null,null,null,null,"Dt1=",{"$f":"G28*G30*G32*G34*G36*G38","v":1},{"$f":"H28*H30*H32*H34*H36*H38","v":1},null,null,null,"Dt1=",{"$f":"M28*M30*M32*M34*M36*M38","v":1},{"$f":"N28*N30*N32*N34*N36*N38","v":1},null,null,null,"Dt1=",{"$f":"S28*S30*S32*S34*S36*S38","v":1},{"$f":"T28*T30*T32*T34*T36*T38","v":1},null,null,{"$f":"IF($Y20=\"Pb\",$Y21,0)","v":0},{"$f":"IF($Y20=\"ｺﾝｸﾘ\",$Y21,0)","v":0},{"$f":"IF($Y20=\"Fe\",$Y21,0)","v":0},{"$f":"IF($Y20=\"石膏\",$Y21,0)","v":0},{"$f":"IF($Y20=\"ｶﾞﾗｽ\",$Y21,0)","v":0},{"$f":"IF($Y20=\"木材\",$Y21,0)","v":0},null,null,null,null,null,null,null,null,null,null,null,null,null,null,null,null,null,null,null,"第2遮蔽材",{"$f":"IF($AW34=\"11\",W$8,X$8)","v":0},{"$f":"IF($AW34=\"11\",W$20,X$20)","v":0},{"$f":"IF($AW34=\"11\",W$32,X$32)","v":0}]
[null,null,null,null,null,null,"一次線用","散乱線用",null,null,null,null,"一次線用","散乱線用",null,null,null,null,"一次線用","散乱線用",null,null,{"$f":"IF($Z20=\"Pb\",$Z21,0)","v":0},{"$f":"IF($Z20=\"ｺﾝｸﾘ\",$Z21,0)","v":0},{"$f":"IF($Z20=\"Fe\",$Z21,0)","v":0},{"$f":"IF($Z20=\"石膏\",$Z21,0)","v":0},{"$f":"IF($Z20=\"ｶﾞﾗｽ\",$Z21,0)","v":0},{"$f":"IF($Z20=\"木材\",$Z21,0)","v":0},null,null,null,null,null,null,null,null,null,null,null,null,null,null,null,null,null,null,null,"第3遮蔽材",{"$f":"IF($AW34=\"11\",X$8,Y$8)","v":0},{"$f":"IF($AW34=\"11\",X$20,Y$20)","v":0},{"$f":"IF($AW34=\"11\",X$32,Y$32)","v":0}]
[null,null,null,"a)　鉛(表2)",null,"等価厚さ",{"$f":"IF($G24=$W$10,$W$9*$AE$8,0)","v":0},{"$f":"IF($H24=$W$10,$W$9*$AE$8,0)","v":0},null,"a)　鉛(表2)",null,"等価厚さ",{"$f":"IF($M24=$W$22,$W$21*$AE$8,0)","v":0},{"$f":"IF($N24=$W$22,$W$21*$AE$8,0)","v":0},null,"a)　鉛(表2)",null,"等価厚さ",{"$f":"IF($S24=$W$34,$W$33*$AE$8,0)","v":0},{"$f":"IF($T24=$W$34,$W$33*$AE$8,0)","v":0},null,null,{"$f":"IF($AA20=\"Pb\",$AA21,0)","v":0},{"$f":"IF($AA20=\"ｺﾝｸﾘ\",$AA21,0)","v":0},{"$f":"IF($AA20=\"Fe\",$AA21,0)","v":0},{"$f":"IF($AA20=\"石膏\",$AA21,0)","v":0},{"$f":"IF($AA20=\"ｶﾞﾗｽ\",$AA21,0)","v":0},{"$f":"IF($AA20=\"木材\",$AA21,0)","v":0},null,null,null,null,null,null,null,null,null,null,null,null,null,null,null,null,null,null,null,"第4遮蔽材",{"$f":"IF($AW34=\"11\",Y$8,Z$8)","v":0},{"$f":"IF($AW34=\"11\",Y$20,Z$20)","v":0},{"$f":"IF($AW34=\"11\",Y$32,Z$32)","v":0}]
[null,null,null,null,null,"透過率",{"$f":"IF(OR($G27=0,A点!$AL$8=1,A点!$AL$8=\"○\"),1,INDEX('表２(Pb)'!$A$3:$Y$36,MATCH($AW5,'表２(Pb)'!$A$3:$A$36,0),MATCH($F8,'表２(Pb)'!$A$3:$Y$3,0)))","v":1},{"$f":"IF(OR($H27=0,A点!$AL$8=1,A点!$AL$8=\"○\"),1,INDEX('表２(Pb)'!$A$3:$Y$36,MATCH($AW15,'表２(Pb)'!$A$3:$A$36,0),MATCH($F8,'表２(Pb)'!$A$3:$Y$3,0)))","v":1},null,null,null,"透過率",{"$f":"IF(OR($M27=0,A点!$AL$8=1,A点!$AL$8=\"○\"),1,INDEX('表２(Pb)'!$A$3:$Y$36,MATCH($AX5,'表２(Pb)'!$A$3:$A$36,0),MATCH($F8,'表２(Pb)'!$A$3:$Y$3,0)))","v":1},{"$f":"IF(OR($N27=0,A点!$AL$8=1,A点!$AL$8=\"○\"),1,INDEX('表２(Pb)'!$A$3:$Y$36,MATCH($AX15,'表２(Pb)'!$A$3:$A$36,0),MATCH($F8,'表２(Pb)'!$A$3:$Y$3,0)))","v":1},null,null,null,"透過率",{"$f":"IF(OR($S27=0,A点!$AL$8=1,A点!$AL$8=\"○\"),1,INDEX('表２(Pb)'!$A$3:$Y$36,MATCH($AY5,'表２(Pb)'!$A$3:$A$36,0),MATCH($F8,'表２(Pb)'!$A$3:$Y$3,0)))","v":1},{"$f":"IF(OR($T27=0,A点!$AL$8=1,A点!$AL$8=\"○\"),1,INDEX('表２(Pb)'!$A$3:$Y$36,MATCH($AY15,'表２(Pb)'!$A$3:$A$36,0),MATCH($F8,'表２(Pb)'!$A$3:$Y$3,0)))","v":1},null,null,{"$f":"IF($AB20=\"Pb\",$AB21,0)","v":0},{"$f":"IF($AB20=\"ｺﾝｸﾘ\",$AB21,0)","v":0},{"$f":"IF($AB20=\"Fe\",$AB21,0)","v":0},{"$f":"IF($AB20=\"石膏\",$AB21,0)","v":0},{"$f":"IF($AB20=\"ｶﾞﾗｽ\",$AB21,0)","v":0},{"$f":"IF($AB20=\"木材\",$AB21,0)","v":0},null,null,null,null,null,null,null,null,null,null,null,null,null,null,null,null,null,null,null,"第5遮蔽材",{"$f":"IF($AW34=\"11\",Z$8,AA$8)","v":0},{"$f":"IF($AW34=\"11\",Z$20,AA$20)","v":0},{"$f":"IF($AW34=\"11\",Z$32,AA$32)","v":0}]
[null,null,null,"b)　コンクリート(表3)",null,"等価厚さ",{"$f":"IF($G24=$X$10,$W$9*$AE$9,0)","v":0},{"$f":"IF($H24=$X$10,$W$9*$AE$9,0)","v":0},null,"b)　コンクリート(表3)",null,"等価厚さ",{"$f":"IF($M24=$X$22,$W$21*$AE$9,0)","v":0},{"$f":"IF($N24=$X$22,$W$21*$AE$9,0)","v":0},null,"b)　コンクリート(表3)",null,"等価厚さ",{"$f":"IF($S24=$X$34,$W$33*$AE$9,0)","v":0},{"$f":"IF($T24=$X$34,$W$33*$AE$9,0)","v":0},null,null,{"$f":"SUM(W23:W28)","v":0},{"$f":"SUM(X23:X28)","v":0},0,0,0,0,"第1～6遮蔽材合計",null,null,null,null,null,null,null,null,null,null,null,null,null,null,null,null,null,null,"第6遮蔽材",{"$f":"IF($AW34=\"11\",AA$8,AB$8)","v":0},{"$f":"IF($AW34=\"11\",AA$20,AB$20)","v":0},{"$f":"IF($AW34=\"11\",AA$32,AB$32)","v":0}]
[null,null,null,null,null,"透過率",{"$f":"IF(OR($G29=0,A点!$AL$8=1,A点!$AL$8=\"○\"),1,INDEX('表３(コ)'!$A$3:$Y$36,MATCH($AW6,'表３(コ)'!$A$3:$A$36,0),MATCH($F8,'表３(コ)'!$A$3:$Y$3,0)))","v":1},{"$f":"IF(OR($H29=0,A点!$AL$8=1,A点!$AL$8=\"○\"),1,INDEX('表３(コ)'!$A$3:$Y$36,MATCH($AW16,'表３(コ)'!$A$3:$A$36,0),MATCH($F8,'表３(コ)'!$A$3:$Y$3,0)))","v":1},null,null,null,"透過率",{"$f":"IF(OR($M29=0,A点!$AL$8=1,A点!$AL$8=\"○\"),1,INDEX('表３(コ)'!$A$3:$Y$36,MATCH($AX6,'表３(コ)'!$A$3:$A$36,0),MATCH($F8,'表３(コ)'!$A$3:$Y$3,0)))","v":1},{"$f":"IF(OR($N29=0,A点!$AL$8=1,A点!$AL$8=\"○\"),1,INDEX('表３(コ)'!$A$3:$Y$36,MATCH($AX16,'表３(コ)'!$A$3:$A$36,0),MATCH($F8,'表３(コ)'!$A$3:$Y$3,0)))","v":1},null,null,null,"透過率",{"$f":"IF(OR($S29=0,A点!$AL$8=1,A点!$AL$8=\"○\"),1,INDEX('表３(コ)'!$A$3:$Y$36,MATCH($AY6,'表３(コ)'!$A$3:$A$36,0),MATCH($F8,'表３(コ)'!$A$3:$Y$3,0)))","v":1},{"$f":"IF(OR($T29=0,A点!$AL$8=1,A点!$AL$8=\"○\"),1,INDEX('表３(コ)'!$A$3:$Y$36,MATCH($AY16,'表３(コ)'!$A$3:$A$36,0),MATCH($F8,'表３(コ)'!$A$3:$Y$3,0)))","v":1},null,null,{"$f":"SUM(W24:W28)","v":0},{"$f":"SUM(X24:X28)","v":0},0,0,0,0,"第2～6遮蔽材合計",null,null,null,null,null,null,null,null,null,null,null,null,null,null,null,null,null,null,"第7遮蔽材",{"$f":"IF($AW34=\"11\",AB$8,\"\")","v":""},{"$f":"IF($AW34=\"11\",AB$20,\"\")","v":""},{"$f":"IF($AW34=\"11\",AB$32,\"\")","v":""}]
[null,null,null,"c)　鉄(表4)",null,"等価厚さ",{"$f":"IF($G24=$Y$10,$W$9*$AE$10,0)","v":0},{"$f":"IF($H24=$Y$10,$W$9*$AE$10,0)","v":0},null,"c)　鉄(表4)",null,"等価厚さ",{"$f":"IF($M24=$Y$22,$W$21*$AE$10,0)","v":0},{"$f":"IF($N24=$Y$22,$W$21*$AE$10,0)","v":0},null,"c)　鉄(表4)",null,"等価厚さ",{"$f":"IF($S24=$Y$34,$W$33*$AE$10,0)","v":0},{"$f":"IF($T24=$Y$34,$W$33*$AE$10,0)","v":0},null,null,"E\"点"]
[null,null,null,null,null,"透過率",{"$f":"IF(OR($G31=0,A点!$AL$8=1,A点!$AL$8=\"○\"),1,INDEX('表4(Fe)'!$A$3:$Y$36,MATCH($AW7,'表4(Fe)'!$A$3:$A$36,0),MATCH($F8,'表4(Fe)'!$A$3:$Y$3,0)))","v":1},{"$f":"IF(OR($H31=0,A点!$AL$8=1,A点!$AL$8=\"○\"),1,INDEX('表4(Fe)'!$A$3:$Y$36,MATCH($AW17,'表4(Fe)'!$A$3:$A$36,0),MATCH($F8,'表4(Fe)'!$A$3:$Y$3,0)))","v":1},null,null,null,"透過率",{"$f":"IF(OR($M31=0,A点!$AL$8=1,A点!$AL$8=\"○\"),1,INDEX('表4(Fe)'!$A$3:$Y$36,MATCH($AX7,'表4(Fe)'!$A$3:$A$36,0),MATCH($F8,'表4(Fe)'!$A$3:$Y$3,0)))","v":1},{"$f":"IF(OR($N31=0,A点!$AL$8=1,A点!$AL$8=\"○\"),1,INDEX('表4(Fe)'!$A$3:$Y$36,MATCH($AX17,'表4(Fe)'!$A$3:$A$36,0),MATCH($F8,'表4(Fe)'!$A$3:$Y$3,0)))","v":1},null,null,null,"透過率",{"$f":"IF(OR($S31=0,A点!$AL$8=1,A点!$AL$8=\"○\"),1,INDEX('表4(Fe)'!$A$3:$Y$36,MATCH($AY7,'表4(Fe)'!$A$3:$A$36,0),MATCH($F8,'表4(Fe)'!$A$3:$Y$3,0)))","v":1},{"$f":"IF(OR($T31=0,A点!$AL$8=1,A点!$AL$8=\"○\"),1,INDEX('表4(Fe)'!$A$3:$Y$36,MATCH($AY17,'表4(Fe)'!$A$3:$A$36,0),MATCH($F8,'表4(Fe)'!$A$3:$Y$3,0)))","v":1},null,null,{"$f":"入力用シート!N66","v":0},{"$f":"入力用シート!P66","v":0},{"$f":"入力用シート!R66","v":0},{"$f":"入力用シート!T66","v":0},{"$f":"入力用シート!V66","v":0},{"$f":"入力用シート!X66","v":0},null,null,null,null,null,null,null,null,null,null,null,null,null,null,null,null,null,null,null,"遮蔽体有無",{"$f":"IF($S8>0,1,0)","v":0},"遮蔽体有：１"]
[null,null,null,"d)　石膏(表5)",null,"等価厚さ",{"$f":"IF($G24=$Z$10,$W$9*$AE$11,0)","v":0},{"$f":"IF($H24=$Z$10,$W$9*$AE$11,0)","v":0},null,"d)　石膏(表5)",null,"等価厚さ",{"$f":"IF($M24=$Z$22,$W$21*$AE$11,0)","v":0},{"$f":"IF($N24=$Z$22,$W$21*$AE$11,0)","v":0},null,"d)　石膏(表5)",null,"等価厚さ",{"$f":"IF($S24=$Z$34,$W$33*$AE$11,0)","v":0},{"$f":"IF($T24=$Z$34,$W$33*$AE$11,0)","v":0},null,null,{"$f":"入力用シート!N67","v":0},{"$f":"入力用シート!P67","v":0},{"$f":"入力用シート!R67","v":0},{"$f":"入力用シート!T67","v":0},{"$f":"入力用シート!V67","v":0},{"$f":"入力用シート!X67","v":0},null,null,null,null,null,null,null,null,null,null,null,null,null,null,null,null,null,null,null,"照射方向",{"$f":"IF($M9>0,1,2)","v":2},"直接線：1、散乱線：2"]
[null,null,null,null,null,"透過率",{"$f":"IF(OR($G33=0,A点!$AL$8=1,A点!$AL$8=\"○\"),1,INDEX('表5(CaSO4)'!$A$3:$Y$36,MATCH($AW8,'表5(CaSO4)'!$A$3:$A$36,0),MATCH($F8,'表5(CaSO4)'!$A$3:$Y$3,0)))","v":1},{"$f":"IF(OR($H33=0,A点!$AL$8=1,A点!$AL$8=\"○\"),1,INDEX('表5(CaSO4)'!$A$3:$Y$36,MATCH($AW18,'表5(CaSO4)'!$A$3:$A$36,0),MATCH($F8,'表5(CaSO4)'!$A$3:$Y$3,0)))","v":1},null,null,null,"透過率",{"$f":"IF(OR($M33=0,A点!$AL$8=1,A点!$AL$8=\"○\"),1,INDEX('表5(CaSO4)'!$A$3:$Y$36,MATCH($AX8,'表5(CaSO4)'!$A$3:$A$36,0),MATCH($F8,'表5(CaSO4)'!$A$3:$Y$3,0)))","v":1},{"$f":"IF(OR($N33=0,A点!$AL$8=1,A点!$AL$8=\"○\"),1,INDEX('表5(CaSO4)'!$A$3:$Y$36,MATCH($AX18,'表5(CaSO4)'!$A$3:$A$36,0),MATCH($F8,'表5(CaSO4)'!$A$3:$Y$3,0)))","v":1},null,null,null,"透過率",{"$f":"IF(OR($S33=0,A点!$AL$8=1,A点!$AL$8=\"○\"),1,INDEX('表5(CaSO4)'!$A$3:$Y$36,MATCH($AY8,'表5(CaSO4)'!$A$3:$A$36,0),MATCH($F8,'表5(CaSO4)'!$A$3:$Y$3,0)))","v":1},{"$f":"IF(OR($T33=0,A点!$AL$8=1,A点!$AL$8=\"○\"),1,INDEX('表5(CaSO4)'!$A$3:$Y$36,MATCH($AY18,'表5(CaSO4)'!$A$3:$A$36,0),MATCH($F8,'表5(CaSO4)'!$A$3:$Y$3,0)))","v":1},null,null,"Pb","ｺﾝｸﾘ","Fe","石膏","ｶﾞﾗｽ","木材",null,null,null,null,null,null,null,null,null,null,null,null,null,null,null,null,null,null,null,"判定コード",{"$f":"AW32&AW33","v":"02"}]
[null,null,null,"e）　ガラス(表6)",null,"等価厚さ",{"$f":"IF($G24=$AA$10,$W$9*$AE$12,0)","v":0},{"$f":"IF($H24=$AA$10,$W$9*$AE$12,0)","v":0},null,"e）　ガラス(表6)",null,"等価厚さ",{"$f":"IF($M24=$AA$22,$W$21*$AE$12,0)","v":0},{"$f":"IF($N24=$AA$22,$W$21*$AE$12,0)","v":0},null,"e）　ガラス(表6)",null,"等価厚さ",{"$f":"IF($S24=$AA$34,$W$33*$AE$12,0)","v":0},{"$f":"IF($T24=$AA$34,$W$33*$AE$12,0)","v":0},null,null,{"$f":"IF($W32=\"Pb\",$W33,0)","v":0},{"$f":"IF($W32=\"ｺﾝｸﾘ\",$W33,0)","v":0},{"$f":"IF($W32=\"Fe\",$W33,0)","v":0},{"$f":"IF($W32=\"石膏\",$W33,0)","v":0},{"$f":"IF($W32=\"ｶﾞﾗｽ\",$W33,0)","v":0},{"$f":"IF($W32=\"木材\",$W33,0)","v":0}]
[null,null,null,null,null,"透過率",{"$f":"IF(OR($G35=0,A点!$AL$8=1,A点!$AL$8=\"○\"),1,INDEX('表6(SiO2)'!$A$3:$Y$36,MATCH($AW9,'表6(SiO2)'!$A$3:$A$36,0),MATCH($F8,'表6(SiO2)'!$A$3:$Y$3,0)))","v":1},{"$f":"IF(OR($H35=0,A点!$AL$8=1,A点!$AL$8=\"○\"),1,INDEX('表6(SiO2)'!$A$3:$Y$36,MATCH($AW19,'表6(SiO2)'!$A$3:$A$36,0),MATCH($F8,'表6(SiO2)'!$A$3:$Y$3,0)))","v":1},null,null,null,"透過率",{"$f":"IF(OR($M35=0,A点!$AL$8=1,A点!$AL$8=\"○\"),1,INDEX('表6(SiO2)'!$A$3:$Y$36,MATCH($AX9,'表6(SiO2)'!$A$3:$A$36,0),MATCH($F8,'表6(SiO2)'!$A$3:$Y$3,0)))","v":1},{"$f":"IF(OR($N35=0,A点!$AL$8=1,A点!$AL$8=\"○\"),1,INDEX('表6(SiO2)'!$A$3:$Y$36,MATCH($AX19,'表6(SiO2)'!$A$3:$A$36,0),MATCH($F8,'表6(SiO2)'!$A$3:$Y$3,0)))","v":1},null,null,null,"透過率",{"$f":"IF(OR($S35=0,A点!$AL$8=1,A点!$AL$8=\"○\"),1,INDEX('表6(SiO2)'!$A$3:$Y$36,MATCH($AY9,'表6(SiO2)'!$A$3:$A$36,0),MATCH($F8,'表6(SiO2)'!$A$3:$Y$3,0)))","v":1},{"$f":"IF(OR($T35=0,A点!$AL$8=1,A点!$AL$8=\"○\"),1,INDEX('表6(SiO2)'!$A$3:$Y$36,MATCH($AY19,'表6(SiO2)'!$A$3:$A$36,0),MATCH($F8,'表6(SiO2)'!$A$3:$Y$3,0)))","v":1},null,null,{"$f":"IF($X32=\"Pb\",$X33,0)","v":0},{"$f":"IF($X32=\"ｺﾝｸﾘ\",$X33,0)","v":0},{"$f":"IF($X32=\"Fe\",$X33,0)","v":0},{"$f":"IF($X32=\"石膏\",$X33,0)","v":0},{"$f":"IF($X32=\"ｶﾞﾗｽ\",$X33,0)","v":0},{"$f":"IF($X32=\"木材\",$X33,0)","v":0}]
[null,null,null,"f)　木材(表7)",null,"等価厚さ",{"$f":"IF($G24=$AB$10,$W$9*$AE$13,0)","v":0},{"$f":"IF($H24=$AB$10,$W$9*$AE$13,0)","v":0},null,"f)　木材(表7)",null,"等価厚さ",{"$f":"IF($M24=$AB$22,$W$21*$AE$13,0)","v":0},{"$f":"IF($N24=$AB$22,$W$21*$AE$13,0)","v":0},null,"f)　木材(表7)",null,"等価厚さ",{"$f":"IF($S24=$AB$34,$W$33*$AE$13,0)","v":0},{"$f":"IF($T24=$AB$34,$W$33*$AE$13,0)","v":0},null,null,{"$f":"IF($Y32=\"Pb\",$Y33,0)","v":0},{"$f":"IF($Y32=\"ｺﾝｸﾘ\",$Y33,0)","v":0},{"$f":"IF($Y32=\"Fe\",$Y33,0)","v":0},{"$f":"IF($Y32=\"石膏\",$Y33,0)","v":0},{"$f":"IF($Y32=\"ｶﾞﾗｽ\",$Y33,0)","v":0},{"$f":"IF($Y32=\"木材\",$Y33,0)","v":0}]
[null,null,null,null,null,"透過率",{"$f":"IF(OR($G37=0,A点!$AL$8=1,A点!$AL$8=\"○\"),1,INDEX('表7(木)'!$A$3:$Y$36,MATCH($AW10,'表7(木)'!$A$3:$A$36,0),MATCH($F8,'表7(木)'!$A$3:$Y$3,0)))","v":1},{"$f":"IF(OR($H37=0,A点!$AL$8=1,A点!$AL$8=\"○\"),1,INDEX('表7(木)'!$A$3:$Y$36,MATCH($AW20,'表7(木)'!$A$3:$A$36,0),MATCH($F8,'表7(木)'!$A$3:$Y$3,0)))","v":1},null,null,null,"透過率",{"$f":"IF(OR($M37=0,A点!$AL$8=1,A点!$AL$8=\"○\"),1,INDEX('表7(木)'!$A$3:$Y$36,MATCH($AX10,'表7(木)'!$A$3:$A$36,0),MATCH($F8,'表7(木)'!$A$3:$Y$3,0)))","v":1},{"$f":"IF(OR($N37=0,A点!$AL$8=1,A点!$AL$8=\"○\"),1,INDEX('表7(木)'!$A$3:$Y$36,MATCH($AX20,'表7(木)'!$A$3:$A$36,0),MATCH($F8,'表7(木)'!$A$3:$Y$3,0)))","v":1},null,null,null,"透過率",{"$f":"IF(OR($S37=0,A点!$AL$8=1,A点!$AL$8=\"○\"),1,INDEX('表7(木)'!$A$3:$Y$36,MATCH($AY10,'表7(木)'!$A$3:$A$36,0),MATCH($F8,'表7(木)'!$A$3:$Y$3,0)))","v":1},{"$f":"IF(OR($T37=0,A点!$AL$8=1,A点!$AL$8=\"○\"),1,INDEX('表7(木)'!$A$3:$Y$36,MATCH($AY20,'表7(木)'!$A$3:$A$36,0),MATCH($F8,'表7(木)'!$A$3:$Y$3,0)))","v":1},null,null,{"$f":"IF($Z32=\"Pb\",$Z33,0)","v":0},{"$f":"IF($Z32=\"ｺﾝｸﾘ\",$Z33,0)","v":0},{"$f":"IF($Z32=\"Fe\",$Z33,0)","v":0},{"$f":"IF($Z32=\"石膏\",$Z33,0)","v":0},{"$f":"IF($Z32=\"ｶﾞﾗｽ\",$Z33,0)","v":0},{"$f":"IF($Z32=\"木材\",$Z33,0)","v":0}]
[null,null,null,null,null,null,null,null,null,null,null,null,null,null,null,null,null,null,null,null,null,null,{"$f":"IF($AA32=\"Pb\",$AA33,0)","v":0},{"$f":"IF($AA32=\"ｺﾝｸﾘ\",$AA33,0)","v":0},{"$f":"IF($AA32=\"Fe\",$AA33,0)","v":0},{"$f":"IF($AA32=\"石膏\",$AA33,0)","v":0},{"$f":"IF($AA32=\"ｶﾞﾗｽ\",$AA33,0)","v":0},{"$f":"IF($AA32=\"木材\",$AA33,0)","v":0}]
[null,null,null,"b)　第２遮蔽材以後による一次線の減衰表9",null,null,null,null,null,"2)　第２遮蔽材以後による一次線の減衰表9",null,null,null,null,null,"2)　第２遮蔽材以後による一次線の減衰表9",null,null,null,null,null,null,{"$f":"IF($AB32=\"Pb\",$AB33,0)","v":0},{"$f":"IF($AB32=\"ｺﾝｸﾘ\",$AB33,0)","v":0},{"$f":"IF($AB32=\"Fe\",$AB33,0)","v":0},{"$f":"IF($AB32=\"石膏\",$AB33,0)","v":0},{"$f":"IF($AB32=\"ｶﾞﾗｽ\",$AB33,0)","v":0},{"$f":"IF($AB32=\"木材\",$AB33,0)","v":0}]
[null,null,null,null,"Dt2=",{"$f":"F44*F46*F48*F50*F52*F54","v":0},{"$f":"G44*G46*G48*G50*G52*G54","v":0},0,null,null,"Dt2=",{"$f":"L44*L46*L48*L50*L52*L54","v":0},{"$f":"M44*M46*M48*M50*M52*M54","v":0},0,null,null,"Dt2=",{"$f":"R44*R46*R48*R50*R52*R54","v":0},{"$f":"S44*S46*S48*S50*S52*S54","v":0},0,null,null,{"$f":"SUM(W35:W40)","v":0},{"$f":"SUM(X35:X40)","v":0},0,0,0,0,"第1～6遮蔽材合計"]
[null,null,null,null,null,"一次線用","散乱線用","漏洩線用",null,null,null,"一次線用","散乱線用","漏洩線用",null,null,null,"一次線用","散乱線用","漏洩線用",null,null,{"$f":"SUM(W36:W40)","v":0},{"$f":"SUM(X36:X40)","v":0},0,0,0,0,"第2～6遮蔽材合計"]
[null,null,null,"a)　鉛(表9)","半価層(mm)",{"$f":"IF(OR(A点!$AL$8=1,A点!$AL$8=\"○\"),\"\",VLOOKUP($F8,'表9(BB)'!$A$4:$M$27,2,0))","v":""},null,null,null,"a)　鉛(表9)","半価層(mm)",{"$f":"IF(OR(A点!$AL$8=1,A点!$AL$8=\"○\"),\"\",VLOOKUP($F8,'表9(BB)'!$A$4:$M$27,2,0))","v":""},null,null,null,"a)　鉛(表9)","半価層(mm)",{"$f":"IF(OR(A点!$AL$8=1,A点!$AL$8=\"○\"),\"\",VLOOKUP($F8,'表9(BB)'!$A$4:$M$27,2,0))","v":""}]
[null,null,null,null,"透過率",{"$f":"IF($S$8>0,$H44,$G44)","v":0},{"$f":"IF($F43=\"\",0,(1/2)^($W18*$AE$8/$F43))","v":0},{"$f":"IF($F43=\"\",0,(1/2)^($W17*$AE$8/$F43))","v":0},null,null,"透過率",{"$f":"IF($S$8>0,$N44,$M44)","v":0},{"$f":"IF($L43=\"\",0,(1/2)^($W30*$AE$8/$L43))","v":0},{"$f":"IF($L43=\"\",0,(1/2)^($W29*$AE$8/$L43))","v":0},null,null,"透過率",{"$f":"IF($S$8>0,$T44,$S44)","v":0},{"$f":"IF($R43=\"\",0,(1/2)^($W42*$AE$8/$R43))","v":0},{"$f":"IF($R43=\"\",0,(1/2)^($W41*$AE$8/$R43))","v":0},null,null,"遮蔽材判定"]
[null,null,null,"b)　コンクリート(表9)","半価層(mm)",{"$f":"IF(OR(A点!$AL$8=1,A点!$AL$8=\"○\"),\"\",VLOOKUP($F8,'表9(BB)'!$A$4:$M$27,4,0))","v":""},null,null,null,"b)　コンクリート(表9)","半価層(mm)",{"$f":"IF(OR(A点!$AL$8=1,A点!$AL$8=\"○\"),\"\",VLOOKUP($F8,'表9(BB)'!$A$4:$M$27,4,0))","v":""},null,null,null,"b)　コンクリート(表9)","半価層(mm)",{"$f":"IF(OR(A点!$AL$8=1,A点!$AL$8=\"○\"),\"\",VLOOKUP($F8,'表9(BB)'!$A$4:$M$27,4,0))","v":""},null,null,null,null,{"$f":"SUM(W17:AB17)+SUM(W29:AB29)+SUM(W41:AB41)","v":0}]
[null,null,null,null,"透過率",{"$f":"IF($S$8>0,$H46,$G46)","v":0},{"$f":"IF($F45=\"\",0,(1/2)^($X18*$AE$9/$F45))","v":0},{"$f":"IF($F45=\"\",0,(1/2)^($X17*$AE$9/$F45))","v":0},null,null,"透過率",{"$f":"IF($S$8>0,$N46,$M46)","v":0},{"$f":"IF($L45=\"\",0,(1/2)^($X30*$AE$9/$L45))","v":0},{"$f":"IF($L45=\"\",0,(1/2)^($X29*$AE$9/$L45))","v":0},null,null,"透過率",{"$f":"IF($S$8>0,$T46,$S46)","v":0},{"$f":"IF($R45=\"\",0,(1/2)^($X42*$AE$9/$R45))","v":0},{"$f":"IF($R45=\"\",0,(1/2)^($X41*$AE$9/$R45))","v":0}]
[null,null,null,"c)　鉄(表9)","半価層(mm)",{"$f":"IF(OR(A点!$AL$8=1,A点!$AL$8=\"○\"),\"\",VLOOKUP($F8,'表9(BB)'!$A$4:$M$27,6,0))","v":""},null,null,null,"c)　鉄(表9)","半価層(mm)",{"$f":"IF(OR(A点!$AL$8=1,A点!$AL$8=\"○\"),\"\",VLOOKUP($F8,'表9(BB)'!$A$4:$M$27,6,0))","v":""},null,null,null,"c)　鉄(表9)","半価層(mm)",{"$f":"IF(OR(A点!$AL$8=1,A点!$AL$8=\"○\"),\"\",VLOOKUP($F8,'表9(BB)'!$A$4:$M$27,6,0))","v":""}]
[null,null,null,null,"透過率",{"$f":"IF($S$8>0,$H48,$G48)","v":0},{"$f":"IF($F47=\"\",0,(1/2)^($Y18*$AE$10/$F47))","v":0},{"$f":"IF($F47=\"\",0,(1/2)^($Y17*$AE$10/$F47))","v":0},null,null,"透過率",{"$f":"IF($S$8>0,$N48,$M48)","v":0},{"$f":"IF($L47=\"\",0,(1/2)^($Y30*$AE$10/$L47))","v":0},{"$f":"IF($L47=\"\",0,(1/2)^($Y29*$AE$10/$L47))","v":0},null,null,"透過率",{"$f":"IF($S$8>0,$T48,$S48)","v":0},{"$f":"IF($R47=\"\",0,(1/2)^($Y42*$AE$10/$R47))","v":0},{"$f":"IF($R47=\"\",0,(1/2)^($Y41*$AE$10/$R47))","v":0}]
[null,null,null,"d)　石膏(表9)","半価層(mm)",{"$f":"IF(OR(A点!$AL$8=1,A点!$AL$8=\"○\"),\"\",VLOOKUP($F8,'表9(BB)'!$A$4:$M$27,8,0))","v":""},null,null,null,"d)　石膏(表9)","半価層(mm)",{"$f":"IF(OR(A点!$AL$8=1,A点!$AL$8=\"○\"),\"\",VLOOKUP($F8,'表9(BB)'!$A$4:$M$27,8,0))","v":""},null,null,null,"d)　石膏(表9)","半価層(mm)",{"$f":"IF(OR(A点!$AL$8=1,A点!$AL$8=\"○\"),\"\",VLOOKUP($F8,'表9(BB)'!$A$4:$M$27,8,0))","v":""}]
[null,null,null,null,"透過率",{"$f":"IF($S$8>0,$H50,$G50)","v":0},{"$f":"IF($F49=\"\",0,(1/2)^($Z18*$AE$11/$F49))","v":0},{"$f":"IF($F49=\"\",0,(1/2)^($Z17*$AE$11/$F49))","v":0},null,null,"透過率",{"$f":"IF($S$8>0,$N50,$M50)","v":0},{"$f":"IF($L49=\"\",0,(1/2)^($Z30*$AE$11/$L49))","v":0},{"$f":"IF($L49=\"\",0,(1/2)^($Z29*$AE$11/$L49))","v":0},null,null,"透過率",{"$f":"IF($S$8>0,$T50,$S50)","v":0},{"$f":"IF($R49=\"\",0,(1/2)^($Z42*$AE$11/$R49))","v":0},{"$f":"IF($R49=\"\",0,(1/2)^($Z41*$AE$11/$R49))","v":0}]
[null,null,null,"e）　ガラス(表9)","半価層(mm)",{"$f":"IF(OR(A点!$AL$8=1,A点!$AL$8=\"○\"),\"\",VLOOKUP($F8,'表9(BB)'!$A$4:$M$27,10,0))","v":""},null,null,null,"e）　ガラス(表9)","半価層(mm)",{"$f":"IF(OR(A点!$AL$8=1,A点!$AL$8=\"○\"),\"\",VLOOKUP($F8,'表9(BB)'!$A$4:$M$27,10,0))","v":""},null,null,null,"e）　ガラス(表9)","半価層(mm)",{"$f":"IF(OR(A点!$AL$8=1,A点!$AL$8=\"○\"),\"\",VLOOKUP($F8,'表9(BB)'!$A$4:$M$27,10,0))","v":""}]
[null,null,null,null,"透過率",{"$f":"IF($S$8>0,$H52,$G52)","v":0},{"$f":"IF($F51=\"\",0,(1/2)^($AA18*$AE$12/$F51))","v":0},{"$f":"IF($F51=\"\",0,(1/2)^($AA17*$AE$12/$F51))","v":0},null,null,"透過率",{"$f":"IF($S$8>0,$N52,$M52)","v":0},{"$f":"IF($L51=\"\",0,(1/2)^($AA30*$AE$12/$L51))","v":0},{"$f":"IF($L51=\"\",0,(1/2)^($AA29*$AE$12/$L51))","v":0},null,null,"透過率",{"$f":"IF($S$8>0,$T52,$S52)","v":0},{"$f":"IF($R51=\"\",0,(1/2)^($AA42*$AE$12/$R51))","v":0},{"$f":"IF($R51=\"\",0,(1/2)^($AA41*$AE$12/$R51))","v":0}]
[null,null,null,"f)　木材(表9)","半価層(mm)",{"$f":"IF(OR(A点!$AL$8=1,A点!$AL$8=\"○\"),\"\",VLOOKUP($F8,'表9(BB)'!$A$4:$M$27,12,0))","v":""},null,null,null,"f)　木材(表9)","半価層(mm)",{"$f":"IF(OR(A点!$AL$8=1,A点!$AL$8=\"○\"),\"\",VLOOKUP($F8,'表9(BB)'!$A$4:$M$27,12,0))","v":""},null,null,null,"f)　木材(表9)","半価層(mm)",{"$f":"IF(OR(A点!$AL$8=1,A点!$AL$8=\"○\"),\"\",VLOOKUP($F8,'表9(BB)'!$A$4:$M$27,12,0))","v":""}]
[null,null,null,null,"透過率",{"$f":"IF($S$8>0,$H54,$G54)","v":0},{"$f":"IF($F53=\"\",0,(1/2)^($AB18*$AE$13/$F53))","v":0},{"$f":"IF($F53=\"\",0,(1/2)^($AB17*$AE$13/$F53))","v":0},null,null,"透過率",{"$f":"IF($S$8>0,$N54,$M54)","v":0},{"$f":"IF($L53=\"\",0,(1/2)^($AB$30*$AE$13/$L$53))","v":0},{"$f":"IF($L53=\"\",0,(1/2)^($AB$29*$AE$13/$L$53))","v":0},null,null,"透過率",{"$f":"IF($S$8>0,$T54,$S54)","v":0},{"$f":"IF($R53=\"\",0,(1/2)^($AB42*$AE$13/$R53))","v":0},{"$f":"IF($R53=\"\",0,(1/2)^($AB41*$AE$13/$R53))","v":0}]
[]
[]
[null,null,null,"2)　Es：散乱エックス線の漏洩線量(散乱角90度)",null,null,null,null,null,"2)　Es：散乱エックス線の漏洩線量(散乱角90度)",null,null,null,null,null,"2)　Es：散乱エックス線の漏洩線量(散乱角90度)"]
[null,null,null,null,"Dt=",{"$f":"H25*G41","v":0},null,null,null,null,"Dt=",{"$f":"N25*M41","v":0},null,null,null,null,"Dt=",{"$f":"T25*S41","v":0}]
[null,null,null,null,"Es=",{"$f":"IF(OR($F8=0,$M10=0,$M11=0,AND($W$8=0,$W$45>0),A点!$AQ$7=1),0,$G8*F58*$G12*$G11*$M7*$M8*($K11/100)*$K12/(400*($M10^2)*($M11^2)))","v":0},"μSv/3ヶ月",null,null,null,"Es=",{"$f":"IF(OR($F8=0,$M10=0,$M11=0,AND($W$20=0,$W$45>0),A点!$AQ$7=1),0,$G8*$G12*$G11*L58*$M7*$M8*($K11/100)*$K12/(400*($M10^2)*($M11^2)))","v":0},"μSv/3ヶ月",null,null,null,"Es=",{"$f":"IF(OR($F8=0,$M10=0,$M11=0,AND($W$32=0,$W$45>0),A点!$AQ$7=1),0,$G8*$G12*$G11*R58*$M7*$M8*($K11/100)*$K12/(400*($M10^2)*($M11^2)))","v":0},"μSv/3ヶ月"]
[]
[]
[null,null,null,"3)　EL：エックス線管容器からの漏洩線量(最大見積)",null,null,null,null,null,"3)　EL：エックス線管容器からの漏洩線量(最大見積)",null,null,null,null,null,"3)　EL：エックス線管容器からの漏洩線量(最大見積)"]
[]
[null,null,null,null,"EL=",{"$f":"IF(OR($F8=0,$M12=0,A点!$AQ$7=1,AND($W$8=0,$W$45>0)),0,$S17*$G11*$M13*H41*$M7*$M8/($M12^2))","v":0},"μGy/h",null,null,null,"EL=",{"$f":"IF(OR($F8=0,$M12=0,A点!$AQ$7=1,AND($W$20=0,$W$45>0)),0,$S17*$G11*$M13*N41*$M7*$M8/($M12^2))","v":0},"μGy/h",null,null,null,"EL=",{"$f":"IF(OR($F8=0,$M12=0,A点!$AQ$7=1,AND($W$32=0,$W$45>0)),0,$S17*$G11*$M13*T41*$M7*$M8/($M12^2))","v":0},"μGy/h"]
[]
[]
[null,"一般撮影",null,"①　X：空気カーマ(表1)",null,null,null,"④　使用係数",null,null,null,"Ｕ＝",1,null,null,"1)対向板による一次線の減衰(表２)",null,null,null,null,null,null,null,null,null,null,null,null,null,null,null,null,null,null,null,null,null,null,null,null,null,null,null,null,null,null,"③撮影用透過率（表2-7）"]
[null,null,null,null,"採用管電圧",{"$f":"A点!$F$68","v":0},{"$f":"A点!$G$68","v":0},"⑤　居住係数",null,null,null,"Ｔ＝",1,null,null,null,null,"等価厚さ",{"$f":"入力用シート!$AA$9","v":0},"mm",null,null,null,null,null,null,null,null,null,null,null,null,null,null,null,null,null,null,null,null,null,null,null,null,null,null,"1)直接線用"]
[null,null,null,null,"電流",{"$f":"A点!$F$69","v":0},null,"⑥　距離",null,null,null,"d1=",{"$f":"M9","v":0},"ｍ",null,null,"使用管電圧",{"$f":"A点!$AM$5","v":0},null,null,null,null,null,null,null,null,null,null,null,null,null,null,null,null,null,null,null,null,null,null,null,null,null,null,null,null,"遮蔽厚参照値"]
[null,null,null,"②　E/Ka：空気カーマ換算係数（表10）",null,null,null,"⑧　照射野400cm2空気ｶｰﾏ率表8",null,null,null,"d2=",{"$f":"M10","v":0},"ｍ",null,null,"透過率",{"$f":"IF(A点!$AM$8=\"○\",\"\",IF(A点!$AM$8=1,\"データなし\",IF($S68>3,HLOOKUP($R69,'表２(Pb)'!$B$3:$Y$36,32+ROUNDDOWN(($S68-3)/0.5,0),0),HLOOKUP($R69,'表２(Pb)'!$B$3:$Y$36,2+S68/0.1,0))))","v":""},null,null,null,null,null,null,null,null,null,null,null,null,null,null,null,null,null,null,null,null,null,null,null,null,null,null,null,null,null,null,"E点","E'点","E\"点"]
[null,null,null,null,"採用管電圧",{"$f":"A点!$F$71","v":0},{"$f":"A点!$G$71","v":0},null,null,null,{"$f":"A点!$AM$7","v":0},"d3=",0,"ｍ",null,null,null,null,null,null,null,null,null,null,null,null,null,null,null,null,null,null,null,null,null,null,null,null,null,null,null,null,null,null,null,null,null,"Pb",{"$f":"IF($G87=0,\"\",IF($G87<=3,INT(10*$G87)/10,IF($G87>4,4,0.5*INT($G87/0.5))))","v":""},{"$f":"IF($M87=0,\"\",IF($M87<=3,INT(10*$M87)/10,IF($M87>4,4,0.5*INT($M87/0.5))))","v":""},{"$f":"IF($S87=0,\"\",IF($S87<=3,INT(10*$S87)/10,IF($S87>4,4,0.5*INT($S87/0.5))))","v":""}]
[null,null,null,"③　W：３Ｍ実効稼動負荷",null,"合計",{"$f":"13*(入力用シート!$L$26*入力用シート!$Q$26*入力用シート!$H$27*入力用シート!$L$27*入力用シート!$Q$27)","v":0},"⑨　受像面照射野",null,null,{"$f":"入力用シート!$E$16","v":1225},"d4=",0,"ｍ",null,null,null,null,null,null,null,null,null,null,null,null,null,null,null,null,null,null,null,null,null,null,null,null,null,null,null,null,null,null,null,null,null,"ｺﾝｸﾘ",{"$f":"IF($G89=0,\"\",IF($G89<=300,INT($G89/10)*10,IF($G89>400,400,50*INT($G89/50))))","v":""},{"$f":"IF($M89=0,\"\",IF($M89<=300,INT($M89/10)*10,IF($M89>400,400,50*INT($M89/50))))","v":""},{"$f":"IF($S89=0,\"\",IF($S89<=300,INT($S89/10)*10,IF($S89>400,400,50*INT($S89/50))))","v":""}]
[null,null,null,null,null,null,null,"⑩　tw：３月間における稼働時間(h)",null,null,null,null,{"$f":"IF(F69=0,0,G72/(F69*3600))","v":0},null,null,"機器の種類",null,"管容器からの空気ｶｰﾏ率（mGy/h）",null,null,null,null,null,null,null,null,null,null,null,null,null,null,null,null,null,null,null,null,null,null,null,null,null,null,null,null,null,"Fe",{"$f":"IF($G91=0,\"\",IF($G91<=30,INT($G91),IF($G91>40,40,5*INT($G91/5))))","v":""},{"$f":"IF($M91=0,\"\",IF($M91<=30,INT($M91),IF($M91>40,40,5*INT($M91/5))))","v":""},{"$f":"IF($S91=0,\"\",IF($S91<=30,INT($S91),IF($S91>40,40,5*INT($S91/5))))","v":""}]
[null,null,null,"E点の漏洩エックス線量の計算(利用線錘方向）",null,null,null,null,"E点の漏洩エックス線量の計算(被写体・管球）",null,null,null,null,null,1,"治療用ｴｯｸｽ線装置（≧50ｋV）",null,1,"選んだ機器",null,null,null,null,null,null,null,null,null,null,null,null,null,null,null,null,null,null,null,null,null,null,null,null,null,null,null,null,"石膏",{"$f":"IF($G93=0,\"\",IF($G93<=30,INT($G93),IF($G93>40,40,5*INT($G93/5))))","v":""},{"$f":"IF($M93=0,\"\",IF($M93<=30,INT($M93),IF($M93>40,40,5*INT($M93/5))))","v":""},{"$f":"IF($S93=0,\"\",IF($S93<=30,INT($S93),IF($S93>40,40,5*INT($S93/5))))","v":""}]
[null,null,null,null,"Ea=",{"$f":"MAX(F81,L81,R81)","v":0},"μSv/3ヶ月",null,null,"Es＝",{"$f":"MAX(F119,L119,R119)","v":0},"μSv/3ヶ月",null,null,2,"治療用ｴｯｸｽ線装置（＜50ｋV）",null,10,{"$f":"入力用シート!$C$7","v":0},null,null,null,null,null,null,null,null,null,null,null,null,null,null,null,null,null,null,null,null,null,null,null,null,null,null,null,null,"ｶﾞﾗｽ",{"$f":"IF($G95=0,\"\",IF($G95<=30,INT($G95),IF($G95>40,40,5*INT($G95/5))))","v":""},{"$f":"IF($M95=0,\"\",IF($M95<=30,INT($M95),IF($M95>40,40,5*INT($M95/5))))","v":""},{"$f":"IF($S95=0,\"\",IF($S95<=30,INT($S95),IF($S95>40,40,5*INT($S95/5))))","v":""}]
[null,null,null,null,null,null,null,null,null,"EL＝",{"$f":"MAX(F124,L124,R124)","v":0},"μSv/3ヶ月",null,null,3,"口内法撮影用X線装置（≦120ｋV）",null,0.25,"選ばれた空気ｶｰﾏ率XL",null,null,null,null,null,null,null,null,null,null,null,null,null,null,null,null,null,null,null,null,null,null,null,null,null,null,null,null,"木材",{"$f":"IF($G97=0,\"\",IF($G97<=300,INT($G97/10)*10,IF($G97>400,400,50*INT($G97/50))))","v":""},{"$f":"IF($M97=0,\"\",IF($M97<=300,INT($M97/10)*10,IF($M97>400,400,50*INT($M97/50))))","v":""},{"$f":"IF($S97=0,\"\",IF($S97<=300,INT($S97/10)*10,IF($S97>400,400,50*INT($S97/50))))","v":""}]
[null,null,null,null,null,null,null,null,null,"合計",{"$f":"+K75+K76","v":0},null,null,null,4,"上記以外の診断用X線装置",null,1,{"$f":"IF(S75=0,0,VLOOKUP(S75,O74:R77,4,0)*1000)","v":0}]
[null,null,null,null,null,null,null,null,null,null,null,null,null,null,null,null,null,null,null,null,null,null,null,null,null,null,null,null,null,null,null,null,null,null,null,null,null,null,null,null,null,null,null,null,null,null,"2)散乱線用"]
[null,null,null,"E点の計算",null,null,null,null,null,"E'点の計算",null,null,null,null,null,"E\"点の計算",null,null,null,null,null,null,null,null,null,null,null,null,null,null,null,null,null,null,null,null,null,null,null,null,null,null,null,null,null,null,"遮蔽厚参照値"]
[null,null,null,"1) Ep：一次エックス線（撮影方向）",null,null,null,null,null,"1) Ep：一次エックス線（撮影方向）",null,null,null,null,null,"1) Ep：一次エックス線（撮影方向）",null,null,null,null,null,null,null,null,null,null,null,null,null,null,null,null,null,null,null,null,null,null,null,null,null,null,null,null,null,null,null,null,"E点","E'点","E\"点"]
[null,null,null,"　",null,{"$f":"IF(OR($F68=0,$M69=0,A点!$AQ$7=1,AND($W$8=0,$W$45>0)),0,($G68*$R70*$G85*$F101*$G72*$G71*$M67*$M68)/($M69^2))","v":0},"μSv/3ヶ月",null,null,"　",null,{"$f":"IF(OR($F68=0,$M69=0,A点!$AQ$7=1,AND($W$20=0,$W$45>0)),0,($G68*$R70*$M85*$L101*$G72*$G71*$M67*$M68)/($M69^2))","v":0},"μSv/3ヶ月",null,null,"　",null,{"$f":"IF(OR($F68=0,$M69=0,A点!$AQ$7=1,AND($W$32=0,$W$45>0)),0,($G68*$R70*$S85*$R101*$G72*$G71*$M67*$M68)/($M69^2))","v":0},"μSv/3ヶ月",null,null,null,null,null,null,null,null,null,null,null,null,null,null,null,null,null,null,null,null,null,null,null,null,null,null,null,null,"Pb",{"$f":"IF($H87=0,\"\",IF($H87<=3,INT(10*$H87)/10,IF($H87>4,4,0.5*INT($H87/0.5))))","v":""},{"$f":"IF($N87=0,\"\",IF($N87<=3,INT(10*$N87)/10,IF($N87>4,4,0.5*INT($N87/0.5))))","v":""},{"$f":"IF($T87=0,\"\",IF($T87<=3,INT(10*$T87)/10,IF($T87>4,4,0.5*INT($T87/0.5))))","v":""}]
[null,null,null,null,null,null,null,null,null,null,null,null,null,null,null,null,null,null,null,null,null,null,null,null,null,null,null,null,null,null,null,null,null,null,null,null,null,null,null,null,null,null,null,null,null,null,null,"ｺﾝｸﾘ",{"$f":"IF($H89=0,\"\",IF($H89<=300,INT($H89/10)*10,IF($H89>400,400,50*INT($H89/50))))","v":""},{"$f":"IF($N89=0,\"\",IF($N89<=300,INT($N89/10)*10,IF($N89>400,400,50*INT($N89/50))))","v":""},{"$f":"IF($T89=0,\"\",IF($T89<=300,INT($T89/10)*10,IF($T89>400,400,50*INT($T89/50))))","v":""}]
[null,null,null,"a) 第１遮蔽材による減衰(遮蔽体がある場合透過率=1)",null,null,null,null,null,"a) 第１遮蔽材による減衰(遮蔽体がある場合透過率=1)",null,null,null,null,null,"a) 第１遮蔽材による減衰(遮蔽体がある場合透過率=1)",null,null,null,null,null,null,null,null,null,null,null,null,null,null,null,null,null,null,null,null,null,null,null,null,null,null,null,null,null,null,null,"Fe",{"$f":"IF($H91=0,\"\",IF($H91<=30,INT($H91),IF($H91>40,40,5*INT($H91/5))))","v":""},{"$f":"IF($N91=0,\"\",IF($N91<=30,INT($N91),IF($N91>40,40,5*INT($N91/5))))","v":""},{"$f":"IF($T91=0,\"\",IF($T91<=30,INT($T91),IF($T91>40,40,5*INT($T91/5))))","v":""}]
[null,null,null,null,null,"第1遮蔽材",{"$f":"IF($S$68>0,\"遮蔽体\",$W$8)","v":0},{"$f":"$W$8","v":0},null,null,null,"第1遮蔽材",{"$f":"IF($S$68>0,\"遮蔽体\",$W$20)","v":0},{"$f":"$W$20","v":0},null,null,null,"第1遮蔽材",{"$f":"IF($S$68>0,\"遮蔽体\",$W$32)","v":0},{"$f":"$W$32","v":0},null,null,null,null,null,null,null,null,null,null,null,null,null,null,null,null,null,null,null,null,null,null,null,null,null,null,null,"石膏",{"$f":"IF($H93=0,\"\",IF($H93<=30,INT($H93),IF($H93>40,40,5*INT($H93/5))))","v":""},{"$f":"IF($N93=0,\"\",IF($N93<=30,INT($N93),IF($N93>40,40,5*INT($N93/5))))","v":""},{"$f":"IF($T93=0,\"\",IF($T93<=30,INT($T93),IF($T93>40,40,5*INT($T93/5))))","v":""}]
[null,null,null,null,null,"Dt1=",{"$f":"G88*G90*G92*G94*G96*G98","v":1},{"$f":"H88*H90*H92*H94*H96*H98","v":1},null,null,null,"Dt1=",{"$f":"M88*M90*M92*M94*M96*M98","v":1},{"$f":"N88*N90*N92*N94*N96*N98","v":1},null,null,null,"Dt1=",{"$f":"S88*S90*S92*S94*S96*S98","v":1},{"$f":"T88*T90*T92*T94*T96*T98","v":1},null,null,null,null,null,null,null,null,null,null,null,null,null,null,null,null,null,null,null,null,null,null,null,null,null,null,null,"ｶﾞﾗｽ",{"$f":"IF($H95=0,\"\",IF($H95<=30,INT($H95),IF($H95>40,40,5*INT($H95/5))))","v":""},{"$f":"IF($N95=0,\"\",IF($N95<=30,INT($N95),IF($N95>40,40,5*INT($N95/5))))","v":""},{"$f":"IF($T95=0,\"\",IF($T95<=30,INT($T95),IF($T95>40,40,5*INT($T95/5))))","v":""}]
[null,null,null,null,null,null,"一次線用","散乱線用",null,null,null,null,"一次線用","散乱線用",null,null,null,null,"一次線用","散乱線用",null,null,null,null,null,null,null,null,null,null,null,null,null,null,null,null,null,null,null,null,null,null,null,null,null,null,null,"木材",{"$f":"IF($H97=0,\"\",IF($H97<=300,INT($H97/10)*10,IF($H97>400,400,50*INT($H97/50))))","v":""},{"$f":"IF($N97=0,\"\",IF($N97<=300,INT($N97/10)*10,IF($N97>400,400,50*INT($N97/50))))","v":""},{"$f":"IF($T97=0,\"\",IF($T97<=300,INT($T97/10)*10,IF($T97>400,400,50*INT($T97/50))))","v":""}]
[null,null,null,"a)　鉛(表2)",null,"等価厚さ",{"$f":"IF($G84=$W$10,$W$9*$AE$8,0)","v":0},{"$f":"IF($H84=$W$10,$W$9*$AE$8,0)","v":0},null,"a)　鉛(表2)",null,"等価厚さ",{"$f":"IF($M84=$W$22,$W$21*$AE$8,0)","v":0},{"$f":"IF($N84=$W$22,$W$21*$AE$8,0)","v":0},null,"a)　鉛(表2)",null,"等価厚さ",{"$f":"IF($S84=$W$34,$W$33*$AE$8,0)","v":0},{"$f":"IF($T84=$W$34,$W$33*$AE$8,0)","v":0}]
[null,null,null,null,null,"透過率",{"$f":"IF(OR($G87=0,A点!$AM$8=1,A点!$AM$8=\"○\"),1,INDEX('表２(Pb)'!$A$3:$Y$36,MATCH($AW71,'表２(Pb)'!$A$3:$A$36,0),MATCH($F68,'表２(Pb)'!$A$3:$Y$3,0)))","v":1},{"$f":"IF(OR($H87=0,A点!$AM$8=1,A点!$AM$8=\"○\"),1,INDEX('表２(Pb)'!$A$3:$Y$36,MATCH($AW81,'表２(Pb)'!$A$3:$A$36,0),MATCH($F68,'表２(Pb)'!$A$3:$Y$3,0)))","v":1},null,null,null,"透過率",{"$f":"IF(OR($M87=0,A点!$AM$8=1,A点!$AM$8=\"○\"),1,INDEX('表２(Pb)'!$A$3:$Y$36,MATCH($AX71,'表２(Pb)'!$A$3:$A$36,0),MATCH($F68,'表２(Pb)'!$A$3:$Y$3,0)))","v":1},{"$f":"IF(OR($N87=0,A点!$AM$8=1,A点!$AM$8=\"○\"),1,INDEX('表２(Pb)'!$A$3:$Y$36,MATCH($AX81,'表２(Pb)'!$A$3:$A$36,0),MATCH($F68,'表２(Pb)'!$A$3:$Y$3,0)))","v":1},null,null,null,"透過率",{"$f":"IF(OR($S87=0,A点!$AM$8=1,A点!$AM$8=\"○\"),1,INDEX('表２(Pb)'!$A$3:$Y$36,MATCH($AY71,'表２(Pb)'!$A$3:$A$36,0),MATCH($F68,'表２(Pb)'!$A$3:$Y$3,0)))","v":1},{"$f":"IF(OR($T87=0,A点!$AM$8=1,A点!$AM$8=\"○\"),1,INDEX('表２(Pb)'!$A$3:$Y$36,MATCH($AY81,'表２(Pb)'!$A$3:$A$36,0),MATCH($F68,'表２(Pb)'!$A$3:$Y$3,0)))","v":1},null,null,null,null,null,null,null,null,null,null,null,null,null,null,null,null,null,null,null,null,null,null,null,null,null,null,"3)","遮蔽材順"]
[null,null,null,"b)　コンクリート(表3)",null,"等価厚さ",{"$f":"IF($G84=$X$10,$W$9*$AE$9,0)","v":0},{"$f":"IF($H84=$X$10,$W$9*$AE$9,0)","v":0},null,"b)　コンクリート(表3)",null,"等価厚さ",{"$f":"IF($M84=$X$22,$W$21*$AE$9,0)","v":0},{"$f":"IF($N84=$X$22,$W$21*$AE$9,0)","v":0},null,"b)　コンクリート(表3)",null,"等価厚さ",{"$f":"IF($S84=$X$34,$W$33*$AE$9,0)","v":0},{"$f":"IF($T84=$X$34,$W$33*$AE$9,0)","v":0},null,null,null,null,null,null,null,null,null,null,null,null,null,null,null,null,null,null,null,null,null,null,null,null,null,null,null,null,"E点","E'点","E\"点"]
[null,null,null,null,null,"透過率",{"$f":"IF(OR($G89=0,A点!$AM$8=1,A点!$AM$8=\"○\"),1,INDEX('表３(コ)'!$A$3:$Y$36,MATCH($AW72,'表３(コ)'!$A$3:$A$36,0),MATCH($F68,'表３(コ)'!$A$3:$Y$3,0)))","v":1},{"$f":"IF(OR($H89=0,A点!$AM$8=1,A点!$AM$8=\"○\"),1,INDEX('表３(コ)'!$A$3:$Y$36,MATCH($AW82,'表３(コ)'!$A$3:$A$36,0),MATCH($F68,'表３(コ)'!$A$3:$Y$3,0)))","v":1},null,null,null,"透過率",{"$f":"IF(OR($M89=0,A点!$AM$8=1,A点!$AM$8=\"○\"),1,INDEX('表３(コ)'!$A$3:$Y$36,MATCH($AX72,'表３(コ)'!$A$3:$A$36,0),MATCH($F68,'表３(コ)'!$A$3:$Y$3,0)))","v":1},{"$f":"IF(OR($N89=0,A点!$AM$8=1,A点!$AM$8=\"○\"),1,INDEX('表３(コ)'!$A$3:$Y$36,MATCH($AX82,'表３(コ)'!$A$3:$A$36,0),MATCH($F68,'表３(コ)'!$A$3:$Y$3,0)))","v":1},null,null,null,"透過率",{"$f":"IF(OR($S89=0,A点!$AM$8=1,A点!$AM$8=\"○\"),1,INDEX('表３(コ)'!$A$3:$Y$36,MATCH($AY72,'表３(コ)'!$A$3:$A$36,0),MATCH($F68,'表３(コ)'!$A$3:$Y$3,0)))","v":1},{"$f":"IF(OR($T89=0,A点!$AM$8=1,A点!$AM$8=\"○\"),1,INDEX('表３(コ)'!$A$3:$Y$36,MATCH($AY82,'表３(コ)'!$A$3:$A$36,0),MATCH($F68,'表３(コ)'!$A$3:$Y$3,0)))","v":1},null,null,null,null,null,null,null,null,null,null,null,null,null,null,null,null,null,null,null,null,null,null,null,null,null,null,null,"第1遮蔽材",{"$f":"IF($AW100=\"11\",G$84,H$84)","v":0},{"$f":"IF($AW100=\"11\",M$84,N$84)","v":0},{"$f":"IF($AW100=\"11\",S$84,T$84)","v":0}]
[null,null,null,"c)　鉄(表4)",null,"等価厚さ",{"$f":"IF($G84=$Y$10,$W$9*$AE$10,0)","v":0},{"$f":"IF($H84=$Y$10,$W$9*$AE$10,0)","v":0},null,"c)　鉄(表4)",null,"等価厚さ",{"$f":"IF($M84=$Y$22,$W$21*$AE$10,0)","v":0},{"$f":"IF($N84=$Y$22,$W$21*$AE$10,0)","v":0},null,"c)　鉄(表4)",null,"等価厚さ",{"$f":"IF($S84=$Y$34,$W$33*$AE$10,0)","v":0},{"$f":"IF($T84=$Y$34,$W$33*$AE$10,0)","v":0},null,null,null,null,null,null,null,null,null,null,null,null,null,null,null,null,null,null,null,null,null,null,null,null,null,null,null,"第2遮蔽材",{"$f":"IF($AW100=\"11\",W$8,X$8)","v":0},{"$f":"IF($AW100=\"11\",W$20,X$20)","v":0},{"$f":"IF($AW100=\"11\",W$32,X$32)","v":0}]
[null,null,null,null,null,"透過率",{"$f":"IF(OR($G91=0,A点!$AM$8=1,A点!$AM$8=\"○\"),1,INDEX('表4(Fe)'!$A$3:$Y$36,MATCH($AW73,'表4(Fe)'!$A$3:$A$36,0),MATCH($F68,'表4(Fe)'!$A$3:$Y$3,0)))","v":1},{"$f":"IF(OR($H91=0,A点!$AM$8=1,A点!$AM$8=\"○\"),1,INDEX('表4(Fe)'!$A$3:$Y$36,MATCH($AW83,'表4(Fe)'!$A$3:$A$36,0),MATCH($F68,'表4(Fe)'!$A$3:$Y$3,0)))","v":1},null,null,null,"透過率",{"$f":"IF(OR($M91=0,A点!$AM$8=1,A点!$AM$8=\"○\"),1,INDEX('表4(Fe)'!$A$3:$Y$36,MATCH($AX73,'表4(Fe)'!$A$3:$A$36,0),MATCH($F68,'表4(Fe)'!$A$3:$Y$3,0)))","v":1},{"$f":"IF(OR($N91=0,A点!$AM$8=1,A点!$AM$8=\"○\"),1,INDEX('表4(Fe)'!$A$3:$Y$36,MATCH($AX83,'表4(Fe)'!$A$3:$A$36,0),MATCH($F68,'表4(Fe)'!$A$3:$Y$3,0)))","v":1},null,null,null,"透過率",{"$f":"IF(OR($S91=0,A点!$AM$8=1,A点!$AM$8=\"○\"),1,INDEX('表4(Fe)'!$A$3:$Y$36,MATCH($AY73,'表4(Fe)'!$A$3:$A$36,0),MATCH($F68,'表4(Fe)'!$A$3:$Y$3,0)))","v":1},{"$f":"IF(OR($T91=0,A点!$AM$8=1,A点!$AM$8=\"○\"),1,INDEX('表4(Fe)'!$A$3:$Y$36,MATCH($AY83,'表4(Fe)'!$A$3:$A$36,0),MATCH($F68,'表4(Fe)'!$A$3:$Y$3,0)))","v":1},null,null,null,null,null,null,null,null,null,null,null,null,null,null,null,null,null,null,null,null,null,null,null,null,null,null,null,"第3遮蔽材",{"$f":"IF($AW100=\"11\",X$8,Y$8)","v":0},{"$f":"IF($AW100=\"11\",X$20,Y$20)","v":0},{"$f":"IF($AW100=\"11\",X$32,Y$32)","v":0}]
[null,null,null,"d)　石膏(表5)",null,"等価厚さ",{"$f":"IF($G84=$Z$10,$W$9*$AE$11,0)","v":0},{"$f":"IF($H84=$Z$10,$W$9*$AE$11,0)","v":0},null,"d)　石膏(表5)",null,"等価厚さ",{"$f":"IF($M84=$Z$22,$W$21*$AE$11,0)","v":0},{"$f":"IF($N84=$Z$22,$W$21*$AE$11,0)","v":0},null,"d)　石膏(表5)",null,"等価厚さ",{"$f":"IF($S84=$Z$34,$W$33*$AE$11,0)","v":0},{"$f":"IF($T84=$Z$34,$W$33*$AE$11,0)","v":0},null,null,null,null,null,null,null,null,null,null,null,null,null,null,null,null,null,null,null,null,null,null,null,null,null,null,null,"第4遮蔽材",{"$f":"IF($AW100=\"11\",Y$8,Z$8)","v":0},{"$f":"IF($AW100=\"11\",Y$20,Z$20)","v":0},{"$f":"IF($AW100=\"11\",Y$32,Z$32)","v":0}]
[null,null,null,null,null,"透過率",{"$f":"IF(OR($G93=0,A点!$AM$8=1,A点!$AM$8=\"○\"),1,INDEX('表5(CaSO4)'!$A$3:$Y$36,MATCH($AW74,'表5(CaSO4)'!$A$3:$A$36,0),MATCH($F68,'表5(CaSO4)'!$A$3:$Y$3,0)))","v":1},{"$f":"IF(OR($H93=0,A点!$AM$8=1,A点!$AM$8=\"○\"),1,INDEX('表5(CaSO4)'!$A$3:$Y$36,MATCH($AW84,'表5(CaSO4)'!$A$3:$A$36,0),MATCH($F68,'表5(CaSO4)'!$A$3:$Y$3,0)))","v":1},null,null,null,"透過率",{"$f":"IF(OR($M93=0,A点!$AM$8=1,A点!$AM$8=\"○\"),1,INDEX('表5(CaSO4)'!$A$3:$Y$36,MATCH($AX74,'表5(CaSO4)'!$A$3:$A$36,0),MATCH($F68,'表5(CaSO4)'!$A$3:$Y$3,0)))","v":1},{"$f":"IF(OR($N93=0,A点!$AM$8=1,A点!$AM$8=\"○\"),1,INDEX('表5(CaSO4)'!$A$3:$Y$36,MATCH($AX84,'表5(CaSO4)'!$A$3:$A$36,0),MATCH($F68,'表5(CaSO4)'!$A$3:$Y$3,0)))","v":1},null,null,null,"透過率",{"$f":"IF(OR($S93=0,A点!$AM$8=1,A点!$AM$8=\"○\"),1,INDEX('表5(CaSO4)'!$A$3:$Y$36,MATCH($AY74,'表5(CaSO4)'!$A$3:$A$36,0),MATCH($F68,'表5(CaSO4)'!$A$3:$Y$3,0)))","v":1},{"$f":"IF(OR($T93=0,A点!$AM$8=1,A点!$AM$8=\"○\"),1,INDEX('表5(CaSO4)'!$A$3:$Y$36,MATCH($AY84,'表5(CaSO4)'!$A$3:$A$36,0),MATCH($F68,'表5(CaSO4)'!$A$3:$Y$3,0)))","v":1},null,null,null,null,null,null,null,null,null,null,null,null,null,null,null,null,null,null,null,null,null,null,null,null,null,null,null,"第5遮蔽材",{"$f":"IF($AW100=\"11\",Z$8,AA$8)","v":0},{"$f":"IF($AW100=\"11\",Z$20,AA$20)","v":0},{"$f":"IF($AW100=\"11\",Z$32,AA$32)","v":0}]
[null,null,null,"e）　ガラス(表6)",null,"等価厚さ",{"$f":"IF($G84=$AA$10,$W$9*$AE$12,0)","v":0},{"$f":"IF($H84=$AA$10,$W$9*$AE$12,0)","v":0},null,"e）　ガラス(表6)",null,"等価厚さ",{"$f":"IF($M84=$AA$22,$W$21*$AE$12,0)","v":0},{"$f":"IF($N84=$AA$22,$W$21*$AE$12,0)","v":0},null,"e）　ガラス(表6)",null,"等価厚さ",{"$f":"IF($S84=$AA$34,$W$33*$AE$12,0)","v":0},{"$f":"IF($T84=$AA$34,$W$33*$AE$12,0)","v":0},null,null,null,null,null,null,null,null,null,null,null,null,null,null,null,null,null,null,null,null,null,null,null,null,null,null,null,"第6遮蔽材",{"$f":"IF($AW100=\"11\",AA$8,AB$8)","v":0},{"$f":"IF($AW100=\"11\",AA$20,AB$20)","v":0},{"$f":"IF($AW100=\"11\",AA$32,AB$32)","v":0}]
[null,null,null,null,null,"透過率",{"$f":"IF(OR($G95=0,A点!$AM$8=1,A点!$AM$8=\"○\"),1,INDEX('表6(SiO2)'!$A$3:$Y$36,MATCH($AW75,'表6(SiO2)'!$A$3:$A$36,0),MATCH($F68,'表6(SiO2)'!$A$3:$Y$3,0)))","v":1},{"$f":"IF(OR($H95=0,A点!$AM$8=1,A点!$AM$8=\"○\"),1,INDEX('表6(SiO2)'!$A$3:$Y$36,MATCH($AW85,'表6(SiO2)'!$A$3:$A$36,0),MATCH($F68,'表6(SiO2)'!$A$3:$Y$3,0)))","v":1},null,null,null,"透過率",{"$f":"IF(OR($M95=0,A点!$AM$8=1,A点!$AM$8=\"○\"),1,INDEX('表6(SiO2)'!$A$3:$Y$36,MATCH($AX75,'表6(SiO2)'!$A$3:$A$36,0),MATCH($F68,'表6(SiO2)'!$A$3:$Y$3,0)))","v":1},{"$f":"IF(OR($N95=0,A点!$AM$8=1,A点!$AM$8=\"○\"),1,INDEX('表6(SiO2)'!$A$3:$Y$36,MATCH($AX85,'表6(SiO2)'!$A$3:$A$36,0),MATCH($F68,'表6(SiO2)'!$A$3:$Y$3,0)))","v":1},null,null,null,"透過率",{"$f":"IF(OR($S95=0,A点!$AM$8=1,A点!$AM$8=\"○\"),1,INDEX('表6(SiO2)'!$A$3:$Y$36,MATCH($AY75,'表6(SiO2)'!$A$3:$A$36,0),MATCH($F68,'表6(SiO2)'!$A$3:$Y$3,0)))","v":1},{"$f":"IF(OR($T95=0,A点!$AM$8=1,A点!$AM$8=\"○\"),1,INDEX('表6(SiO2)'!$A$3:$Y$36,MATCH($AY85,'表6(SiO2)'!$A$3:$A$36,0),MATCH($F68,'表6(SiO2)'!$A$3:$Y$3,0)))","v":1},null,null,null,null,null,null,null,null,null,null,null,null,null,null,null,null,null,null,null,null,null,null,null,null,null,null,null,"第7遮蔽材",{"$f":"IF($AW100=\"11\",AB$8,\"\")","v":""},{"$f":"IF($AW100=\"11\",AB$20,\"\")","v":""},{"$f":"IF($AW100=\"11\",AB$32,\"\")","v":""}]
[null,null,null,"f)　木材(表7)",null,"等価厚さ",{"$f":"IF($G84=$AB$10,$W$9*$AE$13,0)","v":0},{"$f":"IF($H84=$AB$10,$W$9*$AE$13,0)","v":0},null,"f)　木材(表7)",null,"等価厚さ",{"$f":"IF($M84=$AB$22,$W$21*$AE$13,0)","v":0},{"$f":"IF($N84=$AB$22,$W$21*$AE$13,0)","v":0},null,"f)　木材(表7)",null,"等価厚さ",{"$f":"IF($S84=$AB$34,$W$33*$AE$13,0)","v":0},{"$f":"IF($T84=$AB$34,$W$33*$AE$13,0)","v":0}]
[null,null,null,null,null,"透過率",{"$f":"IF(OR($G97=0,A点!$AM$8=1,A点!$AM$8=\"○\"),1,INDEX('表7(木)'!$A$3:$Y$36,MATCH($AW76,'表7(木)'!$A$3:$A$36,0),MATCH($F68,'表7(木)'!$A$3:$Y$3,0)))","v":1},{"$f":"IF(OR($H97=0,A点!$AM$8=1,A点!$AM$8=\"○\"),1,INDEX('表7(木)'!$A$3:$Y$36,MATCH($AW86,'表7(木)'!$A$3:$A$36,0),MATCH($F68,'表7(木)'!$A$3:$Y$3,0)))","v":1},null,null,null,"透過率",{"$f":"IF(OR($M97=0,A点!$AM$8=1,A点!$AM$8=\"○\"),1,INDEX('表7(木)'!$A$3:$Y$36,MATCH($AX76,'表7(木)'!$A$3:$A$36,0),MATCH($F68,'表7(木)'!$A$3:$Y$3,0)))","v":1},{"$f":"IF(OR($N97=0,A点!$AM$8=1,A点!$AM$8=\"○\"),1,INDEX('表7(木)'!$A$3:$Y$36,MATCH($AX86,'表7(木)'!$A$3:$A$36,0),MATCH($F68,'表7(木)'!$A$3:$Y$3,0)))","v":1},null,null,null,"透過率",{"$f":"IF(OR($S97=0,A点!$AM$8=1,A点!$AM$8=\"○\"),1,INDEX('表7(木)'!$A$3:$Y$36,MATCH($AY76,'表7(木)'!$A$3:$A$36,0),MATCH($F68,'表7(木)'!$A$3:$Y$3,0)))","v":1},{"$f":"IF(OR($T97=0,A点!$AM$8=1,A点!$AM$8=\"○\"),1,INDEX('表7(木)'!$A$3:$Y$36,MATCH($AY86,'表7(木)'!$A$3:$A$36,0),MATCH($F68,'表7(木)'!$A$3:$Y$3,0)))","v":1},null,null,null,null,null,null,null,null,null,null,null,null,null,null,null,null,null,null,null,null,null,null,null,null,null,null,null,"遮蔽体有無",{"$f":"IF($S68>0,1,0)","v":0},"遮蔽体有：１"]
[null,null,null,null,null,null,null,null,null,null,null,null,null,null,null,null,null,null,null,null,null,null,null,null,null,null,null,null,null,null,null,null,null,null,null,null,null,null,null,null,null,null,null,null,null,null,null,"照射方向",{"$f":"IF($M69>0,1,2)","v":2},"直接線：1、散乱線：2"]
[null,null,null,"b)　第２遮蔽材以後による一次線の減衰表9",null,null,null,null,null,"b)　第２遮蔽材以後による一次線の減衰表9",null,null,null,null,null,"b)　第２遮蔽材以後による一次線の減衰表9",null,null,null,null,null,null,null,null,null,null,null,null,null,null,null,null,null,null,null,null,null,null,null,null,null,null,null,null,null,null,null,"判定コード",{"$f":"AW98&AW99","v":"02"}]
[null,null,null,null,"Dt2=",{"$f":"F104*F106*F108*F110*F112*F114","v":0},{"$f":"G104*G106*G108*G110*G112*G114","v":0},0,null,null,"Dt2=",{"$f":"L104*L106*L108*L110*L112*L114","v":0},{"$f":"M104*M106*M108*M110*M112*M114","v":0},0,null,null,"Dt2=",{"$f":"R104*R106*R108*R110*R112*R114","v":0},{"$f":"S104*S106*S108*S110*S112*S114","v":0},0]
[null,null,null,null,null,"一次線用","散乱線用","漏洩線用",null,null,null,"一次線用","散乱線用","漏洩線用",null,null,null,"一次線用","散乱線用","漏洩線用"]
[null,null,null,"a)　鉛(表9)","半価層(mm)",{"$f":"IF(OR(A点!$AM$8=1,A点!$AM$8=\"○\"),\"\",VLOOKUP($F68,'表9(BB)'!$A$4:$M$27,2,0))","v":""},null,null,null,"a)　鉛(表9)","半価層(mm)",{"$f":"IF(OR(A点!$AM$8=1,A点!$AM$8=\"○\"),\"\",VLOOKUP($F68,'表9(BB)'!$A$4:$M$27,2,0))","v":""},null,null,null,"a)　鉛(表9)","半価層(mm)",{"$f":"IF(OR(A点!$AM$8=1,A点!$AM$8=\"○\"),\"\",VLOOKUP($F68,'表9(BB)'!$A$4:$M$27,2,0))","v":""}]
[null,null,null,null,"透過率",{"$f":"IF($S$68>0,$H104,$G104)","v":0},{"$f":"IF($F103=\"\",0,(1/2)^($W18*$AE$8/$F103))","v":0},{"$f":"IF($F103=\"\",0,(1/2)^($W17*$AE$8/$F103))","v":0},null,null,"透過率",{"$f":"IF($S$68>0,$N104,$M104)","v":0},{"$f":"IF($L103=\"\",0,(1/2)^($W30*$AE$8/$L103))","v":0},{"$f":"IF($L103=\"\",0,(1/2)^($W29*$AE$8/$L103))","v":0},null,null,"透過率",{"$f":"IF($S$68>0,$T104,$S104)","v":0},{"$f":"IF($R103=\"\",0,(1/2)^($W42*$AE$8/$R103))","v":0},{"$f":"IF($R103=\"\",0,(1/2)^($W41*$AE$8/$R103))","v":0}]
[null,null,null,"b)　コンクリート(表9)","半価層(mm)",{"$f":"IF(OR(A点!$AM$8=1,A点!$AM$8=\"○\"),\"\",VLOOKUP($F68,'表9(BB)'!$A$4:$M$27,4,0))","v":""},null,null,null,"b)　コンクリート(表9)","半価層(mm)",{"$f":"IF(OR(A点!$AM$8=1,A点!$AM$8=\"○\"),\"\",VLOOKUP($F68,'表9(BB)'!$A$4:$M$27,4,0))","v":""},null,null,null,"b)　コンクリート(表9)","半価層(mm)",{"$f":"IF(OR(A点!$AM$8=1,A点!$AM$8=\"○\"),\"\",VLOOKUP($F68,'表9(BB)'!$A$4:$M$27,4,0))","v":""}]
[null,null,null,null,"透過率",{"$f":"IF($S$68>0,$H106,$G106)","v":0},{"$f":"IF($F105=\"\",0,(1/2)^($X18*$AE$9/$F105))","v":0},{"$f":"IF($F105=\"\",0,(1/2)^($X17*$AE$9/$F105))","v":0},null,null,"透過率",{"$f":"IF($S$68>0,$N106,$M106)","v":0},{"$f":"IF($L105=\"\",0,(1/2)^($X30*$AE$9/$L105))","v":0},{"$f":"IF($L105=\"\",0,(1/2)^($X29*$AE$9/$L105))","v":0},null,null,"透過率",{"$f":"IF($S$68>0,$T106,$S106)","v":0},{"$f":"IF($R105=\"\",0,(1/2)^($X42*$AE$9/$R105))","v":0},{"$f":"IF($R105=\"\",0,(1/2)^($X41*$AE$9/$R105))","v":0}]
[null,null,null,"c)　鉄(表9)","半価層(mm)",{"$f":"IF(OR(A点!$AM$8=1,A点!$AM$8=\"○\"),\"\",VLOOKUP($F68,'表9(BB)'!$A$4:$M$27,6,0))","v":""},null,null,null,"c)　鉄(表9)","半価層(mm)",{"$f":"IF(OR(A点!$AM$8=1,A点!$AM$8=\"○\"),\"\",VLOOKUP($F68,'表9(BB)'!$A$4:$M$27,6,0))","v":""},null,null,null,"c)　鉄(表9)","半価層(mm)",{"$f":"IF(OR(A点!$AM$8=1,A点!$AM$8=\"○\"),\"\",VLOOKUP($F68,'表9(BB)'!$A$4:$M$27,6,0))","v":""}]
[null,null,null,null,"透過率",{"$f":"IF($S$68>0,$H108,$G108)","v":0},{"$f":"IF($F107=\"\",0,(1/2)^($Y18*$AE$10/$F107))","v":0},{"$f":"IF($F107=\"\",0,(1/2)^($Y17*$AE$10/$F107))","v":0},null,null,"透過率",{"$f":"IF($S$68>0,$N108,$M108)","v":0},{"$f":"IF($L107=\"\",0,(1/2)^($Y30*$AE$10/$L107))","v":0},{"$f":"IF($L107=\"\",0,(1/2)^($Y29*$AE$10/$L107))","v":0},null,null,"透過率",{"$f":"IF($S$68>0,$T108,$S108)","v":0},{"$f":"IF($R107=\"\",0,(1/2)^($Y42*$AE$10/$R107))","v":0},{"$f":"IF($R107=\"\",0,(1/2)^($Y41*$AE$10/$R107))","v":0}]
[null,null,null,"d)　石膏(表9)","半価層(mm)",{"$f":"IF(OR(A点!$AM$8=1,A点!$AM$8=\"○\"),\"\",VLOOKUP($F68,'表9(BB)'!$A$4:$M$27,8,0))","v":""},null,null,null,"d)　石膏(表9)","半価層(mm)",{"$f":"IF(OR(A点!$AM$8=1,A点!$AM$8=\"○\"),\"\",VLOOKUP($F68,'表9(BB)'!$A$4:$M$27,8,0))","v":""},null,null,null,"d)　石膏(表9)","半価層(mm)",{"$f":"IF(OR(A点!$AM$8=1,A点!$AM$8=\"○\"),\"\",VLOOKUP($F68,'表9(BB)'!$A$4:$M$27,8,0))","v":""}]
[null,null,null,null,"透過率",{"$f":"IF($S$68>0,$H110,$G110)","v":0},{"$f":"IF($F109=\"\",0,(1/2)^($Z18*$AE$11/$F109))","v":0},{"$f":"IF($F109=\"\",0,(1/2)^($Z17*$AE$11/$F109))","v":0},null,null,"透過率",{"$f":"IF($S$68>0,$N110,$M110)","v":0},{"$f":"IF($L109=\"\",0,(1/2)^($Z30*$AE$11/$L109))","v":0},{"$f":"IF($L109=\"\",0,(1/2)^($Z29*$AE$11/$L109))","v":0},null,null,"透過率",{"$f":"IF($S$68>0,$T110,$S110)","v":0},{"$f":"IF($R109=\"\",0,(1/2)^($Z42*$AE$11/$R109))","v":0},{"$f":"IF($R109=\"\",0,(1/2)^($Z41*$AE$11/$R109))","v":0}]
[null,null,null,"e）　ガラス(表9)","半価層(mm)",{"$f":"IF(OR(A点!$AM$8=1,A点!$AM$8=\"○\"),\"\",VLOOKUP($F68,'表9(BB)'!$A$4:$M$27,10,0))","v":""},null,null,null,"e）　ガラス(表9)","半価層(mm)",{"$f":"IF(OR(A点!$AM$8=1,A点!$AM$8=\"○\"),\"\",VLOOKUP($F68,'表9(BB)'!$A$4:$M$27,10,0))","v":""},null,null,null,"e）　ガラス(表9)","半価層(mm)",{"$f":"IF(OR(A点!$AM$8=1,A点!$AM$8=\"○\"),\"\",VLOOKUP($F68,'表9(BB)'!$A$4:$M$27,10,0))","v":""}]
[null,null,null,null,"透過率",{"$f":"IF($S$68>0,$H112,$G112)","v":0},{"$f":"IF($F111=\"\",0,(1/2)^($AA18*$AE$12/$F111))","v":0},{"$f":"IF($F111=\"\",0,(1/2)^($AA17*$AE$12/$F111))","v":0},null,null,"透過率",{"$f":"IF($S$68>0,$N112,$M112)","v":0},{"$f":"IF($L111=\"\",0,(1/2)^($AA30*$AE$12/$L111))","v":0},{"$f":"IF($L111=\"\",0,(1/2)^($AA29*$AE$12/$L111))","v":0},null,null,"透過率",{"$f":"IF($S$68>0,$T112,$S112)","v":0},{"$f":"IF($R111=\"\",0,(1/2)^($AA42*$AE$12/$R111))","v":0},{"$f":"IF($R111=\"\",0,(1/2)^($AA41*$AE$12/$R111))","v":0}]
[null,null,null,"f)　木材(表9)","半価層(mm)",{"$f":"IF(OR(A点!$AM$8=1,A点!$AM$8=\"○\"),\"\",VLOOKUP($F68,'表9(BB)'!$A$4:$M$27,12,0))","v":""},null,null,null,"f)　木材(表9)","半価層(mm)",{"$f":"IF(OR(A点!$AM$8=1,A点!$AM$8=\"○\"),\"\",VLOOKUP($F68,'表9(BB)'!$A$4:$M$27,12,0))","v":""},null,null,null,"f)　木材(表9)","半価層(mm)",{"$f":"IF(OR(A点!$AM$8=1,A点!$AM$8=\"○\"),\"\",VLOOKUP($F68,'表9(BB)'!$A$4:$M$27,12,0))","v":""}]
[null,null,null,null,"透過率",{"$f":"IF($S$68>0,$H114,$G114)","v":0},{"$f":"IF($F113=\"\",0,(1/2)^($AB18*$AE$13/$F113))","v":0},{"$f":"IF($F113=\"\",0,(1/2)^($AB17*$AE$13/$F113))","v":0},null,null,"透過率",{"$f":"IF($S$68>0,$N114,$M114)","v":0},{"$f":"IF(L113=\"\",0,(1/2)^($AB30*$AE$13/$L113))","v":0},{"$f":"IF($L113=\"\",0,(1/2)^($AB29*$AE$13/$L113))","v":0},null,null,"透過率",{"$f":"IF($S$68>0,$T114,$S114)","v":0},{"$f":"IF($R113=\"\",0,(1/2)^($AB42*$AE$13/$R113))","v":0},{"$f":"IF($R113=\"\",0,(1/2)^($AB41*$AE$13/$R113))","v":0}]
[]
[]
[null,null,null,"2)　Es：散乱エックス線の漏洩線量(散乱角90度)",null,null,null,null,null,"2)　Es：散乱エックス線の漏洩線量(散乱角90度)",null,null,null,null,null,"2)　Es：散乱エックス線の漏洩線量(散乱角90度)"]
[null,null,null,null,"Dt=",{"$f":"H85*G101","v":0},null,null,null,null,"Dt=",{"$f":"N85*M101","v":0},null,null,null,null,"Dt=",{"$f":"T85*S101","v":0}]
[null,null,null,null,"Es=",{"$f":"IF(OR($F68=0,$M70=0,$M71=0,AND($W$8=0,$W$45>0),A点!$AQ$7=1),0,$G68*$G72*$G71*F118*$M67*$M68*($K71/100)*$K72/(400*($M70^2)*($M71^2)))","v":0},"μSv/3ヶ月",null,null,null,"Es=",{"$f":"IF(OR($F68=0,$M70=0,$M71=0,AND($W$20=0,$W$45>0),A点!$AQ$7=1),0,$G68*$G72*$G71*L118*$M67*$M68*($K71/100)*$K72/(400*($M70^2)*($M71^2)))","v":0},"μSv/3ヶ月",null,null,null,"Es=",{"$f":"IF(OR($F68=0,$M70=0,$M71=0,AND($W$32=0,$W$45>0),A点!$AQ$7=1),0,$G68*$G72*$G71*R118*$M67*$M68*($K71/100)*$K72/(400*($M70^2)*($M71^2)))","v":0},"μSv/3ヶ月"]
[]
[]
[null,null,null,"3)　EL：エックス線管容器からの漏洩線量(最大見積)",null,null,null,null,null,"3)　EL：エックス線管容器からの漏洩線量(最大見積)",null,null,null,null,null,"3)　EL：エックス線管容器からの漏洩線量(最大見積)"]
[]
[null,null,null,null,"EL=",{"$f":"IF(OR($F68=0,$M72=0,AND($W$8=0,$W$45>0),A点!$AQ$7=1),0,$S77*$G71*$M73*H101*$M67*$M68/($M72^2))","v":0},"μGy/h",null,null,null,"EL=",{"$f":"IF(OR($F68=0,$M72=0,AND($W$20=0,$W$45>0),A点!$AQ$7=1),0,$S77*$G71*$M73*N101*$M67*$M68/($M72^2))","v":0},"μGy/h",null,null,null,"EL=",{"$f":"IF(OR($F68=0,$F68=0,$M72=0,AND($W$32=0,$W$45>0)),0,$S77*$G71*$M73*T101*$M67*$M68/($M72^2))","v":0},"μGy/h"]
[]
[]
[null,"CT撮影",null,"①　X：空気カーマ(表1)",null,null,null,"④　使用係数",null,null,null,"Ｕ＝",1,null,null,"1)対向板による一次線の減衰(表２)",null,null,null,null,null,null,null,null,null,null,null,null,null,null,null,null,null,null,null,null,null,null,null,null,null,null,null,null,null,null,"③CT用透過率（表2-7）"]
[null,null,null,null,"使用管電圧",{"$f":"A点!$F$128","v":0},{"$f":"A点!$G$128","v":0},"⑤　居住係数",null,null,null,"Ｔ＝",1,null,null,null,null,"等価厚さ",{"$f":"入力用シート!$AA$10","v":0},"mm",null,null,null,null,null,null,null,null,null,null,null,null,null,null,null,null,null,null,null,null,null,null,null,null,null,null,"1)直接線用"]
[null,null,null,null,"電流",{"$f":"A点!$F$129","v":0},null,"⑥　距離",null,null,null,"d1=",{"$f":"M9","v":0},"ｍ",null,null,"使用管電圧",{"$f":"A点!$AN$5","v":0},null,null,null,null,null,null,null,null,null,null,null,null,null,null,null,null,null,null,null,null,null,null,null,null,null,null,null,null,"遮蔽厚参照値"]
[null,null,null,"②　E/Ka：空気カーマ換算係数（表10）",null,null,null,"⑧　照射野400cm2空気ｶｰﾏ率表8",null,null,null,"d2=",{"$f":"M10","v":0},"ｍ",null,null,"透過率",{"$f":"IF(A点!$AN$8=\"○\",\"\",IF(A点!$AN$8=1,\"データなし\",IF($S128>3,HLOOKUP($R129,'表２(Pb)'!$B$3:$Y$36,32+ROUNDDOWN(($S128-3)/0.5,0),0),HLOOKUP($R129,'表２(Pb)'!$B$3:$Y$36,2+S128/0.1,0))))","v":""},null,null,null,null,null,null,null,null,null,null,null,null,null,null,null,null,null,null,null,null,null,null,null,null,null,null,null,null,null,null,"E点","E'点","E\"点"]
[null,null,null,null,"使用管電圧",{"$f":"A点!$F$131","v":0},{"$f":"A点!$G$131","v":0},null,null,null,{"$f":"A点!$AN$7","v":0},"d3=",0,"ｍ",null,null,null,null,null,null,null,null,null,null,null,null,null,null,null,null,null,null,null,null,null,null,null,null,null,null,null,null,null,null,null,null,null,"Pb",{"$f":"IF($G147=0,\"\",IF($G147<=3,INT(10*$G147)/10,IF($G147>4,4,0.5*INT($G147/0.5))))","v":""},{"$f":"IF($M147=0,\"\",IF($M147<=3,INT(10*$M147)/10,IF($M147>4,4,0.5*INT($M147/0.5))))","v":""},{"$f":"IF($S147=0,\"\",IF($S147<=3,INT(10*$S147)/10,IF($S147>4,4,0.5*INT($S147/0.5))))","v":""}]
[null,null,null,"③　W：３Ｍ実効稼動負荷",null,"合計",{"$f":"13*(入力用シート!L32*入力用シート!Q32*入力用シート!H33*入力用シート!L33*入力用シート!Q33)","v":0},"⑨　受像面照射野",null,null,{"$f":"入力用シート!$E$17","v":60},"d4=",0,"ｍ",null,null,null,null,null,null,null,null,null,null,null,null,null,null,null,null,null,null,null,null,null,null,null,null,null,null,null,null,null,null,null,null,null,"ｺﾝｸﾘ",{"$f":"IF($G149=0,\"\",IF($G149<=300,INT($G149/10)*10,IF($G149>400,400,50*INT($G149/50))))","v":""},{"$f":"IF($M149=0,\"\",IF($M149<=300,INT($M149/10)*10,IF($M149>400,400,50*INT($M149/50))))","v":""},{"$f":"IF($S149=0,\"\",IF($S149<=300,INT($S149/10)*10,IF($S149>400,400,50*INT($S149/50))))","v":""}]
[null,null,null,null,null,null,null,"⑩　tw：３月間における稼働時間(h)",null,null,null,null,{"$f":"IF(F129=0,0,G132/(F129*3600))","v":0},null,null,"機器の種類",null,"管容器からの空気ｶｰﾏ率（mGy/h）",null,null,null,null,null,null,null,null,null,null,null,null,null,null,null,null,null,null,null,null,null,null,null,null,null,null,null,null,null,"Fe",{"$f":"IF($G151=0,\"\",IF($G151<=30,INT($G151),IF($G151>40,40,5*INT($G151/5))))","v":""},{"$f":"IF($M151=0,\"\",IF($M151<=30,INT($M151),IF($M151>40,40,5*INT($M151/5))))","v":""},{"$f":"IF($S151=0,\"\",IF($S151<=30,INT($S151),IF($S151>40,40,5*INT($S151/5))))","v":""}]
[null,null,null,"E点の漏洩エックス線量の計算(利用線錘方向）",null,null,null,null,"E点の漏洩エックス線量の計算(被写体・管球）",null,null,null,null,null,1,"治療用ｴｯｸｽ線装置（≧50ｋV）",null,1,"選んだ機器",null,null,null,null,null,null,null,null,null,null,null,null,null,null,null,null,null,null,null,null,null,null,null,null,null,null,null,null,"石膏",{"$f":"IF($G153=0,\"\",IF($G153<=30,INT($G153),IF($G153>40,40,5*INT($G153/5))))","v":""},{"$f":"IF($M153=0,\"\",IF($M153<=30,INT($M153),IF($M153>40,40,5*INT($M153/5))))","v":""},{"$f":"IF($S153=0,\"\",IF($S153<=30,INT($S153),IF($S153>40,40,5*INT($S153/5))))","v":""}]
[null,null,null,null,"Ea=",{"$f":"MAX(F141,L141,R141)","v":0},"μSv/3ヶ月",null,null,"Es＝",{"$f":"MAX(F179,L179,R179)","v":0},"μSv/3ヶ月",null,null,2,"治療用ｴｯｸｽ線装置（＜50ｋV）",null,10,{"$f":"入力用シート!$C$7","v":0},null,null,null,null,null,null,null,null,null,null,null,null,null,null,null,null,null,null,null,null,null,null,null,null,null,null,null,null,"ｶﾞﾗｽ",{"$f":"IF($G155=0,\"\",IF($G155<=30,INT($G155),IF($G155>40,40,5*INT($G155/5))))","v":""},{"$f":"IF($M155=0,\"\",IF($M155<=30,INT($M155),IF($M155>40,40,5*INT($M155/5))))","v":""},{"$f":"IF($S155=0,\"\",IF($S155<=30,INT($S155),IF($S155>40,40,5*INT($S155/5))))","v":""}]
[null,null,null,null,null,null,null,null,null,"EL＝",{"$f":"MAX(F184,L184,R184)","v":0},"μSv/3ヶ月",null,null,3,"口内法撮影用X線装置（≦120ｋV）",null,0.25,"選ばれた空気ｶｰﾏ率XL",null,null,null,null,null,null,null,null,null,null,null,null,null,null,null,null,null,null,null,null,null,null,null,null,null,null,null,null,"木材",{"$f":"IF($G157=0,\"\",IF($G157<=300,INT($G157/10)*10,IF($G157>400,400,50*INT($G157/50))))","v":""},{"$f":"IF($M157=0,\"\",IF($M157<=300,INT($M157/10)*10,IF($M157>400,400,50*INT($M157/50))))","v":""},{"$f":"IF($S157=0,\"\",IF($S157<=300,INT($S157/10)*10,IF($S157>400,400,50*INT($S157/50))))","v":""}]
[null,null,null,null,null,null,null,null,null,"合計",{"$f":"+K135+K136","v":0},null,null,null,4,"上記以外の診断用X線装置",null,1,{"$f":"IF(S135=0,0,VLOOKUP(S135,O134:R137,4,0)*1000)","v":0}]
[null,null,null,null,null,null,null,null,null,null,null,null,null,null,null,null,null,null,null,null,null,null,null,null,null,null,null,null,null,null,null,null,null,null,null,null,null,null,null,null,null,null,null,null,null,null,"2)散乱線用"]
[null,null,null,"E点の計算",null,null,null,null,null,"E'点の計算",null,null,null,null,null,"E\"点の計算",null,null,null,null,null,null,null,null,null,null,null,null,null,null,null,null,null,null,null,null,null,null,null,null,null,null,null,null,null,null,"遮蔽厚参照値"]
[null,null,null,"1) Ep：一次エックス線（撮影方向）",null,null,null,null,null,"1) Ep：一次エックス線（撮影方向）",null,null,null,null,null,"1) Ep：一次エックス線（撮影方向）",null,null,null,null,null,null,null,null,null,null,null,null,null,null,null,null,null,null,null,null,null,null,null,null,null,null,null,null,null,null,null,null,"E点","E'点","E\"点"]
[null,null,null,"　",null,{"$f":"IF(OR($F128=0,$M129=0,A点!$AQ$7=1,AND($W$8=0,$W$45>0)),0,($G128*$R130*$G145*$F161*0.25*$G132*$G131*$M127*$M128)/($M129^2))","v":0},"μSv/3ヶ月",null,null,"　",null,{"$f":"IF(OR($F128=0,$M129=0,A点!$AQ$7=1,AND($W$20=0,$W$45>0)),0,($G128*$R130*$M145*$L161*0.25*$G132*$G131*$M127*$M128)/($M129^2))","v":0},"μSv/3ヶ月",null,null,"　",null,{"$f":"IF(OR($F128=0,$M129=0,A点!$AQ$7=1,AND($W$32=0,$W$45>0)),0,($G128*$R130*$S145*$R161*0.25*$G132*$G131*$M127*$M128)/($M129^2))","v":0},"μSv/3ヶ月",null,null,null,null,null,null,null,null,null,null,null,null,null,null,null,null,null,null,null,null,null,null,null,null,null,null,null,null,"Pb",{"$f":"IF($H147=0,\"\",IF($H147<=3,INT(10*$H147)/10,IF($H147>4,4,0.5*INT($H147/0.5))))","v":""},{"$f":"IF($N147=0,\"\",IF($N147<=3,INT(10*$N147)/10,IF($N147>4,4,0.5*INT($N147/0.5))))","v":""},{"$f":"IF($T147=0,\"\",IF($T147<=3,INT(10*$T147)/10,IF($T147>4,4,0.5*INT($T147/0.5))))","v":""}]
[null,null,null,null,null,null,null,null,null,null,null,null,null,null,null,null,null,null,null,null,null,null,null,null,null,null,null,null,null,null,null,null,null,null,null,null,null,null,null,null,null,null,null,null,null,null,null,"ｺﾝｸﾘ",{"$f":"IF($H149=0,\"\",IF($H149<=300,INT($H149/10)*10,IF($H149>400,400,50*INT($H149/50))))","v":""},{"$f":"IF($N149=0,\"\",IF($N149<=300,INT($N149/10)*10,IF($N149>400,400,50*INT($N149/50))))","v":""},{"$f":"IF($T149=0,\"\",IF($T149<=300,INT($T149/10)*10,IF($T149>400,400,50*INT($T149/50))))","v":""}]
[null,null,null,"a) 第１遮蔽材による減衰(遮蔽体がある場合透過率=1)",null,null,null,null,null,"a) 第１遮蔽材による減衰(遮蔽体がある場合透過率=1)",null,null,null,null,null,"a) 第１遮蔽材による減衰(遮蔽体がある場合透過率=1)",null,null,null,null,null,null,null,null,null,null,null,null,null,null,null,null,null,null,null,null,null,null,null,null,null,null,null,null,null,null,null,"Fe",{"$f":"IF($H151=0,\"\",IF($H151<=30,INT($H151),IF($H151>40,40,5*INT($H151/5))))","v":""},{"$f":"IF($N151=0,\"\",IF($N151<=30,INT($N151),IF($N151>40,40,5*INT($N151/5))))","v":""},{"$f":"IF($T151=0,\"\",IF($T151<=30,INT($T151),IF($T151>40,40,5*INT($T151/5))))","v":""}]
[null,null,null,null,null,"第1遮蔽材",{"$f":"IF($S$128>0,\"遮蔽体\",$W$8)","v":0},{"$f":"$W$8","v":0},null,null,null,"第1遮蔽材",{"$f":"IF($S$128>0,\"遮蔽体\",$W$20)","v":0},{"$f":"$W$20","v":0},null,null,null,"第1遮蔽材",{"$f":"IF($S$128>0,\"遮蔽体\",$W$32)","v":0},{"$f":"$W$32","v":0},null,null,null,null,null,null,null,null,null,null,null,null,null,null,null,null,null,null,null,null,null,null,null,null,null,null,null,"石膏",{"$f":"IF($H153=0,\"\",IF($H153<=30,INT($H153),IF($H153>40,40,5*INT($H153/5))))","v":""},{"$f":"IF($N153=0,\"\",IF($N153<=30,INT($N153),IF($N153>40,40,5*INT($N153/5))))","v":""},{"$f":"IF($T153=0,\"\",IF($T153<=30,INT($T153),IF($T153>40,40,5*INT($T153/5))))","v":""}]
[null,null,null,null,null,"Dt1=",{"$f":"G148*G150*G152*G154*G156*G158","v":1},{"$f":"H148*H150*H152*H154*H156*H158","v":1},null,null,null,"Dt1=",{"$f":"M148*M150*M152*M154*M156*M158","v":1},{"$f":"N148*N150*N152*N154*N156*N158","v":1},null,null,null,"Dt1=",{"$f":"S148*S150*S152*S154*S156*S158","v":1},{"$f":"T148*T150*T152*T154*T156*T158","v":1},null,null,null,null,null,null,null,null,null,null,null,null,null,null,null,null,null,null,null,null,null,null,null,null,null,null,null,"ｶﾞﾗｽ",{"$f":"IF($H155=0,\"\",IF($H155<=30,INT($H155),IF($H155>40,40,5*INT($H155/5))))","v":""},{"$f":"IF($N155=0,\"\",IF($N155<=30,INT($N155),IF($N155>40,40,5*INT($N155/5))))","v":""},{"$f":"IF($T155=0,\"\",IF($T155<=30,INT($T155),IF($T155>40,40,5*INT($T155/5))))","v":""}]
[null,null,null,null,null,null,"一次線用","散乱線用",null,null,null,null,"一次線用","散乱線用",null,null,null,null,"一次線用","散乱線用",null,null,null,null,null,null,null,null,null,null,null,null,null,null,null,null,null,null,null,null,null,null,null,null,null,null,null,"木材",{"$f":"IF($H157=0,\"\",IF($H157<=300,INT($H157/10)*10,IF($H157>400,400,50*INT($H157/50))))","v":""},{"$f":"IF($N157=0,\"\",IF($N157<=300,INT($N157/10)*10,IF($N157>400,400,50*INT($N157/50))))","v":""},{"$f":"IF($T157=0,\"\",IF($T157<=300,INT($T157/10)*10,IF($T157>400,400,50*INT($T157/50))))","v":""}]
[null,null,null,"a)　鉛(表2)",null,"等価厚さ",{"$f":"IF($G144=$W$10,$W$9*$AE$8,0)","v":0},{"$f":"IF($H144=$W$10,$W$9*$AE$8,0)","v":0},null,"a)　鉛(表2)",null,"等価厚さ",{"$f":"IF($M144=$W$22,$W$21*$AE$8,0)","v":0},{"$f":"IF($N144=$W$22,$W$21*$AE$8,0)","v":0},null,"a)　鉛(表2)",null,"等価厚さ",{"$f":"IF($S144=$W$34,$W$33*$AE$8,0)","v":0},{"$f":"IF($T144=$W$34,$W$33*$AE$8,0)","v":0}]
[null,null,null,null,null,"透過率",{"$f":"IF(OR($G147=0,A点!$AN$8=1,A点!$AN$8=\"○\"),1,INDEX('表２(Pb)'!$A$3:$Y$36,MATCH($AW131,'表２(Pb)'!$A$3:$A$36,0),MATCH($F128,'表２(Pb)'!$A$3:$Y$3,0)))","v":1},{"$f":"IF(OR($H147=0,A点!$AN$8=1,A点!$AN$8=\"○\"),1,INDEX('表２(Pb)'!$A$3:$Y$36,MATCH($AW141,'表２(Pb)'!$A$3:$A$36,0),MATCH($F128,'表２(Pb)'!$A$3:$Y$3,0)))","v":1},null,null,null,"透過率",{"$f":"IF(OR($M147=0,A点!$AN$8=1,A点!$AN$8=\"○\"),1,INDEX('表２(Pb)'!$A$3:$Y$36,MATCH($AX131,'表２(Pb)'!$A$3:$A$36,0),MATCH($F128,'表２(Pb)'!$A$3:$Y$3,0)))","v":1},{"$f":"IF(OR($N147=0,A点!$AN$8=1,A点!$AN$8=\"○\"),1,INDEX('表２(Pb)'!$A$3:$Y$36,MATCH($AX141,'表２(Pb)'!$A$3:$A$36,0),MATCH($F128,'表２(Pb)'!$A$3:$Y$3,0)))","v":1},null,null,null,"透過率",{"$f":"IF(OR($S147=0,A点!$AN$8=1,A点!$AN$8=\"○\"),1,INDEX('表２(Pb)'!$A$3:$Y$36,MATCH($AY131,'表２(Pb)'!$A$3:$A$36,0),MATCH($F128,'表２(Pb)'!$A$3:$Y$3,0)))","v":1},{"$f":"IF(OR($T147=0,A点!$AN$8=1,A点!$AN$8=\"○\"),1,INDEX('表２(Pb)'!$A$3:$Y$36,MATCH($AY141,'表２(Pb)'!$A$3:$A$36,0),MATCH($F128,'表２(Pb)'!$A$3:$Y$3,0)))","v":1},null,null,null,null,null,null,null,null,null,null,null,null,null,null,null,null,null,null,null,null,null,null,null,null,null,null,"3)","遮蔽材順"]
[null,null,null,"b)　コンクリート(表3)",null,"等価厚さ",{"$f":"IF($G144=$X$10,$W$9*$AE$9,0)","v":0},{"$f":"IF($H144=$X$10,$W$9*$AE$9,0)","v":0},null,"b)　コンクリート(表3)",null,"等価厚さ",{"$f":"IF($M144=$X$22,$W$21*$AE$9,0)","v":0},{"$f":"IF($N144=$X$22,$W$21*$AE$9,0)","v":0},null,"b)　コンクリート(表3)",null,"等価厚さ",{"$f":"IF($S144=$X$34,$W$33*$AE$9,0)","v":0},{"$f":"IF($T144=$X$34,$W$33*$AE$9,0)","v":0},null,null,null,null,null,null,null,null,null,null,null,null,null,null,null,null,null,null,null,null,null,null,null,null,null,null,null,null,"E点","E'点","E\"点"]
[null,null,null,null,null,"透過率",{"$f":"IF(OR($G149=0,A点!$AN$8=1,A点!$AN$8=\"○\"),1,INDEX('表３(コ)'!$A$3:$Y$36,MATCH($AW132,'表３(コ)'!$A$3:$A$36,0),MATCH($F128,'表３(コ)'!$A$3:$Y$3,0)))","v":1},{"$f":"IF(OR($H149=0,A点!$AN$8=1,A点!$AN$8=\"○\"),1,INDEX('表３(コ)'!$A$3:$Y$36,MATCH($AW142,'表３(コ)'!$A$3:$A$36,0),MATCH($F128,'表３(コ)'!$A$3:$Y$3,0)))","v":1},null,null,null,"透過率",{"$f":"IF(OR($M149=0,A点!$AN$8=1,A点!$AN$8=\"○\"),1,INDEX('表３(コ)'!$A$3:$Y$36,MATCH($AX132,'表３(コ)'!$A$3:$A$36,0),MATCH($F128,'表３(コ)'!$A$3:$Y$3,0)))","v":1},{"$f":"IF(OR($N149=0,A点!$AN$8=1,A点!$AN$8=\"○\"),1,INDEX('表３(コ)'!$A$3:$Y$36,MATCH($AX142,'表３(コ)'!$A$3:$A$36,0),MATCH($F128,'表３(コ)'!$A$3:$Y$3,0)))","v":1},null,null,null,"透過率",{"$f":"IF(OR($S149=0,A点!$AN$8=1,A点!$AN$8=\"○\"),1,INDEX('表３(コ)'!$A$3:$Y$36,MATCH($AY132,'表３(コ)'!$A$3:$A$36,0),MATCH($F128,'表３(コ)'!$A$3:$Y$3,0)))","v":1},{"$f":"IF(OR($T149=0,A点!$AN$8=1,A点!$AN$8=\"○\"),1,INDEX('表３(コ)'!$A$3:$Y$36,MATCH($AY142,'表３(コ)'!$A$3:$A$36,0),MATCH($F128,'表３(コ)'!$A$3:$Y$3,0)))","v":1},null,null,null,null,null,null,null,null,null,null,null,null,null,null,null,null,null,null,null,null,null,null,null,null,null,null,null,"第1遮蔽材",{"$f":"IF($AW160=\"11\",G$144,H$144)","v":0},{"$f":"IF($AW160=\"11\",M$144,N$144)","v":0},{"$f":"IF($AW160=\"11\",S$144,T$144)","v":0}]
[null,null,null,"c)　鉄(表4)",null,"等価厚さ",{"$f":"IF($G144=$Y$10,$W$9*$AE$10,0)","v":0},{"$f":"IF($H144=$Y$10,$W$9*$AE$10,0)","v":0},null,"c)　鉄(表4)",null,"等価厚さ",{"$f":"IF($M144=$Y$22,$W$21*$AE$10,0)","v":0},{"$f":"IF($N144=$Y$22,$W$21*$AE$10,0)","v":0},null,"c)　鉄(表4)",null,"等価厚さ",{"$f":"IF($S144=$Y$34,$W$33*$AE$10,0)","v":0},{"$f":"IF($T144=$Y$34,$W$33*$AE$10,0)","v":0},null,null,null,null,null,null,null,null,null,null,null,null,null,null,null,null,null,null,null,null,null,null,null,null,null,null,null,"第2遮蔽材",{"$f":"IF($AW160=\"11\",W$8,X$8)","v":0},{"$f":"IF($AW160=\"11\",W$20,X$20)","v":0},{"$f":"IF($AW160=\"11\",W$32,X$32)","v":0}]
[null,null,null,null,null,"透過率",{"$f":"IF(OR($G151=0,A点!$AN$8=1,A点!$AN$8=\"○\"),1,INDEX('表4(Fe)'!$A$3:$Y$36,MATCH($AW133,'表4(Fe)'!$A$3:$A$36,0),MATCH($F128,'表4(Fe)'!$A$3:$Y$3,0)))","v":1},{"$f":"IF(OR($H151=0,A点!$AN$8=1,A点!$AN$8=\"○\"),1,INDEX('表4(Fe)'!$A$3:$Y$36,MATCH($AW143,'表4(Fe)'!$A$3:$A$36,0),MATCH($F128,'表4(Fe)'!$A$3:$Y$3,0)))","v":1},null,null,null,"透過率",{"$f":"IF(OR($M151=0,A点!$AN$8=1,A点!$AN$8=\"○\"),1,INDEX('表4(Fe)'!$A$3:$Y$36,MATCH($AX133,'表4(Fe)'!$A$3:$A$36,0),MATCH($F128,'表4(Fe)'!$A$3:$Y$3,0)))","v":1},{"$f":"IF(OR($N151=0,A点!$AN$8=1,A点!$AN$8=\"○\"),1,INDEX('表4(Fe)'!$A$3:$Y$36,MATCH($AX143,'表4(Fe)'!$A$3:$A$36,0),MATCH($F128,'表4(Fe)'!$A$3:$Y$3,0)))","v":1},null,null,null,"透過率",{"$f":"IF(OR($S151=0,A点!$AN$8=1,A点!$AN$8=\"○\"),1,INDEX('表4(Fe)'!$A$3:$Y$36,MATCH($AY133,'表4(Fe)'!$A$3:$A$36,0),MATCH($F128,'表4(Fe)'!$A$3:$Y$3,0)))","v":1},{"$f":"IF(OR($T151=0,A点!$AN$8=1,A点!$AN$8=\"○\"),1,INDEX('表4(Fe)'!$A$3:$Y$36,MATCH($AY143,'表4(Fe)'!$A$3:$A$36,0),MATCH($F128,'表4(Fe)'!$A$3:$Y$3,0)))","v":1},null,null,null,null,null,null,null,null,null,null,null,null,null,null,null,null,null,null,null,null,null,null,null,null,null,null,null,"第3遮蔽材",{"$f":"IF($AW160=\"11\",X$8,Y$8)","v":0},{"$f":"IF($AW160=\"11\",X$20,Y$20)","v":0},{"$f":"IF($AW160=\"11\",X$32,Y$32)","v":0}]
[null,null,null,"d)　石膏(表5)",null,"等価厚さ",{"$f":"IF($G144=$Z$10,$W$9*$AE$11,0)","v":0},{"$f":"IF($H144=$Z$10,$W$9*$AE$11,0)","v":0},null,"d)　石膏(表5)",null,"等価厚さ",{"$f":"IF($M144=$Z$22,$W$21*$AE$11,0)","v":0},{"$f":"IF($N144=$Z$22,$W$21*$AE$11,0)","v":0},null,"d)　石膏(表5)",null,"等価厚さ",{"$f":"IF($S144=$Z$34,$W$33*$AE$11,0)","v":0},{"$f":"IF($T144=$Z$34,$W$33*$AE$11,0)","v":0},null,null,null,null,null,null,null,null,null,null,null,null,null,null,null,null,null,null,null,null,null,null,null,null,null,null,null,"第4遮蔽材",{"$f":"IF($AW160=\"11\",Y$8,Z$8)","v":0},{"$f":"IF($AW160=\"11\",Y$20,Z$20)","v":0},{"$f":"IF($AW160=\"11\",Y$32,Z$32)","v":0}]
[null,null,null,null,null,"透過率",{"$f":"IF(OR($G153=0,A点!$AN$8=1,A点!$AN$8=\"○\"),1,INDEX('表5(CaSO4)'!$A$3:$Y$36,MATCH($AW134,'表5(CaSO4)'!$A$3:$A$36,0),MATCH($F128,'表5(CaSO4)'!$A$3:$Y$3,0)))","v":1},{"$f":"IF(OR($H153=0,A点!$AN$8=1,A点!$AN$8=\"○\"),1,INDEX('表5(CaSO4)'!$A$3:$Y$36,MATCH($AW144,'表5(CaSO4)'!$A$3:$A$36,0),MATCH($F128,'表5(CaSO4)'!$A$3:$Y$3,0)))","v":1},null,null,null,"透過率",{"$f":"IF(OR($M153=0,A点!$AN$8=1,A点!$AN$8=\"○\"),1,INDEX('表5(CaSO4)'!$A$3:$Y$36,MATCH($AX134,'表5(CaSO4)'!$A$3:$A$36,0),MATCH($F128,'表5(CaSO4)'!$A$3:$Y$3,0)))","v":1},{"$f":"IF(OR($N153=0,A点!$AN$8=1,A点!$AN$8=\"○\"),1,INDEX('表5(CaSO4)'!$A$3:$Y$36,MATCH($AX144,'表5(CaSO4)'!$A$3:$A$36,0),MATCH($F128,'表5(CaSO4)'!$A$3:$Y$3,0)))","v":1},null,null,null,"透過率",{"$f":"IF(OR($S153=0,A点!$AN$8=1,A点!$AN$8=\"○\"),1,INDEX('表5(CaSO4)'!$A$3:$Y$36,MATCH($AY134,'表5(CaSO4)'!$A$3:$A$36,0),MATCH($F128,'表5(CaSO4)'!$A$3:$Y$3,0)))","v":1},{"$f":"IF(OR($T153=0,A点!$AN$8=1,A点!$AN$8=\"○\"),1,INDEX('表5(CaSO4)'!$A$3:$Y$36,MATCH($AY144,'表5(CaSO4)'!$A$3:$A$36,0),MATCH($F128,'表5(CaSO4)'!$A$3:$Y$3,0)))","v":1},null,null,null,null,null,null,null,null,null,null,null,null,null,null,null,null,null,null,null,null,null,null,null,null,null,null,null,"第5遮蔽材",{"$f":"IF($AW160=\"11\",Z$8,AA$8)","v":0},{"$f":"IF($AW160=\"11\",Z$20,AA$20)","v":0},{"$f":"IF($AW160=\"11\",Z$32,AA$32)","v":0}]
[null,null,null,"e）　ガラス(表6)",null,"等価厚さ",{"$f":"IF($G144=$AA$10,$W$9*$AE$12,0)","v":0},{"$f":"IF($H144=$AA$10,$W$9*$AE$12,0)","v":0},null,"e）　ガラス(表6)",null,"等価厚さ",{"$f":"IF($M144=$AA$22,$W$21*$AE$12,0)","v":0},{"$f":"IF($N144=$AA$22,$W$21*$AE$12,0)","v":0},null,"e）　ガラス(表6)",null,"等価厚さ",{"$f":"IF($S144=$AA$34,$W$33*$AE$12,0)","v":0},{"$f":"IF($T144=$AA$34,$W$33*$AE$12,0)","v":0},null,null,null,null,null,null,null,null,null,null,null,null,null,null,null,null,null,null,null,null,null,null,null,null,null,null,null,"第6遮蔽材",{"$f":"IF($AW160=\"11\",AA$8,AB$8)","v":0},{"$f":"IF($AW160=\"11\",AA$20,AB$20)","v":0},{"$f":"IF($AW160=\"11\",AA$32,AB$32)","v":0}]
[null,null,null,null,null,"透過率",{"$f":"IF(OR($G155=0,A点!$AN$8=1,A点!$AN$8=\"○\"),1,INDEX('表6(SiO2)'!$A$3:$Y$36,MATCH($AW135,'表6(SiO2)'!$A$3:$A$36,0),MATCH($F128,'表6(SiO2)'!$A$3:$Y$3,0)))","v":1},{"$f":"IF(OR($H155=0,A点!$AN$8=1,A点!$AN$8=\"○\"),1,INDEX('表6(SiO2)'!$A$3:$Y$36,MATCH($AW145,'表6(SiO2)'!$A$3:$A$36,0),MATCH($F128,'表6(SiO2)'!$A$3:$Y$3,0)))","v":1},null,null,null,"透過率",{"$f":"IF(OR($M155=0,A点!$AN$8=1,A点!$AN$8=\"○\"),1,INDEX('表6(SiO2)'!$A$3:$Y$36,MATCH($AX135,'表6(SiO2)'!$A$3:$A$36,0),MATCH($F128,'表6(SiO2)'!$A$3:$Y$3,0)))","v":1},{"$f":"IF(OR($N155=0,A点!$AN$8=1,A点!$AN$8=\"○\"),1,INDEX('表6(SiO2)'!$A$3:$Y$36,MATCH($AX145,'表6(SiO2)'!$A$3:$A$36,0),MATCH($F128,'表6(SiO2)'!$A$3:$Y$3,0)))","v":1},null,null,null,"透過率",{"$f":"IF(OR($S155=0,A点!$AN$8=1,A点!$AN$8=\"○\"),1,INDEX('表6(SiO2)'!$A$3:$Y$36,MATCH($AY135,'表6(SiO2)'!$A$3:$A$36,0),MATCH($F128,'表6(SiO2)'!$A$3:$Y$3,0)))","v":1},{"$f":"IF(OR($T155=0,A点!$AN$8=1,A点!$AN$8=\"○\"),1,INDEX('表6(SiO2)'!$A$3:$Y$36,MATCH($AY145,'表6(SiO2)'!$A$3:$A$36,0),MATCH($F128,'表6(SiO2)'!$A$3:$Y$3,0)))","v":1},null,null,null,null,null,null,null,null,null,null,null,null,null,null,null,null,null,null,null,null,null,null,null,null,null,null,null,"第7遮蔽材",{"$f":"IF($AW160=\"11\",AB$8,\"\")","v":""},{"$f":"IF($AW160=\"11\",AB$20,\"\")","v":""},{"$f":"IF($AW160=\"11\",AB$32,\"\")","v":""}]
[null,null,null,"f)　木材(表7)",null,"等価厚さ",{"$f":"IF($G144=$AB$10,$W$9*$AE$13,0)","v":0},{"$f":"IF($H144=$AB$10,$W$9*$AE$13,0)","v":0},null,"f)　木材(表7)",null,"等価厚さ",{"$f":"IF($M144=$AB$22,$W$21*$AE$13,0)","v":0},{"$f":"IF($N144=$AB$22,$W$21*$AE$13,0)","v":0},null,"f)　木材(表7)",null,"等価厚さ",{"$f":"IF($S144=$AB$34,$W$33*$AE$13,0)","v":0},{"$f":"IF($T144=$AB$34,$W$33*$AE$13,0)","v":0}]
[null,null,null,null,null,"透過率",{"$f":"IF(OR($G157=0,A点!$AN$8=1,A点!$AN$8=\"○\"),1,INDEX('表7(木)'!$A$3:$Y$36,MATCH($AW136,'表7(木)'!$A$3:$A$36,0),MATCH($F128,'表7(木)'!$A$3:$Y$3,0)))","v":1},{"$f":"IF(OR($H157=0,A点!$AN$8=1,A点!$AN$8=\"○\"),1,INDEX('表7(木)'!$A$3:$Y$36,MATCH($AW146,'表7(木)'!$A$3:$A$36,0),MATCH($F128,'表7(木)'!$A$3:$Y$3,0)))","v":1},null,null,null,"透過率",{"$f":"IF(OR($M157=0,A点!$AN$8=1,A点!$AN$8=\"○\"),1,INDEX('表7(木)'!$A$3:$Y$36,MATCH($AX136,'表7(木)'!$A$3:$A$36,0),MATCH($F128,'表7(木)'!$A$3:$Y$3,0)))","v":1},{"$f":"IF(OR($N157=0,A点!$AN$8=1,A点!$AN$8=\"○\"),1,INDEX('表7(木)'!$A$3:$Y$36,MATCH($AX146,'表7(木)'!$A$3:$A$36,0),MATCH($F128,'表7(木)'!$A$3:$Y$3,0)))","v":1},null,null,null,"透過率",{"$f":"IF(OR($S157=0,A点!$AN$8=1,A点!$AN$8=\"○\"),1,INDEX('表7(木)'!$A$3:$Y$36,MATCH($AY136,'表7(木)'!$A$3:$A$36,0),MATCH($F128,'表7(木)'!$A$3:$Y$3,0)))","v":1},{"$f":"IF(OR($T157=0,A点!$AN$8=1,A点!$AN$8=\"○\"),1,INDEX('表7(木)'!$A$3:$Y$36,MATCH($AY146,'表7(木)'!$A$3:$A$36,0),MATCH($F128,'表7(木)'!$A$3:$Y$3,0)))","v":1},null,null,null,null,null,null,null,null,null,null,null,null,null,null,null,null,null,null,null,null,null,null,null,null,null,null,null,"遮蔽体有無",{"$f":"IF($S128>0,1,0)","v":0},"遮蔽体有：１"]
[null,null,null,null,null,null,null,null,null,null,null,null,null,null,null,null,null,null,null,null,null,null,null,null,null,null,null,null,null,null,null,null,null,null,null,null,null,null,null,null,null,null,null,null,null,null,null,"照射方向",{"$f":"IF($M129>0,1,2)","v":2},"直接線：1、散乱線：2"]
[null,null,null,"b)　第２遮蔽材以後による一次線の減衰表9",null,null,null,null,null,"b)　第２遮蔽材以後による一次線の減衰表9",null,null,null,null,null,"b)　第２遮蔽材以後による一次線の減衰表9",null,null,null,null,null,null,null,null,null,null,null,null,null,null,null,null,null,null,null,null,null,null,null,null,null,null,null,null,null,null,null,"判定コード",{"$f":"AW158&AW159","v":"02"}]
[null,null,null,null,"Dt2=",{"$f":"F164*F166*F168*F170*F172*F174","v":0},{"$f":"G164*G166*G168*G170*G172*G174","v":0},0,null,null,"Dt2=",{"$f":"L164*L166*L168*L170*L172*L174","v":0},{"$f":"M164*M166*M168*M170*M172*M174","v":0},0,null,null,"Dt2=",{"$f":"R164*R166*R168*R170*R172*R174","v":0},{"$f":"S164*S166*S168*S170*S172*S174","v":0},0]
[null,null,null,null,null,"一次線用","散乱線用","漏洩線用",null,null,null,"一次線用","散乱線用","漏洩線用",null,null,null,"一次線用","散乱線用","漏洩線用"]
[null,null,null,"a)　鉛(表9)","半価層(mm)",{"$f":"IF(OR(A点!$AN$8=1,A点!$AN$8=\"○\"),\"\",VLOOKUP($F128,'表9(BB)'!$A$4:$M$27,2,0))","v":""},null,null,null,"a)　鉛(表9)","半価層(mm)",{"$f":"IF(OR(A点!$AN$8=1,A点!$AN$8=\"○\"),\"\",VLOOKUP($F128,'表9(BB)'!$A$4:$M$27,2,0))","v":""},null,null,null,"a)　鉛(表9)","半価層(mm)",{"$f":"IF(OR(A点!$AN$8=1,A点!$AN$8=\"○\"),\"\",VLOOKUP($F128,'表9(BB)'!$A$4:$M$27,2,0))","v":""}]
[null,null,null,null,"透過率",{"$f":"IF($S$128>0,H164,G164)","v":0},{"$f":"IF($F163=\"\",0,(1/2)^($W18*$AE$8/$F163))","v":0},{"$f":"IF($F163=\"\",0,(1/2)^($W17*$AE$8/$F163))","v":0},null,null,"透過率",{"$f":"IF($S$128>0,N164,M164)","v":0},{"$f":"IF($L$163=\"\",0,(1/2)^($W30*$AE$8/$L163))","v":0},{"$f":"IF($L163=\"\",0,(1/2)^($W29*$AE$8/$L163))","v":0},null,null,"透過率",{"$f":"IF($S$128>0,T164,S164)","v":0},{"$f":"IF($R163=\"\",0,(1/2)^($W42*$AE$8/$R163))","v":0},{"$f":"IF($R163=\"\",0,(1/2)^($W41*$AE$8/$R163))","v":0}]
[null,null,null,"b)　コンクリート(表9)","半価層(mm)",{"$f":"IF(OR(A点!$AN$8=1,A点!$AN$8=\"○\"),\"\",VLOOKUP($F128,'表9(BB)'!$A$4:$M$27,4,0))","v":""},null,null,null,"b)　コンクリート(表9)","半価層(mm)",{"$f":"IF(OR(A点!$AN$8=1,A点!$AN$8=\"○\"),\"\",VLOOKUP($F128,'表9(BB)'!$A$4:$M$27,4,0))","v":""},null,null,null,"b)　コンクリート(表9)","半価層(mm)",{"$f":"IF(OR(A点!$AN$8=1,A点!$AN$8=\"○\"),\"\",VLOOKUP($F128,'表9(BB)'!$A$4:$M$27,4,0))","v":""}]
[null,null,null,null,"透過率",{"$f":"IF($S$128>0,H166,G166)","v":0},{"$f":"IF($F165=\"\",0,(1/2)^($X18*$AE$9/$F165))","v":0},{"$f":"IF($F165=\"\",0,(1/2)^($X17*$AE$9/$F165))","v":0},null,null,"透過率",{"$f":"IF($S$128>0,N166,M166)","v":0},{"$f":"IF($L165=\"\",0,(1/2)^($X30*$AE$9/$L165))","v":0},{"$f":"IF($L165=\"\",0,(1/2)^($X29*$AE$9/$L165))","v":0},null,null,"透過率",{"$f":"IF($S$128>0,T166,S166)","v":0},{"$f":"IF($R165=\"\",0,(1/2)^($X42*$AE$9/$R165))","v":0},{"$f":"IF($R165=\"\",0,(1/2)^($X41*$AE$9/$R165))","v":0}]
[null,null,null,"c)　鉄(表9)","半価層(mm)",{"$f":"IF(OR(A点!$AN$8=1,A点!$AN$8=\"○\"),\"\",VLOOKUP($F128,'表9(BB)'!$A$4:$M$27,6,0))","v":""},null,null,null,"c)　鉄(表9)","半価層(mm)",{"$f":"IF(OR(A点!$AN$8=1,A点!$AN$8=\"○\"),\"\",VLOOKUP($F128,'表9(BB)'!$A$4:$M$27,6,0))","v":""},null,null,null,"c)　鉄(表9)","半価層(mm)",{"$f":"IF(OR(A点!$AN$8=1,A点!$AN$8=\"○\"),\"\",VLOOKUP($F128,'表9(BB)'!$A$4:$M$27,6,0))","v":""}]
[null,null,null,null,"透過率",{"$f":"IF($S$128>0,H168,G168)","v":0},{"$f":"IF($F167=\"\",0,(1/2)^($Y18*$AE$10/$F167))","v":0},{"$f":"IF($F167=\"\",0,(1/2)^($Y17*$AE$10/$F167))","v":0},null,null,"透過率",{"$f":"IF($S$128>0,N168,M168)","v":0},{"$f":"IF($L167=\"\",0,(1/2)^($Y30*$AE$10/$L167))","v":0},{"$f":"IF($L167=\"\",0,(1/2)^($Y29*$AE$10/$L167))","v":0},null,null,"透過率",{"$f":"IF($S$128>0,T168,S168)","v":0},{"$f":"IF($R167=\"\",0,(1/2)^($Y42*$AE$10/$R167))","v":0},{"$f":"IF($R167=\"\",0,(1/2)^($Y41*$AE$10/$R167))","v":0}]
[null,null,null,"d)　石膏(表9)","半価層(mm)",{"$f":"IF(OR(A点!$AN$8=1,A点!$AN$8=\"○\"),\"\",VLOOKUP($F128,'表9(BB)'!$A$4:$M$27,8,0))","v":""},null,null,null,"d)　石膏(表9)","半価層(mm)",{"$f":"IF(OR(A点!$AN$8=1,A点!$AN$8=\"○\"),\"\",VLOOKUP($F128,'表9(BB)'!$A$4:$M$27,8,0))","v":""},null,null,null,"d)　石膏(表9)","半価層(mm)",{"$f":"IF(OR(A点!$AN$8=1,A点!$AN$8=\"○\"),\"\",VLOOKUP($F128,'表9(BB)'!$A$4:$M$27,8,0))","v":""}]
[null,null,null,null,"透過率",{"$f":"IF($S$128>0,H170,G170)","v":0},{"$f":"IF($F169=\"\",0,(1/2)^($Z18*$AE$11/$F169))","v":0},{"$f":"IF($F169=\"\",0,(1/2)^($Z17*$AE$11/$F169))","v":0},null,null,"透過率",{"$f":"IF($S$128>0,N170,M170)","v":0},{"$f":"IF($L169=\"\",0,(1/2)^($Z30*$AE$11/$L169))","v":0},{"$f":"IF($L169=\"\",0,(1/2)^($Z29*$AE$11/$L169))","v":0},null,null,"透過率",{"$f":"IF($S$128>0,T170,S170)","v":0},{"$f":"IF($R169=\"\",0,(1/2)^($Z42*$AE$11/$R169))","v":0},{"$f":"IF($R169=\"\",0,(1/2)^($Z41*$AE$11/$R169))","v":0}]
[null,null,null,"e）　ガラス(表9)","半価層(mm)",{"$f":"IF(OR(A点!$AN$8=1,A点!$AN$8=\"○\"),\"\",VLOOKUP($F128,'表9(BB)'!$A$4:$M$27,10,0))","v":""},null,null,null,"e）　ガラス(表9)","半価層(mm)",{"$f":"IF(OR(A点!$AN$8=1,A点!$AN$8=\"○\"),\"\",VLOOKUP($F128,'表9(BB)'!$A$4:$M$27,10,0))","v":""},null,null,null,"e）　ガラス(表9)","半価層(mm)",{"$f":"IF(OR(A点!$AN$8=1,A点!$AN$8=\"○\"),\"\",VLOOKUP($F128,'表9(BB)'!$A$4:$M$27,10,0))","v":""}]
[null,null,null,null,"透過率",{"$f":"IF($S$128>0,H172,G172)","v":0},{"$f":"IF($F171=\"\",0,(1/2)^($AA18*$AE$12/$F171))","v":0},{"$f":"IF($F171=\"\",0,(1/2)^($AA17*$AE$12/$F171))","v":0},null,null,"透過率",{"$f":"IF($S$128>0,N172,M172)","v":0},{"$f":"IF($L171=\"\",0,(1/2)^($AA30*$AE$12/$L171))","v":0},{"$f":"IF($L171=\"\",0,(1/2)^($AA29*$AE$12/$L171))","v":0},null,null,"透過率",{"$f":"IF($S$128>0,T172,S172)","v":0},{"$f":"IF($R$171=\"\",0,(1/2)^($AA42*$AE$12/$R171))","v":0},{"$f":"IF($R171=\"\",0,(1/2)^($AA41*$AE$12/$R171))","v":0}]
[null,null,null,"f)　木材(表9)","半価層(mm)",{"$f":"IF(OR(A点!$AN$8=1,A点!$AN$8=\"○\"),\"\",VLOOKUP($F128,'表9(BB)'!$A$4:$M$27,12,0))","v":""},null,null,null,"f)　木材(表9)","半価層(mm)",{"$f":"IF(OR(A点!$AN$8=1,A点!$AN$8=\"○\"),\"\",VLOOKUP($F128,'表9(BB)'!$A$4:$M$27,12,0))","v":""},null,null,null,"f)　木材(表9)","半価層(mm)",{"$f":"IF(OR(A点!$AN$8=1,A点!$AN$8=\"○\"),\"\",VLOOKUP($F128,'表9(BB)'!$A$4:$M$27,12,0))","v":""}]
[null,null,null,null,"透過率",{"$f":"IF($S$128>0,H174,G174)","v":0},{"$f":"IF($F173=\"\",0,(1/2)^($AB18*$AE$13/$F173))","v":0},{"$f":"IF($F173=\"\",0,(1/2)^($AB17*$AE$13/$F173))","v":0},null,null,"透過率",{"$f":"IF($S$128>0,N174,M174)","v":0},{"$f":"IF($L173=\"\",0,(1/2)^($AB30*$AE$13/$L173))","v":0},{"$f":"IF($L173=\"\",0,(1/2)^($AB29*$AE$13/$L173))","v":0},null,null,"透過率",{"$f":"IF($S$128>0,T174,S174)","v":0},{"$f":"IF($R173=\"\",0,(1/2)^($AB42*$AE$13/$R173))","v":0},{"$f":"IF($R173=\"\",0,(1/2)^($AB41*$AE$13/$R173))","v":0}]
[]
[]
[null,null,null,"2)　Es：散乱エックス線の漏洩線量(散乱角90度)",null,null,null,null,null,"2)　Es：散乱エックス線の漏洩線量(散乱角90度)",null,null,null,null,null,"2)　Es：散乱エックス線の漏洩線量(散乱角90度)"]
[null,null,null,null,"Dt=",{"$f":"H145*G161","v":0},null,null,null,null,"Dt=",{"$f":"N145*M161","v":0},null,null,null,null,"Dt=",{"$f":"T145*S161","v":0}]
[null,null,null,null,"Es=",{"$f":"IF(OR($F128=0,$M130=0,$M131=0,AND($W$8=0,$W$45>0),A点!$AQ$7=1),0,$G128*$G132*$G131*F178*$M127*$M128*($K131/100)*$K132/(400*($M130^2)*($M131^2)))","v":0},"μSv/3ヶ月",null,null,null,"Es=",{"$f":"IF(OR($F128=0,$M130=0,$M131=0,AND($W$20=0,$W$45>0),A点!$AQ$7=1),0,$G128*$G132*$G131*L178*$M127*$M128*($K131/100)*$K132/(400*($M130^2)*($M131^2)))","v":0},"μSv/3ヶ月",null,null,null,"Es=",{"$f":"IF(OR($F128=0,$M130=0,$M131=0,AND($W$32=0,$W$45>0),A点!$AQ$7=1),0,$G128*$G132*$G131*R178*$M127*$M128*($K131/100)*$K132/(400*($M130^2)*($M131^2)))","v":0},"μSv/3ヶ月"]
[]
[]
[null,null,null,"3)　EL：エックス線管容器からの漏洩線量(最大見積)",null,null,null,null,null,"3)　EL：エックス線管容器からの漏洩線量(最大見積)",null,null,null,null,null,"3)　EL：エックス線管容器からの漏洩線量(最大見積)"]
[]
[null,null,null,null,"EL=",{"$f":"IF(OR($F128=0,$M132=0,AND($W$8=0,$W$45>0),A点!$AQ$7=1),0,H161*$S137*$M133*$G131*$M127*$M128/($M132^2))","v":0},"μGy/h",null,null,null,"EL=",{"$f":"IF(OR($F128=0,$M132=0,AND($W$20=0,$W$45>0),A点!$AQ$7=1),0,N161*$S137*$M133*$G131*$M127*$M128/($M132^2))","v":0},"μGy/h",null,null,null,"EL=",{"$f":"IF(OR($F128=0,$M132=0,AND($W$32=0,$W$45>0),A点!$AQ$7=1),0,T161*$S137*$M133*$G131*$M127*$M128/($M132^2))","v":0},"μGy/h"]

{"sheet":"F点","index":6,"n_rows":184,"n_cols":51,"rows_kept":184,"cut":false,"hidden":true,"merged":[[66,1,124,1],[126,1,184,1],[13,15,13,16],[14,15,14,16],[15,15,15,16],[16,15,16,16],[6,1,64,1],[5,15,5,16],[0,15,0,16],[1,15,1,16],[2,15,2,16],[3,15,3,16],[4,15,4,16]]}
[null,null,"エックス線診療室の画壁等の実効線量",null,null,null,null,null,null,null,null,null,null,null,null,"W：３Ｍ実効稼動負荷",null,{"$f":"+G12","v":0},{"$f":"+G72","v":0},{"$f":"+G132","v":0},null,null,null,null,null,null,null,null,null,null,null,null,null,null,null,null,null,null,null,null,null,null,null,null,null,null,"③透視用透過率（表2-7）"]
[null,null,null,"F点の漏洩エックス線量の計算(利用線錘方向）",null,null,null,null,"F点の漏洩エックス線量の計算(被写体・管球）",null,null,null,null,null,null,"X：空気ｶｰﾏ(表1)",null,{"$f":"+G8","v":0},{"$f":"+G68","v":0},{"$f":"+G128","v":0},null,null,null,null,null,null,null,null,null,null,null,null,null,null,null,null,null,null,null,null,null,null,null,null,null,null,"1)直接線用"]
[null,null,null,null,"Ep=",{"$f":"IF(A点!$AQ$4=3,\"\",IF(A点!$AQ$5>0,\"No Data\",F15+F75+F135))","v":""},"μSv/3ヶ月",null,null,"Es＝",{"$f":"IF(A点!$AQ$4=3,\"\",IF(A点!$AQ$5>0,\"No Data\",K15+K75+K135))","v":""},"μSv/3ヶ月",null,null,null,"空気ｶｰﾏ率(表8)",null,{"$f":"+K11","v":0},{"$f":"+K71","v":0},{"$f":"+K131","v":0},null,null,null,null,null,null,null,null,null,null,null,null,null,null,null,null,null,null,null,null,null,null,null,null,null,null,"遮蔽厚参照値"]
[null,null,null,null,null,null,null,null,null,"EL＝",{"$f":"IF(A点!$AQ$4=3,\"\",IF(A点!$AQ$5>0,\"No Data\",K16+K76+K136))","v":""},"μSv/3ヶ月",null,null,null,"E/Ka（表10）",null,{"$f":"+G11","v":0},{"$f":"+G71","v":0},{"$f":"+G131","v":0},null,null,null,null,null,null,null,null,null,null,null,null,null,null,null,null,null,null,null,null,null,null,null,null,null,null,null,null,"F点","F'点","F\"点"]
[null,null,null,null,null,null,null,null,null,"合計",{"$f":"IF(A点!$AQ$4=3,\"\",IF(A点!$AQ$5>0,\"No Data\",K17+K77+K137))","v":""},null,null,null,null,"対向板Dt",null,{"$f":"+R10","v":""},{"$f":"+R70","v":""},{"$f":"+R130","v":""},null,null,null,null,null,null,null,null,null,null,null,null,null,null,null,null,null,null,null,null,null,null,null,null,null,null,null,"Pb",{"$f":"IF($G27=0,\"\",IF($G27<=3,INT(10*$G27)/10,IF($G27>4,4,0.5*INT($G27/0.5))))","v":""},{"$f":"IF($M27=0,\"\",IF($M27<=3,INT(10*$M27)/10,IF($M27>4,4,0.5*INT($M27/0.5))))","v":""},{"$f":"IF($S27=0,\"\",IF($S27<=3,INT(10*$S27)/10,IF($S27>4,4,0.5*INT($S27/0.5))))","v":""}]
[null,null,null,null,null,null,null,null,null,null,null,null,null,null,null,null,null,null,null,null,null,null,null,null,null,null,null,null,null,null,null,null,null,null,null,null,null,null,null,null,null,null,null,null,null,null,null,"ｺﾝｸﾘ",{"$f":"IF($G29=0,\"\",IF($G29<=300,INT($G29/10)*10,IF($G29>400,400,50*INT($G29/50))))","v":""},{"$f":"IF($M29=0,\"\",IF($M29<=300,INT($M29/10)*10,IF($M29>400,400,50*INT($M29/50))))","v":""},{"$f":"IF($S29=0,\"\",IF($S29<=300,INT($S29/10)*10,IF($S29>400,400,50*INT($S29/50))))","v":""}]
[null,"透視装置",null,"①　X：空気ｶｰﾏ：表1",null,null,null,"④　使用係数",null,null,null,"Ｕ＝",1,null,null,"1)対向板による一次線の減衰(表２)",null,null,null,null,null,null,"F点",null,null,null,null,null,null,"リスト",{"$f":"入力用シート!BQ2","v":"密度比"},null,null,null,null,null,null,null,null,null,null,null,null,null,null,null,null,"Fe",{"$f":"IF($G31=0,\"\",IF($G31<=30,INT($G31),IF($G31>40,40,5*INT($G31/5))))","v":""},{"$f":"IF($M31=0,\"\",IF($M31<=30,INT($M31),IF($M31>40,40,5*INT($M31/5))))","v":""},{"$f":"IF($S31=0,\"\",IF($S31<=30,INT($S31),IF($S31>40,40,5*INT($S31/5))))","v":""}]
[null,null,null,null,"採用管電圧",{"$f":"A点!$F$8","v":0},{"$f":"A点!$G$8","v":0},"⑤　居住係数",null,null,null,"Ｔ＝",1,null,null,null,null,"等価厚さ",{"$f":"入力用シート!$AA$8","v":0},"mm",null,null,{"$f":"入力用シート!N68","v":0},{"$f":"入力用シート!P68","v":0},{"$f":"入力用シート!R68","v":0},{"$f":"入力用シート!T68","v":0},{"$f":"入力用シート!V68","v":0},{"$f":"入力用シート!X68","v":0},null,"Pb",{"$f":"入力用シート!BQ3","v":0.96916299559471364},null,null,null,null,null,null,null,null,null,null,null,null,null,null,null,null,"石膏",{"$f":"IF($G33=0,\"\",IF($G33<=30,INT($G33),IF($G33>40,40,5*INT($G33/5))))","v":""},{"$f":"IF($M33=0,\"\",IF($M33<=30,INT($M33),IF($M33>40,40,5*INT($M33/5))))","v":""},{"$f":"IF($S33=0,\"\",IF($S33<=30,INT($S33),IF($S33>40,40,5*INT($S33/5))))","v":""}]
[null,null,null,null,"電流",{"$f":"A点!$F$9","v":0},null,"⑥　距離",null,null,null,"d1=",{"$f":"入力用シート!E$68","v":0},"ｍ",null,null,"使用管電圧",{"$f":"A点!$AL$5","v":0},null,null,null,null,{"$f":"入力用シート!N69","v":0},{"$f":"入力用シート!P69","v":0},{"$f":"入力用シート!R69","v":0},{"$f":"入力用シート!T69","v":0},{"$f":"入力用シート!V69","v":0},{"$f":"入力用シート!X69","v":0},null,"ｺﾝｸﾘ",{"$f":"入力用シート!BQ4","v":0.8936170212765957},null,null,null,null,null,null,null,null,null,null,null,null,null,null,null,null,"ｶﾞﾗｽ",{"$f":"IF($G35=0,\"\",IF($G35<=30,INT($G35),IF($G35>40,40,5*INT($G35/5))))","v":""},{"$f":"IF($M35=0,\"\",IF($M35<=30,INT($M35),IF($M35>40,40,5*INT($M35/5))))","v":""},{"$f":"IF($S35=0,\"\",IF($S35<=30,INT($S35),IF($S35>40,40,5*INT($S35/5))))","v":""}]
[null,null,null,"②　E/Ka：空気カーマ換算係数（表10）",null,null,null,"⑧　照射野400cm2空気ｶｰﾏ率表8",null,null,null,"d2=",{"$f":"入力用シート!G$68","v":0},"ｍ",null,null,"透過率",{"$f":"IF(A点!$AL$8=\"○\",\"\",IF(A点!$AL$8=1,\"データなし\",IF($S8>3,HLOOKUP($R9,'表２(Pb)'!$B$3:$Y$36,32+ROUNDDOWN(($S8-3)/0.5,0),0),HLOOKUP($R9,'表２(Pb)'!$B$3:$Y$36,2+S8/0.1,0))))","v":""},null,null,null,null,"Pb","ｺﾝｸﾘ","Fe","石膏","ｶﾞﾗｽ","木材",null,"Fe",{"$f":"入力用シート!BQ5","v":0.98339719029374206},null,null,null,null,null,null,null,null,null,null,null,null,null,null,null,null,"木材",{"$f":"IF($G37=0,\"\",IF($G37<=300,INT($G37/10)*10,IF($G37>400,400,50*INT($G37/50))))","v":""},{"$f":"IF($M37=0,\"\",IF($M37<=300,INT($M37/10)*10,IF($M37>400,400,50*INT($M37/50))))","v":""},{"$f":"IF($S37=0,\"\",IF($S37<=300,INT($S37/10)*10,IF($S37>400,400,50*INT($S37/50))))","v":""}]
[null,null,null,null,"採用管電圧",{"$f":"A点!$F$11","v":0},{"$f":"A点!$G$11","v":0},null,null,null,{"$f":"A点!$AL$7","v":0},"d3=",{"$f":"入力用シート!I$68","v":0},"ｍ",null,null,null,null,null,null,null,1,{"$f":"IF($W8=\"Pb\",$W9,0)","v":0},{"$f":"IF($W8=\"ｺﾝｸﾘ\",$W9,0)","v":0},{"$f":"IF($W8=\"Fe\",$W9,0)","v":0},{"$f":"IF($W8=\"石膏\",$W9,0)","v":0},{"$f":"IF($W8=\"ｶﾞﾗｽ\",$W9,0)","v":0},{"$f":"IF($W8=\"木材\",$W9,0)","v":0},null,"石膏",{"$f":"入力用シート!BQ6","v":1}]
[null,null,null,"③　W：３Ｍ実効稼動負荷",null,"合計",{"$f":"13*(入力用シート!$L$22*入力用シート!$Q$22*60*入力用シート!$L$23*入力用シート!$Q$23)","v":0},"⑨　受像面照射野",null,null,{"$f":"入力用シート!$E$16","v":1225},"d4=",{"$f":"入力用シート!K$68","v":0},"ｍ",null,null,null,null,null,null,null,2,{"$f":"IF($X8=\"Pb\",$X9,0)","v":0},{"$f":"IF($X8=\"ｺﾝｸﾘ\",$X9,0)","v":0},{"$f":"IF($X8=\"Fe\",$X9,0)","v":0},{"$f":"IF($X8=\"石膏\",$X9,0)","v":0},{"$f":"IF($X8=\"ｶﾞﾗｽ\",$X9,0)","v":0},{"$f":"IF($X8=\"木材\",$X9,0)","v":0},null,"ｶﾞﾗｽ",{"$f":"入力用シート!BQ7","v":0.9765625},null,null,null,null,null,null,null,null,null,null,null,null,null,null,null,"2)散乱線用"]
[null,null,null,null,null,null,null,"⑩　tw：３月間における稼働時間(h)",null,null,null,null,{"$f":"IF(F9=0,0,G12/(F9*3600))","v":0},null,null,"機器の種類",null,"管容器からの空気ｶｰﾏ率（mGy/h）",null,null,null,3,{"$f":"IF($Y8=\"Pb\",$Y9,0)","v":0},{"$f":"IF($Y8=\"ｺﾝｸﾘ\",$Y9,0)","v":0},{"$f":"IF($Y8=\"Fe\",$Y9,0)","v":0},{"$f":"IF($Y8=\"石膏\",$Y9,0)","v":0},{"$f":"IF($Y8=\"ｶﾞﾗｽ\",$Y9,0)","v":0},{"$f":"IF($Y8=\"木材\",$Y9,0)","v":0},null,"木材",{"$f":"入力用シート!BQ8","v":1},null,null,null,null,null,null,null,null,null,null,null,null,null,null,null,"遮蔽厚参照値"]
[null,null,null,"F点の漏洩エックス線量の計算(利用線錘方向）",null,null,null,null,"F点の漏洩エックス線量の計算(被写体・管球）",null,null,null,null,null,1,"1:治療用ｴｯｸｽ線装置（≦50ｋV）",null,1,"選んだ機器",null,null,4,{"$f":"IF($Z8=\"Pb\",$Z9,0)","v":0},{"$f":"IF($Z8=\"ｺﾝｸﾘ\",$Z9,0)","v":0},{"$f":"IF($Z8=\"Fe\",$Z9,0)","v":0},{"$f":"IF($Z8=\"石膏\",$Z9,0)","v":0},{"$f":"IF($Z8=\"ｶﾞﾗｽ\",$Z9,0)","v":0},{"$f":"IF($Z8=\"木材\",$Z9,0)","v":0},null,null,null,null,null,null,null,null,null,null,null,null,null,null,null,null,null,null,null,null,"F点","F'点","F\"点"]
[null,null,null,null,"Ea=",{"$f":"MAX(F21,L21,R21)","v":0},"μSv/3ヶ月",null,null,"Es＝",{"$f":"MAX(F59,L59,R59)","v":0},"μSv/3ヶ月",null,null,2,"2:治療用ｴｯｸｽ線装置（＞50ｋV）",null,10,{"$f":"入力用シート!$C$7","v":0},null,null,5,{"$f":"IF($AA8=\"Pb\",$AA9,0)","v":0},{"$f":"IF($AA8=\"ｺﾝｸﾘ\",$AA9,0)","v":0},{"$f":"IF($AA8=\"Fe\",$AA9,0)","v":0},{"$f":"IF($AA8=\"石膏\",$AA9,0)","v":0},{"$f":"IF($AA8=\"ｶﾞﾗｽ\",$AA9,0)","v":0},{"$f":"IF($AA8=\"木材\",$AA9,0)","v":0},null,null,null,null,null,null,null,null,null,null,null,null,null,null,null,null,null,null,null,"Pb",{"$f":"IF($H27=0,\"\",IF($H27<=3,INT(10*$H27)/10,IF($H27>4,4,0.5*INT($H27/0.5))))","v":""},{"$f":"IF($N27=0,\"\",IF($N27<=3,INT(10*$N27)/10,IF($N27>4,4,0.5*INT($N27/0.5))))","v":""},{"$f":"IF($T27=0,\"\",IF($T27<=3,INT(10*$T27)/10,IF($T27>4,4,0.5*INT($T27/0.5))))","v":""}]
[null,null,null,null,null,null,null,null,null,"EL＝",{"$f":"MAX(F64,L64,R64)","v":0},"μSv/3ヶ月",null,null,3,"3:口内法撮影用X線装置（≦125ｋV）",null,0.25,"選ばれた空気ｶｰﾏ率XL",null,null,6,{"$f":"IF($AB8=\"Pb\",$AB9,0)","v":0},{"$f":"IF($AB8=\"ｺﾝｸﾘ\",$AB9,0)","v":0},{"$f":"IF($AB8=\"Fe\",$AB9,0)","v":0},{"$f":"IF($AB8=\"石膏\",$AB9,0)","v":0},{"$f":"IF($AB8=\"ｶﾞﾗｽ\",$AB9,0)","v":0},{"$f":"IF($AB8=\"木材\",$AB9,0)","v":0},null,null,null,null,null,null,null,null,null,null,null,null,null,null,null,null,null,null,null,"ｺﾝｸﾘ",{"$f":"IF($H29=0,\"\",IF($H29<=300,INT($H29/10)*10,IF($H29>400,400,50*INT($H29/50))))","v":""},{"$f":"IF($N29=0,\"\",IF($N29<=300,INT($N29/10)*10,IF($N29>400,400,50*INT($N29/50))))","v":""},{"$f":"IF($T29=0,\"\",IF($T29<=300,INT($T29/10)*10,IF($T29>400,400,50*INT($T29/50))))","v":""}]
[null,null,null,null,null,null,null,null,null,"合計",{"$f":"+K15+K16","v":0},null,null,null,4,"4:上記以外の診断用X線装置",null,1,{"$f":"IF(S15=0,0,VLOOKUP(S15,O14:R17,4,0)*1000)","v":0},null,null,null,{"$f":"SUM(W11:W16)","v":0},{"$f":"SUM(X11:X16)","v":0},0,0,0,0,"第1～6遮蔽材合計",null,null,null,null,null,null,null,null,null,null,null,null,null,null,null,null,null,null,"Fe",{"$f":"IF($H31=0,\"\",IF($H31<=30,INT($H31),IF($H31>40,40,5*INT($H31/5))))","v":""},{"$f":"IF($N31=0,\"\",IF($N31<=30,INT($N31),IF($N31>40,40,5*INT($N31/5))))","v":""},{"$f":"IF($T31=0,\"\",IF($T31<=30,INT($T31),IF($T31>40,40,5*INT($T31/5))))","v":""}]
[null,null,null,null,null,null,null,null,null,null,null,null,null,null,null,"※１：治療用装置は、装置接触可能5cmの数値であるため任意の数値に変更可能",null,null,null,null,null,null,{"$f":"SUM(W12:W16)","v":0},{"$f":"SUM(X12:X16)","v":0},0,0,0,0,"第2～6遮蔽材合計",null,null,null,null,null,null,null,null,null,null,null,null,null,null,null,null,null,null,"石膏",{"$f":"IF($H33=0,\"\",IF($H33<=30,INT($H33),IF($H33>40,40,5*INT($H33/5))))","v":""},{"$f":"IF($N33=0,\"\",IF($N33<=30,INT($N33),IF($N33>40,40,5*INT($N33/5))))","v":""},{"$f":"IF($T33=0,\"\",IF($T33<=30,INT($T33),IF($T33>40,40,5*INT($T33/5))))","v":""}]
[null,null,null,"F点の計算",null,null,null,null,null,"F'点の計算",null,null,null,null,null,"F\"点の計算",null,null,null,null,null,null,"F'点",null,null,null,null,null,null,null,null,null,null,null,null,null,null,null,null,null,null,null,null,null,null,null,null,"ｶﾞﾗｽ",{"$f":"IF($H35=0,\"\",IF($H35<=30,INT($H35),IF($H35>40,40,5*INT($H35/5))))","v":""},{"$f":"IF($N35=0,\"\",IF($N35<=30,INT($N35),IF($N35>40,40,5*INT($N35/5))))","v":""},{"$f":"IF($T35=0,\"\",IF($T35<=30,INT($T35),IF($T35>40,40,5*INT($T35/5))))","v":""}]
[null,null,null,"1) Ep：撮影方向",null,null,null,null,null,"1) Ep：撮影方向",null,null,null,null,null,"1) Ep：撮影方向",null,null,null,null,null,null,{"$f":"入力用シート!N70","v":0},{"$f":"入力用シート!P70","v":0},{"$f":"入力用シート!R70","v":0},{"$f":"入力用シート!T70","v":0},{"$f":"入力用シート!V70","v":0},{"$f":"入力用シート!X70","v":0},null,null,null,null,null,null,null,null,null,null,null,null,null,null,null,null,null,null,null,"木材",{"$f":"IF($H37=0,\"\",IF($H37<=300,INT($H37/10)*10,IF($H37>400,400,50*INT($H37/50))))","v":""},{"$f":"IF($N37=0,\"\",IF($N37<=300,INT($N37/10)*10,IF($N37>400,400,50*INT($N37/50))))","v":""},{"$f":"IF($T37=0,\"\",IF($T37<=300,INT($T37/10)*10,IF($T37>400,400,50*INT($T37/50))))","v":""}]
[null,null,null,"　",null,{"$f":"IF(OR($F8=0,$M9=0,A点!$AQ$7=1,AND($W$8=0,$W$45>0)),0,($G8*$R10*$G25*$F41*$G12*$G11*$M7*$M8)/($M9^2))","v":0},"μSv/3ヶ月",null,null,"　",null,{"$f":"IF(OR($F8=0,$M9=0,A点!$AQ$7=1,AND($W$20=0,$W$45>0)),0,($G8*$R10*$M25*$L41*$G12*$G11*$M7*$M8)/($M9^2))","v":0},"μSv/3ヶ月",null,null,"　",null,{"$f":"IF(OR($F8=0,$M9=0,A点!$AQ$7=1,AND($W$32=0,$W$45>0)),0,($G8*$R10*$S25*$R41*$G12*$G11*$M7*$M8)/($M9^2))","v":0},"μSv/3ヶ月",null,null,null,{"$f":"入力用シート!N71","v":0},{"$f":"入力用シート!P71","v":0},{"$f":"入力用シート!R71","v":0},{"$f":"入力用シート!T71","v":0},{"$f":"入力用シート!V71","v":0},{"$f":"入力用シート!X71","v":0}]
[null,null,null,null,null,null,null,null,null,null,null,null,null,null,null,null,null,null,null,null,null,null,"Pb","ｺﾝｸﾘ","Fe","石膏","ｶﾞﾗｽ","木材",null,null,null,null,null,null,null,null,null,null,null,null,null,null,null,null,null,null,"3)","遮蔽材順"]
[null,null,null,"a) 第１遮蔽材による減衰(遮蔽体がある場合透過率=1)",null,null,null,null,null,"○ 第１遮蔽材による減衰(遮蔽体がある場合透過率=1)",null,null,null,null,null,"○ 第１遮蔽材による減衰(遮蔽体がある場合透過率=1)",null,null,null,null,null,null,{"$f":"IF($W20=\"Pb\",$W21,0)","v":0},{"$f":"IF($W20=\"ｺﾝｸﾘ\",$W21,0)","v":0},{"$f":"IF($W20=\"Fe\",$W21,0)","v":0},{"$f":"IF($W20=\"石膏\",$W21,0)","v":0},{"$f":"IF($W20=\"ｶﾞﾗｽ\",$W21,0)","v":0},{"$f":"IF($W20=\"木材\",$W21,0)","v":0},null,null,null,null,null,null,null,null,null,null,null,null,null,null,null,null,null,null,null,null,"F点","F'点","F\"点"]
[null,null,null,null,null,"第1遮蔽材",{"$f":"IF($S$8>0,\"遮蔽体\",$W$8)","v":0},{"$f":"$W$8","v":0},null,null,null,"第1遮蔽材",{"$f":"IF($S$8>0,\"遮蔽体\",$W$20)","v":0},{"$f":"$W$20","v":0},null,null,null,"第1遮蔽材",{"$f":"IF($S$8>0,\"遮蔽体\",$W$32)","v":0},{"$f":"$W$32","v":0},null,null,{"$f":"IF($X20=\"Pb\",$X21,0)","v":0},{"$f":"IF($X20=\"ｺﾝｸﾘ\",$X21,0)","v":0},{"$f":"IF($X20=\"Fe\",$X21,0)","v":0},{"$f":"IF($X20=\"石膏\",$X21,0)","v":0},{"$f":"IF($X20=\"ｶﾞﾗｽ\",$X21,0)","v":0},{"$f":"IF($X20=\"木材\",$X21,0)","v":0},null,null,null,null,null,null,null,null,null,null,null,null,null,null,null,null,null,null,null,"第1遮蔽材",{"$f":"IF($AW34=\"11\",G$24,H$24)","v":0},{"$f":"IF($AW34=\"11\",M$24,N$24)","v":0},{"$f":"IF($AW34=\"11\",S$24,T$24)","v":0}]
[null,null,null,null,null,"Dt1=",{"$f":"G28*G30*G32*G34*G36*G38","v":1},{"$f":"H28*H30*H32*H34*H36*H38","v":1},null,null,null,"Dt1=",{"$f":"M28*M30*M32*M34*M36*M38","v":1},{"$f":"N28*N30*N32*N34*N36*N38","v":1},null,null,null,"Dt1=",{"$f":"S28*S30*S32*S34*S36*S38","v":1},{"$f":"T28*T30*T32*T34*T36*T38","v":1},null,null,{"$f":"IF($Y20=\"Pb\",$Y21,0)","v":0},{"$f":"IF($Y20=\"ｺﾝｸﾘ\",$Y21,0)","v":0},{"$f":"IF($Y20=\"Fe\",$Y21,0)","v":0},{"$f":"IF($Y20=\"石膏\",$Y21,0)","v":0},{"$f":"IF($Y20=\"ｶﾞﾗｽ\",$Y21,0)","v":0},{"$f":"IF($Y20=\"木材\",$Y21,0)","v":0},null,null,null,null,null,null,null,null,null,null,null,null,null,null,null,null,null,null,null,"第2遮蔽材",{"$f":"IF($AW34=\"11\",W$8,X$8)","v":0},{"$f":"IF($AW34=\"11\",W$20,X$20)","v":0},{"$f":"IF($AW34=\"11\",W$32,X$32)","v":0}]
[null,null,null,null,null,null,"一次線用","散乱線用",null,null,null,null,"一次線用","散乱線用",null,null,null,null,"一次線用","散乱線用",null,null,{"$f":"IF($Z20=\"Pb\",$Z21,0)","v":0},{"$f":"IF($Z20=\"ｺﾝｸﾘ\",$Z21,0)","v":0},{"$f":"IF($Z20=\"Fe\",$Z21,0)","v":0},{"$f":"IF($Z20=\"石膏\",$Z21,0)","v":0},{"$f":"IF($Z20=\"ｶﾞﾗｽ\",$Z21,0)","v":0},{"$f":"IF($Z20=\"木材\",$Z21,0)","v":0},null,null,null,null,null,null,null,null,null,null,null,null,null,null,null,null,null,null,null,"第3遮蔽材",{"$f":"IF($AW34=\"11\",X$8,Y$8)","v":0},{"$f":"IF($AW34=\"11\",X$20,Y$20)","v":0},{"$f":"IF($AW34=\"11\",X$32,Y$32)","v":0}]
[null,null,null,"a)　鉛(表2)",null,"等価厚さ",{"$f":"IF($G24=$W$10,$W$9*$AE$8,0)","v":0},{"$f":"IF($H24=$W$10,$W$9*$AE$8,0)","v":0},null,"a)　鉛(表2)",null,"等価厚さ",{"$f":"IF($M24=$W$22,$W$21*$AE$8,0)","v":0},{"$f":"IF($N24=$W$22,$W$21*$AE$8,0)","v":0},null,"a)　鉛(表2)",null,"等価厚さ",{"$f":"IF($S24=$W$34,$W$33*$AE$8,0)","v":0},{"$f":"IF($T24=$W$34,$W$33*$AE$8,0)","v":0},null,null,{"$f":"IF($AA20=\"Pb\",$AA21,0)","v":0},{"$f":"IF($AA20=\"ｺﾝｸﾘ\",$AA21,0)","v":0},{"$f":"IF($AA20=\"Fe\",$AA21,0)","v":0},{"$f":"IF($AA20=\"石膏\",$AA21,0)","v":0},{"$f":"IF($AA20=\"ｶﾞﾗｽ\",$AA21,0)","v":0},{"$f":"IF($AA20=\"木材\",$AA21,0)","v":0},null,null,null,null,null,null,null,null,null,null,null,null,null,null,null,null,null,null,null,"第4遮蔽材",{"$f":"IF($AW34=\"11\",Y$8,Z$8)","v":0},{"$f":"IF($AW34=\"11\",Y$20,Z$20)","v":0},{"$f":"IF($AW34=\"11\",Y$32,Z$32)","v":0}]
[null,null,null,null,null,"透過率",{"$f":"IF(OR($G27=0,A点!$AL$8=1,A点!$AL$8=\"○\"),1,INDEX('表２(Pb)'!$A$3:$Y$36,MATCH($AW5,'表２(Pb)'!$A$3:$A$36,0),MATCH($F8,'表２(Pb)'!$A$3:$Y$3,0)))","v":1},{"$f":"IF(OR($H27=0,A点!$AL$8=1,A点!$AL$8=\"○\"),1,INDEX('表２(Pb)'!$A$3:$Y$36,MATCH($AW15,'表２(Pb)'!$A$3:$A$36,0),MATCH($F8,'表２(Pb)'!$A$3:$Y$3,0)))","v":1},null,null,null,"透過率",{"$f":"IF(OR($M27=0,A点!$AL$8=1,A点!$AL$8=\"○\"),1,INDEX('表２(Pb)'!$A$3:$Y$36,MATCH($AX5,'表２(Pb)'!$A$3:$A$36,0),MATCH($F8,'表２(Pb)'!$A$3:$Y$3,0)))","v":1},{"$f":"IF(OR($N27=0,A点!$AL$8=1,A点!$AL$8=\"○\"),1,INDEX('表２(Pb)'!$A$3:$Y$36,MATCH($AX15,'表２(Pb)'!$A$3:$A$36,0),MATCH($F8,'表２(Pb)'!$A$3:$Y$3,0)))","v":1},null,null,null,"透過率",{"$f":"IF(OR($S27=0,A点!$AL$8=1,A点!$AL$8=\"○\"),1,INDEX('表２(Pb)'!$A$3:$Y$36,MATCH($AY5,'表２(Pb)'!$A$3:$A$36,0),MATCH($F8,'表２(Pb)'!$A$3:$Y$3,0)))","v":1},{"$f":"IF(OR($T27=0,A点!$AL$8=1,A点!$AL$8=\"○\"),1,INDEX('表２(Pb)'!$A$3:$Y$36,MATCH($AY15,'表２(Pb)'!$A$3:$A$36,0),MATCH($F8,'表２(Pb)'!$A$3:$Y$3,0)))","v":1},null,null,{"$f":"IF($AB20=\"Pb\",$AB21,0)","v":0},{"$f":"IF($AB20=\"ｺﾝｸﾘ\",$AB21,0)","v":0},{"$f":"IF($AB20=\"Fe\",$AB21,0)","v":0},{"$f":"IF($AB20=\"石膏\",$AB21,0)","v":0},{"$f":"IF($AB20=\"ｶﾞﾗｽ\",$AB21,0)","v":0},{"$f":"IF($AB20=\"木材\",$AB21,0)","v":0},null,null,null,null,null,null,null,null,null,null,null,null,null,null,null,null,null,null,null,"第5遮蔽材",{"$f":"IF($AW34=\"11\",Z$8,AA$8)","v":0},{"$f":"IF($AW34=\"11\",Z$20,AA$20)","v":0},{"$f":"IF($AW34=\"11\",Z$32,AA$32)","v":0}]
[null,null,null,"b)　コンクリート(表3)",null,"等価厚さ",{"$f":"IF($G24=$X$10,$W$9*$AE$9,0)","v":0},{"$f":"IF($H24=$X$10,$W$9*$AE$9,0)","v":0},null,"b)　コンクリート(表3)",null,"等価厚さ",{"$f":"IF($M24=$X$22,$W$21*$AE$9,0)","v":0},{"$f":"IF($N24=$X$22,$W$21*$AE$9,0)","v":0},null,"b)　コンクリート(表3)",null,"等価厚さ",{"$f":"IF($S24=$X$34,$W$33*$AE$9,0)","v":0},{"$f":"IF($T24=$X$34,$W$33*$AE$9,0)","v":0},null,null,{"$f":"SUM(W23:W28)","v":0},{"$f":"SUM(X23:X28)","v":0},0,0,0,0,"第1～6遮蔽材合計",null,null,null,null,null,null,null,null,null,null,null,null,null,null,null,null,null,null,"第6遮蔽材",{"$f":"IF($AW34=\"11\",AA$8,AB$8)","v":0},{"$f":"IF($AW34=\"11\",AA$20,AB$20)","v":0},{"$f":"IF($AW34=\"11\",AA$32,AB$32)","v":0}]
[null,null,null,null,null,"透過率",{"$f":"IF(OR($G29=0,A点!$AL$8=1,A点!$AL$8=\"○\"),1,INDEX('表３(コ)'!$A$3:$Y$36,MATCH($AW6,'表３(コ)'!$A$3:$A$36,0),MATCH($F8,'表３(コ)'!$A$3:$Y$3,0)))","v":1},{"$f":"IF(OR($H29=0,A点!$AL$8=1,A点!$AL$8=\"○\"),1,INDEX('表３(コ)'!$A$3:$Y$36,MATCH($AW16,'表３(コ)'!$A$3:$A$36,0),MATCH($F8,'表３(コ)'!$A$3:$Y$3,0)))","v":1},null,null,null,"透過率",{"$f":"IF(OR($M29=0,A点!$AL$8=1,A点!$AL$8=\"○\"),1,INDEX('表３(コ)'!$A$3:$Y$36,MATCH($AX6,'表３(コ)'!$A$3:$A$36,0),MATCH($F8,'表３(コ)'!$A$3:$Y$3,0)))","v":1},{"$f":"IF(OR($N29=0,A点!$AL$8=1,A点!$AL$8=\"○\"),1,INDEX('表３(コ)'!$A$3:$Y$36,MATCH($AX16,'表３(コ)'!$A$3:$A$36,0),MATCH($F8,'表３(コ)'!$A$3:$Y$3,0)))","v":1},null,null,null,"透過率",{"$f":"IF(OR($S29=0,A点!$AL$8=1,A点!$AL$8=\"○\"),1,INDEX('表３(コ)'!$A$3:$Y$36,MATCH($AY6,'表３(コ)'!$A$3:$A$36,0),MATCH($F8,'表３(コ)'!$A$3:$Y$3,0)))","v":1},{"$f":"IF(OR($T29=0,A点!$AL$8=1,A点!$AL$8=\"○\"),1,INDEX('表３(コ)'!$A$3:$Y$36,MATCH($AY16,'表３(コ)'!$A$3:$A$36,0),MATCH($F8,'表３(コ)'!$A$3:$Y$3,0)))","v":1},null,null,{"$f":"SUM(W24:W28)","v":0},{"$f":"SUM(X24:X28)","v":0},0,0,0,0,"第2～6遮蔽材合計",null,null,null,null,null,null,null,null,null,null,null,null,null,null,null,null,null,null,"第7遮蔽材",{"$f":"IF($AW34=\"11\",AB$8,\"\")","v":""},{"$f":"IF($AW34=\"11\",AB$20,\"\")","v":""},{"$f":"IF($AW34=\"11\",AB$32,\"\")","v":""}]
[null,null,null,"c)　鉄(表4)",null,"等価厚さ",{"$f":"IF($G24=$Y$10,$W$9*$AE$10,0)","v":0},{"$f":"IF($H24=$Y$10,$W$9*$AE$10,0)","v":0},null,"c)　鉄(表4)",null,"等価厚さ",{"$f":"IF($M24=$Y$22,$W$21*$AE$10,0)","v":0},{"$f":"IF($N24=$Y$22,$W$21*$AE$10,0)","v":0},null,"c)　鉄(表4)",null,"等価厚さ",{"$f":"IF($S24=$Y$34,$W$33*$AE$10,0)","v":0},{"$f":"IF($T24=$Y$34,$W$33*$AE$10,0)","v":0},null,null,"F\"点"]
[null,null,null,null,null,"透過率",{"$f":"IF(OR($G31=0,A点!$AL$8=1,A点!$AL$8=\"○\"),1,INDEX('表4(Fe)'!$A$3:$Y$36,MATCH($AW7,'表4(Fe)'!$A$3:$A$36,0),MATCH($F8,'表4(Fe)'!$A$3:$Y$3,0)))","v":1},{"$f":"IF(OR($H31=0,A点!$AL$8=1,A点!$AL$8=\"○\"),1,INDEX('表4(Fe)'!$A$3:$Y$36,MATCH($AW17,'表4(Fe)'!$A$3:$A$36,0),MATCH($F8,'表4(Fe)'!$A$3:$Y$3,0)))","v":1},null,null,null,"透過率",{"$f":"IF(OR($M31=0,A点!$AL$8=1,A点!$AL$8=\"○\"),1,INDEX('表4(Fe)'!$A$3:$Y$36,MATCH($AX7,'表4(Fe)'!$A$3:$A$36,0),MATCH($F8,'表4(Fe)'!$A$3:$Y$3,0)))","v":1},{"$f":"IF(OR($N31=0,A点!$AL$8=1,A点!$AL$8=\"○\"),1,INDEX('表4(Fe)'!$A$3:$Y$36,MATCH($AX17,'表4(Fe)'!$A$3:$A$36,0),MATCH($F8,'表4(Fe)'!$A$3:$Y$3,0)))","v":1},null,null,null,"透過率",{"$f":"IF(OR($S31=0,A点!$AL$8=1,A点!$AL$8=\"○\"),1,INDEX('表4(Fe)'!$A$3:$Y$36,MATCH($AY7,'表4(Fe)'!$A$3:$A$36,0),MATCH($F8,'表4(Fe)'!$A$3:$Y$3,0)))","v":1},{"$f":"IF(OR($T31=0,A点!$AL$8=1,A点!$AL$8=\"○\"),1,INDEX('表4(Fe)'!$A$3:$Y$36,MATCH($AY17,'表4(Fe)'!$A$3:$A$36,0),MATCH($F8,'表4(Fe)'!$A$3:$Y$3,0)))","v":1},null,null,{"$f":"入力用シート!N72","v":0},{"$f":"入力用シート!P72","v":0},{"$f":"入力用シート!R72","v":0},{"$f":"入力用シート!T72","v":0},{"$f":"入力用シート!V72","v":0},{"$f":"入力用シート!X72","v":0},null,null,null,null,null,null,null,null,null,null,null,null,null,null,null,null,null,null,null,"遮蔽体有無",{"$f":"IF($S8>0,1,0)","v":0},"遮蔽体有：１"]
[null,null,null,"d)　石膏(表5)",null,"等価厚さ",{"$f":"IF($G24=$Z$10,$W$9*$AE$11,0)","v":0},{"$f":"IF($H24=$Z$10,$W$9*$AE$11,0)","v":0},null,"d)　石膏(表5)",null,"等価厚さ",{"$f":"IF($M24=$Z$22,$W$21*$AE$11,0)","v":0},{"$f":"IF($N24=$Z$22,$W$21*$AE$11,0)","v":0},null,"d)　石膏(表5)",null,"等価厚さ",{"$f":"IF($S24=$Z$34,$W$33*$AE$11,0)","v":0},{"$f":"IF($T24=$Z$34,$W$33*$AE$11,0)","v":0},null,null,{"$f":"入力用シート!N73","v":0},{"$f":"入力用シート!P73","v":0},{"$f":"入力用シート!R73","v":0},{"$f":"入力用シート!T73","v":0},{"$f":"入力用シート!V73","v":0},{"$f":"入力用シート!X73","v":0},null,null,null,null,null,null,null,null,null,null,null,null,null,null,null,null,null,null,null,"照射方向",{"$f":"IF($M9>0,1,2)","v":2},"直接線：1、散乱線：2"]
[null,null,null,null,null,"透過率",{"$f":"IF(OR($G33=0,A点!$AL$8=1,A点!$AL$8=\"○\"),1,INDEX('表5(CaSO4)'!$A$3:$Y$36,MATCH($AW8,'表5(CaSO4)'!$A$3:$A$36,0),MATCH($F8,'表5(CaSO4)'!$A$3:$Y$3,0)))","v":1},{"$f":"IF(OR($H33=0,A点!$AL$8=1,A点!$AL$8=\"○\"),1,INDEX('表5(CaSO4)'!$A$3:$Y$36,MATCH($AW18,'表5(CaSO4)'!$A$3:$A$36,0),MATCH($F8,'表5(CaSO4)'!$A$3:$Y$3,0)))","v":1},null,null,null,"透過率",{"$f":"IF(OR($M33=0,A点!$AL$8=1,A点!$AL$8=\"○\"),1,INDEX('表5(CaSO4)'!$A$3:$Y$36,MATCH($AX8,'表5(CaSO4)'!$A$3:$A$36,0),MATCH($F8,'表5(CaSO4)'!$A$3:$Y$3,0)))","v":1},{"$f":"IF(OR($N33=0,A点!$AL$8=1,A点!$AL$8=\"○\"),1,INDEX('表5(CaSO4)'!$A$3:$Y$36,MATCH($AX18,'表5(CaSO4)'!$A$3:$A$36,0),MATCH($F8,'表5(CaSO4)'!$A$3:$Y$3,0)))","v":1},null,null,null,"透過率",{"$f":"IF(OR($S33=0,A点!$AL$8=1,A点!$AL$8=\"○\"),1,INDEX('表5(CaSO4)'!$A$3:$Y$36,MATCH($AY8,'表5(CaSO4)'!$A$3:$A$36,0),MATCH($F8,'表5(CaSO4)'!$A$3:$Y$3,0)))","v":1},{"$f":"IF(OR($T33=0,A点!$AL$8=1,A点!$AL$8=\"○\"),1,INDEX('表5(CaSO4)'!$A$3:$Y$36,MATCH($AY18,'表5(CaSO4)'!$A$3:$A$36,0),MATCH($F8,'表5(CaSO4)'!$A$3:$Y$3,0)))","v":1},null,null,"Pb","ｺﾝｸﾘ","Fe","石膏","ｶﾞﾗｽ","木材",null,null,null,null,null,null,null,null,null,null,null,null,null,null,null,null,null,null,null,"判定コード",{"$f":"AW32&AW33","v":"02"}]
[null,null,null,"e）　ガラス(表6)",null,"等価厚さ",{"$f":"IF($G24=$AA$10,$W$9*$AE$12,0)","v":0},{"$f":"IF($H24=$AA$10,$W$9*$AE$12,0)","v":0},null,"e）　ガラス(表6)",null,"等価厚さ",{"$f":"IF($M24=$AA$22,$W$21*$AE$12,0)","v":0},{"$f":"IF($N24=$AA$22,$W$21*$AE$12,0)","v":0},null,"e）　ガラス(表6)",null,"等価厚さ",{"$f":"IF($S24=$AA$34,$W$33*$AE$12,0)","v":0},{"$f":"IF($T24=$AA$34,$W$33*$AE$12,0)","v":0},null,null,{"$f":"IF($W32=\"Pb\",$W33,0)","v":0},{"$f":"IF($W32=\"ｺﾝｸﾘ\",$W33,0)","v":0},{"$f":"IF($W32=\"Fe\",$W33,0)","v":0},{"$f":"IF($W32=\"石膏\",$W33,0)","v":0},{"$f":"IF($W32=\"ｶﾞﾗｽ\",$W33,0)","v":0},{"$f":"IF($W32=\"木材\",$W33,0)","v":0}]
[null,null,null,null,null,"透過率",{"$f":"IF(OR($G35=0,A点!$AL$8=1,A点!$AL$8=\"○\"),1,INDEX('表6(SiO2)'!$A$3:$Y$36,MATCH($AW9,'表6(SiO2)'!$A$3:$A$36,0),MATCH($F8,'表6(SiO2)'!$A$3:$Y$3,0)))","v":1},{"$f":"IF(OR($H35=0,A点!$AL$8=1,A点!$AL$8=\"○\"),1,INDEX('表6(SiO2)'!$A$3:$Y$36,MATCH($AW19,'表6(SiO2)'!$A$3:$A$36,0),MATCH($F8,'表6(SiO2)'!$A$3:$Y$3,0)))","v":1},null,null,null,"透過率",{"$f":"IF(OR($M35=0,A点!$AL$8=1,A点!$AL$8=\"○\"),1,INDEX('表6(SiO2)'!$A$3:$Y$36,MATCH($AX9,'表6(SiO2)'!$A$3:$A$36,0),MATCH($F8,'表6(SiO2)'!$A$3:$Y$3,0)))","v":1},{"$f":"IF(OR($N35=0,A点!$AL$8=1,A点!$AL$8=\"○\"),1,INDEX('表6(SiO2)'!$A$3:$Y$36,MATCH($AX19,'表6(SiO2)'!$A$3:$A$36,0),MATCH($F8,'表6(SiO2)'!$A$3:$Y$3,0)))","v":1},null,null,null,"透過率",{"$f":"IF(OR($S35=0,A点!$AL$8=1,A点!$AL$8=\"○\"),1,INDEX('表6(SiO2)'!$A$3:$Y$36,MATCH($AY9,'表6(SiO2)'!$A$3:$A$36,0),MATCH($F8,'表6(SiO2)'!$A$3:$Y$3,0)))","v":1},{"$f":"IF(OR($T35=0,A点!$AL$8=1,A点!$AL$8=\"○\"),1,INDEX('表6(SiO2)'!$A$3:$Y$36,MATCH($AY19,'表6(SiO2)'!$A$3:$A$36,0),MATCH($F8,'表6(SiO2)'!$A$3:$Y$3,0)))","v":1},null,null,{"$f":"IF($X32=\"Pb\",$X33,0)","v":0},{"$f":"IF($X32=\"ｺﾝｸﾘ\",$X33,0)","v":0},{"$f":"IF($X32=\"Fe\",$X33,0)","v":0},{"$f":"IF($X32=\"石膏\",$X33,0)","v":0},{"$f":"IF($X32=\"ｶﾞﾗｽ\",$X33,0)","v":0},{"$f":"IF($X32=\"木材\",$X33,0)","v":0}]
[null,null,null,"f)　木材(表7)",null,"等価厚さ",{"$f":"IF($G24=$AB$10,$W$9*$AE$13,0)","v":0},{"$f":"IF($H24=$AB$10,$W$9*$AE$13,0)","v":0},null,"f)　木材(表7)",null,"等価厚さ",{"$f":"IF($M24=$AB$22,$W$21*$AE$13,0)","v":0},{"$f":"IF($N24=$AB$22,$W$21*$AE$13,0)","v":0},null,"f)　木材(表7)",null,"等価厚さ",{"$f":"IF($S24=$AB$34,$W$33*$AE$13,0)","v":0},{"$f":"IF($T24=$AB$34,$W$33*$AE$13,0)","v":0},null,null,{"$f":"IF($Y32=\"Pb\",$Y33,0)","v":0},{"$f":"IF($Y32=\"ｺﾝｸﾘ\",$Y33,0)","v":0},{"$f":"IF($Y32=\"Fe\",$Y33,0)","v":0},{"$f":"IF($Y32=\"石膏\",$Y33,0)","v":0},{"$f":"IF($Y32=\"ｶﾞﾗｽ\",$Y33,0)","v":0},{"$f":"IF($Y32=\"木材\",$Y33,0)","v":0}]
[null,null,null,null,null,"透過率",{"$f":"IF(OR($G37=0,A点!$AL$8=1,A点!$AL$8=\"○\"),1,INDEX('表7(木)'!$A$3:$Y$36,MATCH($AW10,'表7(木)'!$A$3:$A$36,0),MATCH($F8,'表7(木)'!$A$3:$Y$3,0)))","v":1},{"$f":"IF(OR($H37=0,A点!$AL$8=1,A点!$AL$8=\"○\"),1,INDEX('表7(木)'!$A$3:$Y$36,MATCH($AW20,'表7(木)'!$A$3:$A$36,0),MATCH($F8,'表7(木)'!$A$3:$Y$3,0)))","v":1},null,null,null,"透過率",{"$f":"IF(OR($M37=0,A点!$AL$8=1,A点!$AL$8=\"○\"),1,INDEX('表7(木)'!$A$3:$Y$36,MATCH($AX10,'表7(木)'!$A$3:$A$36,0),MATCH($F8,'表7(木)'!$A$3:$Y$3,0)))","v":1},{"$f":"IF(OR($N37=0,A点!$AL$8=1,A点!$AL$8=\"○\"),1,INDEX('表7(木)'!$A$3:$Y$36,MATCH($AX20,'表7(木)'!$A$3:$A$36,0),MATCH($F8,'表7(木)'!$A$3:$Y$3,0)))","v":1},null,null,null,"透過率",{"$f":"IF(OR($S37=0,A点!$AL$8=1,A点!$AL$8=\"○\"),1,INDEX('表7(木)'!$A$3:$Y$36,MATCH($AY10,'表7(木)'!$A$3:$A$36,0),MATCH($F8,'表7(木)'!$A$3:$Y$3,0)))","v":1},{"$f":"IF(OR($T37=0,A点!$AL$8=1,A点!$AL$8=\"○\"),1,INDEX('表7(木)'!$A$3:$Y$36,MATCH($AY20,'表7(木)'!$A$3:$A$36,0),MATCH($F8,'表7(木)'!$A$3:$Y$3,0)))","v":1},null,null,{"$f":"IF($Z32=\"Pb\",$Z33,0)","v":0},{"$f":"IF($Z32=\"ｺﾝｸﾘ\",$Z33,0)","v":0},{"$f":"IF($Z32=\"Fe\",$Z33,0)","v":0},{"$f":"IF($Z32=\"石膏\",$Z33,0)","v":0},{"$f":"IF($Z32=\"ｶﾞﾗｽ\",$Z33,0)","v":0},{"$f":"IF($Z32=\"木材\",$Z33,0)","v":0}]
[null,null,null,null,null,null,null,null,null,null,null,null,null,null,null,null,null,null,null,null,null,null,{"$f":"IF($AA32=\"Pb\",$AA33,0)","v":0},{"$f":"IF($AA32=\"ｺﾝｸﾘ\",$AA33,0)","v":0},{"$f":"IF($AA32=\"Fe\",$AA33,0)","v":0},{"$f":"IF($AA32=\"石膏\",$AA33,0)","v":0},{"$f":"IF($AA32=\"ｶﾞﾗｽ\",$AA33,0)","v":0},{"$f":"IF($AA32=\"木材\",$AA33,0)","v":0}]
[null,null,null,"b)　第２遮蔽材以後による一次線の減衰表9",null,null,null,null,null,"2)　第２遮蔽材以後による一次線の減衰表9",null,null,null,null,null,"2)　第２遮蔽材以後による一次線の減衰表9",null,null,null,null,null,null,{"$f":"IF($AB32=\"Pb\",$AB33,0)","v":0},{"$f":"IF($AB32=\"ｺﾝｸﾘ\",$AB33,0)","v":0},{"$f":"IF($AB32=\"Fe\",$AB33,0)","v":0},{"$f":"IF($AB32=\"石膏\",$AB33,0)","v":0},{"$f":"IF($AB32=\"ｶﾞﾗｽ\",$AB33,0)","v":0},{"$f":"IF($AB32=\"木材\",$AB33,0)","v":0}]
[null,null,null,null,"Dt2=",{"$f":"F44*F46*F48*F50*F52*F54","v":0},{"$f":"G44*G46*G48*G50*G52*G54","v":0},0,null,null,"Dt2=",{"$f":"L44*L46*L48*L50*L52*L54","v":0},{"$f":"M44*M46*M48*M50*M52*M54","v":0},0,null,null,"Dt2=",{"$f":"R44*R46*R48*R50*R52*R54","v":0},{"$f":"S44*S46*S48*S50*S52*S54","v":0},0,null,null,{"$f":"SUM(W35:W40)","v":0},{"$f":"SUM(X35:X40)","v":0},0,0,0,0,"第1～6遮蔽材合計"]
[null,null,null,null,null,"一次線用","散乱線用","漏洩線用",null,null,null,"一次線用","散乱線用","漏洩線用",null,null,null,"一次線用","散乱線用","漏洩線用",null,null,{"$f":"SUM(W36:W40)","v":0},{"$f":"SUM(X36:X40)","v":0},0,0,0,0,"第2～6遮蔽材合計"]
[null,null,null,"a)　鉛(表9)","半価層(mm)",{"$f":"IF(OR(A点!$AL$8=1,A点!$AL$8=\"○\"),\"\",VLOOKUP($F8,'表9(BB)'!$A$4:$M$27,2,0))","v":""},null,null,null,"a)　鉛(表9)","半価層(mm)",{"$f":"IF(OR(A点!$AL$8=1,A点!$AL$8=\"○\"),\"\",VLOOKUP($F8,'表9(BB)'!$A$4:$M$27,2,0))","v":""},null,null,null,"a)　鉛(表9)","半価層(mm)",{"$f":"IF(OR(A点!$AL$8=1,A点!$AL$8=\"○\"),\"\",VLOOKUP($F8,'表9(BB)'!$A$4:$M$27,2,0))","v":""}]
[null,null,null,null,"透過率",{"$f":"IF($S$8>0,$H44,$G44)","v":0},{"$f":"IF($F43=\"\",0,(1/2)^($W18*$AE$8/$F43))","v":0},{"$f":"IF($F43=\"\",0,(1/2)^($W17*$AE$8/$F43))","v":0},null,null,"透過率",{"$f":"IF($S$8>0,$N44,$M44)","v":0},{"$f":"IF($L43=\"\",0,(1/2)^($W30*$AE$8/$L43))","v":0},{"$f":"IF($L43=\"\",0,(1/2)^($W29*$AE$8/$L43))","v":0},null,null,"透過率",{"$f":"IF($S$8>0,$T44,$S44)","v":0},{"$f":"IF($R43=\"\",0,(1/2)^($W42*$AE$8/$R43))","v":0},{"$f":"IF($R43=\"\",0,(1/2)^($W41*$AE$8/$R43))","v":0},null,null,"遮蔽材判定"]
[null,null,null,"b)　コンクリート(表9)","半価層(mm)",{"$f":"IF(OR(A点!$AL$8=1,A点!$AL$8=\"○\"),\"\",VLOOKUP($F8,'表9(BB)'!$A$4:$M$27,4,0))","v":""},null,null,null,"b)　コンクリート(表9)","半価層(mm)",{"$f":"IF(OR(A点!$AL$8=1,A点!$AL$8=\"○\"),\"\",VLOOKUP($F8,'表9(BB)'!$A$4:$M$27,4,0))","v":""},null,null,null,"b)　コンクリート(表9)","半価層(mm)",{"$f":"IF(OR(A点!$AL$8=1,A点!$AL$8=\"○\"),\"\",VLOOKUP($F8,'表9(BB)'!$A$4:$M$27,4,0))","v":""},null,null,null,null,{"$f":"SUM(W17:AB17)+SUM(W29:AB29)+SUM(W41:AB41)","v":0}]
[null,null,null,null,"透過率",{"$f":"IF($S$8>0,$H46,$G46)","v":0},{"$f":"IF($F45=\"\",0,(1/2)^($X18*$AE$9/$F45))","v":0},{"$f":"IF($F45=\"\",0,(1/2)^($X17*$AE$9/$F45))","v":0},null,null,"透過率",{"$f":"IF($S$8>0,$N46,$M46)","v":0},{"$f":"IF($L45=\"\",0,(1/2)^($X30*$AE$9/$L45))","v":0},{"$f":"IF($L45=\"\",0,(1/2)^($X29*$AE$9/$L45))","v":0},null,null,"透過率",{"$f":"IF($S$8>0,$T46,$S46)","v":0},{"$f":"IF($R45=\"\",0,(1/2)^($X42*$AE$9/$R45))","v":0},{"$f":"IF($R45=\"\",0,(1/2)^($X41*$AE$9/$R45))","v":0}]
[null,null,null,"c)　鉄(表9)","半価層(mm)",{"$f":"IF(OR(A点!$AL$8=1,A点!$AL$8=\"○\"),\"\",VLOOKUP($F8,'表9(BB)'!$A$4:$M$27,6,0))","v":""},null,null,null,"c)　鉄(表9)","半価層(mm)",{"$f":"IF(OR(A点!$AL$8=1,A点!$AL$8=\"○\"),\"\",VLOOKUP($F8,'表9(BB)'!$A$4:$M$27,6,0))","v":""},null,null,null,"c)　鉄(表9)","半価層(mm)",{"$f":"IF(OR(A点!$AL$8=1,A点!$AL$8=\"○\"),\"\",VLOOKUP($F8,'表9(BB)'!$A$4:$M$27,6,0))","v":""}]
[null,null,null,null,"透過率",{"$f":"IF($S$8>0,$H48,$G48)","v":0},{"$f":"IF($F47=\"\",0,(1/2)^($Y18*$AE$10/$F47))","v":0},{"$f":"IF($F47=\"\",0,(1/2)^($Y17*$AE$10/$F47))","v":0},null,null,"透過率",{"$f":"IF($S$8>0,$N48,$M48)","v":0},{"$f":"IF($L47=\"\",0,(1/2)^($Y30*$AE$10/$L47))","v":0},{"$f":"IF($L47=\"\",0,(1/2)^($Y29*$AE$10/$L47))","v":0},null,null,"透過率",{"$f":"IF($S$8>0,$T48,$S48)","v":0},{"$f":"IF($R47=\"\",0,(1/2)^($Y42*$AE$10/$R47))","v":0},{"$f":"IF($R47=\"\",0,(1/2)^($Y41*$AE$10/$R47))","v":0}]
[null,null,null,"d)　石膏(表9)","半価層(mm)",{"$f":"IF(OR(A点!$AL$8=1,A点!$AL$8=\"○\"),\"\",VLOOKUP($F8,'表9(BB)'!$A$4:$M$27,8,0))","v":""},null,null,null,"d)　石膏(表9)","半価層(mm)",{"$f":"IF(OR(A点!$AL$8=1,A点!$AL$8=\"○\"),\"\",VLOOKUP($F8,'表9(BB)'!$A$4:$M$27,8,0))","v":""},null,null,null,"d)　石膏(表9)","半価層(mm)",{"$f":"IF(OR(A点!$AL$8=1,A点!$AL$8=\"○\"),\"\",VLOOKUP($F8,'表9(BB)'!$A$4:$M$27,8,0))","v":""}]
[null,null,null,null,"透過率",{"$f":"IF($S$8>0,$H50,$G50)","v":0},{"$f":"IF($F49=\"\",0,(1/2)^($Z18*$AE$11/$F49))","v":0},{"$f":"IF($F49=\"\",0,(1/2)^($Z17*$AE$11/$F49))","v":0},null,null,"透過率",{"$f":"IF($S$8>0,$N50,$M50)","v":0},{"$f":"IF($L49=\"\",0,(1/2)^($Z30*$AE$11/$L49))","v":0},{"$f":"IF($L49=\"\",0,(1/2)^($Z29*$AE$11/$L49))","v":0},null,null,"透過率",{"$f":"IF($S$8>0,$T50,$S50)","v":0},{"$f":"IF($R49=\"\",0,(1/2)^($Z42*$AE$11/$R49))","v":0},{"$f":"IF($R49=\"\",0,(1/2)^($Z41*$AE$11/$R49))","v":0}]
[null,null,null,"e）　ガラス(表9)","半価層(mm)",{"$f":"IF(OR(A点!$AL$8=1,A点!$AL$8=\"○\"),\"\",VLOOKUP($F8,'表9(BB)'!$A$4:$M$27,10,0))","v":""},null,null,null,"e）　ガラス(表9)","半価層(mm)",{"$f":"IF(OR(A点!$AL$8=1,A点!$AL$8=\"○\"),\"\",VLOOKUP($F8,'表9(BB)'!$A$4:$M$27,10,0))","v":""},null,null,null,"e）　ガラス(表9)","半価層(mm)",{"$f":"IF(OR(A点!$AL$8=1,A点!$AL$8=\"○\"),\"\",VLOOKUP($F8,'表9(BB)'!$A$4:$M$27,10,0))","v":""}]
[null,null,null,null,"透過率",{"$f":"IF($S$8>0,$H52,$G52)","v":0},{"$f":"IF($F51=\"\",0,(1/2)^($AA18*$AE$12/$F51))","v":0},{"$f":"IF($F51=\"\",0,(1/2)^($AA17*$AE$12/$F51))","v":0},null,null,"透過率",{"$f":"IF($S$8>0,$N52,$M52)","v":0},{"$f":"IF($L51=\"\",0,(1/2)^($AA30*$AE$12/$L51))","v":0},{"$f":"IF($L51=\"\",0,(1/2)^($AA29*$AE$12/$L51))","v":0},null,null,"透過率",{"$f":"IF($S$8>0,$T52,$S52)","v":0},{"$f":"IF($R51=\"\",0,(1/2)^($AA42*$AE$12/$R51))","v":0},{"$f":"IF($R51=\"\",0,(1/2)^($AA41*$AE$12/$R51))","v":0}]
[null,null,null,"f)　木材(表9)","半価層(mm)",{"$f":"IF(OR(A点!$AL$8=1,A点!$AL$8=\"○\"),\"\",VLOOKUP($F8,'表9(BB)'!$A$4:$M$27,12,0))","v":""},null,null,null,"f)　木材(表9)","半価層(mm)",{"$f":"IF(OR(A点!$AL$8=1,A点!$AL$8=\"○\"),\"\",VLOOKUP($F8,'表9(BB)'!$A$4:$M$27,12,0))","v":""},null,null,null,"f)　木材(表9)","半価層(mm)",{"$f":"IF(OR(A点!$AL$8=1,A点!$AL$8=\"○\"),\"\",VLOOKUP($F8,'表9(BB)'!$A$4:$M$27,12,0))","v":""}]
[null,null,null,null,"透過率",{"$f":"IF($S$8>0,$H54,$G54)","v":0},{"$f":"IF($F53=\"\",0,(1/2)^($AB18*$AE$13/$F53))","v":0},{"$f":"IF($F53=\"\",0,(1/2)^($AB17*$AE$13/$F53))","v":0},null,null,"透過率",{"$f":"IF($S$8>0,$N54,$M54)","v":0},{"$f":"IF($L53=\"\",0,(1/2)^($AB$30*$AE$13/$L$53))","v":0},{"$f":"IF($L53=\"\",0,(1/2)^($AB$29*$AE$13/$L$53))","v":0},null,null,"透過率",{"$f":"IF($S$8>0,$T54,$S54)","v":0},{"$f":"IF($R53=\"\",0,(1/2)^($AB42*$AE$13/$R53))","v":0},{"$f":"IF($R53=\"\",0,(1/2)^($AB41*$AE$13/$R53))","v":0}]
[]
[]
[null,null,null,"2)　Es：散乱エックス線の漏洩線量(散乱角90度)",null,null,null,null,null,"2)　Es：散乱エックス線の漏洩線量(散乱角90度)",null,null,null,null,null,"2)　Es：散乱エックス線の漏洩線量(散乱角90度)"]
[null,null,null,null,"Dt=",{"$f":"H25*G41","v":0},null,null,null,null,"Dt=",{"$f":"N25*M41","v":0},null,null,null,null,"Dt=",{"$f":"T25*S41","v":0}]
[null,null,null,null,"Es=",{"$f":"IF(OR($F8=0,$M10=0,$M11=0,AND($W$8=0,$W$45>0),A点!$AQ$7=1),0,$G8*F58*$G12*$G11*$M7*$M8*($K11/100)*$K12/(400*($M10^2)*($M11^2)))","v":0},"μSv/3ヶ月",null,null,null,"Es=",{"$f":"IF(OR($F8=0,$M10=0,$M11=0,AND($W$20=0,$W$45>0),A点!$AQ$7=1),0,$G8*$G12*$G11*L58*$M7*$M8*($K11/100)*$K12/(400*($M10^2)*($M11^2)))","v":0},"μSv/3ヶ月",null,null,null,"Es=",{"$f":"IF(OR($F8=0,$M10=0,$M11=0,AND($W$32=0,$W$45>0),A点!$AQ$7=1),0,$G8*$G12*$G11*R58*$M7*$M8*($K11/100)*$K12/(400*($M10^2)*($M11^2)))","v":0},"μSv/3ヶ月"]
[]
[]
[null,null,null,"3)　EL：エックス線管容器からの漏洩線量(最大見積)",null,null,null,null,null,"3)　EL：エックス線管容器からの漏洩線量(最大見積)",null,null,null,null,null,"3)　EL：エックス線管容器からの漏洩線量(最大見積)"]
[]
[null,null,null,null,"EL=",{"$f":"IF(OR($F8=0,$M12=0,A点!$AQ$7=1,AND($W$8=0,$W$45>0)),0,$S17*$G11*$M13*H41*$M7*$M8/($M12^2))","v":0},"μGy/h",null,null,null,"EL=",{"$f":"IF(OR($F8=0,$M12=0,A点!$AQ$7=1,AND($W$20=0,$W$45>0)),0,$S17*$G11*$M13*N41*$M7*$M8/($M12^2))","v":0},"μGy/h",null,null,null,"EL=",{"$f":"IF(OR($F8=0,$M12=0,A点!$AQ$7=1,AND($W$32=0,$W$45>0)),0,$S17*$G11*$M13*T41*$M7*$M8/($M12^2))","v":0},"μGy/h"]
[]
[]
[null,"一般撮影",null,"①　X：空気カーマ(表1)",null,null,null,"④　使用係数",null,null,null,"Ｕ＝",1,null,null,"1)対向板による一次線の減衰(表２)",null,null,null,null,null,null,null,null,null,null,null,null,null,null,null,null,null,null,null,null,null,null,null,null,null,null,null,null,null,null,"③撮影用透過率（表2-7）"]
[null,null,null,null,"採用管電圧",{"$f":"A点!$F$68","v":0},{"$f":"A点!$G$68","v":0},"⑤　居住係数",null,null,null,"Ｔ＝",1,null,null,null,null,"等価厚さ",{"$f":"入力用シート!$AA$9","v":0},"mm",null,null,null,null,null,null,null,null,null,null,null,null,null,null,null,null,null,null,null,null,null,null,null,null,null,null,"1)直接線用"]
[null,null,null,null,"電流",{"$f":"A点!$F$69","v":0},null,"⑥　距離",null,null,null,"d1=",{"$f":"M9","v":0},"ｍ",null,null,"使用管電圧",{"$f":"A点!$AM$5","v":0},null,null,null,null,null,null,null,null,null,null,null,null,null,null,null,null,null,null,null,null,null,null,null,null,null,null,null,null,"遮蔽厚参照値"]
[null,null,null,"②　E/Ka：空気カーマ換算係数（表10）",null,null,null,"⑧　照射野400cm2空気ｶｰﾏ率表8",null,null,null,"d2=",{"$f":"M10","v":0},"ｍ",null,null,"透過率",{"$f":"IF(A点!$AM$8=\"○\",\"\",IF(A点!$AM$8=1,\"データなし\",IF($S68>3,HLOOKUP($R69,'表２(Pb)'!$B$3:$Y$36,32+ROUNDDOWN(($S68-3)/0.5,0),0),HLOOKUP($R69,'表２(Pb)'!$B$3:$Y$36,2+S68/0.1,0))))","v":""},null,null,null,null,null,null,null,null,null,null,null,null,null,null,null,null,null,null,null,null,null,null,null,null,null,null,null,null,null,null,"F点","F'点","F\"点"]
[null,null,null,null,"採用管電圧",{"$f":"A点!$F$71","v":0},{"$f":"A点!$G$71","v":0},null,null,null,{"$f":"A点!$AM$7","v":0},"d3=",0,"ｍ",null,null,null,null,null,null,null,null,null,null,null,null,null,null,null,null,null,null,null,null,null,null,null,null,null,null,null,null,null,null,null,null,null,"Pb",{"$f":"IF($G87=0,\"\",IF($G87<=3,INT(10*$G87)/10,IF($G87>4,4,0.5*INT($G87/0.5))))","v":""},{"$f":"IF($M87=0,\"\",IF($M87<=3,INT(10*$M87)/10,IF($M87>4,4,0.5*INT($M87/0.5))))","v":""},{"$f":"IF($S87=0,\"\",IF($S87<=3,INT(10*$S87)/10,IF($S87>4,4,0.5*INT($S87/0.5))))","v":""}]
[null,null,null,"③　W：３Ｍ実効稼動負荷",null,"合計",{"$f":"13*(入力用シート!$L$26*入力用シート!$Q$26*入力用シート!$H$27*入力用シート!$L$27*入力用シート!$Q$27)","v":0},"⑨　受像面照射野",null,null,{"$f":"入力用シート!$E$16","v":1225},"d4=",0,"ｍ",null,null,null,null,null,null,null,null,null,null,null,null,null,null,null,null,null,null,null,null,null,null,null,null,null,null,null,null,null,null,null,null,null,"ｺﾝｸﾘ",{"$f":"IF($G89=0,\"\",IF($G89<=300,INT($G89/10)*10,IF($G89>400,400,50*INT($G89/50))))","v":""},{"$f":"IF($M89=0,\"\",IF($M89<=300,INT($M89/10)*10,IF($M89>400,400,50*INT($M89/50))))","v":""},{"$f":"IF($S89=0,\"\",IF($S89<=300,INT($S89/10)*10,IF($S89>400,400,50*INT($S89/50))))","v":""}]
[null,null,null,null,null,null,null,"⑩　tw：３月間における稼働時間(h)",null,null,null,null,{"$f":"IF(F69=0,0,G72/(F69*3600))","v":0},null,null,"機器の種類",null,"管容器からの空気ｶｰﾏ率（mGy/h）",null,null,null,null,null,null,null,null,null,null,null,null,null,null,null,null,null,null,null,null,null,null,null,null,null,null,null,null,null,"Fe",{"$f":"IF($G91=0,\"\",IF($G91<=30,INT($G91),IF($G91>40,40,5*INT($G91/5))))","v":""},{"$f":"IF($M91=0,\"\",IF($M91<=30,INT($M91),IF($M91>40,40,5*INT($M91/5))))","v":""},{"$f":"IF($S91=0,\"\",IF($S91<=30,INT($S91),IF($S91>40,40,5*INT($S91/5))))","v":""}]
[null,null,null,"F点の漏洩エックス線量の計算(利用線錘方向）",null,null,null,null,"F点の漏洩エックス線量の計算(被写体・管球）",null,null,null,null,null,1,"治療用ｴｯｸｽ線装置（≧50ｋV）",null,1,"選んだ機器",null,null,null,null,null,null,null,null,null,null,null,null,null,null,null,null,null,null,null,null,null,null,null,null,null,null,null,null,"石膏",{"$f":"IF($G93=0,\"\",IF($G93<=30,INT($G93),IF($G93>40,40,5*INT($G93/5))))","v":""},{"$f":"IF($M93=0,\"\",IF($M93<=30,INT($M93),IF($M93>40,40,5*INT($M93/5))))","v":""},{"$f":"IF($S93=0,\"\",IF($S93<=30,INT($S93),IF($S93>40,40,5*INT($S93/5))))","v":""}]
[null,null,null,null,"Ea=",{"$f":"MAX(F81,L81,R81)","v":0},"μSv/3ヶ月",null,null,"Es＝",{"$f":"MAX(F119,L119,R119)","v":0},"μSv/3ヶ月",null,null,2,"治療用ｴｯｸｽ線装置（＜50ｋV）",null,10,{"$f":"入力用シート!$C$7","v":0},null,null,null,null,null,null,null,null,null,null,null,null,null,null,null,null,null,null,null,null,null,null,null,null,null,null,null,null,"ｶﾞﾗｽ",{"$f":"IF($G95=0,\"\",IF($G95<=30,INT($G95),IF($G95>40,40,5*INT($G95/5))))","v":""},{"$f":"IF($M95=0,\"\",IF($M95<=30,INT($M95),IF($M95>40,40,5*INT($M95/5))))","v":""},{"$f":"IF($S95=0,\"\",IF($S95<=30,INT($S95),IF($S95>40,40,5*INT($S95/5))))","v":""}]
[null,null,null,null,null,null,null,null,null,"EL＝",{"$f":"MAX(F124,L124,R124)","v":0},"μSv/3ヶ月",null,null,3,"口内法撮影用X線装置（≦120ｋV）",null,0.25,"選ばれた空気ｶｰﾏ率XL",null,null,null,null,null,null,null,null,null,null,null,null,null,null,null,null,null,null,null,null,null,null,null,null,null,null,null,null,"木材",{"$f":"IF($G97=0,\"\",IF($G97<=300,INT($G97/10)*10,IF($G97>400,400,50*INT($G97/50))))","v":""},{"$f":"IF($M97=0,\"\",IF($M97<=300,INT($M97/10)*10,IF($M97>400,400,50*INT($M97/50))))","v":""},{"$f":"IF($S97=0,\"\",IF($S97<=300,INT($S97/10)*10,IF($S97>400,400,50*INT($S97/50))))","v":""}]
[null,null,null,null,null,null,null,null,null,"合計",{"$f":"+K75+K76","v":0},null,null,null,4,"上記以外の診断用X線装置",null,1,{"$f":"IF(S75=0,0,VLOOKUP(S75,O74:R77,4,0)*1000)","v":0}]
[null,null,null,null,null,null,null,null,null,null,null,null,null,null,null,null,null,null,null,null,null,null,null,null,null,null,null,null,null,null,null,null,null,null,null,null,null,null,null,null,null,null,null,null,null,null,"2)散乱線用"]
[null,null,null,"F点の計算",null,null,null,null,null,"F'点の計算",null,null,null,null,null,"F\"点の計算",null,null,null,null,null,null,null,null,null,null,null,null,null,null,null,null,null,null,null,null,null,null,null,null,null,null,null,null,null,null,"遮蔽厚参照値"]
[null,null,null,"1) Ep：一次エックス線（撮影方向）",null,null,null,null,null,"1) Ep：一次エックス線（撮影方向）",null,null,null,null,null,"1) Ep：一次エックス線（撮影方向）",null,null,null,null,null,null,null,null,null,null,null,null,null,null,null,null,null,null,null,null,null,null,null,null,null,null,null,null,null,null,null,null,"F点","F'点","F\"点"]
[null,null,null,"　",null,{"$f":"IF(OR($F68=0,$M69=0,A点!$AQ$7=1,AND($W$8=0,$W$45>0)),0,($G68*$R70*$G85*$F101*$G72*$G71*$M67*$M68)/($M69^2))","v":0},"μSv/3ヶ月",null,null,"　",null,{"$f":"IF(OR($F68=0,$M69=0,A点!$AQ$7=1,AND($W$20=0,$W$45>0)),0,($G68*$R70*$M85*$L101*$G72*$G71*$M67*$M68)/($M69^2))","v":0},"μSv/3ヶ月",null,null,"　",null,{"$f":"IF(OR($F68=0,$M69=0,A点!$AQ$7=1,AND($W$32=0,$W$45>0)),0,($G68*$R70*$S85*$R101*$G72*$G71*$M67*$M68)/($M69^2))","v":0},"μSv/3ヶ月",null,null,null,null,null,null,null,null,null,null,null,null,null,null,null,null,null,null,null,null,null,null,null,null,null,null,null,null,"Pb",{"$f":"IF($H87=0,\"\",IF($H87<=3,INT(10*$H87)/10,IF($H87>4,4,0.5*INT($H87/0.5))))","v":""},{"$f":"IF($N87=0,\"\",IF($N87<=3,INT(10*$N87)/10,IF($N87>4,4,0.5*INT($N87/0.5))))","v":""},{"$f":"IF($T87=0,\"\",IF($T87<=3,INT(10*$T87)/10,IF($T87>4,4,0.5*INT($T87/0.5))))","v":""}]
[null,null,null,null,null,null,null,null,null,null,null,null,null,null,null,null,null,null,null,null,null,null,null,null,null,null,null,null,null,null,null,null,null,null,null,null,null,null,null,null,null,null,null,null,null,null,null,"ｺﾝｸﾘ",{"$f":"IF($H89=0,\"\",IF($H89<=300,INT($H89/10)*10,IF($H89>400,400,50*INT($H89/50))))","v":""},{"$f":"IF($N89=0,\"\",IF($N89<=300,INT($N89/10)*10,IF($N89>400,400,50*INT($N89/50))))","v":""},{"$f":"IF($T89=0,\"\",IF($T89<=300,INT($T89/10)*10,IF($T89>400,400,50*INT($T89/50))))","v":""}]
[null,null,null,"a) 第１遮蔽材による減衰(遮蔽体がある場合透過率=1)",null,null,null,null,null,"a) 第１遮蔽材による減衰(遮蔽体がある場合透過率=1)",null,null,null,null,null,"a) 第１遮蔽材による減衰(遮蔽体がある場合透過率=1)",null,null,null,null,null,null,null,null,null,null,null,null,null,null,null,null,null,null,null,null,null,null,null,null,null,null,null,null,null,null,null,"Fe",{"$f":"IF($H91=0,\"\",IF($H91<=30,INT($H91),IF($H91>40,40,5*INT($H91/5))))","v":""},{"$f":"IF($N91=0,\"\",IF($N91<=30,INT($N91),IF($N91>40,40,5*INT($N91/5))))","v":""},{"$f":"IF($T91=0,\"\",IF($T91<=30,INT($T91),IF($T91>40,40,5*INT($T91/5))))","v":""}]
[null,null,null,null,null,"第1遮蔽材",{"$f":"IF($S$68>0,\"遮蔽体\",$W$8)","v":0},{"$f":"$W$8","v":0},null,null,null,"第1遮蔽材",{"$f":"IF($S$68>0,\"遮蔽体\",$W$20)","v":0},{"$f":"$W$20","v":0},null,null,null,"第1遮蔽材",{"$f":"IF($S$68>0,\"遮蔽体\",$W$32)","v":0},{"$f":"$W$32","v":0},null,null,null,null,null,null,null,null,null,null,null,null,null,null,null,null,null,null,null,null,null,null,null,null,null,null,null,"石膏",{"$f":"IF($H93=0,\"\",IF($H93<=30,INT($H93),IF($H93>40,40,5*INT($H93/5))))","v":""},{"$f":"IF($N93=0,\"\",IF($N93<=30,INT($N93),IF($N93>40,40,5*INT($N93/5))))","v":""},{"$f":"IF($T93=0,\"\",IF($T93<=30,INT($T93),IF($T93>40,40,5*INT($T93/5))))","v":""}]
[null,null,null,null,null,"Dt1=",{"$f":"G88*G90*G92*G94*G96*G98","v":1},{"$f":"H88*H90*H92*H94*H96*H98","v":1},null,null,null,"Dt1=",{"$f":"M88*M90*M92*M94*M96*M98","v":1},{"$f":"N88*N90*N92*N94*N96*N98","v":1},null,null,null,"Dt1=",{"$f":"S88*S90*S92*S94*S96*S98","v":1},{"$f":"T88*T90*T92*T94*T96*T98","v":1},null,null,null,null,null,null,null,null,null,null,null,null,null,null,null,null,null,null,null,null,null,null,null,null,null,null,null,"ｶﾞﾗｽ",{"$f":"IF($H95=0,\"\",IF($H95<=30,INT($H95),IF($H95>40,40,5*INT($H95/5))))","v":""},{"$f":"IF($N95=0,\"\",IF($N95<=30,INT($N95),IF($N95>40,40,5*INT($N95/5))))","v":""},{"$f":"IF($T95=0,\"\",IF($T95<=30,INT($T95),IF($T95>40,40,5*INT($T95/5))))","v":""}]
[null,null,null,null,null,null,"一次線用","散乱線用",null,null,null,null,"一次線用","散乱線用",null,null,null,null,"一次線用","散乱線用",null,null,null,null,null,null,null,null,null,null,null,null,null,null,null,null,null,null,null,null,null,null,null,null,null,null,null,"木材",{"$f":"IF($H97=0,\"\",IF($H97<=300,INT($H97/10)*10,IF($H97>400,400,50*INT($H97/50))))","v":""},{"$f":"IF($N97=0,\"\",IF($N97<=300,INT($N97/10)*10,IF($N97>400,400,50*INT($N97/50))))","v":""},{"$f":"IF($T97=0,\"\",IF($T97<=300,INT($T97/10)*10,IF($T97>400,400,50*INT($T97/50))))","v":""}]
[null,null,null,"a)　鉛(表2)",null,"等価厚さ",{"$f":"IF($G84=$W$10,$W$9*$AE$8,0)","v":0},{"$f":"IF($H84=$W$10,$W$9*$AE$8,0)","v":0},null,"a)　鉛(表2)",null,"等価厚さ",{"$f":"IF($M84=$W$22,$W$21*$AE$8,0)","v":0},{"$f":"IF($N84=$W$22,$W$21*$AE$8,0)","v":0},null,"a)　鉛(表2)",null,"等価厚さ",{"$f":"IF($S84=$W$34,$W$33*$AE$8,0)","v":0},{"$f":"IF($T84=$W$34,$W$33*$AE$8,0)","v":0}]
[null,null,null,null,null,"透過率",{"$f":"IF(OR($G87=0,A点!$AM$8=1,A点!$AM$8=\"○\"),1,INDEX('表２(Pb)'!$A$3:$Y$36,MATCH($AW71,'表２(Pb)'!$A$3:$A$36,0),MATCH($F68,'表２(Pb)'!$A$3:$Y$3,0)))","v":1},{"$f":"IF(OR($H87=0,A点!$AM$8=1,A点!$AM$8=\"○\"),1,INDEX('表２(Pb)'!$A$3:$Y$36,MATCH($AW81,'表２(Pb)'!$A$3:$A$36,0),MATCH($F68,'表２(Pb)'!$A$3:$Y$3,0)))","v":1},null,null,null,"透過率",{"$f":"IF(OR($M87=0,A点!$AM$8=1,A点!$AM$8=\"○\"),1,INDEX('表２(Pb)'!$A$3:$Y$36,MATCH($AX71,'表２(Pb)'!$A$3:$A$36,0),MATCH($F68,'表２(Pb)'!$A$3:$Y$3,0)))","v":1},{"$f":"IF(OR($N87=0,A点!$AM$8=1,A点!$AM$8=\"○\"),1,INDEX('表２(Pb)'!$A$3:$Y$36,MATCH($AX81,'表２(Pb)'!$A$3:$A$36,0),MATCH($F68,'表２(Pb)'!$A$3:$Y$3,0)))","v":1},null,null,null,"透過率",{"$f":"IF(OR($S87=0,A点!$AM$8=1,A点!$AM$8=\"○\"),1,INDEX('表２(Pb)'!$A$3:$Y$36,MATCH($AY71,'表２(Pb)'!$A$3:$A$36,0),MATCH($F68,'表２(Pb)'!$A$3:$Y$3,0)))","v":1},{"$f":"IF(OR($T87=0,A点!$AM$8=1,A点!$AM$8=\"○\"),1,INDEX('表２(Pb)'!$A$3:$Y$36,MATCH($AY81,'表２(Pb)'!$A$3:$A$36,0),MATCH($F68,'表２(Pb)'!$A$3:$Y$3,0)))","v":1},null,null,null,null,null,null,null,null,null,null,null,null,null,null,null,null,null,null,null,null,null,null,null,null,null,null,"3)","遮蔽材順"]
[null,null,null,"b)　コンクリート(表3)",null,"等価厚さ",{"$f":"IF($G84=$X$10,$W$9*$AE$9,0)","v":0},{"$f":"IF($H84=$X$10,$W$9*$AE$9,0)","v":0},null,"b)　コンクリート(表3)",null,"等価厚さ",{"$f":"IF($M84=$X$22,$W$21*$AE$9,0)","v":0},{"$f":"IF($N84=$X$22,$W$21*$AE$9,0)","v":0},null,"b)　コンクリート(表3)",null,"等価厚さ",{"$f":"IF($S84=$X$34,$W$33*$AE$9,0)","v":0},{"$f":"IF($T84=$X$34,$W$33*$AE$9,0)","v":0},null,null,null,null,null,null,null,null,null,null,null,null,null,null,null,null,null,null,null,null,null,null,null,null,null,null,null,null,"F点","F'点","F\"点"]
[null,null,null,null,null,"透過率",{"$f":"IF(OR($G89=0,A点!$AM$8=1,A点!$AM$8=\"○\"),1,INDEX('表３(コ)'!$A$3:$Y$36,MATCH($AW72,'表３(コ)'!$A$3:$A$36,0),MATCH($F68,'表３(コ)'!$A$3:$Y$3,0)))","v":1},{"$f":"IF(OR($H89=0,A点!$AM$8=1,A点!$AM$8=\"○\"),1,INDEX('表３(コ)'!$A$3:$Y$36,MATCH($AW82,'表３(コ)'!$A$3:$A$36,0),MATCH($F68,'表３(コ)'!$A$3:$Y$3,0)))","v":1},null,null,null,"透過率",{"$f":"IF(OR($M89=0,A点!$AM$8=1,A点!$AM$8=\"○\"),1,INDEX('表３(コ)'!$A$3:$Y$36,MATCH($AX72,'表３(コ)'!$A$3:$A$36,0),MATCH($F68,'表３(コ)'!$A$3:$Y$3,0)))","v":1},{"$f":"IF(OR($N89=0,A点!$AM$8=1,A点!$AM$8=\"○\"),1,INDEX('表３(コ)'!$A$3:$Y$36,MATCH($AX82,'表３(コ)'!$A$3:$A$36,0),MATCH($F68,'表３(コ)'!$A$3:$Y$3,0)))","v":1},null,null,null,"透過率",{"$f":"IF(OR($S89=0,A点!$AM$8=1,A点!$AM$8=\"○\"),1,INDEX('表３(コ)'!$A$3:$Y$36,MATCH($AY72,'表３(コ)'!$A$3:$A$36,0),MATCH($F68,'表３(コ)'!$A$3:$Y$3,0)))","v":1},{"$f":"IF(OR($T89=0,A点!$AM$8=1,A点!$AM$8=\"○\"),1,INDEX('表３(コ)'!$A$3:$Y$36,MATCH($AY82,'表３(コ)'!$A$3:$A$36,0),MATCH($F68,'表３(コ)'!$A$3:$Y$3,0)))","v":1},null,null,null,null,null,null,null,null,null,null,null,null,null,null,null,null,null,null,null,null,null,null,null,null,null,null,null,"第1遮蔽材",{"$f":"IF($AW100=\"11\",G$84,H$84)","v":0},{"$f":"IF($AW100=\"11\",M$84,N$84)","v":0},{"$f":"IF($AW100=\"11\",S$84,T$84)","v":0}]
[null,null,null,"c)　鉄(表4)",null,"等価厚さ",{"$f":"IF($G84=$Y$10,$W$9*$AE$10,0)","v":0},{"$f":"IF($H84=$Y$10,$W$9*$AE$10,0)","v":0},null,"c)　鉄(表4)",null,"等価厚さ",{"$f":"IF($M84=$Y$22,$W$21*$AE$10,0)","v":0},{"$f":"IF($N84=$Y$22,$W$21*$AE$10,0)","v":0},null,"c)　鉄(表4)",null,"等価厚さ",{"$f":"IF($S84=$Y$34,$W$33*$AE$10,0)","v":0},{"$f":"IF($T84=$Y$34,$W$33*$AE$10,0)","v":0},null,null,null,null,null,null,null,null,null,null,null,null,null,null,null,null,null,null,null,null,null,null,null,null,null,null,null,"第2遮蔽材",{"$f":"IF($AW100=\"11\",W$8,X$8)","v":0},{"$f":"IF($AW100=\"11\",W$20,X$20)","v":0},{"$f":"IF($AW100=\"11\",W$32,X$32)","v":0}]
[null,null,null,null,null,"透過率",{"$f":"IF(OR($G91=0,A点!$AM$8=1,A点!$AM$8=\"○\"),1,INDEX('表4(Fe)'!$A$3:$Y$36,MATCH($AW73,'表4(Fe)'!$A$3:$A$36,0),MATCH($F68,'表4(Fe)'!$A$3:$Y$3,0)))","v":1},{"$f":"IF(OR($H91=0,A点!$AM$8=1,A点!$AM$8=\"○\"),1,INDEX('表4(Fe)'!$A$3:$Y$36,MATCH($AW83,'表4(Fe)'!$A$3:$A$36,0),MATCH($F68,'表4(Fe)'!$A$3:$Y$3,0)))","v":1},null,null,null,"透過率",{"$f":"IF(OR($M91=0,A点!$AM$8=1,A点!$AM$8=\"○\"),1,INDEX('表4(Fe)'!$A$3:$Y$36,MATCH($AX73,'表4(Fe)'!$A$3:$A$36,0),MATCH($F68,'表4(Fe)'!$A$3:$Y$3,0)))","v":1},{"$f":"IF(OR($N91=0,A点!$AM$8=1,A点!$AM$8=\"○\"),1,INDEX('表4(Fe)'!$A$3:$Y$36,MATCH($AX83,'表4(Fe)'!$A$3:$A$36,0),MATCH($F68,'表4(Fe)'!$A$3:$Y$3,0)))","v":1},null,null,null,"透過率",{"$f":"IF(OR($S91=0,A点!$AM$8=1,A点!$AM$8=\"○\"),1,INDEX('表4(Fe)'!$A$3:$Y$36,MATCH($AY73,'表4(Fe)'!$A$3:$A$36,0),MATCH($F68,'表4(Fe)'!$A$3:$Y$3,0)))","v":1},{"$f":"IF(OR($T91=0,A点!$AM$8=1,A点!$AM$8=\"○\"),1,INDEX('表4(Fe)'!$A$3:$Y$36,MATCH($AY83,'表4(Fe)'!$A$3:$A$36,0),MATCH($F68,'表4(Fe)'!$A$3:$Y$3,0)))","v":1},null,null,null,null,null,null,null,null,null,null,null,null,null,null,null,null,null,null,null,null,null,null,null,null,null,null,null,"第3遮蔽材",{"$f":"IF($AW100=\"11\",X$8,Y$8)","v":0},{"$f":"IF($AW100=\"11\",X$20,Y$20)","v":0},{"$f":"IF($AW100=\"11\",X$32,Y$32)","v":0}]
[null,null,null,"d)　石膏(表5)",null,"等価厚さ",{"$f":"IF($G84=$Z$10,$W$9*$AE$11,0)","v":0},{"$f":"IF($H84=$Z$10,$W$9*$AE$11,0)","v":0},null,"d)　石膏(表5)",null,"等価厚さ",{"$f":"IF($M84=$Z$22,$W$21*$AE$11,0)","v":0},{"$f":"IF($N84=$Z$22,$W$21*$AE$11,0)","v":0},null,"d)　石膏(表5)",null,"等価厚さ",{"$f":"IF($S84=$Z$34,$W$33*$AE$11,0)","v":0},{"$f":"IF($T84=$Z$34,$W$33*$AE$11,0)","v":0},null,null,null,null,null,null,null,null,null,null,null,null,null,null,null,null,null,null,null,null,null,null,null,null,null,null,null,"第4遮蔽材",{"$f":"IF($AW100=\"11\",Y$8,Z$8)","v":0},{"$f":"IF($AW100=\"11\",Y$20,Z$20)","v":0},{"$f":"IF($AW100=\"11\",Y$32,Z$32)","v":0}]
[null,null,null,null,null,"透過率",{"$f":"IF(OR($G93=0,A点!$AM$8=1,A点!$AM$8=\"○\"),1,INDEX('表5(CaSO4)'!$A$3:$Y$36,MATCH($AW74,'表5(CaSO4)'!$A$3:$A$36,0),MATCH($F68,'表5(CaSO4)'!$A$3:$Y$3,0)))","v":1},{"$f":"IF(OR($H93=0,A点!$AM$8=1,A点!$AM$8=\"○\"),1,INDEX('表5(CaSO4)'!$A$3:$Y$36,MATCH($AW84,'表5(CaSO4)'!$A$3:$A$36,0),MATCH($F68,'表5(CaSO4)'!$A$3:$Y$3,0)))","v":1},null,null,null,"透過率",{"$f":"IF(OR($M93=0,A点!$AM$8=1,A点!$AM$8=\"○\"),1,INDEX('表5(CaSO4)'!$A$3:$Y$36,MATCH($AX74,'表5(CaSO4)'!$A$3:$A$36,0),MATCH($F68,'表5(CaSO4)'!$A$3:$Y$3,0)))","v":1},{"$f":"IF(OR($N93=0,A点!$AM$8=1,A点!$AM$8=\"○\"),1,INDEX('表5(CaSO4)'!$A$3:$Y$36,MATCH($AX84,'表5(CaSO4)'!$A$3:$A$36,0),MATCH($F68,'表5(CaSO4)'!$A$3:$Y$3,0)))","v":1},null,null,null,"透過率",{"$f":"IF(OR($S93=0,A点!$AM$8=1,A点!$AM$8=\"○\"),1,INDEX('表5(CaSO4)'!$A$3:$Y$36,MATCH($AY74,'表5(CaSO4)'!$A$3:$A$36,0),MATCH($F68,'表5(CaSO4)'!$A$3:$Y$3,0)))","v":1},{"$f":"IF(OR($T93=0,A点!$AM$8=1,A点!$AM$8=\"○\"),1,INDEX('表5(CaSO4)'!$A$3:$Y$36,MATCH($AY84,'表5(CaSO4)'!$A$3:$A$36,0),MATCH($F68,'表5(CaSO4)'!$A$3:$Y$3,0)))","v":1},null,null,null,null,null,null,null,null,null,null,null,null,null,null,null,null,null,null,null,null,null,null,null,null,null,null,null,"第5遮蔽材",{"$f":"IF($AW100=\"11\",Z$8,AA$8)","v":0},{"$f":"IF($AW100=\"11\",Z$20,AA$20)","v":0},{"$f":"IF($AW100=\"11\",Z$32,AA$32)","v":0}]
[null,null,null,"e）　ガラス(表6)",null,"等価厚さ",{"$f":"IF($G84=$AA$10,$W$9*$AE$12,0)","v":0},{"$f":"IF($H84=$AA$10,$W$9*$AE$12,0)","v":0},null,"e）　ガラス(表6)",null,"等価厚さ",{"$f":"IF($M84=$AA$22,$W$21*$AE$12,0)","v":0},{"$f":"IF($N84=$AA$22,$W$21*$AE$12,0)","v":0},null,"e）　ガラス(表6)",null,"等価厚さ",{"$f":"IF($S84=$AA$34,$W$33*$AE$12,0)","v":0},{"$f":"IF($T84=$AA$34,$W$33*$AE$12,0)","v":0},null,null,null,null,null,null,null,null,null,null,null,null,null,null,null,null,null,null,null,null,null,null,null,null,null,null,null,"第6遮蔽材",{"$f":"IF($AW100=\"11\",AA$8,AB$8)","v":0},{"$f":"IF($AW100=\"11\",AA$20,AB$20)","v":0},{"$f":"IF($AW100=\"11\",AA$32,AB$32)","v":0}]
[null,null,null,null,null,"透過率",{"$f":"IF(OR($G95=0,A点!$AM$8=1,A点!$AM$8=\"○\"),1,INDEX('表6(SiO2)'!$A$3:$Y$36,MATCH($AW75,'表6(SiO2)'!$A$3:$A$36,0),MATCH($F68,'表6(SiO2)'!$A$3:$Y$3,0)))","v":1},{"$f":"IF(OR($H95=0,A点!$AM$8=1,A点!$AM$8=\"○\"),1,INDEX('表6(SiO2)'!$A$3:$Y$36,MATCH($AW85,'表6(SiO2)'!$A$3:$A$36,0),MATCH($F68,'表6(SiO2)'!$A$3:$Y$3,0)))","v":1},null,null,null,"透過率",{"$f":"IF(OR($M95=0,A点!$AM$8=1,A点!$AM$8=\"○\"),1,INDEX('表6(SiO2)'!$A$3:$Y$36,MATCH($AX75,'表6(SiO2)'!$A$3:$A$36,0),MATCH($F68,'表6(SiO2)'!$A$3:$Y$3,0)))","v":1},{"$f":"IF(OR($N95=0,A点!$AM$8=1,A点!$AM$8=\"○\"),1,INDEX('表6(SiO2)'!$A$3:$Y$36,MATCH($AX85,'表6(SiO2)'!$A$3:$A$36,0),MATCH($F68,'表6(SiO2)'!$A$3:$Y$3,0)))","v":1},null,null,null,"透過率",{"$f":"IF(OR($S95=0,A点!$AM$8=1,A点!$AM$8=\"○\"),1,INDEX('表6(SiO2)'!$A$3:$Y$36,MATCH($AY75,'表6(SiO2)'!$A$3:$A$36,0),MATCH($F68,'表6(SiO2)'!$A$3:$Y$3,0)))","v":1},{"$f":"IF(OR($T95=0,A点!$AM$8=1,A点!$AM$8=\"○\"),1,INDEX('表6(SiO2)'!$A$3:$Y$36,MATCH($AY85,'表6(SiO2)'!$A$3:$A$36,0),MATCH($F68,'表6(SiO2)'!$A$3:$Y$3,0)))","v":1},null,null,null,null,null,null,null,null,null,null,null,null,null,null,null,null,null,null,null,null,null,null,null,null,null,null,null,"第7遮蔽材",{"$f":"IF($AW100=\"11\",AB$8,\"\")","v":""},{"$f":"IF($AW100=\"11\",AB$20,\"\")","v":""},{"$f":"IF($AW100=\"11\",AB$32,\"\")","v":""}]
[null,null,null,"f)　木材(表7)",null,"等価厚さ",{"$f":"IF($G84=$AB$10,$W$9*$AE$13,0)","v":0},{"$f":"IF($H84=$AB$10,$W$9*$AE$13,0)","v":0},null,"f)　木材(表7)",null,"等価厚さ",{"$f":"IF($M84=$AB$22,$W$21*$AE$13,0)","v":0},{"$f":"IF($N84=$AB$22,$W$21*$AE$13,0)","v":0},null,"f)　木材(表7)",null,"等価厚さ",{"$f":"IF($S84=$AB$34,$W$33*$AE$13,0)","v":0},{"$f":"IF($T84=$AB$34,$W$33*$AE$13,0)","v":0}]
[null,null,null,null,null,"透過率",{"$f":"IF(OR($G97=0,A点!$AM$8=1,A点!$AM$8=\"○\"),1,INDEX('表7(木)'!$A$3:$Y$36,MATCH($AW76,'表7(木)'!$A$3:$A$36,0),MATCH($F68,'表7(木)'!$A$3:$Y$3,0)))","v":1},{"$f":"IF(OR($H97=0,A点!$AM$8=1,A点!$AM$8=\"○\"),1,INDEX('表7(木)'!$A$3:$Y$36,MATCH($AW86,'表7(木)'!$A$3:$A$36,0),MATCH($F68,'表7(木)'!$A$3:$Y$3,0)))","v":1},null,null,null,"透過率",{"$f":"IF(OR($M97=0,A点!$AM$8=1,A点!$AM$8=\"○\"),1,INDEX('表7(木)'!$A$3:$Y$36,MATCH($AX76,'表7(木)'!$A$3:$A$36,0),MATCH($F68,'表7(木)'!$A$3:$Y$3,0)))","v":1},{"$f":"IF(OR($N97=0,A点!$AM$8=1,A点!$AM$8=\"○\"),1,INDEX('表7(木)'!$A$3:$Y$36,MATCH($AX86,'表7(木)'!$A$3:$A$36,0),MATCH($F68,'表7(木)'!$A$3:$Y$3,0)))","v":1},null,null,null,"透過率",{"$f":"IF(OR($S97=0,A点!$AM$8=1,A点!$AM$8=\"○\"),1,INDEX('表7(木)'!$A$3:$Y$36,MATCH($AY76,'表7(木)'!$A$3:$A$36,0),MATCH($F68,'表7(木)'!$A$3:$Y$3,0)))","v":1},{"$f":"IF(OR($T97=0,A点!$AM$8=1,A点!$AM$8=\"○\"),1,INDEX('表7(木)'!$A$3:$Y$36,MATCH($AY86,'表7(木)'!$A$3:$A$36,0),MATCH($F68,'表7(木)'!$A$3:$Y$3,0)))","v":1},null,null,null,null,null,null,null,null,null,null,null,null,null,null,null,null,null,null,null,null,null,null,null,null,null,null,null,"遮蔽体有無",{"$f":"IF($S68>0,1,0)","v":0},"遮蔽体有：１"]
[null,null,null,null,null,null,null,null,null,null,null,null,null,null,null,null,null,null,null,null,null,null,null,null,null,null,null,null,null,null,null,null,null,null,null,null,null,null,null,null,null,null,null,null,null,null,null,"照射方向",{"$f":"IF($M69>0,1,2)","v":2},"直接線：1、散乱線：2"]
[null,null,null,"b)　第２遮蔽材以後による一次線の減衰表9",null,null,null,null,null,"b)　第２遮蔽材以後による一次線の減衰表9",null,null,null,null,null,"b)　第２遮蔽材以後による一次線の減衰表9",null,null,null,null,null,null,null,null,null,null,null,null,null,null,null,null,null,null,null,null,null,null,null,null,null,null,null,null,null,null,null,"判定コード",{"$f":"AW98&AW99","v":"02"}]
[null,null,null,null,"Dt2=",{"$f":"F104*F106*F108*F110*F112*F114","v":0},{"$f":"G104*G106*G108*G110*G112*G114","v":0},0,null,null,"Dt2=",{"$f":"L104*L106*L108*L110*L112*L114","v":0},{"$f":"M104*M106*M108*M110*M112*M114","v":0},0,null,null,"Dt2=",{"$f":"R104*R106*R108*R110*R112*R114","v":0},{"$f":"S104*S106*S108*S110*S112*S114","v":0},0]
[null,null,null,null,null,"一次線用","散乱線用","漏洩線用",null,null,null,"一次線用","散乱線用","漏洩線用",null,null,null,"一次線用","散乱線用","漏洩線用"]
[null,null,null,"a)　鉛(表9)","半価層(mm)",{"$f":"IF(OR(A点!$AM$8=1,A点!$AM$8=\"○\"),\"\",VLOOKUP($F68,'表9(BB)'!$A$4:$M$27,2,0))","v":""},null,null,null,"a)　鉛(表9)","半価層(mm)",{"$f":"IF(OR(A点!$AM$8=1,A点!$AM$8=\"○\"),\"\",VLOOKUP($F68,'表9(BB)'!$A$4:$M$27,2,0))","v":""},null,null,null,"a)　鉛(表9)","半価層(mm)",{"$f":"IF(OR(A点!$AM$8=1,A点!$AM$8=\"○\"),\"\",VLOOKUP($F68,'表9(BB)'!$A$4:$M$27,2,0))","v":""}]
[null,null,null,null,"透過率",{"$f":"IF($S$68>0,$H104,$G104)","v":0},{"$f":"IF($F103=\"\",0,(1/2)^($W18*$AE$8/$F103))","v":0},{"$f":"IF($F103=\"\",0,(1/2)^($W17*$AE$8/$F103))","v":0},null,null,"透過率",{"$f":"IF($S$68>0,$N104,$M104)","v":0},{"$f":"IF($L103=\"\",0,(1/2)^($W30*$AE$8/$L103))","v":0},{"$f":"IF($L103=\"\",0,(1/2)^($W29*$AE$8/$L103))","v":0},null,null,"透過率",{"$f":"IF($S$68>0,$T104,$S104)","v":0},{"$f":"IF($R103=\"\",0,(1/2)^($W42*$AE$8/$R103))","v":0},{"$f":"IF($R103=\"\",0,(1/2)^($W41*$AE$8/$R103))","v":0}]
[null,null,null,"b)　コンクリート(表9)","半価層(mm)",{"$f":"IF(OR(A点!$AM$8=1,A点!$AM$8=\"○\"),\"\",VLOOKUP($F68,'表9(BB)'!$A$4:$M$27,4,0))","v":""},null,null,null,"b)　コンクリート(表9)","半価層(mm)",{"$f":"IF(OR(A点!$AM$8=1,A点!$AM$8=\"○\"),\"\",VLOOKUP($F68,'表9(BB)'!$A$4:$M$27,4,0))","v":""},null,null,null,"b)　コンクリート(表9)","半価層(mm)",{"$f":"IF(OR(A点!$AM$8=1,A点!$AM$8=\"○\"),\"\",VLOOKUP($F68,'表9(BB)'!$A$4:$M$27,4,0))","v":""}]
[null,null,null,null,"透過率",{"$f":"IF($S$68>0,$H106,$G106)","v":0},{"$f":"IF($F105=\"\",0,(1/2)^($X18*$AE$9/$F105))","v":0},{"$f":"IF($F105=\"\",0,(1/2)^($X17*$AE$9/$F105))","v":0},null,null,"透過率",{"$f":"IF($S$68>0,$N106,$M106)","v":0},{"$f":"IF($L105=\"\",0,(1/2)^($X30*$AE$9/$L105))","v":0},{"$f":"IF($L105=\"\",0,(1/2)^($X29*$AE$9/$L105))","v":0},null,null,"透過率",{"$f":"IF($S$68>0,$T106,$S106)","v":0},{"$f":"IF($R105=\"\",0,(1/2)^($X42*$AE$9/$R105))","v":0},{"$f":"IF($R105=\"\",0,(1/2)^($X41*$AE$9/$R105))","v":0}]
[null,null,null,"c)　鉄(表9)","半価層(mm)",{"$f":"IF(OR(A点!$AM$8=1,A点!$AM$8=\"○\"),\"\",VLOOKUP($F68,'表9(BB)'!$A$4:$M$27,6,0))","v":""},null,null,null,"c)　鉄(表9)","半価層(mm)",{"$f":"IF(OR(A点!$AM$8=1,A点!$AM$8=\"○\"),\"\",VLOOKUP($F68,'表9(BB)'!$A$4:$M$27,6,0))","v":""},null,null,null,"c)　鉄(表9)","半価層(mm)",{"$f":"IF(OR(A点!$AM$8=1,A点!$AM$8=\"○\"),\"\",VLOOKUP($F68,'表9(BB)'!$A$4:$M$27,6,0))","v":""}]
[null,null,null,null,"透過率",{"$f":"IF($S$68>0,$H108,$G108)","v":0},{"$f":"IF($F107=\"\",0,(1/2)^($Y18*$AE$10/$F107))","v":0},{"$f":"IF($F107=\"\",0,(1/2)^($Y17*$AE$10/$F107))","v":0},null,null,"透過率",{"$f":"IF($S$68>0,$N108,$M108)","v":0},{"$f":"IF($L107=\"\",0,(1/2)^($Y30*$AE$10/$L107))","v":0},{"$f":"IF($L107=\"\",0,(1/2)^($Y29*$AE$10/$L107))","v":0},null,null,"透過率",{"$f":"IF($S$68>0,$T108,$S108)","v":0},{"$f":"IF($R107=\"\",0,(1/2)^($Y42*$AE$10/$R107))","v":0},{"$f":"IF($R107=\"\",0,(1/2)^($Y41*$AE$10/$R107))","v":0}]
[null,null,null,"d)　石膏(表9)","半価層(mm)",{"$f":"IF(OR(A点!$AM$8=1,A点!$AM$8=\"○\"),\"\",VLOOKUP($F68,'表9(BB)'!$A$4:$M$27,8,0))","v":""},null,null,null,"d)　石膏(表9)","半価層(mm)",{"$f":"IF(OR(A点!$AM$8=1,A点!$AM$8=\"○\"),\"\",VLOOKUP($F68,'表9(BB)'!$A$4:$M$27,8,0))","v":""},null,null,null,"d)　石膏(表9)","半価層(mm)",{"$f":"IF(OR(A点!$AM$8=1,A点!$AM$8=\"○\"),\"\",VLOOKUP($F68,'表9(BB)'!$A$4:$M$27,8,0))","v":""}]
[null,null,null,null,"透過率",{"$f":"IF($S$68>0,$H110,$G110)","v":0},{"$f":"IF($F109=\"\",0,(1/2)^($Z18*$AE$11/$F109))","v":0},{"$f":"IF($F109=\"\",0,(1/2)^($Z17*$AE$11/$F109))","v":0},null,null,"透過率",{"$f":"IF($S$68>0,$N110,$M110)","v":0},{"$f":"IF($L109=\"\",0,(1/2)^($Z30*$AE$11/$L109))","v":0},{"$f":"IF($L109=\"\",0,(1/2)^($Z29*$AE$11/$L109))","v":0},null,null,"透過率",{"$f":"IF($S$68>0,$T110,$S110)","v":0},{"$f":"IF($R109=\"\",0,(1/2)^($Z42*$AE$11/$R109))","v":0},{"$f":"IF($R109=\"\",0,(1/2)^($Z41*$AE$11/$R109))","v":0}]
[null,null,null,"e）　ガラス(表9)","半価層(mm)",{"$f":"IF(OR(A点!$AM$8=1,A点!$AM$8=\"○\"),\"\",VLOOKUP($F68,'表9(BB)'!$A$4:$M$27,10,0))","v":""},null,null,null,"e）　ガラス(表9)","半価層(mm)",{"$f":"IF(OR(A点!$AM$8=1,A点!$AM$8=\"○\"),\"\",VLOOKUP($F68,'表9(BB)'!$A$4:$M$27,10,0))","v":""},null,null,null,"e）　ガラス(表9)","半価層(mm)",{"$f":"IF(OR(A点!$AM$8=1,A点!$AM$8=\"○\"),\"\",VLOOKUP($F68,'表9(BB)'!$A$4:$M$27,10,0))","v":""}]
[null,null,null,null,"透過率",{"$f":"IF($S$68>0,$H112,$G112)","v":0},{"$f":"IF($F111=\"\",0,(1/2)^($AA18*$AE$12/$F111))","v":0},{"$f":"IF($F111=\"\",0,(1/2)^($AA17*$AE$12/$F111))","v":0},null,null,"透過率",{"$f":"IF($S$68>0,$N112,$M112)","v":0},{"$f":"IF($L111=\"\",0,(1/2)^($AA30*$AE$12/$L111))","v":0},{"$f":"IF($L111=\"\",0,(1/2)^($AA29*$AE$12/$L111))","v":0},null,null,"透過率",{"$f":"IF($S$68>0,$T112,$S112)","v":0},{"$f":"IF($R111=\"\",0,(1/2)^($AA42*$AE$12/$R111))","v":0},{"$f":"IF($R111=\"\",0,(1/2)^($AA41*$AE$12/$R111))","v":0}]
[null,null,null,"f)　木材(表9)","半価層(mm)",{"$f":"IF(OR(A点!$AM$8=1,A点!$AM$8=\"○\"),\"\",VLOOKUP($F68,'表9(BB)'!$A$4:$M$27,12,0))","v":""},null,null,null,"f)　木材(表9)","半価層(mm)",{"$f":"IF(OR(A点!$AM$8=1,A点!$AM$8=\"○\"),\"\",VLOOKUP($F68,'表9(BB)'!$A$4:$M$27,12,0))","v":""},null,null,null,"f)　木材(表9)","半価層(mm)",{"$f":"IF(OR(A点!$AM$8=1,A点!$AM$8=\"○\"),\"\",VLOOKUP($F68,'表9(BB)'!$A$4:$M$27,12,0))","v":""}]
[null,null,null,null,"透過率",{"$f":"IF($S$68>0,$H114,$G114)","v":0},{"$f":"IF($F113=\"\",0,(1/2)^($AB18*$AE$13/$F113))","v":0},{"$f":"IF($F113=\"\",0,(1/2)^($AB17*$AE$13/$F113))","v":0},null,null,"透過率",{"$f":"IF($S$68>0,$N114,$M114)","v":0},{"$f":"IF(L113=\"\",0,(1/2)^($AB30*$AE$13/$L113))","v":0},{"$f":"IF($L113=\"\",0,(1/2)^($AB29*$AE$13/$L113))","v":0},null,null,"透過率",{"$f":"IF($S$68>0,$T114,$S114)","v":0},{"$f":"IF($R113=\"\",0,(1/2)^($AB42*$AE$13/$R113))","v":0},{"$f":"IF($R113=\"\",0,(1/2)^($AB41*$AE$13/$R113))","v":0}]
[]
[]
[null,null,null,"2)　Es：散乱エックス線の漏洩線量(散乱角90度)",null,null,null,null,null,"2)　Es：散乱エックス線の漏洩線量(散乱角90度)",null,null,null,null,null,"2)　Es：散乱エックス線の漏洩線量(散乱角90度)"]
[null,null,null,null,"Dt=",{"$f":"H85*G101","v":0},null,null,null,null,"Dt=",{"$f":"N85*M101","v":0},null,null,null,null,"Dt=",{"$f":"T85*S101","v":0}]
[null,null,null,null,"Es=",{"$f":"IF(OR($F68=0,$M70=0,$M71=0,AND($W$8=0,$W$45>0),A点!$AQ$7=1),0,$G68*$G72*$G71*F118*$M67*$M68*($K71/100)*$K72/(400*($M70^2)*($M71^2)))","v":0},"μSv/3ヶ月",null,null,null,"Es=",{"$f":"IF(OR($F68=0,$M70=0,$M71=0,AND($W$20=0,$W$45>0),A点!$AQ$7=1),0,$G68*$G72*$G71*L118*$M67*$M68*($K71/100)*$K72/(400*($M70^2)*($M71^2)))","v":0},"μSv/3ヶ月",null,null,null,"Es=",{"$f":"IF(OR($F68=0,$M70=0,$M71=0,AND($W$32=0,$W$45>0),A点!$AQ$7=1),0,$G68*$G72*$G71*R118*$M67*$M68*($K71/100)*$K72/(400*($M70^2)*($M71^2)))","v":0},"μSv/3ヶ月"]
[]
[]
[null,null,null,"3)　EL：エックス線管容器からの漏洩線量(最大見積)",null,null,null,null,null,"3)　EL：エックス線管容器からの漏洩線量(最大見積)",null,null,null,null,null,"3)　EL：エックス線管容器からの漏洩線量(最大見積)"]
[]
[null,null,null,null,"EL=",{"$f":"IF(OR($F68=0,$M72=0,AND($W$8=0,$W$45>0),A点!$AQ$7=1),0,$S77*$G71*$M73*H101*$M67*$M68/($M72^2))","v":0},"μGy/h",null,null,null,"EL=",{"$f":"IF(OR($F68=0,$M72=0,AND($W$20=0,$W$45>0),A点!$AQ$7=1),0,$S77*$G71*$M73*N101*$M67*$M68/($M72^2))","v":0},"μGy/h",null,null,null,"EL=",{"$f":"IF(OR($F68=0,$F68=0,$M72=0,AND($W$32=0,$W$45>0)),0,$S77*$G71*$M73*T101*$M67*$M68/($M72^2))","v":0},"μGy/h"]
[]
[]
[null,"CT撮影",null,"①　X：空気カーマ(表1)",null,null,null,"④　使用係数",null,null,null,"Ｕ＝",1,null,null,"1)対向板による一次線の減衰(表２)",null,null,null,null,null,null,null,null,null,null,null,null,null,null,null,null,null,null,null,null,null,null,null,null,null,null,null,null,null,null,"③CT用透過率（表2-7）"]
[null,null,null,null,"使用管電圧",{"$f":"A点!$F$128","v":0},{"$f":"A点!$G$128","v":0},"⑤　居住係数",null,null,null,"Ｔ＝",1,null,null,null,null,"等価厚さ",{"$f":"入力用シート!$AA$10","v":0},"mm",null,null,null,null,null,null,null,null,null,null,null,null,null,null,null,null,null,null,null,null,null,null,null,null,null,null,"1)直接線用"]
[null,null,null,null,"電流",{"$f":"A点!$F$129","v":0},null,"⑥　距離",null,null,null,"d1=",{"$f":"M9","v":0},"ｍ",null,null,"使用管電圧",{"$f":"A点!$AN$5","v":0},null,null,null,null,null,null,null,null,null,null,null,null,null,null,null,null,null,null,null,null,null,null,null,null,null,null,null,null,"遮蔽厚参照値"]
[null,null,null,"②　E/Ka：空気カーマ換算係数（表10）",null,null,null,"⑧　照射野400cm2空気ｶｰﾏ率表8",null,null,null,"d2=",{"$f":"M10","v":0},"ｍ",null,null,"透過率",{"$f":"IF(A点!$AN$8=\"○\",\"\",IF(A点!$AN$8=1,\"データなし\",IF($S128>3,HLOOKUP($R129,'表２(Pb)'!$B$3:$Y$36,32+ROUNDDOWN(($S128-3)/0.5,0),0),HLOOKUP($R129,'表２(Pb)'!$B$3:$Y$36,2+S128/0.1,0))))","v":""},null,null,null,null,null,null,null,null,null,null,null,null,null,null,null,null,null,null,null,null,null,null,null,null,null,null,null,null,null,null,"F点","F'点","F\"点"]
[null,null,null,null,"使用管電圧",{"$f":"A点!$F$131","v":0},{"$f":"A点!$G$131","v":0},null,null,null,{"$f":"A点!$AN$7","v":0},"d3=",0,"ｍ",null,null,null,null,null,null,null,null,null,null,null,null,null,null,null,null,null,null,null,null,null,null,null,null,null,null,null,null,null,null,null,null,null,"Pb",{"$f":"IF($G147=0,\"\",IF($G147<=3,INT(10*$G147)/10,IF($G147>4,4,0.5*INT($G147/0.5))))","v":""},{"$f":"IF($M147=0,\"\",IF($M147<=3,INT(10*$M147)/10,IF($M147>4,4,0.5*INT($M147/0.5))))","v":""},{"$f":"IF($S147=0,\"\",IF($S147<=3,INT(10*$S147)/10,IF($S147>4,4,0.5*INT($S147/0.5))))","v":""}]
[null,null,null,"③　W：３Ｍ実効稼動負荷",null,"合計",{"$f":"13*(入力用シート!$L$32*入力用シート!$Q$32*入力用シート!$H$33*入力用シート!$L$33*入力用シート!$Q$33)","v":0},"⑨　受像面照射野",null,null,{"$f":"入力用シート!$E$17","v":60},"d4=",0,"ｍ",null,null,null,null,null,null,null,null,null,null,null,null,null,null,null,null,null,null,null,null,null,null,null,null,null,null,null,null,null,null,null,null,null,"ｺﾝｸﾘ",{"$f":"IF($G149=0,\"\",IF($G149<=300,INT($G149/10)*10,IF($G149>400,400,50*INT($G149/50))))","v":""},{"$f":"IF($M149=0,\"\",IF($M149<=300,INT($M149/10)*10,IF($M149>400,400,50*INT($M149/50))))","v":""},{"$f":"IF($S149=0,\"\",IF($S149<=300,INT($S149/10)*10,IF($S149>400,400,50*INT($S149/50))))","v":""}]
[null,null,null,null,null,null,null,"⑩　tw：３月間における稼働時間(h)",null,null,null,null,{"$f":"IF(F129=0,0,G132/(F129*3600))","v":0},null,null,"機器の種類",null,"管容器からの空気ｶｰﾏ率（mGy/h）",null,null,null,null,null,null,null,null,null,null,null,null,null,null,null,null,null,null,null,null,null,null,null,null,null,null,null,null,null,"Fe",{"$f":"IF($G151=0,\"\",IF($G151<=30,INT($G151),IF($G151>40,40,5*INT($G151/5))))","v":""},{"$f":"IF($M151=0,\"\",IF($M151<=30,INT($M151),IF($M151>40,40,5*INT($M151/5))))","v":""},{"$f":"IF($S151=0,\"\",IF($S151<=30,INT($S151),IF($S151>40,40,5*INT($S151/5))))","v":""}]
[null,null,null,"F点の漏洩エックス線量の計算(利用線錘方向）",null,null,null,null,"F点の漏洩エックス線量の計算(被写体・管球）",null,null,null,null,null,1,"治療用ｴｯｸｽ線装置（≧50ｋV）",null,1,"選んだ機器",null,null,null,null,null,null,null,null,null,null,null,null,null,null,null,null,null,null,null,null,null,null,null,null,null,null,null,null,"石膏",{"$f":"IF($G153=0,\"\",IF($G153<=30,INT($G153),IF($G153>40,40,5*INT($G153/5))))","v":""},{"$f":"IF($M153=0,\"\",IF($M153<=30,INT($M153),IF($M153>40,40,5*INT($M153/5))))","v":""},{"$f":"IF($S153=0,\"\",IF($S153<=30,INT($S153),IF($S153>40,40,5*INT($S153/5))))","v":""}]
[null,null,null,null,"Ea=",{"$f":"MAX(F141,L141,R141)","v":0},"μSv/3ヶ月",null,null,"Es＝",{"$f":"MAX(F179,L179,R179)","v":0},"μSv/3ヶ月",null,null,2,"治療用ｴｯｸｽ線装置（＜50ｋV）",null,10,{"$f":"入力用シート!$C$7","v":0},null,null,null,null,null,null,null,null,null,null,null,null,null,null,null,null,null,null,null,null,null,null,null,null,null,null,null,null,"ｶﾞﾗｽ",{"$f":"IF($G155=0,\"\",IF($G155<=30,INT($G155),IF($G155>40,40,5*INT($G155/5))))","v":""},{"$f":"IF($M155=0,\"\",IF($M155<=30,INT($M155),IF($M155>40,40,5*INT($M155/5))))","v":""},{"$f":"IF($S155=0,\"\",IF($S155<=30,INT($S155),IF($S155>40,40,5*INT($S155/5))))","v":""}]
[null,null,null,null,null,null,null,null,null,"EL＝",{"$f":"MAX(F184,L184,R184)","v":0},"μSv/3ヶ月",null,null,3,"口内法撮影用X線装置（≦120ｋV）",null,0.25,"選ばれた空気ｶｰﾏ率XL",null,null,null,null,null,null,null,null,null,null,null,null,null,null,null,null,null,null,null,null,null,null,null,null,null,null,null,null,"木材",{"$f":"IF($G157=0,\"\",IF($G157<=300,INT($G157/10)*10,IF($G157>400,400,50*INT($G157/50))))","v":""},{"$f":"IF($M157=0,\"\",IF($M157<=300,INT($M157/10)*10,IF($M157>400,400,50*INT($M157/50))))","v":""},{"$f":"IF($S157=0,\"\",IF($S157<=300,INT($S157/10)*10,IF($S157>400,400,50*INT($S157/50))))","v":""}]
[null,null,null,null,null,null,null,null,null,"合計",{"$f":"+K135+K136","v":0},null,null,null,4,"上記以外の診断用X線装置",null,1,{"$f":"IF(S135=0,0,VLOOKUP(S135,O134:R137,4,0)*1000)","v":0}]
[null,null,null,null,null,null,null,null,null,null,null,null,null,null,null,null,null,null,null,null,null,null,null,null,null,null,null,null,null,null,null,null,null,null,null,null,null,null,null,null,null,null,null,null,null,null,"2)散乱線用"]
[null,null,null,"F点の計算",null,null,null,null,null,"F'点の計算",null,null,null,null,null,"F\"点の計算",null,null,null,null,null,null,null,null,null,null,null,null,null,null,null,null,null,null,null,null,null,null,null,null,null,null,null,null,null,null,"遮蔽厚参照値"]
[null,null,null,"1) Ep：一次エックス線（撮影方向）",null,null,null,null,null,"1) Ep：一次エックス線（撮影方向）",null,null,null,null,null,"1) Ep：一次エックス線（撮影方向）",null,null,null,null,null,null,null,null,null,null,null,null,null,null,null,null,null,null,null,null,null,null,null,null,null,null,null,null,null,null,null,null,"F点","F'点","F\"点"]
[null,null,null,"　",null,{"$f":"IF(OR($F128=0,$M129=0,A点!$AQ$7=1,AND($W$8=0,$W$45>0)),0,($G128*$R130*$G145*$F161*0.25*$G132*$G131*$M127*$M128)/($M129^2))","v":0},"μSv/3ヶ月",null,null,"　",null,{"$f":"IF(OR($F128=0,$M129=0,A点!$AQ$7=1,AND($W$20=0,$W$45>0)),0,($G128*$R130*$M145*$L161*0.25*$G132*$G131*$M127*$M128)/($M129^2))","v":0},"μSv/3ヶ月",null,null,"　",null,{"$f":"IF(OR($F128=0,$M129=0,A点!$AQ$7=1,AND($W$32=0,$W$45>0)),0,($G128*$R130*$S145*$R161*0.25*$G132*$G131*$M127*$M128)/($M129^2))","v":0},"μSv/3ヶ月",null,null,null,null,null,null,null,null,null,null,null,null,null,null,null,null,null,null,null,null,null,null,null,null,null,null,null,null,"Pb",{"$f":"IF($H147=0,\"\",IF($H147<=3,INT(10*$H147)/10,IF($H147>4,4,0.5*INT($H147/0.5))))","v":""},{"$f":"IF($N147=0,\"\",IF($N147<=3,INT(10*$N147)/10,IF($N147>4,4,0.5*INT($N147/0.5))))","v":""},{"$f":"IF($T147=0,\"\",IF($T147<=3,INT(10*$T147)/10,IF($T147>4,4,0.5*INT($T147/0.5))))","v":""}]
[null,null,null,null,null,null,null,null,null,null,null,null,null,null,null,null,null,null,null,null,null,null,null,null,null,null,null,null,null,null,null,null,null,null,null,null,null,null,null,null,null,null,null,null,null,null,null,"ｺﾝｸﾘ",{"$f":"IF($H149=0,\"\",IF($H149<=300,INT($H149/10)*10,IF($H149>400,400,50*INT($H149/50))))","v":""},{"$f":"IF($N149=0,\"\",IF($N149<=300,INT($N149/10)*10,IF($N149>400,400,50*INT($N149/50))))","v":""},{"$f":"IF($T149=0,\"\",IF($T149<=300,INT($T149/10)*10,IF($T149>400,400,50*INT($T149/50))))","v":""}]
[null,null,null,"a) 第１遮蔽材による減衰(遮蔽体がある場合透過率=1)",null,null,null,null,null,"a) 第１遮蔽材による減衰(遮蔽体がある場合透過率=1)",null,null,null,null,null,"a) 第１遮蔽材による減衰(遮蔽体がある場合透過率=1)",null,null,null,null,null,null,null,null,null,null,null,null,null,null,null,null,null,null,null,null,null,null,null,null,null,null,null,null,null,null,null,"Fe",{"$f":"IF($H151=0,\"\",IF($H151<=30,INT($H151),IF($H151>40,40,5*INT($H151/5))))","v":""},{"$f":"IF($N151=0,\"\",IF($N151<=30,INT($N151),IF($N151>40,40,5*INT($N151/5))))","v":""},{"$f":"IF($T151=0,\"\",IF($T151<=30,INT($T151),IF($T151>40,40,5*INT($T151/5))))","v":""}]
[null,null,null,null,null,"第1遮蔽材",{"$f":"IF($S$128>0,\"遮蔽体\",$W$8)","v":0},{"$f":"$W$8","v":0},null,null,null,"第1遮蔽材",{"$f":"IF($S$128>0,\"遮蔽体\",$W$20)","v":0},{"$f":"$W$20","v":0},null,null,null,"第1遮蔽材",{"$f":"IF($S$128>0,\"遮蔽体\",$W$32)","v":0},{"$f":"$W$32","v":0},null,null,null,null,null,null,null,null,null,null,null,null,null,null,null,null,null,null,null,null,null,null,null,null,null,null,null,"石膏",{"$f":"IF($H153=0,\"\",IF($H153<=30,INT($H153),IF($H153>40,40,5*INT($H153/5))))","v":""},{"$f":"IF($N153=0,\"\",IF($N153<=30,INT($N153),IF($N153>40,40,5*INT($N153/5))))","v":""},{"$f":"IF($T153=0,\"\",IF($T153<=30,INT($T153),IF($T153>40,40,5*INT($T153/5))))","v":""}]
[null,null,null,null,null,"Dt1=",{"$f":"G148*G150*G152*G154*G156*G158","v":1},{"$f":"H148*H150*H152*H154*H156*H158","v":1},null,null,null,"Dt1=",{"$f":"M148*M150*M152*M154*M156*M158","v":1},{"$f":"N148*N150*N152*N154*N156*N158","v":1},null,null,null,"Dt1=",{"$f":"S148*S150*S152*S154*S156*S158","v":1},{"$f":"T148*T150*T152*T154*T156*T158","v":1},null,null,null,null,null,null,null,null,null,null,null,null,null,null,null,null,null,null,null,null,null,null,null,null,null,null,null,"ｶﾞﾗｽ",{"$f":"IF($H155=0,\"\",IF($H155<=30,INT($H155),IF($H155>40,40,5*INT($H155/5))))","v":""},{"$f":"IF($N155=0,\"\",IF($N155<=30,INT($N155),IF($N155>40,40,5*INT($N155/5))))","v":""},{"$f":"IF($T155=0,\"\",IF($T155<=30,INT($T155),IF($T155>40,40,5*INT($T155/5))))","v":""}]
[null,null,null,null,null,null,"一次線用","散乱線用",null,null,null,null,"一次線用","散乱線用",null,null,null,null,"一次線用","散乱線用",null,null,null,null,null,null,null,null,null,null,null,null,null,null,null,null,null,null,null,null,null,null,null,null,null,null,null,"木材",{"$f":"IF($H157=0,\"\",IF($H157<=300,INT($H157/10)*10,IF($H157>400,400,50*INT($H157/50))))","v":""},{"$f":"IF($N157=0,\"\",IF($N157<=300,INT($N157/10)*10,IF($N157>400,400,50*INT($N157/50))))","v":""},{"$f":"IF($T157=0,\"\",IF($T157<=300,INT($T157/10)*10,IF($T157>400,400,50*INT($T157/50))))","v":""}]
[null,null,null,"a)　鉛(表2)",null,"等価厚さ",{"$f":"IF($G144=$W$10,$W$9*$AE$8,0)","v":0},{"$f":"IF($H144=$W$10,$W$9*$AE$8,0)","v":0},null,"a)　鉛(表2)",null,"等価厚さ",{"$f":"IF($M144=$W$22,$W$21*$AE$8,0)","v":0},{"$f":"IF($N144=$W$22,$W$21*$AE$8,0)","v":0},null,"a)　鉛(表2)",null,"等価厚さ",{"$f":"IF($S144=$W$34,$W$33*$AE$8,0)","v":0},{"$f":"IF($T144=$W$34,$W$33*$AE$8,0)","v":0}]
[null,null,null,null,null,"透過率",{"$f":"IF(OR($G147=0,A点!$AN$8=1,A点!$AN$8=\"○\"),1,INDEX('表２(Pb)'!$A$3:$Y$36,MATCH($AW131,'表２(Pb)'!$A$3:$A$36,0),MATCH($F128,'表２(Pb)'!$A$3:$Y$3,0)))","v":1},{"$f":"IF(OR($H147=0,A点!$AN$8=1,A点!$AN$8=\"○\"),1,INDEX('表２(Pb)'!$A$3:$Y$36,MATCH($AW141,'表２(Pb)'!$A$3:$A$36,0),MATCH($F128,'表２(Pb)'!$A$3:$Y$3,0)))","v":1},null,null,null,"透過率",{"$f":"IF(OR($M147=0,A点!$AN$8=1,A点!$AN$8=\"○\"),1,INDEX('表２(Pb)'!$A$3:$Y$36,MATCH($AX131,'表２(Pb)'!$A$3:$A$36,0),MATCH($F128,'表２(Pb)'!$A$3:$Y$3,0)))","v":1},{"$f":"IF(OR($N147=0,A点!$AN$8=1,A点!$AN$8=\"○\"),1,INDEX('表２(Pb)'!$A$3:$Y$36,MATCH($AX141,'表２(Pb)'!$A$3:$A$36,0),MATCH($F128,'表２(Pb)'!$A$3:$Y$3,0)))","v":1},null,null,null,"透過率",{"$f":"IF(OR($S147=0,A点!$AN$8=1,A点!$AN$8=\"○\"),1,INDEX('表２(Pb)'!$A$3:$Y$36,MATCH($AY131,'表２(Pb)'!$A$3:$A$36,0),MATCH($F128,'表２(Pb)'!$A$3:$Y$3,0)))","v":1},{"$f":"IF(OR($T147=0,A点!$AN$8=1,A点!$AN$8=\"○\"),1,INDEX('表２(Pb)'!$A$3:$Y$36,MATCH($AY141,'表２(Pb)'!$A$3:$A$36,0),MATCH($F128,'表２(Pb)'!$A$3:$Y$3,0)))","v":1},null,null,null,null,null,null,null,null,null,null,null,null,null,null,null,null,null,null,null,null,null,null,null,null,null,null,"3)","遮蔽材順"]
[null,null,null,"b)　コンクリート(表3)",null,"等価厚さ",{"$f":"IF($G144=$X$10,$W$9*$AE$9,0)","v":0},{"$f":"IF($H144=$X$10,$W$9*$AE$9,0)","v":0},null,"b)　コンクリート(表3)",null,"等価厚さ",{"$f":"IF($M144=$X$22,$W$21*$AE$9,0)","v":0},{"$f":"IF($N144=$X$22,$W$21*$AE$9,0)","v":0},null,"b)　コンクリート(表3)",null,"等価厚さ",{"$f":"IF($S144=$X$34,$W$33*$AE$9,0)","v":0},{"$f":"IF($T144=$X$34,$W$33*$AE$9,0)","v":0},null,null,null,null,null,null,null,null,null,null,null,null,null,null,null,null,null,null,null,null,null,null,null,null,null,null,null,null,"F点","F'点","F\"点"]
[null,null,null,null,null,"透過率",{"$f":"IF(OR($G149=0,A点!$AN$8=1,A点!$AN$8=\"○\"),1,INDEX('表３(コ)'!$A$3:$Y$36,MATCH($AW132,'表３(コ)'!$A$3:$A$36,0),MATCH($F128,'表３(コ)'!$A$3:$Y$3,0)))","v":1},{"$f":"IF(OR($H149=0,A点!$AN$8=1,A点!$AN$8=\"○\"),1,INDEX('表３(コ)'!$A$3:$Y$36,MATCH($AW142,'表３(コ)'!$A$3:$A$36,0),MATCH($F128,'表３(コ)'!$A$3:$Y$3,0)))","v":1},null,null,null,"透過率",{"$f":"IF(OR($M149=0,A点!$AN$8=1,A点!$AN$8=\"○\"),1,INDEX('表３(コ)'!$A$3:$Y$36,MATCH($AX132,'表３(コ)'!$A$3:$A$36,0),MATCH($F128,'表３(コ)'!$A$3:$Y$3,0)))","v":1},{"$f":"IF(OR($N149=0,A点!$AN$8=1,A点!$AN$8=\"○\"),1,INDEX('表３(コ)'!$A$3:$Y$36,MATCH($AX142,'表３(コ)'!$A$3:$A$36,0),MATCH($F128,'表３(コ)'!$A$3:$Y$3,0)))","v":1},null,null,null,"透過率",{"$f":"IF(OR($S149=0,A点!$AN$8=1,A点!$AN$8=\"○\"),1,INDEX('表３(コ)'!$A$3:$Y$36,MATCH($AY132,'表３(コ)'!$A$3:$A$36,0),MATCH($F128,'表３(コ)'!$A$3:$Y$3,0)))","v":1},{"$f":"IF(OR($T149=0,A点!$AN$8=1,A点!$AN$8=\"○\"),1,INDEX('表３(コ)'!$A$3:$Y$36,MATCH($AY142,'表３(コ)'!$A$3:$A$36,0),MATCH($F128,'表３(コ)'!$A$3:$Y$3,0)))","v":1},null,null,null,null,null,null,null,null,null,null,null,null,null,null,null,null,null,null,null,null,null,null,null,null,null,null,null,"第1遮蔽材",{"$f":"IF($AW160=\"11\",G$144,H$144)","v":0},{"$f":"IF($AW160=\"11\",M$144,N$144)","v":0},{"$f":"IF($AW160=\"11\",S$144,T$144)","v":0}]
[null,null,null,"c)　鉄(表4)",null,"等価厚さ",{"$f":"IF($G144=$Y$10,$W$9*$AE$10,0)","v":0},{"$f":"IF($H144=$Y$10,$W$9*$AE$10,0)","v":0},null,"c)　鉄(表4)",null,"等価厚さ",{"$f":"IF($M144=$Y$22,$W$21*$AE$10,0)","v":0},{"$f":"IF($N144=$Y$22,$W$21*$AE$10,0)","v":0},null,"c)　鉄(表4)",null,"等価厚さ",{"$f":"IF($S144=$Y$34,$W$33*$AE$10,0)","v":0},{"$f":"IF($T144=$Y$34,$W$33*$AE$10,0)","v":0},null,null,null,null,null,null,null,null,null,null,null,null,null,null,null,null,null,null,null,null,null,null,null,null,null,null,null,"第2遮蔽材",{"$f":"IF($AW160=\"11\",W$8,X$8)","v":0},{"$f":"IF($AW160=\"11\",W$20,X$20)","v":0},{"$f":"IF($AW160=\"11\",W$32,X$32)","v":0}]
[null,null,null,null,null,"透過率",{"$f":"IF(OR($G151=0,A点!$AN$8=1,A点!$AN$8=\"○\"),1,INDEX('表4(Fe)'!$A$3:$Y$36,MATCH($AW133,'表4(Fe)'!$A$3:$A$36,0),MATCH($F128,'表4(Fe)'!$A$3:$Y$3,0)))","v":1},{"$f":"IF(OR($H151=0,A点!$AN$8=1,A点!$AN$8=\"○\"),1,INDEX('表4(Fe)'!$A$3:$Y$36,MATCH($AW143,'表4(Fe)'!$A$3:$A$36,0),MATCH($F128,'表4(Fe)'!$A$3:$Y$3,0)))","v":1},null,null,null,"透過率",{"$f":"IF(OR($M151=0,A点!$AN$8=1,A点!$AN$8=\"○\"),1,INDEX('表4(Fe)'!$A$3:$Y$36,MATCH($AX133,'表4(Fe)'!$A$3:$A$36,0),MATCH($F128,'表4(Fe)'!$A$3:$Y$3,0)))","v":1},{"$f":"IF(OR($N151=0,A点!$AN$8=1,A点!$AN$8=\"○\"),1,INDEX('表4(Fe)'!$A$3:$Y$36,MATCH($AX143,'表4(Fe)'!$A$3:$A$36,0),MATCH($F128,'表4(Fe)'!$A$3:$Y$3,0)))","v":1},null,null,null,"透過率",{"$f":"IF(OR($S151=0,A点!$AN$8=1,A点!$AN$8=\"○\"),1,INDEX('表4(Fe)'!$A$3:$Y$36,MATCH($AY133,'表4(Fe)'!$A$3:$A$36,0),MATCH($F128,'表4(Fe)'!$A$3:$Y$3,0)))","v":1},{"$f":"IF(OR($T151=0,A点!$AN$8=1,A点!$AN$8=\"○\"),1,INDEX('表4(Fe)'!$A$3:$Y$36,MATCH($AY143,'表4(Fe)'!$A$3:$A$36,0),MATCH($F128,'表4(Fe)'!$A$3:$Y$3,0)))","v":1},null,null,null,null,null,null,null,null,null,null,null,null,null,null,null,null,null,null,null,null,null,null,null,null,null,null,null,"第3遮蔽材",{"$f":"IF($AW160=\"11\",X$8,Y$8)","v":0},{"$f":"IF($AW160=\"11\",X$20,Y$20)","v":0},{"$f":"IF($AW160=\"11\",X$32,Y$32)","v":0}]
[null,null,null,"d)　石膏(表5)",null,"等価厚さ",{"$f":"IF($G144=$Z$10,$W$9*$AE$11,0)","v":0},{"$f":"IF($H144=$Z$10,$W$9*$AE$11,0)","v":0},null,"d)　石膏(表5)",null,"等価厚さ",{"$f":"IF($M144=$Z$22,$W$21*$AE$11,0)","v":0},{"$f":"IF($N144=$Z$22,$W$21*$AE$11,0)","v":0},null,"d)　石膏(表5)",null,"等価厚さ",{"$f":"IF($S144=$Z$34,$W$33*$AE$11,0)","v":0},{"$f":"IF($T144=$Z$34,$W$33*$AE$11,0)","v":0},null,null,null,null,null,null,null,null,null,null,null,null,null,null,null,null,null,null,null,null,null,null,null,null,null,null,null,"第4遮蔽材",{"$f":"IF($AW160=\"11\",Y$8,Z$8)","v":0},{"$f":"IF($AW160=\"11\",Y$20,Z$20)","v":0},{"$f":"IF($AW160=\"11\",Y$32,Z$32)","v":0}]
[null,null,null,null,null,"透過率",{"$f":"IF(OR($G153=0,A点!$AN$8=1,A点!$AN$8=\"○\"),1,INDEX('表5(CaSO4)'!$A$3:$Y$36,MATCH($AW134,'表5(CaSO4)'!$A$3:$A$36,0),MATCH($F128,'表5(CaSO4)'!$A$3:$Y$3,0)))","v":1},{"$f":"IF(OR($H153=0,A点!$AN$8=1,A点!$AN$8=\"○\"),1,INDEX('表5(CaSO4)'!$A$3:$Y$36,MATCH($AW144,'表5(CaSO4)'!$A$3:$A$36,0),MATCH($F128,'表5(CaSO4)'!$A$3:$Y$3,0)))","v":1},null,null,null,"透過率",{"$f":"IF(OR($M153=0,A点!$AN$8=1,A点!$AN$8=\"○\"),1,INDEX('表5(CaSO4)'!$A$3:$Y$36,MATCH($AX134,'表5(CaSO4)'!$A$3:$A$36,0),MATCH($F128,'表5(CaSO4)'!$A$3:$Y$3,0)))","v":1},{"$f":"IF(OR($N153=0,A点!$AN$8=1,A点!$AN$8=\"○\"),1,INDEX('表5(CaSO4)'!$A$3:$Y$36,MATCH($AX144,'表5(CaSO4)'!$A$3:$A$36,0),MATCH($F128,'表5(CaSO4)'!$A$3:$Y$3,0)))","v":1},null,null,null,"透過率",{"$f":"IF(OR($S153=0,A点!$AN$8=1,A点!$AN$8=\"○\"),1,INDEX('表5(CaSO4)'!$A$3:$Y$36,MATCH($AY134,'表5(CaSO4)'!$A$3:$A$36,0),MATCH($F128,'表5(CaSO4)'!$A$3:$Y$3,0)))","v":1},{"$f":"IF(OR($T153=0,A点!$AN$8=1,A点!$AN$8=\"○\"),1,INDEX('表5(CaSO4)'!$A$3:$Y$36,MATCH($AY144,'表5(CaSO4)'!$A$3:$A$36,0),MATCH($F128,'表5(CaSO4)'!$A$3:$Y$3,0)))","v":1},null,null,null,null,null,null,null,null,null,null,null,null,null,null,null,null,null,null,null,null,null,null,null,null,null,null,null,"第5遮蔽材",{"$f":"IF($AW160=\"11\",Z$8,AA$8)","v":0},{"$f":"IF($AW160=\"11\",Z$20,AA$20)","v":0},{"$f":"IF($AW160=\"11\",Z$32,AA$32)","v":0}]
[null,null,null,"e）　ガラス(表6)",null,"等価厚さ",{"$f":"IF($G144=$AA$10,$W$9*$AE$12,0)","v":0},{"$f":"IF($H144=$AA$10,$W$9*$AE$12,0)","v":0},null,"e）　ガラス(表6)",null,"等価厚さ",{"$f":"IF($M144=$AA$22,$W$21*$AE$12,0)","v":0},{"$f":"IF($N144=$AA$22,$W$21*$AE$12,0)","v":0},null,"e）　ガラス(表6)",null,"等価厚さ",{"$f":"IF($S144=$AA$34,$W$33*$AE$12,0)","v":0},{"$f":"IF($T144=$AA$34,$W$33*$AE$12,0)","v":0},null,null,null,null,null,null,null,null,null,null,null,null,null,null,null,null,null,null,null,null,null,null,null,null,null,null,null,"第6遮蔽材",{"$f":"IF($AW160=\"11\",AA$8,AB$8)","v":0},{"$f":"IF($AW160=\"11\",AA$20,AB$20)","v":0},{"$f":"IF($AW160=\"11\",AA$32,AB$32)","v":0}]
[null,null,null,null,null,"透過率",{"$f":"IF(OR($G155=0,A点!$AN$8=1,A点!$AN$8=\"○\"),1,INDEX('表6(SiO2)'!$A$3:$Y$36,MATCH($AW135,'表6(SiO2)'!$A$3:$A$36,0),MATCH($F128,'表6(SiO2)'!$A$3:$Y$3,0)))","v":1},{"$f":"IF(OR($H155=0,A点!$AN$8=1,A点!$AN$8=\"○\"),1,INDEX('表6(SiO2)'!$A$3:$Y$36,MATCH($AW145,'表6(SiO2)'!$A$3:$A$36,0),MATCH($F128,'表6(SiO2)'!$A$3:$Y$3,0)))","v":1},null,null,null,"透過率",{"$f":"IF(OR($M155=0,A点!$AN$8=1,A点!$AN$8=\"○\"),1,INDEX('表6(SiO2)'!$A$3:$Y$36,MATCH($AX135,'表6(SiO2)'!$A$3:$A$36,0),MATCH($F128,'表6(SiO2)'!$A$3:$Y$3,0)))","v":1},{"$f":"IF(OR($N155=0,A点!$AN$8=1,A点!$AN$8=\"○\"),1,INDEX('表6(SiO2)'!$A$3:$Y$36,MATCH($AX145,'表6(SiO2)'!$A$3:$A$36,0),MATCH($F128,'表6(SiO2)'!$A$3:$Y$3,0)))","v":1},null,null,null,"透過率",{"$f":"IF(OR($S155=0,A点!$AN$8=1,A点!$AN$8=\"○\"),1,INDEX('表6(SiO2)'!$A$3:$Y$36,MATCH($AY135,'表6(SiO2)'!$A$3:$A$36,0),MATCH($F128,'表6(SiO2)'!$A$3:$Y$3,0)))","v":1},{"$f":"IF(OR($T155=0,A点!$AN$8=1,A点!$AN$8=\"○\"),1,INDEX('表6(SiO2)'!$A$3:$Y$36,MATCH($AY145,'表6(SiO2)'!$A$3:$A$36,0),MATCH($F128,'表6(SiO2)'!$A$3:$Y$3,0)))","v":1},null,null,null,null,null,null,null,null,null,null,null,null,null,null,null,null,null,null,null,null,null,null,null,null,null,null,null,"第7遮蔽材",{"$f":"IF($AW160=\"11\",AB$8,\"\")","v":""},{"$f":"IF($AW160=\"11\",AB$20,\"\")","v":""},{"$f":"IF($AW160=\"11\",AB$32,\"\")","v":""}]
[null,null,null,"f)　木材(表7)",null,"等価厚さ",{"$f":"IF($G144=$AB$10,$W$9*$AE$13,0)","v":0},{"$f":"IF($H144=$AB$10,$W$9*$AE$13,0)","v":0},null,"f)　木材(表7)",null,"等価厚さ",{"$f":"IF($M144=$AB$22,$W$21*$AE$13,0)","v":0},{"$f":"IF($N144=$AB$22,$W$21*$AE$13,0)","v":0},null,"f)　木材(表7)",null,"等価厚さ",{"$f":"IF($S144=$AB$34,$W$33*$AE$13,0)","v":0},{"$f":"IF($T144=$AB$34,$W$33*$AE$13,0)","v":0}]
[null,null,null,null,null,"透過率",{"$f":"IF(OR($G157=0,A点!$AN$8=1,A点!$AN$8=\"○\"),1,INDEX('表7(木)'!$A$3:$Y$36,MATCH($AW136,'表7(木)'!$A$3:$A$36,0),MATCH($F128,'表7(木)'!$A$3:$Y$3,0)))","v":1},{"$f":"IF(OR($H157=0,A点!$AN$8=1,A点!$AN$8=\"○\"),1,INDEX('表7(木)'!$A$3:$Y$36,MATCH($AW146,'表7(木)'!$A$3:$A$36,0),MATCH($F128,'表7(木)'!$A$3:$Y$3,0)))","v":1},null,null,null,"透過率",{"$f":"IF(OR($M157=0,A点!$AN$8=1,A点!$AN$8=\"○\"),1,INDEX('表7(木)'!$A$3:$Y$36,MATCH($AX136,'表7(木)'!$A$3:$A$36,0),MATCH($F128,'表7(木)'!$A$3:$Y$3,0)))","v":1},{"$f":"IF(OR($N157=0,A点!$AN$8=1,A点!$AN$8=\"○\"),1,INDEX('表7(木)'!$A$3:$Y$36,MATCH($AX146,'表7(木)'!$A$3:$A$36,0),MATCH($F128,'表7(木)'!$A$3:$Y$3,0)))","v":1},null,null,null,"透過率",{"$f":"IF(OR($S157=0,A点!$AN$8=1,A点!$AN$8=\"○\"),1,INDEX('表7(木)'!$A$3:$Y$36,MATCH($AY136,'表7(木)'!$A$3:$A$36,0),MATCH($F128,'表7(木)'!$A$3:$Y$3,0)))","v":1},{"$f":"IF(OR($T157=0,A点!$AN$8=1,A点!$AN$8=\"○\"),1,INDEX('表7(木)'!$A$3:$Y$36,MATCH($AY146,'表7(木)'!$A$3:$A$36,0),MATCH($F128,'表7(木)'!$A$3:$Y$3,0)))","v":1},null,null,null,null,null,null,null,null,null,null,null,null,null,null,null,null,null,null,null,null,null,null,null,null,null,null,null,"遮蔽体有無",{"$f":"IF($S128>0,1,0)","v":0},"遮蔽体有：１"]
[null,null,null,null,null,null,null,null,null,null,null,null,null,null,null,null,null,null,null,null,null,null,null,null,null,null,null,null,null,null,null,null,null,null,null,null,null,null,null,null,null,null,null,null,null,null,null,"照射方向",{"$f":"IF($M129>0,1,2)","v":2},"直接線：1、散乱線：2"]
[null,null,null,"b)　第２遮蔽材以後による一次線の減衰表9",null,null,null,null,null,"b)　第２遮蔽材以後による一次線の減衰表9",null,null,null,null,null,"b)　第２遮蔽材以後による一次線の減衰表9",null,null,null,null,null,null,null,null,null,null,null,null,null,null,null,null,null,null,null,null,null,null,null,null,null,null,null,null,null,null,null,"判定コード",{"$f":"AW158&AW159","v":"02"}]
[null,null,null,null,"Dt2=",{"$f":"F164*F166*F168*F170*F172*F174","v":0},{"$f":"G164*G166*G168*G170*G172*G174","v":0},0,null,null,"Dt2=",{"$f":"L164*L166*L168*L170*L172*L174","v":0},{"$f":"M164*M166*M168*M170*M172*M174","v":0},0,null,null,"Dt2=",{"$f":"R164*R166*R168*R170*R172*R174","v":0},{"$f":"S164*S166*S168*S170*S172*S174","v":0},0]
[null,null,null,null,null,"一次線用","散乱線用","漏洩線用",null,null,null,"一次線用","散乱線用","漏洩線用",null,null,null,"一次線用","散乱線用","漏洩線用"]
[null,null,null,"a)　鉛(表9)","半価層(mm)",{"$f":"IF(OR(A点!$AN$8=1,A点!$AN$8=\"○\"),\"\",VLOOKUP($F128,'表9(BB)'!$A$4:$M$27,2,0))","v":""},null,null,null,"a)　鉛(表9)","半価層(mm)",{"$f":"IF(OR(A点!$AN$8=1,A点!$AN$8=\"○\"),\"\",VLOOKUP($F128,'表9(BB)'!$A$4:$M$27,2,0))","v":""},null,null,null,"a)　鉛(表9)","半価層(mm)",{"$f":"IF(OR(A点!$AN$8=1,A点!$AN$8=\"○\"),\"\",VLOOKUP($F128,'表9(BB)'!$A$4:$M$27,2,0))","v":""}]
[null,null,null,null,"透過率",{"$f":"IF($S$128>0,H164,G164)","v":0},{"$f":"IF($F163=\"\",0,(1/2)^($W18*$AE$8/$F163))","v":0},{"$f":"IF($F163=\"\",0,(1/2)^($W17*$AE$8/$F163))","v":0},null,null,"透過率",{"$f":"IF($S$128>0,N164,M164)","v":0},{"$f":"IF($L$163=\"\",0,(1/2)^($W30*$AE$8/$L163))","v":0},{"$f":"IF($L163=\"\",0,(1/2)^($W29*$AE$8/$L163))","v":0},null,null,"透過率",{"$f":"IF($S$128>0,T164,S164)","v":0},{"$f":"IF($R163=\"\",0,(1/2)^($W42*$AE$8/$R163))","v":0},{"$f":"IF($R163=\"\",0,(1/2)^($W41*$AE$8/$R163))","v":0}]
[null,null,null,"b)　コンクリート(表9)","半価層(mm)",{"$f":"IF(OR(A点!$AN$8=1,A点!$AN$8=\"○\"),\"\",VLOOKUP($F128,'表9(BB)'!$A$4:$M$27,4,0))","v":""},null,null,null,"b)　コンクリート(表9)","半価層(mm)",{"$f":"IF(OR(A点!$AN$8=1,A点!$AN$8=\"○\"),\"\",VLOOKUP($F128,'表9(BB)'!$A$4:$M$27,4,0))","v":""},null,null,null,"b)　コンクリート(表9)","半価層(mm)",{"$f":"IF(OR(A点!$AN$8=1,A点!$AN$8=\"○\"),\"\",VLOOKUP($F128,'表9(BB)'!$A$4:$M$27,4,0))","v":""}]
[null,null,null,null,"透過率",{"$f":"IF($S$128>0,H166,G166)","v":0},{"$f":"IF($F165=\"\",0,(1/2)^($X18*$AE$9/$F165))","v":0},{"$f":"IF($F165=\"\",0,(1/2)^($X17*$AE$9/$F165))","v":0},null,null,"透過率",{"$f":"IF($S$128>0,N166,M166)","v":0},{"$f":"IF($L165=\"\",0,(1/2)^($X30*$AE$9/$L165))","v":0},{"$f":"IF($L165=\"\",0,(1/2)^($X29*$AE$9/$L165))","v":0},null,null,"透過率",{"$f":"IF($S$128>0,T166,S166)","v":0},{"$f":"IF($R165=\"\",0,(1/2)^($X42*$AE$9/$R165))","v":0},{"$f":"IF($R165=\"\",0,(1/2)^($X41*$AE$9/$R165))","v":0}]
[null,null,null,"c)　鉄(表9)","半価層(mm)",{"$f":"IF(OR(A点!$AN$8=1,A点!$AN$8=\"○\"),\"\",VLOOKUP($F128,'表9(BB)'!$A$4:$M$27,6,0))","v":""},null,null,null,"c)　鉄(表9)","半価層(mm)",{"$f":"IF(OR(A点!$AN$8=1,A点!$AN$8=\"○\"),\"\",VLOOKUP($F128,'表9(BB)'!$A$4:$M$27,6,0))","v":""},null,null,null,"c)　鉄(表9)","半価層(mm)",{"$f":"IF(OR(A点!$AN$8=1,A点!$AN$8=\"○\"),\"\",VLOOKUP($F128,'表9(BB)'!$A$4:$M$27,6,0))","v":""}]
[null,null,null,null,"透過率",{"$f":"IF($S$128>0,H168,G168)","v":0},{"$f":"IF($F167=\"\",0,(1/2)^($Y18*$AE$10/$F167))","v":0},{"$f":"IF($F167=\"\",0,(1/2)^($Y17*$AE$10/$F167))","v":0},null,null,"透過率",{"$f":"IF($S$128>0,N168,M168)","v":0},{"$f":"IF($L167=\"\",0,(1/2)^($Y30*$AE$10/$L167))","v":0},{"$f":"IF($L167=\"\",0,(1/2)^($Y29*$AE$10/$L167))","v":0},null,null,"透過率",{"$f":"IF($S$128>0,T168,S168)","v":0},{"$f":"IF($R167=\"\",0,(1/2)^($Y42*$AE$10/$R167))","v":0},{"$f":"IF($R167=\"\",0,(1/2)^($Y41*$AE$10/$R167))","v":0}]
[null,null,null,"d)　石膏(表9)","半価層(mm)",{"$f":"IF(OR(A点!$AN$8=1,A点!$AN$8=\"○\"),\"\",VLOOKUP($F128,'表9(BB)'!$A$4:$M$27,8,0))","v":""},null,null,null,"d)　石膏(表9)","半価層(mm)",{"$f":"IF(OR(A点!$AN$8=1,A点!$AN$8=\"○\"),\"\",VLOOKUP($F128,'表9(BB)'!$A$4:$M$27,8,0))","v":""},null,null,null,"d)　石膏(表9)","半価層(mm)",{"$f":"IF(OR(A点!$AN$8=1,A点!$AN$8=\"○\"),\"\",VLOOKUP($F128,'表9(BB)'!$A$4:$M$27,8,0))","v":""}]
[null,null,null,null,"透過率",{"$f":"IF($S$128>0,H170,G170)","v":0},{"$f":"IF($F169=\"\",0,(1/2)^($Z18*$AE$11/$F169))","v":0},{"$f":"IF($F169=\"\",0,(1/2)^($Z17*$AE$11/$F169))","v":0},null,null,"透過率",{"$f":"IF($S$128>0,N170,M170)","v":0},{"$f":"IF($L169=\"\",0,(1/2)^($Z30*$AE$11/$L169))","v":0},{"$f":"IF($L169=\"\",0,(1/2)^($Z29*$AE$11/$L169))","v":0},null,null,"透過率",{"$f":"IF($S$128>0,T170,S170)","v":0},{"$f":"IF($R169=\"\",0,(1/2)^($Z42*$AE$11/$R169))","v":0},{"$f":"IF($R169=\"\",0,(1/2)^($Z41*$AE$11/$R169))","v":0}]
[null,null,null,"e）　ガラス(表9)","半価層(mm)",{"$f":"IF(OR(A点!$AN$8=1,A点!$AN$8=\"○\"),\"\",VLOOKUP($F128,'表9(BB)'!$A$4:$M$27,10,0))","v":""},null,null,null,"e）　ガラス(表9)","半価層(mm)",{"$f":"IF(OR(A点!$AN$8=1,A点!$AN$8=\"○\"),\"\",VLOOKUP($F128,'表9(BB)'!$A$4:$M$27,10,0))","v":""},null,null,null,"e）　ガラス(表9)","半価層(mm)",{"$f":"IF(OR(A点!$AN$8=1,A点!$AN$8=\"○\"),\"\",VLOOKUP($F128,'表9(BB)'!$A$4:$M$27,10,0))","v":""}]
[null,null,null,null,"透過率",{"$f":"IF($S$128>0,H172,G172)","v":0},{"$f":"IF($F171=\"\",0,(1/2)^($AA18*$AE$12/$F171))","v":0},{"$f":"IF($F171=\"\",0,(1/2)^($AA17*$AE$12/$F171))","v":0},null,null,"透過率",{"$f":"IF($S$128>0,N172,M172)","v":0},{"$f":"IF($L171=\"\",0,(1/2)^($AA30*$AE$12/$L171))","v":0},{"$f":"IF($L171=\"\",0,(1/2)^($AA29*$AE$12/$L171))","v":0},null,null,"透過率",{"$f":"IF($S$128>0,T172,S172)","v":0},{"$f":"IF($R$171=\"\",0,(1/2)^($AA42*$AE$12/$R171))","v":0},{"$f":"IF($R171=\"\",0,(1/2)^($AA41*$AE$12/$R171))","v":0}]
[null,null,null,"f)　木材(表9)","半価層(mm)",{"$f":"IF(OR(A点!$AN$8=1,A点!$AN$8=\"○\"),\"\",VLOOKUP($F128,'表9(BB)'!$A$4:$M$27,12,0))","v":""},null,null,null,"f)　木材(表9)","半価層(mm)",{"$f":"IF(OR(A点!$AN$8=1,A点!$AN$8=\"○\"),\"\",VLOOKUP($F128,'表9(BB)'!$A$4:$M$27,12,0))","v":""},null,null,null,"f)　木材(表9)","半価層(mm)",{"$f":"IF(OR(A点!$AN$8=1,A点!$AN$8=\"○\"),\"\",VLOOKUP($F128,'表9(BB)'!$A$4:$M$27,12,0))","v":""}]
[null,null,null,null,"透過率",{"$f":"IF($S$128>0,H174,G174)","v":0},{"$f":"IF($F173=\"\",0,(1/2)^($AB18*$AE$13/$F173))","v":0},{"$f":"IF($F173=\"\",0,(1/2)^($AB17*$AE$13/$F173))","v":0},null,null,"透過率",{"$f":"IF($S$128>0,N174,M174)","v":0},{"$f":"IF($L173=\"\",0,(1/2)^($AB30*$AE$13/$L173))","v":0},{"$f":"IF($L173=\"\",0,(1/2)^($AB29*$AE$13/$L173))","v":0},null,null,"透過率",{"$f":"IF($S$128>0,T174,S174)","v":0},{"$f":"IF($R173=\"\",0,(1/2)^($AB42*$AE$13/$R173))","v":0},{"$f":"IF($R173=\"\",0,(1/2)^($AB41*$AE$13/$R173))","v":0}]
[]
[]
[null,null,null,"2)　Es：散乱エックス線の漏洩線量(散乱角90度)",null,null,null,null,null,"2)　Es：散乱エックス線の漏洩線量(散乱角90度)",null,null,null,null,null,"2)　Es：散乱エックス線の漏洩線量(散乱角90度)"]
[null,null,null,null,"Dt=",{"$f":"H145*G161","v":0},null,null,null,null,"Dt=",{"$f":"N145*M161","v":0},null,null,null,null,"Dt=",{"$f":"T145*S161","v":0}]
[null,null,null,null,"Es=",{"$f":"IF(OR($F128=0,$M130=0,$M131=0,AND($W$8=0,$W$45>0),A点!$AQ$7=1),0,$G128*$G132*$G131*F178*$M127*$M128*($K131/100)*$K132/(400*($M130^2)*($M131^2)))","v":0},"μSv/3ヶ月",null,null,null,"Es=",{"$f":"IF(OR($F128=0,$M130=0,$M131=0,AND($W$20=0,$W$45>0),A点!$AQ$7=1),0,$G128*$G132*$G131*L178*$M127*$M128*($K131/100)*$K132/(400*($M130^2)*($M131^2)))","v":0},"μSv/3ヶ月",null,null,null,"Es=",{"$f":"IF(OR($F128=0,$M130=0,$M131=0,AND($W$32=0,$W$45>0),A点!$AQ$7=1),0,$G128*$G132*$G131*R178*$M127*$M128*($K131/100)*$K132/(400*($M130^2)*($M131^2)))","v":0},"μSv/3ヶ月"]
[]
[]
[null,null,null,"3)　EL：エックス線管容器からの漏洩線量(最大見積)",null,null,null,null,null,"3)　EL：エックス線管容器からの漏洩線量(最大見積)",null,null,null,null,null,"3)　EL：エックス線管容器からの漏洩線量(最大見積)"]
[]
[null,null,null,null,"EL=",{"$f":"IF(OR($F128=0,$M132=0,AND($W$8=0,$W$45>0),A点!$AQ$7=1),0,H161*$S137*$M133*$G131*$M127*$M128/($M132^2))","v":0},"μGy/h",null,null,null,"EL=",{"$f":"IF(OR($F128=0,$M132=0,AND($W$20=0,$W$45>0),A点!$AQ$7=1),0,N161*$S137*$M133*$G131*$M127*$M128/($M132^2))","v":0},"μGy/h",null,null,null,"EL=",{"$f":"IF(OR($F128=0,$M132=0,AND($W$32=0,$W$45>0),A点!$AQ$7=1),0,T161*$S137*$M133*$G131*$M127*$M128/($M132^2))","v":0},"μGy/h"]

{"sheet":"G点","index":7,"n_rows":184,"n_cols":51,"rows_kept":184,"cut":false,"hidden":true,"merged":[[66,1,124,1],[126,1,184,1],[13,15,13,16],[14,15,14,16],[15,15,15,16],[16,15,16,16],[6,1,64,1],[5,15,5,16],[0,15,0,16],[1,15,1,16],[2,15,2,16],[3,15,3,16],[4,15,4,16]]}
[null,null,"エックス線診療室の画壁等の実効線量",null,null,null,null,null,null,null,null,null,null,null,null,"W：３Ｍ実効稼動負荷",null,{"$f":"+G12","v":0},{"$f":"+G72","v":0},{"$f":"+G132","v":0},null,null,null,null,null,null,null,null,null,null,null,null,null,null,null,null,null,null,null,null,null,null,null,null,null,null,"③透視用透過率（表2-7）"]
[null,null,null,"G点の漏洩エックス線量の計算(利用線錘方向）",null,null,null,null,"G点の漏洩エックス線量の計算(被写体・管球）",null,null,null,null,null,null,"X：空気ｶｰﾏ(表1)",null,{"$f":"+G8","v":0},{"$f":"+G68","v":0},{"$f":"+G128","v":0},null,null,null,null,null,null,null,null,null,null,null,null,null,null,null,null,null,null,null,null,null,null,null,null,null,null,"1)直接線用"]
[null,null,null,null,"Ep=",{"$f":"IF(A点!$AQ$4=3,\"\",IF(A点!$AQ$5>0,\"No Data\",F15+F75+F135))","v":""},"μSv/3ヶ月",null,null,"Es＝",{"$f":"IF(A点!$AQ$4=3,\"\",IF(A点!$AQ$5>0,\"No Data\",K15+K75+K135))","v":""},"μSv/3ヶ月",null,null,null,"空気ｶｰﾏ率(表8)",null,{"$f":"+K11","v":0},{"$f":"+K71","v":0},{"$f":"+K131","v":0},null,null,null,null,null,null,null,null,null,null,null,null,null,null,null,null,null,null,null,null,null,null,null,null,null,null,"遮蔽厚参照値"]
[null,null,null,null,null,null,null,null,null,"EL＝",{"$f":"IF(A点!$AQ$4=3,\"\",IF(A点!$AQ$5>0,\"No Data\",K16+K76+K136))","v":""},"μSv/3ヶ月",null,null,null,"E/Ka（表10）",null,{"$f":"+G11","v":0},{"$f":"+G71","v":0},{"$f":"+G131","v":0},null,null,null,null,null,null,null,null,null,null,null,null,null,null,null,null,null,null,null,null,null,null,null,null,null,null,null,null,"G点","G'点","G\"点"]
[null,null,null,null,null,null,null,null,null,"合計",{"$f":"IF(A点!$AQ$4=3,\"\",IF(A点!$AQ$5>0,\"No Data\",K17+K77+K137))","v":""},null,null,null,null,"対向板Dt",null,{"$f":"+R10","v":""},{"$f":"+R70","v":""},{"$f":"+R130","v":""},null,null,null,null,null,null,null,null,null,null,null,null,null,null,null,null,null,null,null,null,null,null,null,null,null,null,null,"Pb",{"$f":"IF($G27=0,\"\",IF($G27<=3,INT(10*$G27)/10,IF($G27>4,4,0.5*INT($G27/0.5))))","v":""},{"$f":"IF($M27=0,\"\",IF($M27<=3,INT(10*$M27)/10,IF($M27>4,4,0.5*INT($M27/0.5))))","v":""},{"$f":"IF($S27=0,\"\",IF($S27<=3,INT(10*$S27)/10,IF($S27>4,4,0.5*INT($S27/0.5))))","v":""}]
[null,null,null,null,null,null,null,null,null,null,null,null,null,null,null,null,null,null,null,null,null,null,null,null,null,null,null,null,null,null,null,null,null,null,null,null,null,null,null,null,null,null,null,null,null,null,null,"ｺﾝｸﾘ",{"$f":"IF($G29=0,\"\",IF($G29<=300,INT($G29/10)*10,IF($G29>400,400,50*INT($G29/50))))","v":""},{"$f":"IF($M29=0,\"\",IF($M29<=300,INT($M29/10)*10,IF($M29>400,400,50*INT($M29/50))))","v":""},{"$f":"IF($S29=0,\"\",IF($S29<=300,INT($S29/10)*10,IF($S29>400,400,50*INT($S29/50))))","v":""}]
[null,"透視装置",null,"①　X：空気ｶｰﾏ：表1",null,null,null,"④　使用係数",null,null,null,"Ｕ＝",1,null,null,"1)対向板による一次線の減衰(表２)",null,null,null,null,null,null,"G点",null,null,null,null,null,null,"リスト",{"$f":"入力用シート!BQ2","v":"密度比"},null,null,null,null,null,null,null,null,null,null,null,null,null,null,null,null,"Fe",{"$f":"IF($G31=0,\"\",IF($G31<=30,INT($G31),IF($G31>40,40,5*INT($G31/5))))","v":""},{"$f":"IF($M31=0,\"\",IF($M31<=30,INT($M31),IF($M31>40,40,5*INT($M31/5))))","v":""},{"$f":"IF($S31=0,\"\",IF($S31<=30,INT($S31),IF($S31>40,40,5*INT($S31/5))))","v":""}]
[null,null,null,null,"採用管電圧",{"$f":"A点!$F$8","v":0},{"$f":"A点!$G$8","v":0},"⑤　居住係数",null,null,null,"Ｔ＝",1,null,null,null,null,"等価厚さ",{"$f":"入力用シート!$AA$8","v":0},"mm",null,null,{"$f":"入力用シート!N74","v":0},{"$f":"入力用シート!P74","v":0},{"$f":"入力用シート!R74","v":0},{"$f":"入力用シート!T74","v":0},{"$f":"入力用シート!V74","v":0},{"$f":"入力用シート!X74","v":0},null,"Pb",{"$f":"入力用シート!BQ3","v":0.96916299559471364},null,null,null,null,null,null,null,null,null,null,null,null,null,null,null,null,"石膏",{"$f":"IF($G33=0,\"\",IF($G33<=30,INT($G33),IF($G33>40,40,5*INT($G33/5))))","v":""},{"$f":"IF($M33=0,\"\",IF($M33<=30,INT($M33),IF($M33>40,40,5*INT($M33/5))))","v":""},{"$f":"IF($S33=0,\"\",IF($S33<=30,INT($S33),IF($S33>40,40,5*INT($S33/5))))","v":""}]
[null,null,null,null,"電流",{"$f":"A点!$F$9","v":0},null,"⑥　距離",null,null,null,"d1=",{"$f":"入力用シート!E$74","v":0},"ｍ",null,null,"使用管電圧",{"$f":"A点!$AL$5","v":0},null,null,null,null,{"$f":"入力用シート!N75","v":0},{"$f":"入力用シート!P75","v":0},{"$f":"入力用シート!R75","v":0},{"$f":"入力用シート!T75","v":0},{"$f":"入力用シート!V75","v":0},{"$f":"入力用シート!X75","v":0},null,"ｺﾝｸﾘ",{"$f":"入力用シート!BQ4","v":0.8936170212765957},null,null,null,null,null,null,null,null,null,null,null,null,null,null,null,null,"ｶﾞﾗｽ",{"$f":"IF($G35=0,\"\",IF($G35<=30,INT($G35),IF($G35>40,40,5*INT($G35/5))))","v":""},{"$f":"IF($M35=0,\"\",IF($M35<=30,INT($M35),IF($M35>40,40,5*INT($M35/5))))","v":""},{"$f":"IF($S35=0,\"\",IF($S35<=30,INT($S35),IF($S35>40,40,5*INT($S35/5))))","v":""}]
[null,null,null,"②　E/Ka：空気カーマ換算係数（表10）",null,null,null,"⑧　照射野400cm2空気ｶｰﾏ率表8",null,null,null,"d2=",{"$f":"入力用シート!G$74","v":0},"ｍ",null,null,"透過率",{"$f":"IF(A点!$AL$8=\"○\",\"\",IF(A点!$AL$8=1,\"データなし\",IF($S8>3,HLOOKUP($R9,'表２(Pb)'!$B$3:$Y$36,32+ROUNDDOWN(($S8-3)/0.5,0),0),HLOOKUP($R9,'表２(Pb)'!$B$3:$Y$36,2+S8/0.1,0))))","v":""},null,null,null,null,"Pb","ｺﾝｸﾘ","Fe","石膏","ｶﾞﾗｽ","木材",null,"Fe",{"$f":"入力用シート!BQ5","v":0.98339719029374206},null,null,null,null,null,null,null,null,null,null,null,null,null,null,null,null,"木材",{"$f":"IF($G37=0,\"\",IF($G37<=300,INT($G37/10)*10,IF($G37>400,400,50*INT($G37/50))))","v":""},{"$f":"IF($M37=0,\"\",IF($M37<=300,INT($M37/10)*10,IF($M37>400,400,50*INT($M37/50))))","v":""},{"$f":"IF($S37=0,\"\",IF($S37<=300,INT($S37/10)*10,IF($S37>400,400,50*INT($S37/50))))","v":""}]
[null,null,null,null,"採用管電圧",{"$f":"A点!$F$11","v":0},{"$f":"A点!$G$11","v":0},null,null,null,{"$f":"A点!$AL$7","v":0},"d3=",{"$f":"入力用シート!I$74","v":0},"ｍ",null,null,null,null,null,null,null,1,{"$f":"IF($W8=\"Pb\",$W9,0)","v":0},{"$f":"IF($W8=\"ｺﾝｸﾘ\",$W9,0)","v":0},{"$f":"IF($W8=\"Fe\",$W9,0)","v":0},{"$f":"IF($W8=\"石膏\",$W9,0)","v":0},{"$f":"IF($W8=\"ｶﾞﾗｽ\",$W9,0)","v":0},{"$f":"IF($W8=\"木材\",$W9,0)","v":0},null,"石膏",{"$f":"入力用シート!BQ6","v":1}]
[null,null,null,"③　W：３Ｍ実効稼動負荷",null,"合計",{"$f":"13*(入力用シート!$L$22*入力用シート!$Q$22*60*入力用シート!$L$23*入力用シート!$Q$23)","v":0},"⑨　受像面照射野",null,null,{"$f":"入力用シート!$E$16","v":1225},"d4=",{"$f":"入力用シート!K$74","v":0},"ｍ",null,null,null,null,null,null,null,2,{"$f":"IF($X8=\"Pb\",$X9,0)","v":0},{"$f":"IF($X8=\"ｺﾝｸﾘ\",$X9,0)","v":0},{"$f":"IF($X8=\"Fe\",$X9,0)","v":0},{"$f":"IF($X8=\"石膏\",$X9,0)","v":0},{"$f":"IF($X8=\"ｶﾞﾗｽ\",$X9,0)","v":0},{"$f":"IF($X8=\"木材\",$X9,0)","v":0},null,"ｶﾞﾗｽ",{"$f":"入力用シート!BQ7","v":0.9765625},null,null,null,null,null,null,null,null,null,null,null,null,null,null,null,"2)散乱線用"]
[null,null,null,null,null,null,null,"⑩　tw：３月間における稼働時間(h)",null,null,null,null,{"$f":"IF(F9=0,0,G12/(F9*3600))","v":0},null,null,"機器の種類",null,"管容器からの空気ｶｰﾏ率（mGy/h）",null,null,null,3,{"$f":"IF($Y8=\"Pb\",$Y9,0)","v":0},{"$f":"IF($Y8=\"ｺﾝｸﾘ\",$Y9,0)","v":0},{"$f":"IF($Y8=\"Fe\",$Y9,0)","v":0},{"$f":"IF($Y8=\"石膏\",$Y9,0)","v":0},{"$f":"IF($Y8=\"ｶﾞﾗｽ\",$Y9,0)","v":0},{"$f":"IF($Y8=\"木材\",$Y9,0)","v":0},null,"木材",{"$f":"入力用シート!BQ8","v":1},null,null,null,null,null,null,null,null,null,null,null,null,null,null,null,"遮蔽厚参照値"]
[null,null,null,"G点の漏洩エックス線量の計算(利用線錘方向）",null,null,null,null,"G点の漏洩エックス線量の計算(被写体・管球）",null,null,null,null,null,1,"1:治療用ｴｯｸｽ線装置（≦50ｋV）",null,1,"選んだ機器",null,null,4,{"$f":"IF($Z8=\"Pb\",$Z9,0)","v":0},{"$f":"IF($Z8=\"ｺﾝｸﾘ\",$Z9,0)","v":0},{"$f":"IF($Z8=\"Fe\",$Z9,0)","v":0},{"$f":"IF($Z8=\"石膏\",$Z9,0)","v":0},{"$f":"IF($Z8=\"ｶﾞﾗｽ\",$Z9,0)","v":0},{"$f":"IF($Z8=\"木材\",$Z9,0)","v":0},null,null,null,null,null,null,null,null,null,null,null,null,null,null,null,null,null,null,null,null,"G点","G'点","G\"点"]
[null,null,null,null,"Ea=",{"$f":"MAX(F21,L21,R21)","v":0},"μSv/3ヶ月",null,null,"Es＝",{"$f":"MAX(F59,L59,R59)","v":0},"μSv/3ヶ月",null,null,2,"2:治療用ｴｯｸｽ線装置（＞50ｋV）",null,10,{"$f":"入力用シート!$C$7","v":0},null,null,5,{"$f":"IF($AA8=\"Pb\",$AA9,0)","v":0},{"$f":"IF($AA8=\"ｺﾝｸﾘ\",$AA9,0)","v":0},{"$f":"IF($AA8=\"Fe\",$AA9,0)","v":0},{"$f":"IF($AA8=\"石膏\",$AA9,0)","v":0},{"$f":"IF($AA8=\"ｶﾞﾗｽ\",$AA9,0)","v":0},{"$f":"IF($AA8=\"木材\",$AA9,0)","v":0},null,null,null,null,null,null,null,null,null,null,null,null,null,null,null,null,null,null,null,"Pb",{"$f":"IF($H27=0,\"\",IF($H27<=3,INT(10*$H27)/10,IF($H27>4,4,0.5*INT($H27/0.5))))","v":""},{"$f":"IF($N27=0,\"\",IF($N27<=3,INT(10*$N27)/10,IF($N27>4,4,0.5*INT($N27/0.5))))","v":""},{"$f":"IF($T27=0,\"\",IF($T27<=3,INT(10*$T27)/10,IF($T27>4,4,0.5*INT($T27/0.5))))","v":""}]
[null,null,null,null,null,null,null,null,null,"EL＝",{"$f":"MAX(F64,L64,R64)","v":0},"μSv/3ヶ月",null,null,3,"3:口内法撮影用X線装置（≦125ｋV）",null,0.25,"選ばれた空気ｶｰﾏ率XL",null,null,6,{"$f":"IF($AB8=\"Pb\",$AB9,0)","v":0},{"$f":"IF($AB8=\"ｺﾝｸﾘ\",$AB9,0)","v":0},{"$f":"IF($AB8=\"Fe\",$AB9,0)","v":0},{"$f":"IF($AB8=\"石膏\",$AB9,0)","v":0},{"$f":"IF($AB8=\"ｶﾞﾗｽ\",$AB9,0)","v":0},{"$f":"IF($AB8=\"木材\",$AB9,0)","v":0},null,null,null,null,null,null,null,null,null,null,null,null,null,null,null,null,null,null,null,"ｺﾝｸﾘ",{"$f":"IF($H29=0,\"\",IF($H29<=300,INT($H29/10)*10,IF($H29>400,400,50*INT($H29/50))))","v":""},{"$f":"IF($N29=0,\"\",IF($N29<=300,INT($N29/10)*10,IF($N29>400,400,50*INT($N29/50))))","v":""},{"$f":"IF($T29=0,\"\",IF($T29<=300,INT($T29/10)*10,IF($T29>400,400,50*INT($T29/50))))","v":""}]
[null,null,null,null,null,null,null,null,null,"合計",{"$f":"+K15+K16","v":0},null,null,null,4,"4:上記以外の診断用X線装置",null,1,{"$f":"IF(S15=0,0,VLOOKUP(S15,O14:R17,4,0)*1000)","v":0},null,null,null,{"$f":"SUM(W11:W16)","v":0},{"$f":"SUM(X11:X16)","v":0},0,0,0,0,"第1～6遮蔽材合計",null,null,null,null,null,null,null,null,null,null,null,null,null,null,null,null,null,null,"Fe",{"$f":"IF($H31=0,\"\",IF($H31<=30,INT($H31),IF($H31>40,40,5*INT($H31/5))))","v":""},{"$f":"IF($N31=0,\"\",IF($N31<=30,INT($N31),IF($N31>40,40,5*INT($N31/5))))","v":""},{"$f":"IF($T31=0,\"\",IF($T31<=30,INT($T31),IF($T31>40,40,5*INT($T31/5))))","v":""}]
[null,null,null,null,null,null,null,null,null,null,null,null,null,null,null,"※１：治療用装置は、装置接触可能5cmの数値であるため任意の数値に変更可能",null,null,null,null,null,null,{"$f":"SUM(W12:W16)","v":0},{"$f":"SUM(X12:X16)","v":0},0,0,0,0,"第2～6遮蔽材合計",null,null,null,null,null,null,null,null,null,null,null,null,null,null,null,null,null,null,"石膏",{"$f":"IF($H33=0,\"\",IF($H33<=30,INT($H33),IF($H33>40,40,5*INT($H33/5))))","v":""},{"$f":"IF($N33=0,\"\",IF($N33<=30,INT($N33),IF($N33>40,40,5*INT($N33/5))))","v":""},{"$f":"IF($T33=0,\"\",IF($T33<=30,INT($T33),IF($T33>40,40,5*INT($T33/5))))","v":""}]
[null,null,null,"G点の計算",null,null,null,null,null,"G'点の計算",null,null,null,null,null,"G\"点の計算",null,null,null,null,null,null,"G'点",null,null,null,null,null,null,null,null,null,null,null,null,null,null,null,null,null,null,null,null,null,null,null,null,"ｶﾞﾗｽ",{"$f":"IF($H35=0,\"\",IF($H35<=30,INT($H35),IF($H35>40,40,5*INT($H35/5))))","v":""},{"$f":"IF($N35=0,\"\",IF($N35<=30,INT($N35),IF($N35>40,40,5*INT($N35/5))))","v":""},{"$f":"IF($T35=0,\"\",IF($T35<=30,INT($T35),IF($T35>40,40,5*INT($T35/5))))","v":""}]
[null,null,null,"1) Ep：撮影方向",null,null,null,null,null,"1) Ep：撮影方向",null,null,null,null,null,"1) Ep：撮影方向",null,null,null,null,null,null,{"$f":"入力用シート!N76","v":0},{"$f":"入力用シート!P76","v":0},{"$f":"入力用シート!R76","v":0},{"$f":"入力用シート!T76","v":0},{"$f":"入力用シート!V76","v":0},{"$f":"入力用シート!X76","v":0},null,null,null,null,null,null,null,null,null,null,null,null,null,null,null,null,null,null,null,"木材",{"$f":"IF($H37=0,\"\",IF($H37<=300,INT($H37/10)*10,IF($H37>400,400,50*INT($H37/50))))","v":""},{"$f":"IF($N37=0,\"\",IF($N37<=300,INT($N37/10)*10,IF($N37>400,400,50*INT($N37/50))))","v":""},{"$f":"IF($T37=0,\"\",IF($T37<=300,INT($T37/10)*10,IF($T37>400,400,50*INT($T37/50))))","v":""}]
[null,null,null,"　",null,{"$f":"IF(OR($F8=0,$M9=0,A点!$AQ$7=1,AND($W$8=0,$W$45>0)),0,($G8*$R10*$G25*$F41*$G12*$G11*$M7*$M8)/($M9^2))","v":0},"μSv/3ヶ月",null,null,"　",null,{"$f":"IF(OR($F8=0,$M9=0,A点!$AQ$7=1,AND($W$20=0,$W$45>0)),0,($G8*$R10*$M25*$L41*$G12*$G11*$M7*$M8)/($M9^2))","v":0},"μSv/3ヶ月",null,null,"　",null,{"$f":"IF(OR($F8=0,$M9=0,A点!$AQ$7=1,AND($W$32=0,$W$45>0)),0,($G8*$R10*$S25*$R41*$G12*$G11*$M7*$M8)/($M9^2))","v":0},"μSv/3ヶ月",null,null,null,{"$f":"入力用シート!N77","v":0},{"$f":"入力用シート!P77","v":0},{"$f":"入力用シート!R77","v":0},{"$f":"入力用シート!T77","v":0},{"$f":"入力用シート!V77","v":0},{"$f":"入力用シート!X77","v":0}]
[null,null,null,null,null,null,null,null,null,null,null,null,null,null,null,null,null,null,null,null,null,null,"Pb","ｺﾝｸﾘ","Fe","石膏","ｶﾞﾗｽ","木材",null,null,null,null,null,null,null,null,null,null,null,null,null,null,null,null,null,null,"3)","遮蔽材順"]
[null,null,null,"a) 第１遮蔽材による減衰(遮蔽体がある場合透過率=1)",null,null,null,null,null,"○ 第１遮蔽材による減衰(遮蔽体がある場合透過率=1)",null,null,null,null,null,"○ 第１遮蔽材による減衰(遮蔽体がある場合透過率=1)",null,null,null,null,null,null,{"$f":"IF($W20=\"Pb\",$W21,0)","v":0},{"$f":"IF($W20=\"ｺﾝｸﾘ\",$W21,0)","v":0},{"$f":"IF($W20=\"Fe\",$W21,0)","v":0},{"$f":"IF($W20=\"石膏\",$W21,0)","v":0},{"$f":"IF($W20=\"ｶﾞﾗｽ\",$W21,0)","v":0},{"$f":"IF($W20=\"木材\",$W21,0)","v":0},null,null,null,null,null,null,null,null,null,null,null,null,null,null,null,null,null,null,null,null,"G点","G'点","G\"点"]
[null,null,null,null,null,"第1遮蔽材",{"$f":"IF($S$8>0,\"遮蔽体\",$W$8)","v":0},{"$f":"$W$8","v":0},null,null,null,"第1遮蔽材",{"$f":"IF($S$8>0,\"遮蔽体\",$W$20)","v":0},{"$f":"$W$20","v":0},null,null,null,"第1遮蔽材",{"$f":"IF($S$8>0,\"遮蔽体\",$W$32)","v":0},{"$f":"$W$32","v":0},null,null,{"$f":"IF($X20=\"Pb\",$X21,0)","v":0},{"$f":"IF($X20=\"ｺﾝｸﾘ\",$X21,0)","v":0},{"$f":"IF($X20=\"Fe\",$X21,0)","v":0},{"$f":"IF($X20=\"石膏\",$X21,0)","v":0},{"$f":"IF($X20=\"ｶﾞﾗｽ\",$X21,0)","v":0},{"$f":"IF($X20=\"木材\",$X21,0)","v":0},null,null,null,null,null,null,null,null,null,null,null,null,null,null,null,null,null,null,null,"第1遮蔽材",{"$f":"IF($AW34=\"11\",G$24,H$24)","v":0},{"$f":"IF($AW34=\"11\",M$24,N$24)","v":0},{"$f":"IF($AW34=\"11\",S$24,T$24)","v":0}]
[null,null,null,null,null,"Dt1=",{"$f":"G28*G30*G32*G34*G36*G38","v":1},{"$f":"H28*H30*H32*H34*H36*H38","v":1},null,null,null,"Dt1=",{"$f":"M28*M30*M32*M34*M36*M38","v":1},{"$f":"N28*N30*N32*N34*N36*N38","v":1},null,null,null,"Dt1=",{"$f":"S28*S30*S32*S34*S36*S38","v":1},{"$f":"T28*T30*T32*T34*T36*T38","v":1},null,null,{"$f":"IF($Y20=\"Pb\",$Y21,0)","v":0},{"$f":"IF($Y20=\"ｺﾝｸﾘ\",$Y21,0)","v":0},{"$f":"IF($Y20=\"Fe\",$Y21,0)","v":0},{"$f":"IF($Y20=\"石膏\",$Y21,0)","v":0},{"$f":"IF($Y20=\"ｶﾞﾗｽ\",$Y21,0)","v":0},{"$f":"IF($Y20=\"木材\",$Y21,0)","v":0},null,null,null,null,null,null,null,null,null,null,null,null,null,null,null,null,null,null,null,"第2遮蔽材",{"$f":"IF($AW34=\"11\",W$8,X$8)","v":0},{"$f":"IF($AW34=\"11\",W$20,X$20)","v":0},{"$f":"IF($AW34=\"11\",W$32,X$32)","v":0}]
[null,null,null,null,null,null,"一次線用","散乱線用",null,null,null,null,"一次線用","散乱線用",null,null,null,null,"一次線用","散乱線用",null,null,{"$f":"IF($Z20=\"Pb\",$Z21,0)","v":0},{"$f":"IF($Z20=\"ｺﾝｸﾘ\",$Z21,0)","v":0},{"$f":"IF($Z20=\"Fe\",$Z21,0)","v":0},{"$f":"IF($Z20=\"石膏\",$Z21,0)","v":0},{"$f":"IF($Z20=\"ｶﾞﾗｽ\",$Z21,0)","v":0},{"$f":"IF($Z20=\"木材\",$Z21,0)","v":0},null,null,null,null,null,null,null,null,null,null,null,null,null,null,null,null,null,null,null,"第3遮蔽材",{"$f":"IF($AW34=\"11\",X$8,Y$8)","v":0},{"$f":"IF($AW34=\"11\",X$20,Y$20)","v":0},{"$f":"IF($AW34=\"11\",X$32,Y$32)","v":0}]
[null,null,null,"a)　鉛(表2)",null,"等価厚さ",{"$f":"IF($G24=$W$10,$W$9*$AE$8,0)","v":0},{"$f":"IF($H24=$W$10,$W$9*$AE$8,0)","v":0},null,"a)　鉛(表2)",null,"等価厚さ",{"$f":"IF($M24=$W$22,$W$21*$AE$8,0)","v":0},{"$f":"IF($N24=$W$22,$W$21*$AE$8,0)","v":0},null,"a)　鉛(表2)",null,"等価厚さ",{"$f":"IF($S24=$W$34,$W$33*$AE$8,0)","v":0},{"$f":"IF($T24=$W$34,$W$33*$AE$8,0)","v":0},null,null,{"$f":"IF($AA20=\"Pb\",$AA21,0)","v":0},{"$f":"IF($AA20=\"ｺﾝｸﾘ\",$AA21,0)","v":0},{"$f":"IF($AA20=\"Fe\",$AA21,0)","v":0},{"$f":"IF($AA20=\"石膏\",$AA21,0)","v":0},{"$f":"IF($AA20=\"ｶﾞﾗｽ\",$AA21,0)","v":0},{"$f":"IF($AA20=\"木材\",$AA21,0)","v":0},null,null,null,null,null,null,null,null,null,null,null,null,null,null,null,null,null,null,null,"第4遮蔽材",{"$f":"IF($AW34=\"11\",Y$8,Z$8)","v":0},{"$f":"IF($AW34=\"11\",Y$20,Z$20)","v":0},{"$f":"IF($AW34=\"11\",Y$32,Z$32)","v":0}]
[null,null,null,null,null,"透過率",{"$f":"IF(OR($G27=0,A点!$AL$8=1,A点!$AL$8=\"○\"),1,INDEX('表２(Pb)'!$A$3:$Y$36,MATCH($AW5,'表２(Pb)'!$A$3:$A$36,0),MATCH($F8,'表２(Pb)'!$A$3:$Y$3,0)))","v":1},{"$f":"IF(OR($H27=0,A点!$AL$8=1,A点!$AL$8=\"○\"),1,INDEX('表２(Pb)'!$A$3:$Y$36,MATCH($AW15,'表２(Pb)'!$A$3:$A$36,0),MATCH($F8,'表２(Pb)'!$A$3:$Y$3,0)))","v":1},null,null,null,"透過率",{"$f":"IF(OR($M27=0,A点!$AL$8=1,A点!$AL$8=\"○\"),1,INDEX('表２(Pb)'!$A$3:$Y$36,MATCH($AX5,'表２(Pb)'!$A$3:$A$36,0),MATCH($F8,'表２(Pb)'!$A$3:$Y$3,0)))","v":1},{"$f":"IF(OR($N27=0,A点!$AL$8=1,A点!$AL$8=\"○\"),1,INDEX('表２(Pb)'!$A$3:$Y$36,MATCH($AX15,'表２(Pb)'!$A$3:$A$36,0),MATCH($F8,'表２(Pb)'!$A$3:$Y$3,0)))","v":1},null,null,null,"透過率",{"$f":"IF(OR($S27=0,A点!$AL$8=1,A点!$AL$8=\"○\"),1,INDEX('表２(Pb)'!$A$3:$Y$36,MATCH($AY5,'表２(Pb)'!$A$3:$A$36,0),MATCH($F8,'表２(Pb)'!$A$3:$Y$3,0)))","v":1},{"$f":"IF(OR($T27=0,A点!$AL$8=1,A点!$AL$8=\"○\"),1,INDEX('表２(Pb)'!$A$3:$Y$36,MATCH($AY15,'表２(Pb)'!$A$3:$A$36,0),MATCH($F8,'表２(Pb)'!$A$3:$Y$3,0)))","v":1},null,null,{"$f":"IF($AB20=\"Pb\",$AB21,0)","v":0},{"$f":"IF($AB20=\"ｺﾝｸﾘ\",$AB21,0)","v":0},{"$f":"IF($AB20=\"Fe\",$AB21,0)","v":0},{"$f":"IF($AB20=\"石膏\",$AB21,0)","v":0},{"$f":"IF($AB20=\"ｶﾞﾗｽ\",$AB21,0)","v":0},{"$f":"IF($AB20=\"木材\",$AB21,0)","v":0},null,null,null,null,null,null,null,null,null,null,null,null,null,null,null,null,null,null,null,"第5遮蔽材",{"$f":"IF($AW34=\"11\",Z$8,AA$8)","v":0},{"$f":"IF($AW34=\"11\",Z$20,AA$20)","v":0},{"$f":"IF($AW34=\"11\",Z$32,AA$32)","v":0}]
[null,null,null,"b)　コンクリート(表3)",null,"等価厚さ",{"$f":"IF($G24=$X$10,$W$9*$AE$9,0)","v":0},{"$f":"IF($H24=$X$10,$W$9*$AE$9,0)","v":0},null,"b)　コンクリート(表3)",null,"等価厚さ",{"$f":"IF($M24=$X$22,$W$21*$AE$9,0)","v":0},{"$f":"IF($N24=$X$22,$W$21*$AE$9,0)","v":0},null,"b)　コンクリート(表3)",null,"等価厚さ",{"$f":"IF($S24=$X$34,$W$33*$AE$9,0)","v":0},{"$f":"IF($T24=$X$34,$W$33*$AE$9,0)","v":0},null,null,{"$f":"SUM(W23:W28)","v":0},{"$f":"SUM(X23:X28)","v":0},0,0,0,0,"第1～6遮蔽材合計",null,null,null,null,null,null,null,null,null,null,null,null,null,null,null,null,null,null,"第6遮蔽材",{"$f":"IF($AW34=\"11\",AA$8,AB$8)","v":0},{"$f":"IF($AW34=\"11\",AA$20,AB$20)","v":0},{"$f":"IF($AW34=\"11\",AA$32,AB$32)","v":0}]
[null,null,null,null,null,"透過率",{"$f":"IF(OR($G29=0,A点!$AL$8=1,A点!$AL$8=\"○\"),1,INDEX('表３(コ)'!$A$3:$Y$36,MATCH($AW6,'表３(コ)'!$A$3:$A$36,0),MATCH($F8,'表３(コ)'!$A$3:$Y$3,0)))","v":1},{"$f":"IF(OR($H29=0,A点!$AL$8=1,A点!$AL$8=\"○\"),1,INDEX('表３(コ)'!$A$3:$Y$36,MATCH($AW16,'表３(コ)'!$A$3:$A$36,0),MATCH($F8,'表３(コ)'!$A$3:$Y$3,0)))","v":1},null,null,null,"透過率",{"$f":"IF(OR($M29=0,A点!$AL$8=1,A点!$AL$8=\"○\"),1,INDEX('表３(コ)'!$A$3:$Y$36,MATCH($AX6,'表３(コ)'!$A$3:$A$36,0),MATCH($F8,'表３(コ)'!$A$3:$Y$3,0)))","v":1},{"$f":"IF(OR($N29=0,A点!$AL$8=1,A点!$AL$8=\"○\"),1,INDEX('表３(コ)'!$A$3:$Y$36,MATCH($AX16,'表３(コ)'!$A$3:$A$36,0),MATCH($F8,'表３(コ)'!$A$3:$Y$3,0)))","v":1},null,null,null,"透過率",{"$f":"IF(OR($S29=0,A点!$AL$8=1,A点!$AL$8=\"○\"),1,INDEX('表３(コ)'!$A$3:$Y$36,MATCH($AY6,'表３(コ)'!$A$3:$A$36,0),MATCH($F8,'表３(コ)'!$A$3:$Y$3,0)))","v":1},{"$f":"IF(OR($T29=0,A点!$AL$8=1,A点!$AL$8=\"○\"),1,INDEX('表３(コ)'!$A$3:$Y$36,MATCH($AY16,'表３(コ)'!$A$3:$A$36,0),MATCH($F8,'表３(コ)'!$A$3:$Y$3,0)))","v":1},null,null,{"$f":"SUM(W24:W28)","v":0},{"$f":"SUM(X24:X28)","v":0},0,0,0,0,"第2～6遮蔽材合計",null,null,null,null,null,null,null,null,null,null,null,null,null,null,null,null,null,null,"第7遮蔽材",{"$f":"IF($AW34=\"11\",AB$8,\"\")","v":""},{"$f":"IF($AW34=\"11\",AB$20,\"\")","v":""},{"$f":"IF($AW34=\"11\",AB$32,\"\")","v":""}]
[null,null,null,"c)　鉄(表4)",null,"等価厚さ",{"$f":"IF($G24=$Y$10,$W$9*$AE$10,0)","v":0},{"$f":"IF($H24=$Y$10,$W$9*$AE$10,0)","v":0},null,"c)　鉄(表4)",null,"等価厚さ",{"$f":"IF($M24=$Y$22,$W$21*$AE$10,0)","v":0},{"$f":"IF($N24=$Y$22,$W$21*$AE$10,0)","v":0},null,"c)　鉄(表4)",null,"等価厚さ",{"$f":"IF($S24=$Y$34,$W$33*$AE$10,0)","v":0},{"$f":"IF($T24=$Y$34,$W$33*$AE$10,0)","v":0},null,null,"G\"点"]
[null,null,null,null,null,"透過率",{"$f":"IF(OR($G31=0,A点!$AL$8=1,A点!$AL$8=\"○\"),1,INDEX('表4(Fe)'!$A$3:$Y$36,MATCH($AW7,'表4(Fe)'!$A$3:$A$36,0),MATCH($F8,'表4(Fe)'!$A$3:$Y$3,0)))","v":1},{"$f":"IF(OR($H31=0,A点!$AL$8=1,A点!$AL$8=\"○\"),1,INDEX('表4(Fe)'!$A$3:$Y$36,MATCH($AW17,'表4(Fe)'!$A$3:$A$36,0),MATCH($F8,'表4(Fe)'!$A$3:$Y$3,0)))","v":1},null,null,null,"透過率",{"$f":"IF(OR($M31=0,A点!$AL$8=1,A点!$AL$8=\"○\"),1,INDEX('表4(Fe)'!$A$3:$Y$36,MATCH($AX7,'表4(Fe)'!$A$3:$A$36,0),MATCH($F8,'表4(Fe)'!$A$3:$Y$3,0)))","v":1},{"$f":"IF(OR($N31=0,A点!$AL$8=1,A点!$AL$8=\"○\"),1,INDEX('表4(Fe)'!$A$3:$Y$36,MATCH($AX17,'表4(Fe)'!$A$3:$A$36,0),MATCH($F8,'表4(Fe)'!$A$3:$Y$3,0)))","v":1},null,null,null,"透過率",{"$f":"IF(OR($S31=0,A点!$AL$8=1,A点!$AL$8=\"○\"),1,INDEX('表4(Fe)'!$A$3:$Y$36,MATCH($AY7,'表4(Fe)'!$A$3:$A$36,0),MATCH($F8,'表4(Fe)'!$A$3:$Y$3,0)))","v":1},{"$f":"IF(OR($T31=0,A点!$AL$8=1,A点!$AL$8=\"○\"),1,INDEX('表4(Fe)'!$A$3:$Y$36,MATCH($AY17,'表4(Fe)'!$A$3:$A$36,0),MATCH($F8,'表4(Fe)'!$A$3:$Y$3,0)))","v":1},null,null,{"$f":"入力用シート!N78","v":0},{"$f":"入力用シート!P78","v":0},{"$f":"入力用シート!R78","v":0},{"$f":"入力用シート!T78","v":0},{"$f":"入力用シート!V78","v":0},{"$f":"入力用シート!X78","v":0},null,null,null,null,null,null,null,null,null,null,null,null,null,null,null,null,null,null,null,"遮蔽体有無",{"$f":"IF($S8>0,1,0)","v":0},"遮蔽体有：１"]
[null,null,null,"d)　石膏(表5)",null,"等価厚さ",{"$f":"IF($G24=$Z$10,$W$9*$AE$11,0)","v":0},{"$f":"IF($H24=$Z$10,$W$9*$AE$11,0)","v":0},null,"d)　石膏(表5)",null,"等価厚さ",{"$f":"IF($M24=$Z$22,$W$21*$AE$11,0)","v":0},{"$f":"IF($N24=$Z$22,$W$21*$AE$11,0)","v":0},null,"d)　石膏(表5)",null,"等価厚さ",{"$f":"IF($S24=$Z$34,$W$33*$AE$11,0)","v":0},{"$f":"IF($T24=$Z$34,$W$33*$AE$11,0)","v":0},null,null,{"$f":"入力用シート!N79","v":0},{"$f":"入力用シート!P79","v":0},{"$f":"入力用シート!R79","v":0},{"$f":"入力用シート!T79","v":0},{"$f":"入力用シート!V79","v":0},{"$f":"入力用シート!X79","v":0},null,null,null,null,null,null,null,null,null,null,null,null,null,null,null,null,null,null,null,"照射方向",{"$f":"IF($M9>0,1,2)","v":2},"直接線：1、散乱線：2"]
[null,null,null,null,null,"透過率",{"$f":"IF(OR($G33=0,A点!$AL$8=1,A点!$AL$8=\"○\"),1,INDEX('表5(CaSO4)'!$A$3:$Y$36,MATCH($AW8,'表5(CaSO4)'!$A$3:$A$36,0),MATCH($F8,'表5(CaSO4)'!$A$3:$Y$3,0)))","v":1},{"$f":"IF(OR($H33=0,A点!$AL$8=1,A点!$AL$8=\"○\"),1,INDEX('表5(CaSO4)'!$A$3:$Y$36,MATCH($AW18,'表5(CaSO4)'!$A$3:$A$36,0),MATCH($F8,'表5(CaSO4)'!$A$3:$Y$3,0)))","v":1},null,null,null,"透過率",{"$f":"IF(OR($M33=0,A点!$AL$8=1,A点!$AL$8=\"○\"),1,INDEX('表5(CaSO4)'!$A$3:$Y$36,MATCH($AX8,'表5(CaSO4)'!$A$3:$A$36,0),MATCH($F8,'表5(CaSO4)'!$A$3:$Y$3,0)))","v":1},{"$f":"IF(OR($N33=0,A点!$AL$8=1,A点!$AL$8=\"○\"),1,INDEX('表5(CaSO4)'!$A$3:$Y$36,MATCH($AX18,'表5(CaSO4)'!$A$3:$A$36,0),MATCH($F8,'表5(CaSO4)'!$A$3:$Y$3,0)))","v":1},null,null,null,"透過率",{"$f":"IF(OR($S33=0,A点!$AL$8=1,A点!$AL$8=\"○\"),1,INDEX('表5(CaSO4)'!$A$3:$Y$36,MATCH($AY8,'表5(CaSO4)'!$A$3:$A$36,0),MATCH($F8,'表5(CaSO4)'!$A$3:$Y$3,0)))","v":1},{"$f":"IF(OR($T33=0,A点!$AL$8=1,A点!$AL$8=\"○\"),1,INDEX('表5(CaSO4)'!$A$3:$Y$36,MATCH($AY18,'表5(CaSO4)'!$A$3:$A$36,0),MATCH($F8,'表5(CaSO4)'!$A$3:$Y$3,0)))","v":1},null,null,"Pb","ｺﾝｸﾘ","Fe","石膏","ｶﾞﾗｽ","木材",null,null,null,null,null,null,null,null,null,null,null,null,null,null,null,null,null,null,null,"判定コード",{"$f":"AW32&AW33","v":"02"}]
[null,null,null,"e）　ガラス(表6)",null,"等価厚さ",{"$f":"IF($G24=$AA$10,$W$9*$AE$12,0)","v":0},{"$f":"IF($H24=$AA$10,$W$9*$AE$12,0)","v":0},null,"e）　ガラス(表6)",null,"等価厚さ",{"$f":"IF($M24=$AA$22,$W$21*$AE$12,0)","v":0},{"$f":"IF($N24=$AA$22,$W$21*$AE$12,0)","v":0},null,"e）　ガラス(表6)",null,"等価厚さ",{"$f":"IF($S24=$AA$34,$W$33*$AE$12,0)","v":0},{"$f":"IF($T24=$AA$34,$W$33*$AE$12,0)","v":0},null,null,{"$f":"IF($W32=\"Pb\",$W33,0)","v":0},{"$f":"IF($W32=\"ｺﾝｸﾘ\",$W33,0)","v":0},{"$f":"IF($W32=\"Fe\",$W33,0)","v":0},{"$f":"IF($W32=\"石膏\",$W33,0)","v":0},{"$f":"IF($W32=\"ｶﾞﾗｽ\",$W33,0)","v":0},{"$f":"IF($W32=\"木材\",$W33,0)","v":0}]
[null,null,null,null,null,"透過率",{"$f":"IF(OR($G35=0,A点!$AL$8=1,A点!$AL$8=\"○\"),1,INDEX('表6(SiO2)'!$A$3:$Y$36,MATCH($AW9,'表6(SiO2)'!$A$3:$A$36,0),MATCH($F8,'表6(SiO2)'!$A$3:$Y$3,0)))","v":1},{"$f":"IF(OR($H35=0,A点!$AL$8=1,A点!$AL$8=\"○\"),1,INDEX('表6(SiO2)'!$A$3:$Y$36,MATCH($AW19,'表6(SiO2)'!$A$3:$A$36,0),MATCH($F8,'表6(SiO2)'!$A$3:$Y$3,0)))","v":1},null,null,null,"透過率",{"$f":"IF(OR($M35=0,A点!$AL$8=1,A点!$AL$8=\"○\"),1,INDEX('表6(SiO2)'!$A$3:$Y$36,MATCH($AX9,'表6(SiO2)'!$A$3:$A$36,0),MATCH($F8,'表6(SiO2)'!$A$3:$Y$3,0)))","v":1},{"$f":"IF(OR($N35=0,A点!$AL$8=1,A点!$AL$8=\"○\"),1,INDEX('表6(SiO2)'!$A$3:$Y$36,MATCH($AX19,'表6(SiO2)'!$A$3:$A$36,0),MATCH($F8,'表6(SiO2)'!$A$3:$Y$3,0)))","v":1},null,null,null,"透過率",{"$f":"IF(OR($S35=0,A点!$AL$8=1,A点!$AL$8=\"○\"),1,INDEX('表6(SiO2)'!$A$3:$Y$36,MATCH($AY9,'表6(SiO2)'!$A$3:$A$36,0),MATCH($F8,'表6(SiO2)'!$A$3:$Y$3,0)))","v":1},{"$f":"IF(OR($T35=0,A点!$AL$8=1,A点!$AL$8=\"○\"),1,INDEX('表6(SiO2)'!$A$3:$Y$36,MATCH($AY19,'表6(SiO2)'!$A$3:$A$36,0),MATCH($F8,'表6(SiO2)'!$A$3:$Y$3,0)))","v":1},null,null,{"$f":"IF($X32=\"Pb\",$X33,0)","v":0},{"$f":"IF($X32=\"ｺﾝｸﾘ\",$X33,0)","v":0},{"$f":"IF($X32=\"Fe\",$X33,0)","v":0},{"$f":"IF($X32=\"石膏\",$X33,0)","v":0},{"$f":"IF($X32=\"ｶﾞﾗｽ\",$X33,0)","v":0},{"$f":"IF($X32=\"木材\",$X33,0)","v":0}]
[null,null,null,"f)　木材(表7)",null,"等価厚さ",{"$f":"IF($G24=$AB$10,$W$9*$AE$13,0)","v":0},{"$f":"IF($H24=$AB$10,$W$9*$AE$13,0)","v":0},null,"f)　木材(表7)",null,"等価厚さ",{"$f":"IF($M24=$AB$22,$W$21*$AE$13,0)","v":0},{"$f":"IF($N24=$AB$22,$W$21*$AE$13,0)","v":0},null,"f)　木材(表7)",null,"等価厚さ",{"$f":"IF($S24=$AB$34,$W$33*$AE$13,0)","v":0},{"$f":"IF($T24=$AB$34,$W$33*$AE$13,0)","v":0},null,null,{"$f":"IF($Y32=\"Pb\",$Y33,0)","v":0},{"$f":"IF($Y32=\"ｺﾝｸﾘ\",$Y33,0)","v":0},{"$f":"IF($Y32=\"Fe\",$Y33,0)","v":0},{"$f":"IF($Y32=\"石膏\",$Y33,0)","v":0},{"$f":"IF($Y32=\"ｶﾞﾗｽ\",$Y33,0)","v":0},{"$f":"IF($Y32=\"木材\",$Y33,0)","v":0}]
[null,null,null,null,null,"透過率",{"$f":"IF(OR($G37=0,A点!$AL$8=1,A点!$AL$8=\"○\"),1,INDEX('表7(木)'!$A$3:$Y$36,MATCH($AW10,'表7(木)'!$A$3:$A$36,0),MATCH($F8,'表7(木)'!$A$3:$Y$3,0)))","v":1},{"$f":"IF(OR($H37=0,A点!$AL$8=1,A点!$AL$8=\"○\"),1,INDEX('表7(木)'!$A$3:$Y$36,MATCH($AW20,'表7(木)'!$A$3:$A$36,0),MATCH($F8,'表7(木)'!$A$3:$Y$3,0)))","v":1},null,null,null,"透過率",{"$f":"IF(OR($M37=0,A点!$AL$8=1,A点!$AL$8=\"○\"),1,INDEX('表7(木)'!$A$3:$Y$36,MATCH($AX10,'表7(木)'!$A$3:$A$36,0),MATCH($F8,'表7(木)'!$A$3:$Y$3,0)))","v":1},{"$f":"IF(OR($N37=0,A点!$AL$8=1,A点!$AL$8=\"○\"),1,INDEX('表7(木)'!$A$3:$Y$36,MATCH($AX20,'表7(木)'!$A$3:$A$36,0),MATCH($F8,'表7(木)'!$A$3:$Y$3,0)))","v":1},null,null,null,"透過率",{"$f":"IF(OR($S37=0,A点!$AL$8=1,A点!$AL$8=\"○\"),1,INDEX('表7(木)'!$A$3:$Y$36,MATCH($AY10,'表7(木)'!$A$3:$A$36,0),MATCH($F8,'表7(木)'!$A$3:$Y$3,0)))","v":1},{"$f":"IF(OR($T37=0,A点!$AL$8=1,A点!$AL$8=\"○\"),1,INDEX('表7(木)'!$A$3:$Y$36,MATCH($AY20,'表7(木)'!$A$3:$A$36,0),MATCH($F8,'表7(木)'!$A$3:$Y$3,0)))","v":1},null,null,{"$f":"IF($Z32=\"Pb\",$Z33,0)","v":0},{"$f":"IF($Z32=\"ｺﾝｸﾘ\",$Z33,0)","v":0},{"$f":"IF($Z32=\"Fe\",$Z33,0)","v":0},{"$f":"IF($Z32=\"石膏\",$Z33,0)","v":0},{"$f":"IF($Z32=\"ｶﾞﾗｽ\",$Z33,0)","v":0},{"$f":"IF($Z32=\"木材\",$Z33,0)","v":0}]
[null,null,null,null,null,null,null,null,null,null,null,null,null,null,null,null,null,null,null,null,null,null,{"$f":"IF($AA32=\"Pb\",$AA33,0)","v":0},{"$f":"IF($AA32=\"ｺﾝｸﾘ\",$AA33,0)","v":0},{"$f":"IF($AA32=\"Fe\",$AA33,0)","v":0},{"$f":"IF($AA32=\"石膏\",$AA33,0)","v":0},{"$f":"IF($AA32=\"ｶﾞﾗｽ\",$AA33,0)","v":0},{"$f":"IF($AA32=\"木材\",$AA33,0)","v":0}]
[null,null,null,"b)　第２遮蔽材以後による一次線の減衰表9",null,null,null,null,null,"2)　第２遮蔽材以後による一次線の減衰表9",null,null,null,null,null,"2)　第２遮蔽材以後による一次線の減衰表9",null,null,null,null,null,null,{"$f":"IF($AB32=\"Pb\",$AB33,0)","v":0},{"$f":"IF($AB32=\"ｺﾝｸﾘ\",$AB33,0)","v":0},{"$f":"IF($AB32=\"Fe\",$AB33,0)","v":0},{"$f":"IF($AB32=\"石膏\",$AB33,0)","v":0},{"$f":"IF($AB32=\"ｶﾞﾗｽ\",$AB33,0)","v":0},{"$f":"IF($AB32=\"木材\",$AB33,0)","v":0}]
[null,null,null,null,"Dt2=",{"$f":"F44*F46*F48*F50*F52*F54","v":0},{"$f":"G44*G46*G48*G50*G52*G54","v":0},0,null,null,"Dt2=",{"$f":"L44*L46*L48*L50*L52*L54","v":0},{"$f":"M44*M46*M48*M50*M52*M54","v":0},0,null,null,"Dt2=",{"$f":"R44*R46*R48*R50*R52*R54","v":0},{"$f":"S44*S46*S48*S50*S52*S54","v":0},0,null,null,{"$f":"SUM(W35:W40)","v":0},{"$f":"SUM(X35:X40)","v":0},0,0,0,0,"第1～6遮蔽材合計"]
[null,null,null,null,null,"一次線用","散乱線用","漏洩線用",null,null,null,"一次線用","散乱線用","漏洩線用",null,null,null,"一次線用","散乱線用","漏洩線用",null,null,{"$f":"SUM(W36:W40)","v":0},{"$f":"SUM(X36:X40)","v":0},0,0,0,0,"第2～6遮蔽材合計"]
[null,null,null,"a)　鉛(表9)","半価層(mm)",{"$f":"IF(OR(A点!$AL$8=1,A点!$AL$8=\"○\"),\"\",VLOOKUP($F8,'表9(BB)'!$A$4:$M$27,2,0))","v":""},null,null,null,"a)　鉛(表9)","半価層(mm)",{"$f":"IF(OR(A点!$AL$8=1,A点!$AL$8=\"○\"),\"\",VLOOKUP($F8,'表9(BB)'!$A$4:$M$27,2,0))","v":""},null,null,null,"a)　鉛(表9)","半価層(mm)",{"$f":"IF(OR(A点!$AL$8=1,A点!$AL$8=\"○\"),\"\",VLOOKUP($F8,'表9(BB)'!$A$4:$M$27,2,0))","v":""}]
[null,null,null,null,"透過率",{"$f":"IF($S$8>0,$H44,$G44)","v":0},{"$f":"IF($F43=\"\",0,(1/2)^($W18*$AE$8/$F43))","v":0},{"$f":"IF($F43=\"\",0,(1/2)^($W17*$AE$8/$F43))","v":0},null,null,"透過率",{"$f":"IF($S$8>0,$N44,$M44)","v":0},{"$f":"IF($L43=\"\",0,(1/2)^($W30*$AE$8/$L43))","v":0},{"$f":"IF($L43=\"\",0,(1/2)^($W29*$AE$8/$L43))","v":0},null,null,"透過率",{"$f":"IF($S$8>0,$T44,$S44)","v":0},{"$f":"IF($R43=\"\",0,(1/2)^($W42*$AE$8/$R43))","v":0},{"$f":"IF($R43=\"\",0,(1/2)^($W41*$AE$8/$R43))","v":0},null,null,"遮蔽材判定"]
[null,null,null,"b)　コンクリート(表9)","半価層(mm)",{"$f":"IF(OR(A点!$AL$8=1,A点!$AL$8=\"○\"),\"\",VLOOKUP($F8,'表9(BB)'!$A$4:$M$27,4,0))","v":""},null,null,null,"b)　コンクリート(表9)","半価層(mm)",{"$f":"IF(OR(A点!$AL$8=1,A点!$AL$8=\"○\"),\"\",VLOOKUP($F8,'表9(BB)'!$A$4:$M$27,4,0))","v":""},null,null,null,"b)　コンクリート(表9)","半価層(mm)",{"$f":"IF(OR(A点!$AL$8=1,A点!$AL$8=\"○\"),\"\",VLOOKUP($F8,'表9(BB)'!$A$4:$M$27,4,0))","v":""},null,null,null,null,{"$f":"SUM(W17:AB17)+SUM(W29:AB29)+SUM(W41:AB41)","v":0}]
[null,null,null,null,"透過率",{"$f":"IF($S$8>0,$H46,$G46)","v":0},{"$f":"IF($F45=\"\",0,(1/2)^($X18*$AE$9/$F45))","v":0},{"$f":"IF($F45=\"\",0,(1/2)^($X17*$AE$9/$F45))","v":0},null,null,"透過率",{"$f":"IF($S$8>0,$N46,$M46)","v":0},{"$f":"IF($L45=\"\",0,(1/2)^($X30*$AE$9/$L45))","v":0},{"$f":"IF($L45=\"\",0,(1/2)^($X29*$AE$9/$L45))","v":0},null,null,"透過率",{"$f":"IF($S$8>0,$T46,$S46)","v":0},{"$f":"IF($R45=\"\",0,(1/2)^($X42*$AE$9/$R45))","v":0},{"$f":"IF($R45=\"\",0,(1/2)^($X41*$AE$9/$R45))","v":0}]
[null,null,null,"c)　鉄(表9)","半価層(mm)",{"$f":"IF(OR(A点!$AL$8=1,A点!$AL$8=\"○\"),\"\",VLOOKUP($F8,'表9(BB)'!$A$4:$M$27,6,0))","v":""},null,null,null,"c)　鉄(表9)","半価層(mm)",{"$f":"IF(OR(A点!$AL$8=1,A点!$AL$8=\"○\"),\"\",VLOOKUP($F8,'表9(BB)'!$A$4:$M$27,6,0))","v":""},null,null,null,"c)　鉄(表9)","半価層(mm)",{"$f":"IF(OR(A点!$AL$8=1,A点!$AL$8=\"○\"),\"\",VLOOKUP($F8,'表9(BB)'!$A$4:$M$27,6,0))","v":""}]
[null,null,null,null,"透過率",{"$f":"IF($S$8>0,$H48,$G48)","v":0},{"$f":"IF($F47=\"\",0,(1/2)^($Y18*$AE$10/$F47))","v":0},{"$f":"IF($F47=\"\",0,(1/2)^($Y17*$AE$10/$F47))","v":0},null,null,"透過率",{"$f":"IF($S$8>0,$N48,$M48)","v":0},{"$f":"IF($L47=\"\",0,(1/2)^($Y30*$AE$10/$L47))","v":0},{"$f":"IF($L47=\"\",0,(1/2)^($Y29*$AE$10/$L47))","v":0},null,null,"透過率",{"$f":"IF($S$8>0,$T48,$S48)","v":0},{"$f":"IF($R47=\"\",0,(1/2)^($Y42*$AE$10/$R47))","v":0},{"$f":"IF($R47=\"\",0,(1/2)^($Y41*$AE$10/$R47))","v":0}]
[null,null,null,"d)　石膏(表9)","半価層(mm)",{"$f":"IF(OR(A点!$AL$8=1,A点!$AL$8=\"○\"),\"\",VLOOKUP($F8,'表9(BB)'!$A$4:$M$27,8,0))","v":""},null,null,null,"d)　石膏(表9)","半価層(mm)",{"$f":"IF(OR(A点!$AL$8=1,A点!$AL$8=\"○\"),\"\",VLOOKUP($F8,'表9(BB)'!$A$4:$M$27,8,0))","v":""},null,null,null,"d)　石膏(表9)","半価層(mm)",{"$f":"IF(OR(A点!$AL$8=1,A点!$AL$8=\"○\"),\"\",VLOOKUP($F8,'表9(BB)'!$A$4:$M$27,8,0))","v":""}]
[null,null,null,null,"透過率",{"$f":"IF($S$8>0,$H50,$G50)","v":0},{"$f":"IF($F49=\"\",0,(1/2)^($Z18*$AE$11/$F49))","v":0},{"$f":"IF($F49=\"\",0,(1/2)^($Z17*$AE$11/$F49))","v":0},null,null,"透過率",{"$f":"IF($S$8>0,$N50,$M50)","v":0},{"$f":"IF($L49=\"\",0,(1/2)^($Z30*$AE$11/$L49))","v":0},{"$f":"IF($L49=\"\",0,(1/2)^($Z29*$AE$11/$L49))","v":0},null,null,"透過率",{"$f":"IF($S$8>0,$T50,$S50)","v":0},{"$f":"IF($R49=\"\",0,(1/2)^($Z42*$AE$11/$R49))","v":0},{"$f":"IF($R49=\"\",0,(1/2)^($Z41*$AE$11/$R49))","v":0}]
[null,null,null,"e）　ガラス(表9)","半価層(mm)",{"$f":"IF(OR(A点!$AL$8=1,A点!$AL$8=\"○\"),\"\",VLOOKUP($F8,'表9(BB)'!$A$4:$M$27,10,0))","v":""},null,null,null,"e）　ガラス(表9)","半価層(mm)",{"$f":"IF(OR(A点!$AL$8=1,A点!$AL$8=\"○\"),\"\",VLOOKUP($F8,'表9(BB)'!$A$4:$M$27,10,0))","v":""},null,null,null,"e）　ガラス(表9)","半価層(mm)",{"$f":"IF(OR(A点!$AL$8=1,A点!$AL$8=\"○\"),\"\",VLOOKUP($F8,'表9(BB)'!$A$4:$M$27,10,0))","v":""}]
[null,null,null,null,"透過率",{"$f":"IF($S$8>0,$H52,$G52)","v":0},{"$f":"IF($F51=\"\",0,(1/2)^($AA18*$AE$12/$F51))","v":0},{"$f":"IF($F51=\"\",0,(1/2)^($AA17*$AE$12/$F51))","v":0},null,null,"透過率",{"$f":"IF($S$8>0,$N52,$M52)","v":0},{"$f":"IF($L51=\"\",0,(1/2)^($AA30*$AE$12/$L51))","v":0},{"$f":"IF($L51=\"\",0,(1/2)^($AA29*$AE$12/$L51))","v":0},null,null,"透過率",{"$f":"IF($S$8>0,$T52,$S52)","v":0},{"$f":"IF($R51=\"\",0,(1/2)^($AA42*$AE$12/$R51))","v":0},{"$f":"IF($R51=\"\",0,(1/2)^($AA41*$AE$12/$R51))","v":0}]
[null,null,null,"f)　木材(表9)","半価層(mm)",{"$f":"IF(OR(A点!$AL$8=1,A点!$AL$8=\"○\"),\"\",VLOOKUP($F8,'表9(BB)'!$A$4:$M$27,12,0))","v":""},null,null,null,"f)　木材(表9)","半価層(mm)",{"$f":"IF(OR(A点!$AL$8=1,A点!$AL$8=\"○\"),\"\",VLOOKUP($F8,'表9(BB)'!$A$4:$M$27,12,0))","v":""},null,null,null,"f)　木材(表9)","半価層(mm)",{"$f":"IF(OR(A点!$AL$8=1,A点!$AL$8=\"○\"),\"\",VLOOKUP($F8,'表9(BB)'!$A$4:$M$27,12,0))","v":""}]
[null,null,null,null,"透過率",{"$f":"IF($S$8>0,$H54,$G54)","v":0},{"$f":"IF($F53=\"\",0,(1/2)^($AB18*$AE$13/$F53))","v":0},{"$f":"IF($F53=\"\",0,(1/2)^($AB17*$AE$13/$F53))","v":0},null,null,"透過率",{"$f":"IF($S$8>0,$N54,$M54)","v":0},{"$f":"IF($L53=\"\",0,(1/2)^($AB$30*$AE$13/$L$53))","v":0},{"$f":"IF($L53=\"\",0,(1/2)^($AB$29*$AE$13/$L$53))","v":0},null,null,"透過率",{"$f":"IF($S$8>0,$T54,$S54)","v":0},{"$f":"IF($R53=\"\",0,(1/2)^($AB42*$AE$13/$R53))","v":0},{"$f":"IF($R53=\"\",0,(1/2)^($AB41*$AE$13/$R53))","v":0}]
[]
[]
[null,null,null,"2)　Es：散乱エックス線の漏洩線量(散乱角90度)",null,null,null,null,null,"2)　Es：散乱エックス線の漏洩線量(散乱角90度)",null,null,null,null,null,"2)　Es：散乱エックス線の漏洩線量(散乱角90度)"]
[null,null,null,null,"Dt=",{"$f":"H25*G41","v":0},null,null,null,null,"Dt=",{"$f":"N25*M41","v":0},null,null,null,null,"Dt=",{"$f":"T25*S41","v":0}]
[null,null,null,null,"Es=",{"$f":"IF(OR($F8=0,$M10=0,$M11=0,AND($W$8=0,$W$45>0),A点!$AQ$7=1),0,$G8*F58*$G12*$G11*$M7*$M8*($K11/100)*$K12/(400*($M10^2)*($M11^2)))","v":0},"μSv/3ヶ月",null,null,null,"Es=",{"$f":"IF(OR($F8=0,$M10=0,$M11=0,AND($W$20=0,$W$45>0),A点!$AQ$7=1),0,$G8*$G12*$G11*L58*$M7*$M8*($K11/100)*$K12/(400*($M10^2)*($M11^2)))","v":0},"μSv/3ヶ月",null,null,null,"Es=",{"$f":"IF(OR($F8=0,$M10=0,$M11=0,AND($W$32=0,$W$45>0),A点!$AQ$7=1),0,$G8*$G12*$G11*R58*$M7*$M8*($K11/100)*$K12/(400*($M10^2)*($M11^2)))","v":0},"μSv/3ヶ月"]
[]
[]
[null,null,null,"3)　EL：エックス線管容器からの漏洩線量(最大見積)",null,null,null,null,null,"3)　EL：エックス線管容器からの漏洩線量(最大見積)",null,null,null,null,null,"3)　EL：エックス線管容器からの漏洩線量(最大見積)"]
[]
[null,null,null,null,"EL=",{"$f":"IF(OR($F8=0,$M12=0,A点!$AQ$7=1,AND($W$8=0,$W$45>0)),0,$S17*$G11*$M13*H41*$M7*$M8/($M12^2))","v":0},"μGy/h",null,null,null,"EL=",{"$f":"IF(OR($F8=0,$M12=0,A点!$AQ$7=1,AND($W$20=0,$W$45>0)),0,$S17*$G11*$M13*N41*$M7*$M8/($M12^2))","v":0},"μGy/h",null,null,null,"EL=",{"$f":"IF(OR($F8=0,$M12=0,A点!$AQ$7=1,AND($W$32=0,$W$45>0)),0,$S17*$G11*$M13*T41*$M7*$M8/($M12^2))","v":0},"μGy/h"]
[]
[]
[null,"一般撮影",null,"①　X：空気カーマ(表1)",null,null,null,"④　使用係数",null,null,null,"Ｕ＝",1,null,null,"1)対向板による一次線の減衰(表２)",null,null,null,null,null,null,null,null,null,null,null,null,null,null,null,null,null,null,null,null,null,null,null,null,null,null,null,null,null,null,"③撮影用透過率（表2-7）"]
[null,null,null,null,"採用管電圧",{"$f":"A点!$F$68","v":0},{"$f":"A点!$G$68","v":0},"⑤　居住係数",null,null,null,"Ｔ＝",1,null,null,null,null,"等価厚さ",{"$f":"入力用シート!$AA$9","v":0},"mm",null,null,null,null,null,null,null,null,null,null,null,null,null,null,null,null,null,null,null,null,null,null,null,null,null,null,"1)直接線用"]
[null,null,null,null,"電流",{"$f":"A点!$F$69","v":0},null,"⑥　距離",null,null,null,"d1=",{"$f":"M9","v":0},"ｍ",null,null,"使用管電圧",{"$f":"A点!$AM$5","v":0},null,null,null,null,null,null,null,null,null,null,null,null,null,null,null,null,null,null,null,null,null,null,null,null,null,null,null,null,"遮蔽厚参照値"]
[null,null,null,"②　E/Ka：空気カーマ換算係数（表10）",null,null,null,"⑧　照射野400cm2空気ｶｰﾏ率表8",null,null,null,"d2=",{"$f":"M10","v":0},"ｍ",null,null,"透過率",{"$f":"IF(A点!$AM$8=\"○\",\"\",IF(A点!$AM$8=1,\"データなし\",IF($S68>3,HLOOKUP($R69,'表２(Pb)'!$B$3:$Y$36,32+ROUNDDOWN(($S68-3)/0.5,0),0),HLOOKUP($R69,'表２(Pb)'!$B$3:$Y$36,2+S68/0.1,0))))","v":""},null,null,null,null,null,null,null,null,null,null,null,null,null,null,null,null,null,null,null,null,null,null,null,null,null,null,null,null,null,null,"G点","G'点","G\"点"]
[null,null,null,null,"採用管電圧",{"$f":"A点!$F$71","v":0},{"$f":"A点!$G$71","v":0},null,null,null,{"$f":"A点!$AM$7","v":0},"d3=",0,"ｍ",null,null,null,null,null,null,null,null,null,null,null,null,null,null,null,null,null,null,null,null,null,null,null,null,null,null,null,null,null,null,null,null,null,"Pb",{"$f":"IF($G87=0,\"\",IF($G87<=3,INT(10*$G87)/10,IF($G87>4,4,0.5*INT($G87/0.5))))","v":""},{"$f":"IF($M87=0,\"\",IF($M87<=3,INT(10*$M87)/10,IF($M87>4,4,0.5*INT($M87/0.5))))","v":""},{"$f":"IF($S87=0,\"\",IF($S87<=3,INT(10*$S87)/10,IF($S87>4,4,0.5*INT($S87/0.5))))","v":""}]
[null,null,null,"③　W：３Ｍ実効稼動負荷",null,"合計",{"$f":"13*(入力用シート!$L$26*入力用シート!$Q$26*入力用シート!$H$27*入力用シート!$L$27*入力用シート!$Q$27)","v":0},"⑨　受像面照射野",null,null,{"$f":"入力用シート!$E$16","v":1225},"d4=",0,"ｍ",null,null,null,null,null,null,null,null,null,null,null,null,null,null,null,null,null,null,null,null,null,null,null,null,null,null,null,null,null,null,null,null,null,"ｺﾝｸﾘ",{"$f":"IF($G89=0,\"\",IF($G89<=300,INT($G89/10)*10,IF($G89>400,400,50*INT($G89/50))))","v":""},{"$f":"IF($M89=0,\"\",IF($M89<=300,INT($M89/10)*10,IF($M89>400,400,50*INT($M89/50))))","v":""},{"$f":"IF($S89=0,\"\",IF($S89<=300,INT($S89/10)*10,IF($S89>400,400,50*INT($S89/50))))","v":""}]
[null,null,null,null,null,null,null,"⑩　tw：３月間における稼働時間(h)",null,null,null,null,{"$f":"IF(F69=0,0,G72/(F69*3600))","v":0},null,null,"機器の種類",null,"管容器からの空気ｶｰﾏ率（mGy/h）",null,null,null,null,null,null,null,null,null,null,null,null,null,null,null,null,null,null,null,null,null,null,null,null,null,null,null,null,null,"Fe",{"$f":"IF($G91=0,\"\",IF($G91<=30,INT($G91),IF($G91>40,40,5*INT($G91/5))))","v":""},{"$f":"IF($M91=0,\"\",IF($M91<=30,INT($M91),IF($M91>40,40,5*INT($M91/5))))","v":""},{"$f":"IF($S91=0,\"\",IF($S91<=30,INT($S91),IF($S91>40,40,5*INT($S91/5))))","v":""}]
[null,null,null,"G点の漏洩エックス線量の計算(利用線錘方向）",null,null,null,null,"G点の漏洩エックス線量の計算(被写体・管球）",null,null,null,null,null,1,"治療用ｴｯｸｽ線装置（≧50ｋV）",null,1,"選んだ機器",null,null,null,null,null,null,null,null,null,null,null,null,null,null,null,null,null,null,null,null,null,null,null,null,null,null,null,null,"石膏",{"$f":"IF($G93=0,\"\",IF($G93<=30,INT($G93),IF($G93>40,40,5*INT($G93/5))))","v":""},{"$f":"IF($M93=0,\"\",IF($M93<=30,INT($M93),IF($M93>40,40,5*INT($M93/5))))","v":""},{"$f":"IF($S93=0,\"\",IF($S93<=30,INT($S93),IF($S93>40,40,5*INT($S93/5))))","v":""}]
[null,null,null,null,"Ea=",{"$f":"MAX(F81,L81,R81)","v":0},"μSv/3ヶ月",null,null,"Es＝",{"$f":"MAX(F119,L119,R119)","v":0},"μSv/3ヶ月",null,null,2,"治療用ｴｯｸｽ線装置（＜50ｋV）",null,10,{"$f":"入力用シート!$C$7","v":0},null,null,null,null,null,null,null,null,null,null,null,null,null,null,null,null,null,null,null,null,null,null,null,null,null,null,null,null,"ｶﾞﾗｽ",{"$f":"IF($G95=0,\"\",IF($G95<=30,INT($G95),IF($G95>40,40,5*INT($G95/5))))","v":""},{"$f":"IF($M95=0,\"\",IF($M95<=30,INT($M95),IF($M95>40,40,5*INT($M95/5))))","v":""},{"$f":"IF($S95=0,\"\",IF($S95<=30,INT($S95),IF($S95>40,40,5*INT($S95/5))))","v":""}]
[null,null,null,null,null,null,null,null,null,"EL＝",{"$f":"MAX(F124,L124,R124)","v":0},"μSv/3ヶ月",null,null,3,"口内法撮影用X線装置（≦120ｋV）",null,0.25,"選ばれた空気ｶｰﾏ率XL",null,null,null,null,null,null,null,null,null,null,null,null,null,null,null,null,null,null,null,null,null,null,null,null,null,null,null,null,"木材",{"$f":"IF($G97=0,\"\",IF($G97<=300,INT($G97/10)*10,IF($G97>400,400,50*INT($G97/50))))","v":""},{"$f":"IF($M97=0,\"\",IF($M97<=300,INT($M97/10)*10,IF($M97>400,400,50*INT($M97/50))))","v":""},{"$f":"IF($S97=0,\"\",IF($S97<=300,INT($S97/10)*10,IF($S97>400,400,50*INT($S97/50))))","v":""}]
[null,null,null,null,null,null,null,null,null,"合計",{"$f":"+K75+K76","v":0},null,null,null,4,"上記以外の診断用X線装置",null,1,{"$f":"IF(S75=0,0,VLOOKUP(S75,O74:R77,4,0)*1000)","v":0}]
[null,null,null,null,null,null,null,null,null,null,null,null,null,null,null,null,null,null,null,null,null,null,null,null,null,null,null,null,null,null,null,null,null,null,null,null,null,null,null,null,null,null,null,null,null,null,"2)散乱線用"]
[null,null,null,"G点の計算",null,null,null,null,null,"G'点の計算",null,null,null,null,null,"G\"点の計算",null,null,null,null,null,null,null,null,null,null,null,null,null,null,null,null,null,null,null,null,null,null,null,null,null,null,null,null,null,null,"遮蔽厚参照値"]
[null,null,null,"1) Ep：一次エックス線（撮影方向）",null,null,null,null,null,"1) Ep：一次エックス線（撮影方向）",null,null,null,null,null,"1) Ep：一次エックス線（撮影方向）",null,null,null,null,null,null,null,null,null,null,null,null,null,null,null,null,null,null,null,null,null,null,null,null,null,null,null,null,null,null,null,null,"G点","G'点","G\"点"]
[null,null,null,"　",null,{"$f":"IF(OR($F68=0,$M69=0,A点!$AQ$7=1,AND($W$8=0,$W$45>0)),0,($G68*$R70*$G85*$F101*$G72*$G71*$M67*$M68)/($M69^2))","v":0},"μSv/3ヶ月",null,null,"　",null,{"$f":"IF(OR($F68=0,$M69=0,A点!$AQ$7=1,AND($W$20=0,$W$45>0)),0,($G68*$R70*$M85*$L101*$G72*$G71*$M67*$M68)/($M69^2))","v":0},"μSv/3ヶ月",null,null,"　",null,{"$f":"IF(OR($F68=0,$M69=0,A点!$AQ$7=1,AND($W$32=0,$W$45>0)),0,($G68*$R70*$S85*$R101*$G72*$G71*$M67*$M68)/($M69^2))","v":0},"μSv/3ヶ月",null,null,null,null,null,null,null,null,null,null,null,null,null,null,null,null,null,null,null,null,null,null,null,null,null,null,null,null,"Pb",{"$f":"IF($H87=0,\"\",IF($H87<=3,INT(10*$H87)/10,IF($H87>4,4,0.5*INT($H87/0.5))))","v":""},{"$f":"IF($N87=0,\"\",IF($N87<=3,INT(10*$N87)/10,IF($N87>4,4,0.5*INT($N87/0.5))))","v":""},{"$f":"IF($T87=0,\"\",IF($T87<=3,INT(10*$T87)/10,IF($T87>4,4,0.5*INT($T87/0.5))))","v":""}]
[null,null,null,null,null,null,null,null,null,null,null,null,null,null,null,null,null,null,null,null,null,null,null,null,null,null,null,null,null,null,null,null,null,null,null,null,null,null,null,null,null,null,null,null,null,null,null,"ｺﾝｸﾘ",{"$f":"IF($H89=0,\"\",IF($H89<=300,INT($H89/10)*10,IF($H89>400,400,50*INT($H89/50))))","v":""},{"$f":"IF($N89=0,\"\",IF($N89<=300,INT($N89/10)*10,IF($N89>400,400,50*INT($N89/50))))","v":""},{"$f":"IF($T89=0,\"\",IF($T89<=300,INT($T89/10)*10,IF($T89>400,400,50*INT($T89/50))))","v":""}]
[null,null,null,"a) 第１遮蔽材による減衰(遮蔽体がある場合透過率=1)",null,null,null,null,null,"a) 第１遮蔽材による減衰(遮蔽体がある場合透過率=1)",null,null,null,null,null,"a) 第１遮蔽材による減衰(遮蔽体がある場合透過率=1)",null,null,null,null,null,null,null,null,null,null,null,null,null,null,null,null,null,null,null,null,null,null,null,null,null,null,null,null,null,null,null,"Fe",{"$f":"IF($H91=0,\"\",IF($H91<=30,INT($H91),IF($H91>40,40,5*INT($H91/5))))","v":""},{"$f":"IF($N91=0,\"\",IF($N91<=30,INT($N91),IF($N91>40,40,5*INT($N91/5))))","v":""},{"$f":"IF($T91=0,\"\",IF($T91<=30,INT($T91),IF($T91>40,40,5*INT($T91/5))))","v":""}]
[null,null,null,null,null,"第1遮蔽材",{"$f":"IF($S$68>0,\"遮蔽体\",$W$8)","v":0},{"$f":"$W$8","v":0},null,null,null,"第1遮蔽材",{"$f":"IF($S$68>0,\"遮蔽体\",$W$20)","v":0},{"$f":"$W$20","v":0},null,null,null,"第1遮蔽材",{"$f":"IF($S$68>0,\"遮蔽体\",$W$32)","v":0},{"$f":"$W$32","v":0},null,null,null,null,null,null,null,null,null,null,null,null,null,null,null,null,null,null,null,null,null,null,null,null,null,null,null,"石膏",{"$f":"IF($H93=0,\"\",IF($H93<=30,INT($H93),IF($H93>40,40,5*INT($H93/5))))","v":""},{"$f":"IF($N93=0,\"\",IF($N93<=30,INT($N93),IF($N93>40,40,5*INT($N93/5))))","v":""},{"$f":"IF($T93=0,\"\",IF($T93<=30,INT($T93),IF($T93>40,40,5*INT($T93/5))))","v":""}]
[null,null,null,null,null,"Dt1=",{"$f":"G88*G90*G92*G94*G96*G98","v":1},{"$f":"H88*H90*H92*H94*H96*H98","v":1},null,null,null,"Dt1=",{"$f":"M88*M90*M92*M94*M96*M98","v":1},{"$f":"N88*N90*N92*N94*N96*N98","v":1},null,null,null,"Dt1=",{"$f":"S88*S90*S92*S94*S96*S98","v":1},{"$f":"T88*T90*T92*T94*T96*T98","v":1},null,null,null,null,null,null,null,null,null,null,null,null,null,null,null,null,null,null,null,null,null,null,null,null,null,null,null,"ｶﾞﾗｽ",{"$f":"IF($H95=0,\"\",IF($H95<=30,INT($H95),IF($H95>40,40,5*INT($H95/5))))","v":""},{"$f":"IF($N95=0,\"\",IF($N95<=30,INT($N95),IF($N95>40,40,5*INT($N95/5))))","v":""},{"$f":"IF($T95=0,\"\",IF($T95<=30,INT($T95),IF($T95>40,40,5*INT($T95/5))))","v":""}]
[null,null,null,null,null,null,"一次線用","散乱線用",null,null,null,null,"一次線用","散乱線用",null,null,null,null,"一次線用","散乱線用",null,null,null,null,null,null,null,null,null,null,null,null,null,null,null,null,null,null,null,null,null,null,null,null,null,null,null,"木材",{"$f":"IF($H97=0,\"\",IF($H97<=300,INT($H97/10)*10,IF($H97>400,400,50*INT($H97/50))))","v":""},{"$f":"IF($N97=0,\"\",IF($N97<=300,INT($N97/10)*10,IF($N97>400,400,50*INT($N97/50))))","v":""},{"$f":"IF($T97=0,\"\",IF($T97<=300,INT($T97/10)*10,IF($T97>400,400,50*INT($T97/50))))","v":""}]
[null,null,null,"a)　鉛(表2)",null,"等価厚さ",{"$f":"IF($G84=$W$10,$W$9*$AE$8,0)","v":0},{"$f":"IF($H84=$W$10,$W$9*$AE$8,0)","v":0},null,"a)　鉛(表2)",null,"等価厚さ",{"$f":"IF($M84=$W$22,$W$21*$AE$8,0)","v":0},{"$f":"IF($N84=$W$22,$W$21*$AE$8,0)","v":0},null,"a)　鉛(表2)",null,"等価厚さ",{"$f":"IF($S84=$W$34,$W$33*$AE$8,0)","v":0},{"$f":"IF($T84=$W$34,$W$33*$AE$8,0)","v":0}]
[null,null,null,null,null,"透過率",{"$f":"IF(OR($G87=0,A点!$AM$8=1,A点!$AM$8=\"○\"),1,INDEX('表２(Pb)'!$A$3:$Y$36,MATCH($AW71,'表２(Pb)'!$A$3:$A$36,0),MATCH($F68,'表２(Pb)'!$A$3:$Y$3,0)))","v":1},{"$f":"IF(OR($H87=0,A点!$AM$8=1,A点!$AM$8=\"○\"),1,INDEX('表２(Pb)'!$A$3:$Y$36,MATCH($AW81,'表２(Pb)'!$A$3:$A$36,0),MATCH($F68,'表２(Pb)'!$A$3:$Y$3,0)))","v":1},null,null,null,"透過率",{"$f":"IF(OR($M87=0,A点!$AM$8=1,A点!$AM$8=\"○\"),1,INDEX('表２(Pb)'!$A$3:$Y$36,MATCH($AX71,'表２(Pb)'!$A$3:$A$36,0),MATCH($F68,'表２(Pb)'!$A$3:$Y$3,0)))","v":1},{"$f":"IF(OR($N87=0,A点!$AM$8=1,A点!$AM$8=\"○\"),1,INDEX('表２(Pb)'!$A$3:$Y$36,MATCH($AX81,'表２(Pb)'!$A$3:$A$36,0),MATCH($F68,'表２(Pb)'!$A$3:$Y$3,0)))","v":1},null,null,null,"透過率",{"$f":"IF(OR($S87=0,A点!$AM$8=1,A点!$AM$8=\"○\"),1,INDEX('表２(Pb)'!$A$3:$Y$36,MATCH($AY71,'表２(Pb)'!$A$3:$A$36,0),MATCH($F68,'表２(Pb)'!$A$3:$Y$3,0)))","v":1},{"$f":"IF(OR($T87=0,A点!$AM$8=1,A点!$AM$8=\"○\"),1,INDEX('表２(Pb)'!$A$3:$Y$36,MATCH($AY81,'表２(Pb)'!$A$3:$A$36,0),MATCH($F68,'表２(Pb)'!$A$3:$Y$3,0)))","v":1},null,null,null,null,null,null,null,null,null,null,null,null,null,null,null,null,null,null,null,null,null,null,null,null,null,null,"3)","遮蔽材順"]
[null,null,null,"b)　コンクリート(表3)",null,"等価厚さ",{"$f":"IF($G84=$X$10,$W$9*$AE$9,0)","v":0},{"$f":"IF($H84=$X$10,$W$9*$AE$9,0)","v":0},null,"b)　コンクリート(表3)",null,"等価厚さ",{"$f":"IF($M84=$X$22,$W$21*$AE$9,0)","v":0},{"$f":"IF($N84=$X$22,$W$21*$AE$9,0)","v":0},null,"b)　コンクリート(表3)",null,"等価厚さ",{"$f":"IF($S84=$X$34,$W$33*$AE$9,0)","v":0},{"$f":"IF($T84=$X$34,$W$33*$AE$9,0)","v":0},null,null,null,null,null,null,null,null,null,null,null,null,null,null,null,null,null,null,null,null,null,null,null,null,null,null,null,null,"G点","G'点","G\"点"]
[null,null,null,null,null,"透過率",{"$f":"IF(OR($G89=0,A点!$AM$8=1,A点!$AM$8=\"○\"),1,INDEX('表３(コ)'!$A$3:$Y$36,MATCH($AW72,'表３(コ)'!$A$3:$A$36,0),MATCH($F68,'表３(コ)'!$A$3:$Y$3,0)))","v":1},{"$f":"IF(OR($H89=0,A点!$AM$8=1,A点!$AM$8=\"○\"),1,INDEX('表３(コ)'!$A$3:$Y$36,MATCH($AW82,'表３(コ)'!$A$3:$A$36,0),MATCH($F68,'表３(コ)'!$A$3:$Y$3,0)))","v":1},null,null,null,"透過率",{"$f":"IF(OR($M89=0,A点!$AM$8=1,A点!$AM$8=\"○\"),1,INDEX('表３(コ)'!$A$3:$Y$36,MATCH($AX72,'表３(コ)'!$A$3:$A$36,0),MATCH($F68,'表３(コ)'!$A$3:$Y$3,0)))","v":1},{"$f":"IF(OR($N89=0,A点!$AM$8=1,A点!$AM$8=\"○\"),1,INDEX('表３(コ)'!$A$3:$Y$36,MATCH($AX82,'表３(コ)'!$A$3:$A$36,0),MATCH($F68,'表３(コ)'!$A$3:$Y$3,0)))","v":1},null,null,null,"透過率",{"$f":"IF(OR($S89=0,A点!$AM$8=1,A点!$AM$8=\"○\"),1,INDEX('表３(コ)'!$A$3:$Y$36,MATCH($AY72,'表３(コ)'!$A$3:$A$36,0),MATCH($F68,'表３(コ)'!$A$3:$Y$3,0)))","v":1},{"$f":"IF(OR($T89=0,A点!$AM$8=1,A点!$AM$8=\"○\"),1,INDEX('表３(コ)'!$A$3:$Y$36,MATCH($AY82,'表３(コ)'!$A$3:$A$36,0),MATCH($F68,'表３(コ)'!$A$3:$Y$3,0)))","v":1},null,null,null,null,null,null,null,null,null,null,null,null,null,null,null,null,null,null,null,null,null,null,null,null,null,null,null,"第1遮蔽材",{"$f":"IF($AW100=\"11\",G$84,H$84)","v":0},{"$f":"IF($AW100=\"11\",M$84,N$84)","v":0},{"$f":"IF($AW100=\"11\",S$84,T$84)","v":0}]
[null,null,null,"c)　鉄(表4)",null,"等価厚さ",{"$f":"IF($G84=$Y$10,$W$9*$AE$10,0)","v":0},{"$f":"IF($H84=$Y$10,$W$9*$AE$10,0)","v":0},null,"c)　鉄(表4)",null,"等価厚さ",{"$f":"IF($M84=$Y$22,$W$21*$AE$10,0)","v":0},{"$f":"IF($N84=$Y$22,$W$21*$AE$10,0)","v":0},null,"c)　鉄(表4)",null,"等価厚さ",{"$f":"IF($S84=$Y$34,$W$33*$AE$10,0)","v":0},{"$f":"IF($T84=$Y$34,$W$33*$AE$10,0)","v":0},null,null,null,null,null,null,null,null,null,null,null,null,null,null,null,null,null,null,null,null,null,null,null,null,null,null,null,"第2遮蔽材",{"$f":"IF($AW100=\"11\",W$8,X$8)","v":0},{"$f":"IF($AW100=\"11\",W$20,X$20)","v":0},{"$f":"IF($AW100=\"11\",W$32,X$32)","v":0}]
[null,null,null,null,null,"透過率",{"$f":"IF(OR($G91=0,A点!$AM$8=1,A点!$AM$8=\"○\"),1,INDEX('表4(Fe)'!$A$3:$Y$36,MATCH($AW73,'表4(Fe)'!$A$3:$A$36,0),MATCH($F68,'表4(Fe)'!$A$3:$Y$3,0)))","v":1},{"$f":"IF(OR($H91=0,A点!$AM$8=1,A点!$AM$8=\"○\"),1,INDEX('表4(Fe)'!$A$3:$Y$36,MATCH($AW83,'表4(Fe)'!$A$3:$A$36,0),MATCH($F68,'表4(Fe)'!$A$3:$Y$3,0)))","v":1},null,null,null,"透過率",{"$f":"IF(OR($M91=0,A点!$AM$8=1,A点!$AM$8=\"○\"),1,INDEX('表4(Fe)'!$A$3:$Y$36,MATCH($AX73,'表4(Fe)'!$A$3:$A$36,0),MATCH($F68,'表4(Fe)'!$A$3:$Y$3,0)))","v":1},{"$f":"IF(OR($N91=0,A点!$AM$8=1,A点!$AM$8=\"○\"),1,INDEX('表4(Fe)'!$A$3:$Y$36,MATCH($AX83,'表4(Fe)'!$A$3:$A$36,0),MATCH($F68,'表4(Fe)'!$A$3:$Y$3,0)))","v":1},null,null,null,"透過率",{"$f":"IF(OR($S91=0,A点!$AM$8=1,A点!$AM$8=\"○\"),1,INDEX('表4(Fe)'!$A$3:$Y$36,MATCH($AY73,'表4(Fe)'!$A$3:$A$36,0),MATCH($F68,'表4(Fe)'!$A$3:$Y$3,0)))","v":1},{"$f":"IF(OR($T91=0,A点!$AM$8=1,A点!$AM$8=\"○\"),1,INDEX('表4(Fe)'!$A$3:$Y$36,MATCH($AY83,'表4(Fe)'!$A$3:$A$36,0),MATCH($F68,'表4(Fe)'!$A$3:$Y$3,0)))","v":1},null,null,null,null,null,null,null,null,null,null,null,null,null,null,null,null,null,null,null,null,null,null,null,null,null,null,null,"第3遮蔽材",{"$f":"IF($AW100=\"11\",X$8,Y$8)","v":0},{"$f":"IF($AW100=\"11\",X$20,Y$20)","v":0},{"$f":"IF($AW100=\"11\",X$32,Y$32)","v":0}]
[null,null,null,"d)　石膏(表5)",null,"等価厚さ",{"$f":"IF($G84=$Z$10,$W$9*$AE$11,0)","v":0},{"$f":"IF($H84=$Z$10,$W$9*$AE$11,0)","v":0},null,"d)　石膏(表5)",null,"等価厚さ",{"$f":"IF($M84=$Z$22,$W$21*$AE$11,0)","v":0},{"$f":"IF($N84=$Z$22,$W$21*$AE$11,0)","v":0},null,"d)　石膏(表5)",null,"等価厚さ",{"$f":"IF($S84=$Z$34,$W$33*$AE$11,0)","v":0},{"$f":"IF($T84=$Z$34,$W$33*$AE$11,0)","v":0},null,null,null,null,null,null,null,null,null,null,null,null,null,null,null,null,null,null,null,null,null,null,null,null,null,null,null,"第4遮蔽材",{"$f":"IF($AW100=\"11\",Y$8,Z$8)","v":0},{"$f":"IF($AW100=\"11\",Y$20,Z$20)","v":0},{"$f":"IF($AW100=\"11\",Y$32,Z$32)","v":0}]
[null,null,null,null,null,"透過率",{"$f":"IF(OR($G93=0,A点!$AM$8=1,A点!$AM$8=\"○\"),1,INDEX('表5(CaSO4)'!$A$3:$Y$36,MATCH($AW74,'表5(CaSO4)'!$A$3:$A$36,0),MATCH($F68,'表5(CaSO4)'!$A$3:$Y$3,0)))","v":1},{"$f":"IF(OR($H93=0,A点!$AM$8=1,A点!$AM$8=\"○\"),1,INDEX('表5(CaSO4)'!$A$3:$Y$36,MATCH($AW84,'表5(CaSO4)'!$A$3:$A$36,0),MATCH($F68,'表5(CaSO4)'!$A$3:$Y$3,0)))","v":1},null,null,null,"透過率",{"$f":"IF(OR($M93=0,A点!$AM$8=1,A点!$AM$8=\"○\"),1,INDEX('表5(CaSO4)'!$A$3:$Y$36,MATCH($AX74,'表5(CaSO4)'!$A$3:$A$36,0),MATCH($F68,'表5(CaSO4)'!$A$3:$Y$3,0)))","v":1},{"$f":"IF(OR($N93=0,A点!$AM$8=1,A点!$AM$8=\"○\"),1,INDEX('表5(CaSO4)'!$A$3:$Y$36,MATCH($AX84,'表5(CaSO4)'!$A$3:$A$36,0),MATCH($F68,'表5(CaSO4)'!$A$3:$Y$3,0)))","v":1},null,null,null,"透過率",{"$f":"IF(OR($S93=0,A点!$AM$8=1,A点!$AM$8=\"○\"),1,INDEX('表5(CaSO4)'!$A$3:$Y$36,MATCH($AY74,'表5(CaSO4)'!$A$3:$A$36,0),MATCH($F68,'表5(CaSO4)'!$A$3:$Y$3,0)))","v":1},{"$f":"IF(OR($T93=0,A点!$AM$8=1,A点!$AM$8=\"○\"),1,INDEX('表5(CaSO4)'!$A$3:$Y$36,MATCH($AY84,'表5(CaSO4)'!$A$3:$A$36,0),MATCH($F68,'表5(CaSO4)'!$A$3:$Y$3,0)))","v":1},null,null,null,null,null,null,null,null,null,null,null,null,null,null,null,null,null,null,null,null,null,null,null,null,null,null,null,"第5遮蔽材",{"$f":"IF($AW100=\"11\",Z$8,AA$8)","v":0},{"$f":"IF($AW100=\"11\",Z$20,AA$20)","v":0},{"$f":"IF($AW100=\"11\",Z$32,AA$32)","v":0}]
[null,null,null,"e）　ガラス(表6)",null,"等価厚さ",{"$f":"IF($G84=$AA$10,$W$9*$AE$12,0)","v":0},{"$f":"IF($H84=$AA$10,$W$9*$AE$12,0)","v":0},null,"e）　ガラス(表6)",null,"等価厚さ",{"$f":"IF($M84=$AA$22,$W$21*$AE$12,0)","v":0},{"$f":"IF($N84=$AA$22,$W$21*$AE$12,0)","v":0},null,"e）　ガラス(表6)",null,"等価厚さ",{"$f":"IF($S84=$AA$34,$W$33*$AE$12,0)","v":0},{"$f":"IF($T84=$AA$34,$W$33*$AE$12,0)","v":0},null,null,null,null,null,null,null,null,null,null,null,null,null,null,null,null,null,null,null,null,null,null,null,null,null,null,null,"第6遮蔽材",{"$f":"IF($AW100=\"11\",AA$8,AB$8)","v":0},{"$f":"IF($AW100=\"11\",AA$20,AB$20)","v":0},{"$f":"IF($AW100=\"11\",AA$32,AB$32)","v":0}]
[null,null,null,null,null,"透過率",{"$f":"IF(OR($G95=0,A点!$AM$8=1,A点!$AM$8=\"○\"),1,INDEX('表6(SiO2)'!$A$3:$Y$36,MATCH($AW75,'表6(SiO2)'!$A$3:$A$36,0),MATCH($F68,'表6(SiO2)'!$A$3:$Y$3,0)))","v":1},{"$f":"IF(OR($H95=0,A点!$AM$8=1,A点!$AM$8=\"○\"),1,INDEX('表6(SiO2)'!$A$3:$Y$36,MATCH($AW85,'表6(SiO2)'!$A$3:$A$36,0),MATCH($F68,'表6(SiO2)'!$A$3:$Y$3,0)))","v":1},null,null,null,"透過率",{"$f":"IF(OR($M95=0,A点!$AM$8=1,A点!$AM$8=\"○\"),1,INDEX('表6(SiO2)'!$A$3:$Y$36,MATCH($AX75,'表6(SiO2)'!$A$3:$A$36,0),MATCH($F68,'表6(SiO2)'!$A$3:$Y$3,0)))","v":1},{"$f":"IF(OR($N95=0,A点!$AM$8=1,A点!$AM$8=\"○\"),1,INDEX('表6(SiO2)'!$A$3:$Y$36,MATCH($AX85,'表6(SiO2)'!$A$3:$A$36,0),MATCH($F68,'表6(SiO2)'!$A$3:$Y$3,0)))","v":1},null,null,null,"透過率",{"$f":"IF(OR($S95=0,A点!$AM$8=1,A点!$AM$8=\"○\"),1,INDEX('表6(SiO2)'!$A$3:$Y$36,MATCH($AY75,'表6(SiO2)'!$A$3:$A$36,0),MATCH($F68,'表6(SiO2)'!$A$3:$Y$3,0)))","v":1},{"$f":"IF(OR($T95=0,A点!$AM$8=1,A点!$AM$8=\"○\"),1,INDEX('表6(SiO2)'!$A$3:$Y$36,MATCH($AY85,'表6(SiO2)'!$A$3:$A$36,0),MATCH($F68,'表6(SiO2)'!$A$3:$Y$3,0)))","v":1},null,null,null,null,null,null,null,null,null,null,null,null,null,null,null,null,null,null,null,null,null,null,null,null,null,null,null,"第7遮蔽材",{"$f":"IF($AW100=\"11\",AB$8,\"\")","v":""},{"$f":"IF($AW100=\"11\",AB$20,\"\")","v":""},{"$f":"IF($AW100=\"11\",AB$32,\"\")","v":""}]
[null,null,null,"f)　木材(表7)",null,"等価厚さ",{"$f":"IF($G84=$AB$10,$W$9*$AE$13,0)","v":0},{"$f":"IF($H84=$AB$10,$W$9*$AE$13,0)","v":0},null,"f)　木材(表7)",null,"等価厚さ",{"$f":"IF($M84=$AB$22,$W$21*$AE$13,0)","v":0},{"$f":"IF($N84=$AB$22,$W$21*$AE$13,0)","v":0},null,"f)　木材(表7)",null,"等価厚さ",{"$f":"IF($S84=$AB$34,$W$33*$AE$13,0)","v":0},{"$f":"IF($T84=$AB$34,$W$33*$AE$13,0)","v":0}]
[null,null,null,null,null,"透過率",{"$f":"IF(OR($G97=0,A点!$AM$8=1,A点!$AM$8=\"○\"),1,INDEX('表7(木)'!$A$3:$Y$36,MATCH($AW76,'表7(木)'!$A$3:$A$36,0),MATCH($F68,'表7(木)'!$A$3:$Y$3,0)))","v":1},{"$f":"IF(OR($H97=0,A点!$AM$8=1,A点!$AM$8=\"○\"),1,INDEX('表7(木)'!$A$3:$Y$36,MATCH($AW86,'表7(木)'!$A$3:$A$36,0),MATCH($F68,'表7(木)'!$A$3:$Y$3,0)))","v":1},null,null,null,"透過率",{"$f":"IF(OR($M97=0,A点!$AM$8=1,A点!$AM$8=\"○\"),1,INDEX('表7(木)'!$A$3:$Y$36,MATCH($AX76,'表7(木)'!$A$3:$A$36,0),MATCH($F68,'表7(木)'!$A$3:$Y$3,0)))","v":1},{"$f":"IF(OR($N97=0,A点!$AM$8=1,A点!$AM$8=\"○\"),1,INDEX('表7(木)'!$A$3:$Y$36,MATCH($AX86,'表7(木)'!$A$3:$A$36,0),MATCH($F68,'表7(木)'!$A$3:$Y$3,0)))","v":1},null,null,null,"透過率",{"$f":"IF(OR($S97=0,A点!$AM$8=1,A点!$AM$8=\"○\"),1,INDEX('表7(木)'!$A$3:$Y$36,MATCH($AY76,'表7(木)'!$A$3:$A$36,0),MATCH($F68,'表7(木)'!$A$3:$Y$3,0)))","v":1},{"$f":"IF(OR($T97=0,A点!$AM$8=1,A点!$AM$8=\"○\"),1,INDEX('表7(木)'!$A$3:$Y$36,MATCH($AY86,'表7(木)'!$A$3:$A$36,0),MATCH($F68,'表7(木)'!$A$3:$Y$3,0)))","v":1},null,null,null,null,null,null,null,null,null,null,null,null,null,null,null,null,null,null,null,null,null,null,null,null,null,null,null,"遮蔽体有無",{"$f":"IF($S68>0,1,0)","v":0},"遮蔽体有：１"]
[null,null,null,null,null,null,null,null,null,null,null,null,null,null,null,null,null,null,null,null,null,null,null,null,null,null,null,null,null,null,null,null,null,null,null,null,null,null,null,null,null,null,null,null,null,null,null,"照射方向",{"$f":"IF($M69>0,1,2)","v":2},"直接線：1、散乱線：2"]
[null,null,null,"b)　第２遮蔽材以後による一次線の減衰表9",null,null,null,null,null,"b)　第２遮蔽材以後による一次線の減衰表9",null,null,null,null,null,"b)　第２遮蔽材以後による一次線の減衰表9",null,null,null,null,null,null,null,null,null,null,null,null,null,null,null,null,null,null,null,null,null,null,null,null,null,null,null,null,null,null,null,"判定コード",{"$f":"AW98&AW99","v":"02"}]
[null,null,null,null,"Dt2=",{"$f":"F104*F106*F108*F110*F112*F114","v":0},{"$f":"G104*G106*G108*G110*G112*G114","v":0},0,null,null,"Dt2=",{"$f":"L104*L106*L108*L110*L112*L114","v":0},{"$f":"M104*M106*M108*M110*M112*M114","v":0},0,null,null,"Dt2=",{"$f":"R104*R106*R108*R110*R112*R114","v":0},{"$f":"S104*S106*S108*S110*S112*S114","v":0},0]
[null,null,null,null,null,"一次線用","散乱線用","漏洩線用",null,null,null,"一次線用","散乱線用","漏洩線用",null,null,null,"一次線用","散乱線用","漏洩線用"]
[null,null,null,"a)　鉛(表9)","半価層(mm)",{"$f":"IF(OR(A点!$AM$8=1,A点!$AM$8=\"○\"),\"\",VLOOKUP($F68,'表9(BB)'!$A$4:$M$27,2,0))","v":""},null,null,null,"a)　鉛(表9)","半価層(mm)",{"$f":"IF(OR(A点!$AM$8=1,A点!$AM$8=\"○\"),\"\",VLOOKUP($F68,'表9(BB)'!$A$4:$M$27,2,0))","v":""},null,null,null,"a)　鉛(表9)","半価層(mm)",{"$f":"IF(OR(A点!$AM$8=1,A点!$AM$8=\"○\"),\"\",VLOOKUP($F68,'表9(BB)'!$A$4:$M$27,2,0))","v":""}]
[null,null,null,null,"透過率",{"$f":"IF($S$68>0,$H104,$G104)","v":0},{"$f":"IF($F103=\"\",0,(1/2)^($W18*$AE$8/$F103))","v":0},{"$f":"IF($F103=\"\",0,(1/2)^($W17*$AE$8/$F103))","v":0},null,null,"透過率",{"$f":"IF($S$68>0,$N104,$M104)","v":0},{"$f":"IF($L103=\"\",0,(1/2)^($W30*$AE$8/$L103))","v":0},{"$f":"IF($L103=\"\",0,(1/2)^($W29*$AE$8/$L103))","v":0},null,null,"透過率",{"$f":"IF($S$68>0,$T104,$S104)","v":0},{"$f":"IF($R103=\"\",0,(1/2)^($W42*$AE$8/$R103))","v":0},{"$f":"IF($R103=\"\",0,(1/2)^($W41*$AE$8/$R103))","v":0}]
[null,null,null,"b)　コンクリート(表9)","半価層(mm)",{"$f":"IF(OR(A点!$AM$8=1,A点!$AM$8=\"○\"),\"\",VLOOKUP($F68,'表9(BB)'!$A$4:$M$27,4,0))","v":""},null,null,null,"b)　コンクリート(表9)","半価層(mm)",{"$f":"IF(OR(A点!$AM$8=1,A点!$AM$8=\"○\"),\"\",VLOOKUP($F68,'表9(BB)'!$A$4:$M$27,4,0))","v":""},null,null,null,"b)　コンクリート(表9)","半価層(mm)",{"$f":"IF(OR(A点!$AM$8=1,A点!$AM$8=\"○\"),\"\",VLOOKUP($F68,'表9(BB)'!$A$4:$M$27,4,0))","v":""}]
[null,null,null,null,"透過率",{"$f":"IF($S$68>0,$H106,$G106)","v":0},{"$f":"IF($F105=\"\",0,(1/2)^($X18*$AE$9/$F105))","v":0},{"$f":"IF($F105=\"\",0,(1/2)^($X17*$AE$9/$F105))","v":0},null,null,"透過率",{"$f":"IF($S$68>0,$N106,$M106)","v":0},{"$f":"IF($L105=\"\",0,(1/2)^($X30*$AE$9/$L105))","v":0},{"$f":"IF($L105=\"\",0,(1/2)^($X29*$AE$9/$L105))","v":0},null,null,"透過率",{"$f":"IF($S$68>0,$T106,$S106)","v":0},{"$f":"IF($R105=\"\",0,(1/2)^($X42*$AE$9/$R105))","v":0},{"$f":"IF($R105=\"\",0,(1/2)^($X41*$AE$9/$R105))","v":0}]
[null,null,null,"c)　鉄(表9)","半価層(mm)",{"$f":"IF(OR(A点!$AM$8=1,A点!$AM$8=\"○\"),\"\",VLOOKUP($F68,'表9(BB)'!$A$4:$M$27,6,0))","v":""},null,null,null,"c)　鉄(表9)","半価層(mm)",{"$f":"IF(OR(A点!$AM$8=1,A点!$AM$8=\"○\"),\"\",VLOOKUP($F68,'表9(BB)'!$A$4:$M$27,6,0))","v":""},null,null,null,"c)　鉄(表9)","半価層(mm)",{"$f":"IF(OR(A点!$AM$8=1,A点!$AM$8=\"○\"),\"\",VLOOKUP($F68,'表9(BB)'!$A$4:$M$27,6,0))","v":""}]
[null,null,null,null,"透過率",{"$f":"IF($S$68>0,$H108,$G108)","v":0},{"$f":"IF($F107=\"\",0,(1/2)^($Y18*$AE$10/$F107))","v":0},{"$f":"IF($F107=\"\",0,(1/2)^($Y17*$AE$10/$F107))","v":0},null,null,"透過率",{"$f":"IF($S$68>0,$N108,$M108)","v":0},{"$f":"IF($L107=\"\",0,(1/2)^($Y30*$AE$10/$L107))","v":0},{"$f":"IF($L107=\"\",0,(1/2)^($Y29*$AE$10/$L107))","v":0},null,null,"透過率",{"$f":"IF($S$68>0,$T108,$S108)","v":0},{"$f":"IF($R107=\"\",0,(1/2)^($Y42*$AE$10/$R107))","v":0},{"$f":"IF($R107=\"\",0,(1/2)^($Y41*$AE$10/$R107))","v":0}]
[null,null,null,"d)　石膏(表9)","半価層(mm)",{"$f":"IF(OR(A点!$AM$8=1,A点!$AM$8=\"○\"),\"\",VLOOKUP($F68,'表9(BB)'!$A$4:$M$27,8,0))","v":""},null,null,null,"d)　石膏(表9)","半価層(mm)",{"$f":"IF(OR(A点!$AM$8=1,A点!$AM$8=\"○\"),\"\",VLOOKUP($F68,'表9(BB)'!$A$4:$M$27,8,0))","v":""},null,null,null,"d)　石膏(表9)","半価層(mm)",{"$f":"IF(OR(A点!$AM$8=1,A点!$AM$8=\"○\"),\"\",VLOOKUP($F68,'表9(BB)'!$A$4:$M$27,8,0))","v":""}]
[null,null,null,null,"透過率",{"$f":"IF($S$68>0,$H110,$G110)","v":0},{"$f":"IF($F109=\"\",0,(1/2)^($Z18*$AE$11/$F109))","v":0},{"$f":"IF($F109=\"\",0,(1/2)^($Z17*$AE$11/$F109))","v":0},null,null,"透過率",{"$f":"IF($S$68>0,$N110,$M110)","v":0},{"$f":"IF($L109=\"\",0,(1/2)^($Z30*$AE$11/$L109))","v":0},{"$f":"IF($L109=\"\",0,(1/2)^($Z29*$AE$11/$L109))","v":0},null,null,"透過率",{"$f":"IF($S$68>0,$T110,$S110)","v":0},{"$f":"IF($R109=\"\",0,(1/2)^($Z42*$AE$11/$R109))","v":0},{"$f":"IF($R109=\"\",0,(1/2)^($Z41*$AE$11/$R109))","v":0}]
[null,null,null,"e）　ガラス(表9)","半価層(mm)",{"$f":"IF(OR(A点!$AM$8=1,A点!$AM$8=\"○\"),\"\",VLOOKUP($F68,'表9(BB)'!$A$4:$M$27,10,0))","v":""},null,null,null,"e）　ガラス(表9)","半価層(mm)",{"$f":"IF(OR(A点!$AM$8=1,A点!$AM$8=\"○\"),\"\",VLOOKUP($F68,'表9(BB)'!$A$4:$M$27,10,0))","v":""},null,null,null,"e）　ガラス(表9)","半価層(mm)",{"$f":"IF(OR(A点!$AM$8=1,A点!$AM$8=\"○\"),\"\",VLOOKUP($F68,'表9(BB)'!$A$4:$M$27,10,0))","v":""}]
[null,null,null,null,"透過率",{"$f":"IF($S$68>0,$H112,$G112)","v":0},{"$f":"IF($F111=\"\",0,(1/2)^($AA18*$AE$12/$F111))","v":0},{"$f":"IF($F111=\"\",0,(1/2)^($AA17*$AE$12/$F111))","v":0},null,null,"透過率",{"$f":"IF($S$68>0,$N112,$M112)","v":0},{"$f":"IF($L111=\"\",0,(1/2)^($AA30*$AE$12/$L111))","v":0},{"$f":"IF($L111=\"\",0,(1/2)^($AA29*$AE$12/$L111))","v":0},null,null,"透過率",{"$f":"IF($S$68>0,$T112,$S112)","v":0},{"$f":"IF($R111=\"\",0,(1/2)^($AA42*$AE$12/$R111))","v":0},{"$f":"IF($R111=\"\",0,(1/2)^($AA41*$AE$12/$R111))","v":0}]
[null,null,null,"f)　木材(表9)","半価層(mm)",{"$f":"IF(OR(A点!$AM$8=1,A点!$AM$8=\"○\"),\"\",VLOOKUP($F68,'表9(BB)'!$A$4:$M$27,12,0))","v":""},null,null,null,"f)　木材(表9)","半価層(mm)",{"$f":"IF(OR(A点!$AM$8=1,A点!$AM$8=\"○\"),\"\",VLOOKUP($F68,'表9(BB)'!$A$4:$M$27,12,0))","v":""},null,null,null,"f)　木材(表9)","半価層(mm)",{"$f":"IF(OR(A点!$AM$8=1,A点!$AM$8=\"○\"),\"\",VLOOKUP($F68,'表9(BB)'!$A$4:$M$27,12,0))","v":""}]
[null,null,null,null,"透過率",{"$f":"IF($S$68>0,$H114,$G114)","v":0},{"$f":"IF($F113=\"\",0,(1/2)^($AB18*$AE$13/$F113))","v":0},{"$f":"IF($F113=\"\",0,(1/2)^($AB17*$AE$13/$F113))","v":0},null,null,"透過率",{"$f":"IF($S$68>0,$N114,$M114)","v":0},{"$f":"IF(L113=\"\",0,(1/2)^($AB30*$AE$13/$L113))","v":0},{"$f":"IF($L113=\"\",0,(1/2)^($AB29*$AE$13/$L113))","v":0},null,null,"透過率",{"$f":"IF($S$68>0,$T114,$S114)","v":0},{"$f":"IF($R113=\"\",0,(1/2)^($AB42*$AE$13/$R113))","v":0},{"$f":"IF($R113=\"\",0,(1/2)^($AB41*$AE$13/$R113))","v":0}]
[]
[]
[null,null,null,"2)　Es：散乱エックス線の漏洩線量(散乱角90度)",null,null,null,null,null,"2)　Es：散乱エックス線の漏洩線量(散乱角90度)",null,null,null,null,null,"2)　Es：散乱エックス線の漏洩線量(散乱角90度)"]
[null,null,null,null,"Dt=",{"$f":"H85*G101","v":0},null,null,null,null,"Dt=",{"$f":"N85*M101","v":0},null,null,null,null,"Dt=",{"$f":"T85*S101","v":0}]
[null,null,null,null,"Es=",{"$f":"IF(OR($F68=0,$M70=0,$M71=0,AND($W$8=0,$W$45>0),A点!$AQ$7=1),0,$G68*$G72*$G71*F118*$M67*$M68*($K71/100)*$K72/(400*($M70^2)*($M71^2)))","v":0},"μSv/3ヶ月",null,null,null,"Es=",{"$f":"IF(OR($F68=0,$M70=0,$M71=0,AND($W$20=0,$W$45>0),A点!$AQ$7=1),0,$G68*$G72*$G71*L118*$M67*$M68*($K71/100)*$K72/(400*($M70^2)*($M71^2)))","v":0},"μSv/3ヶ月",null,null,null,"Es=",{"$f":"IF(OR($F68=0,$M70=0,$M71=0,AND($W$32=0,$W$45>0),A点!$AQ$7=1),0,$G68*$G72*$G71*R118*$M67*$M68*($K71/100)*$K72/(400*($M70^2)*($M71^2)))","v":0},"μSv/3ヶ月"]
[]
[]
[null,null,null,"3)　EL：エックス線管容器からの漏洩線量(最大見積)",null,null,null,null,null,"3)　EL：エックス線管容器からの漏洩線量(最大見積)",null,null,null,null,null,"3)　EL：エックス線管容器からの漏洩線量(最大見積)"]
[]
[null,null,null,null,"EL=",{"$f":"IF(OR($F68=0,$M72=0,AND($W$8=0,$W$45>0),A点!$AQ$7=1),0,$S77*$G71*$M73*H101*$M67*$M68/($M72^2))","v":0},"μGy/h",null,null,null,"EL=",{"$f":"IF(OR($F68=0,$M72=0,AND($W$20=0,$W$45>0),A点!$AQ$7=1),0,$S77*$G71*$M73*N101*$M67*$M68/($M72^2))","v":0},"μGy/h",null,null,null,"EL=",{"$f":"IF(OR($F68=0,$F68=0,$M72=0,AND($W$32=0,$W$45>0)),0,$S77*$G71*$M73*T101*$M67*$M68/($M72^2))","v":0},"μGy/h"]
[]
[]
[null,"CT撮影",null,"①　X：空気カーマ(表1)",null,null,null,"④　使用係数",null,null,null,"Ｕ＝",1,null,null,"1)対向板による一次線の減衰(表２)",null,null,null,null,null,null,null,null,null,null,null,null,null,null,null,null,null,null,null,null,null,null,null,null,null,null,null,null,null,null,"③CT用透過率（表2-7）"]
[null,null,null,null,"使用管電圧",{"$f":"A点!$F$128","v":0},{"$f":"A点!$G$128","v":0},"⑤　居住係数",null,null,null,"Ｔ＝",1,null,null,null,null,"等価厚さ",{"$f":"入力用シート!$AA$10","v":0},"mm",null,null,null,null,null,null,null,null,null,null,null,null,null,null,null,null,null,null,null,null,null,null,null,null,null,null,"1)直接線用"]
[null,null,null,null,"電流",{"$f":"A点!$F$129","v":0},null,"⑥　距離",null,null,null,"d1=",{"$f":"M9","v":0},"ｍ",null,null,"使用管電圧",{"$f":"A点!$AN$5","v":0},null,null,null,null,null,null,null,null,null,null,null,null,null,null,null,null,null,null,null,null,null,null,null,null,null,null,null,null,"遮蔽厚参照値"]
[null,null,null,"②　E/Ka：空気カーマ換算係数（表10）",null,null,null,"⑧　照射野400cm2空気ｶｰﾏ率表8",null,null,null,"d2=",{"$f":"M10","v":0},"ｍ",null,null,"透過率",{"$f":"IF(A点!$AN$8=\"○\",\"\",IF(A点!$AN$8=1,\"データなし\",IF($S128>3,HLOOKUP($R129,'表２(Pb)'!$B$3:$Y$36,32+ROUNDDOWN(($S128-3)/0.5,0),0),HLOOKUP($R129,'表２(Pb)'!$B$3:$Y$36,2+S128/0.1,0))))","v":""},null,null,null,null,null,null,null,null,null,null,null,null,null,null,null,null,null,null,null,null,null,null,null,null,null,null,null,null,null,null,"G点","G'点","G\"点"]
[null,null,null,null,"使用管電圧",{"$f":"A点!$F$131","v":0},{"$f":"A点!$G$131","v":0},null,null,null,{"$f":"A点!$AN$7","v":0},"d3=",0,"ｍ",null,null,null,null,null,null,null,null,null,null,null,null,null,null,null,null,null,null,null,null,null,null,null,null,null,null,null,null,null,null,null,null,null,"Pb",{"$f":"IF($G147=0,\"\",IF($G147<=3,INT(10*$G147)/10,IF($G147>4,4,0.5*INT($G147/0.5))))","v":""},{"$f":"IF($M147=0,\"\",IF($M147<=3,INT(10*$M147)/10,IF($M147>4,4,0.5*INT($M147/0.5))))","v":""},{"$f":"IF($S147=0,\"\",IF($S147<=3,INT(10*$S147)/10,IF($S147>4,4,0.5*INT($S147/0.5))))","v":""}]
[null,null,null,"③　W：３Ｍ実効稼動負荷",null,"合計",{"$f":"13*(入力用シート!$L$32*入力用シート!$Q$32*入力用シート!$H$33*入力用シート!$L$33*入力用シート!$Q$33)","v":0},"⑨　受像面照射野",null,null,{"$f":"入力用シート!$E$17","v":60},"d4=",0,"ｍ",null,null,null,null,null,null,null,null,null,null,null,null,null,null,null,null,null,null,null,null,null,null,null,null,null,null,null,null,null,null,null,null,null,"ｺﾝｸﾘ",{"$f":"IF($G149=0,\"\",IF($G149<=300,INT($G149/10)*10,IF($G149>400,400,50*INT($G149/50))))","v":""},{"$f":"IF($M149=0,\"\",IF($M149<=300,INT($M149/10)*10,IF($M149>400,400,50*INT($M149/50))))","v":""},{"$f":"IF($S149=0,\"\",IF($S149<=300,INT($S149/10)*10,IF($S149>400,400,50*INT($S149/50))))","v":""}]
[null,null,null,null,null,null,null,"⑩　tw：３月間における稼働時間(h)",null,null,null,null,{"$f":"IF(F129=0,0,G132/(F129*3600))","v":0},null,null,"機器の種類",null,"管容器からの空気ｶｰﾏ率（mGy/h）",null,null,null,null,null,null,null,null,null,null,null,null,null,null,null,null,null,null,null,null,null,null,null,null,null,null,null,null,null,"Fe",{"$f":"IF($G151=0,\"\",IF($G151<=30,INT($G151),IF($G151>40,40,5*INT($G151/5))))","v":""},{"$f":"IF($M151=0,\"\",IF($M151<=30,INT($M151),IF($M151>40,40,5*INT($M151/5))))","v":""},{"$f":"IF($S151=0,\"\",IF($S151<=30,INT($S151),IF($S151>40,40,5*INT($S151/5))))","v":""}]
[null,null,null,"G点の漏洩エックス線量の計算(利用線錘方向）",null,null,null,null,"G点の漏洩エックス線量の計算(被写体・管球）",null,null,null,null,null,1,"治療用ｴｯｸｽ線装置（≧50ｋV）",null,1,"選んだ機器",null,null,null,null,null,null,null,null,null,null,null,null,null,null,null,null,null,null,null,null,null,null,null,null,null,null,null,null,"石膏",{"$f":"IF($G153=0,\"\",IF($G153<=30,INT($G153),IF($G153>40,40,5*INT($G153/5))))","v":""},{"$f":"IF($M153=0,\"\",IF($M153<=30,INT($M153),IF($M153>40,40,5*INT($M153/5))))","v":""},{"$f":"IF($S153=0,\"\",IF($S153<=30,INT($S153),IF($S153>40,40,5*INT($S153/5))))","v":""}]
[null,null,null,null,"Ea=",{"$f":"MAX(F141,L141,R141)","v":0},"μSv/3ヶ月",null,null,"Es＝",{"$f":"MAX(F179,L179,R179)","v":0},"μSv/3ヶ月",null,null,2,"治療用ｴｯｸｽ線装置（＜50ｋV）",null,10,{"$f":"入力用シート!$C$7","v":0},null,null,null,null,null,null,null,null,null,null,null,null,null,null,null,null,null,null,null,null,null,null,null,null,null,null,null,null,"ｶﾞﾗｽ",{"$f":"IF($G155=0,\"\",IF($G155<=30,INT($G155),IF($G155>40,40,5*INT($G155/5))))","v":""},{"$f":"IF($M155=0,\"\",IF($M155<=30,INT($M155),IF($M155>40,40,5*INT($M155/5))))","v":""},{"$f":"IF($S155=0,\"\",IF($S155<=30,INT($S155),IF($S155>40,40,5*INT($S155/5))))","v":""}]
[null,null,null,null,null,null,null,null,null,"EL＝",{"$f":"MAX(F184,L184,R184)","v":0},"μSv/3ヶ月",null,null,3,"口内法撮影用X線装置（≦120ｋV）",null,0.25,"選ばれた空気ｶｰﾏ率XL",null,null,null,null,null,null,null,null,null,null,null,null,null,null,null,null,null,null,null,null,null,null,null,null,null,null,null,null,"木材",{"$f":"IF($G157=0,\"\",IF($G157<=300,INT($G157/10)*10,IF($G157>400,400,50*INT($G157/50))))","v":""},{"$f":"IF($M157=0,\"\",IF($M157<=300,INT($M157/10)*10,IF($M157>400,400,50*INT($M157/50))))","v":""},{"$f":"IF($S157=0,\"\",IF($S157<=300,INT($S157/10)*10,IF($S157>400,400,50*INT($S157/50))))","v":""}]
[null,null,null,null,null,null,null,null,null,"合計",{"$f":"+K135+K136","v":0},null,null,null,4,"上記以外の診断用X線装置",null,1,{"$f":"IF(S135=0,0,VLOOKUP(S135,O134:R137,4,0)*1000)","v":0}]
[null,null,null,null,null,null,null,null,null,null,null,null,null,null,null,null,null,null,null,null,null,null,null,null,null,null,null,null,null,null,null,null,null,null,null,null,null,null,null,null,null,null,null,null,null,null,"2)散乱線用"]
[null,null,null,"G点の計算",null,null,null,null,null,"G'点の計算",null,null,null,null,null,"G\"点の計算",null,null,null,null,null,null,null,null,null,null,null,null,null,null,null,null,null,null,null,null,null,null,null,null,null,null,null,null,null,null,"遮蔽厚参照値"]
[null,null,null,"1) Ep：一次エックス線（撮影方向）",null,null,null,null,null,"1) Ep：一次エックス線（撮影方向）",null,null,null,null,null,"1) Ep：一次エックス線（撮影方向）",null,null,null,null,null,null,null,null,null,null,null,null,null,null,null,null,null,null,null,null,null,null,null,null,null,null,null,null,null,null,null,null,"G点","G'点","G\"点"]
[null,null,null,"　",null,{"$f":"IF(OR($F128=0,$M129=0,A点!$AQ$7=1,AND($W$8=0,$W$45>0)),0,($G128*$R130*$G145*$F161*0.25*$G132*$G131*$M127*$M128)/($M129^2))","v":0},"μSv/3ヶ月",null,null,"　",null,{"$f":"IF(OR($F128=0,$M129=0,A点!$AQ$7=1,AND($W$20=0,$W$45>0)),0,($G128*$R130*$M145*$L161*0.25*$G132*$G131*$M127*$M128)/($M129^2))","v":0},"μSv/3ヶ月",null,null,"　",null,{"$f":"IF(OR($F128=0,$M129=0,A点!$AQ$7=1,AND($W$32=0,$W$45>0)),0,($G128*$R130*$S145*$R161*0.25*$G132*$G131*$M127*$M128)/($M129^2))","v":0},"μSv/3ヶ月",null,null,null,null,null,null,null,null,null,null,null,null,null,null,null,null,null,null,null,null,null,null,null,null,null,null,null,null,"Pb",{"$f":"IF($H147=0,\"\",IF($H147<=3,INT(10*$H147)/10,IF($H147>4,4,0.5*INT($H147/0.5))))","v":""},{"$f":"IF($N147=0,\"\",IF($N147<=3,INT(10*$N147)/10,IF($N147>4,4,0.5*INT($N147/0.5))))","v":""},{"$f":"IF($T147=0,\"\",IF($T147<=3,INT(10*$T147)/10,IF($T147>4,4,0.5*INT($T147/0.5))))","v":""}]
[null,null,null,null,null,null,null,null,null,null,null,null,null,null,null,null,null,null,null,null,null,null,null,null,null,null,null,null,null,null,null,null,null,null,null,null,null,null,null,null,null,null,null,null,null,null,null,"ｺﾝｸﾘ",{"$f":"IF($H149=0,\"\",IF($H149<=300,INT($H149/10)*10,IF($H149>400,400,50*INT($H149/50))))","v":""},{"$f":"IF($N149=0,\"\",IF($N149<=300,INT($N149/10)*10,IF($N149>400,400,50*INT($N149/50))))","v":""},{"$f":"IF($T149=0,\"\",IF($T149<=300,INT($T149/10)*10,IF($T149>400,400,50*INT($T149/50))))","v":""}]
[null,null,null,"a) 第１遮蔽材による減衰(遮蔽体がある場合透過率=1)",null,null,null,null,null,"a) 第１遮蔽材による減衰(遮蔽体がある場合透過率=1)",null,null,null,null,null,"a) 第１遮蔽材による減衰(遮蔽体がある場合透過率=1)",null,null,null,null,null,null,null,null,null,null,null,null,null,null,null,null,null,null,null,null,null,null,null,null,null,null,null,null,null,null,null,"Fe",{"$f":"IF($H151=0,\"\",IF($H151<=30,INT($H151),IF($H151>40,40,5*INT($H151/5))))","v":""},{"$f":"IF($N151=0,\"\",IF($N151<=30,INT($N151),IF($N151>40,40,5*INT($N151/5))))","v":""},{"$f":"IF($T151=0,\"\",IF($T151<=30,INT($T151),IF($T151>40,40,5*INT($T151/5))))","v":""}]
[null,null,null,null,null,"第1遮蔽材",{"$f":"IF($S$128>0,\"遮蔽体\",$W$8)","v":0},{"$f":"$W$8","v":0},null,null,null,"第1遮蔽材",{"$f":"IF($S$128>0,\"遮蔽体\",$W$20)","v":0},{"$f":"$W$20","v":0},null,null,null,"第1遮蔽材",{"$f":"IF($S$128>0,\"遮蔽体\",$W$32)","v":0},{"$f":"$W$32","v":0},null,null,null,null,null,null,null,null,null,null,null,null,null,null,null,null,null,null,null,null,null,null,null,null,null,null,null,"石膏",{"$f":"IF($H153=0,\"\",IF($H153<=30,INT($H153),IF($H153>40,40,5*INT($H153/5))))","v":""},{"$f":"IF($N153=0,\"\",IF($N153<=30,INT($N153),IF($N153>40,40,5*INT($N153/5))))","v":""},{"$f":"IF($T153=0,\"\",IF($T153<=30,INT($T153),IF($T153>40,40,5*INT($T153/5))))","v":""}]
[null,null,null,null,null,"Dt1=",{"$f":"G148*G150*G152*G154*G156*G158","v":1},{"$f":"H148*H150*H152*H154*H156*H158","v":1},null,null,null,"Dt1=",{"$f":"M148*M150*M152*M154*M156*M158","v":1},{"$f":"N148*N150*N152*N154*N156*N158","v":1},null,null,null,"Dt1=",{"$f":"S148*S150*S152*S154*S156*S158","v":1},{"$f":"T148*T150*T152*T154*T156*T158","v":1},null,null,null,null,null,null,null,null,null,null,null,null,null,null,null,null,null,null,null,null,null,null,null,null,null,null,null,"ｶﾞﾗｽ",{"$f":"IF($H155=0,\"\",IF($H155<=30,INT($H155),IF($H155>40,40,5*INT($H155/5))))","v":""},{"$f":"IF($N155=0,\"\",IF($N155<=30,INT($N155),IF($N155>40,40,5*INT($N155/5))))","v":""},{"$f":"IF($T155=0,\"\",IF($T155<=30,INT($T155),IF($T155>40,40,5*INT($T155/5))))","v":""}]
[null,null,null,null,null,null,"一次線用","散乱線用",null,null,null,null,"一次線用","散乱線用",null,null,null,null,"一次線用","散乱線用",null,null,null,null,null,null,null,null,null,null,null,null,null,null,null,null,null,null,null,null,null,null,null,null,null,null,null,"木材",{"$f":"IF($H157=0,\"\",IF($H157<=300,INT($H157/10)*10,IF($H157>400,400,50*INT($H157/50))))","v":""},{"$f":"IF($N157=0,\"\",IF($N157<=300,INT($N157/10)*10,IF($N157>400,400,50*INT($N157/50))))","v":""},{"$f":"IF($T157=0,\"\",IF($T157<=300,INT($T157/10)*10,IF($T157>400,400,50*INT($T157/50))))","v":""}]
[null,null,null,"a)　鉛(表2)",null,"等価厚さ",{"$f":"IF($G144=$W$10,$W$9*$AE$8,0)","v":0},{"$f":"IF($H144=$W$10,$W$9*$AE$8,0)","v":0},null,"a)　鉛(表2)",null,"等価厚さ",{"$f":"IF($M144=$W$22,$W$21*$AE$8,0)","v":0},{"$f":"IF($N144=$W$22,$W$21*$AE$8,0)","v":0},null,"a)　鉛(表2)",null,"等価厚さ",{"$f":"IF($S144=$W$34,$W$33*$AE$8,0)","v":0},{"$f":"IF($T144=$W$34,$W$33*$AE$8,0)","v":0}]
[null,null,null,null,null,"透過率",{"$f":"IF(OR($G147=0,A点!$AN$8=1,A点!$AN$8=\"○\"),1,INDEX('表２(Pb)'!$A$3:$Y$36,MATCH($AW131,'表２(Pb)'!$A$3:$A$36,0),MATCH($F128,'表２(Pb)'!$A$3:$Y$3,0)))","v":1},{"$f":"IF(OR($H147=0,A点!$AN$8=1,A点!$AN$8=\"○\"),1,INDEX('表２(Pb)'!$A$3:$Y$36,MATCH($AW141,'表２(Pb)'!$A$3:$A$36,0),MATCH($F128,'表２(Pb)'!$A$3:$Y$3,0)))","v":1},null,null,null,"透過率",{"$f":"IF(OR($M147=0,A点!$AN$8=1,A点!$AN$8=\"○\"),1,INDEX('表２(Pb)'!$A$3:$Y$36,MATCH($AX131,'表２(Pb)'!$A$3:$A$36,0),MATCH($F128,'表２(Pb)'!$A$3:$Y$3,0)))","v":1},{"$f":"IF(OR($N147=0,A点!$AN$8=1,A点!$AN$8=\"○\"),1,INDEX('表２(Pb)'!$A$3:$Y$36,MATCH($AX141,'表２(Pb)'!$A$3:$A$36,0),MATCH($F128,'表２(Pb)'!$A$3:$Y$3,0)))","v":1},null,null,null,"透過率",{"$f":"IF(OR($S147=0,A点!$AN$8=1,A点!$AN$8=\"○\"),1,INDEX('表２(Pb)'!$A$3:$Y$36,MATCH($AY131,'表２(Pb)'!$A$3:$A$36,0),MATCH($F128,'表２(Pb)'!$A$3:$Y$3,0)))","v":1},{"$f":"IF(OR($T147=0,A点!$AN$8=1,A点!$AN$8=\"○\"),1,INDEX('表２(Pb)'!$A$3:$Y$36,MATCH($AY141,'表２(Pb)'!$A$3:$A$36,0),MATCH($F128,'表２(Pb)'!$A$3:$Y$3,0)))","v":1},null,null,null,null,null,null,null,null,null,null,null,null,null,null,null,null,null,null,null,null,null,null,null,null,null,null,"3)","遮蔽材順"]
[null,null,null,"b)　コンクリート(表3)",null,"等価厚さ",{"$f":"IF($G144=$X$10,$W$9*$AE$9,0)","v":0},{"$f":"IF($H144=$X$10,$W$9*$AE$9,0)","v":0},null,"b)　コンクリート(表3)",null,"等価厚さ",{"$f":"IF($M144=$X$22,$W$21*$AE$9,0)","v":0},{"$f":"IF($N144=$X$22,$W$21*$AE$9,0)","v":0},null,"b)　コンクリート(表3)",null,"等価厚さ",{"$f":"IF($S144=$X$34,$W$33*$AE$9,0)","v":0},{"$f":"IF($T144=$X$34,$W$33*$AE$9,0)","v":0},null,null,null,null,null,null,null,null,null,null,null,null,null,null,null,null,null,null,null,null,null,null,null,null,null,null,null,null,"G点","G'点","G\"点"]
[null,null,null,null,null,"透過率",{"$f":"IF(OR($G149=0,A点!$AN$8=1,A点!$AN$8=\"○\"),1,INDEX('表３(コ)'!$A$3:$Y$36,MATCH($AW132,'表３(コ)'!$A$3:$A$36,0),MATCH($F128,'表３(コ)'!$A$3:$Y$3,0)))","v":1},{"$f":"IF(OR($H149=0,A点!$AN$8=1,A点!$AN$8=\"○\"),1,INDEX('表３(コ)'!$A$3:$Y$36,MATCH($AW142,'表３(コ)'!$A$3:$A$36,0),MATCH($F128,'表３(コ)'!$A$3:$Y$3,0)))","v":1},null,null,null,"透過率",{"$f":"IF(OR($M149=0,A点!$AN$8=1,A点!$AN$8=\"○\"),1,INDEX('表３(コ)'!$A$3:$Y$36,MATCH($AX132,'表３(コ)'!$A$3:$A$36,0),MATCH($F128,'表３(コ)'!$A$3:$Y$3,0)))","v":1},{"$f":"IF(OR($N149=0,A点!$AN$8=1,A点!$AN$8=\"○\"),1,INDEX('表３(コ)'!$A$3:$Y$36,MATCH($AX142,'表３(コ)'!$A$3:$A$36,0),MATCH($F128,'表３(コ)'!$A$3:$Y$3,0)))","v":1},null,null,null,"透過率",{"$f":"IF(OR($S149=0,A点!$AN$8=1,A点!$AN$8=\"○\"),1,INDEX('表３(コ)'!$A$3:$Y$36,MATCH($AY132,'表３(コ)'!$A$3:$A$36,0),MATCH($F128,'表３(コ)'!$A$3:$Y$3,0)))","v":1},{"$f":"IF(OR($T149=0,A点!$AN$8=1,A点!$AN$8=\"○\"),1,INDEX('表３(コ)'!$A$3:$Y$36,MATCH($AY142,'表３(コ)'!$A$3:$A$36,0),MATCH($F128,'表３(コ)'!$A$3:$Y$3,0)))","v":1},null,null,null,null,null,null,null,null,null,null,null,null,null,null,null,null,null,null,null,null,null,null,null,null,null,null,null,"第1遮蔽材",{"$f":"IF($AW160=\"11\",G$144,H$144)","v":0},{"$f":"IF($AW160=\"11\",M$144,N$144)","v":0},{"$f":"IF($AW160=\"11\",S$144,T$144)","v":0}]
[null,null,null,"c)　鉄(表4)",null,"等価厚さ",{"$f":"IF($G144=$Y$10,$W$9*$AE$10,0)","v":0},{"$f":"IF($H144=$Y$10,$W$9*$AE$10,0)","v":0},null,"c)　鉄(表4)",null,"等価厚さ",{"$f":"IF($M144=$Y$22,$W$21*$AE$10,0)","v":0},{"$f":"IF($N144=$Y$22,$W$21*$AE$10,0)","v":0},null,"c)　鉄(表4)",null,"等価厚さ",{"$f":"IF($S144=$Y$34,$W$33*$AE$10,0)","v":0},{"$f":"IF($T144=$Y$34,$W$33*$AE$10,0)","v":0},null,null,null,null,null,null,null,null,null,null,null,null,null,null,null,null,null,null,null,null,null,null,null,null,null,null,null,"第2遮蔽材",{"$f":"IF($AW160=\"11\",W$8,X$8)","v":0},{"$f":"IF($AW160=\"11\",W$20,X$20)","v":0},{"$f":"IF($AW160=\"11\",W$32,X$32)","v":0}]
[null,null,null,null,null,"透過率",{"$f":"IF(OR($G151=0,A点!$AN$8=1,A点!$AN$8=\"○\"),1,INDEX('表4(Fe)'!$A$3:$Y$36,MATCH($AW133,'表4(Fe)'!$A$3:$A$36,0),MATCH($F128,'表4(Fe)'!$A$3:$Y$3,0)))","v":1},{"$f":"IF(OR($H151=0,A点!$AN$8=1,A点!$AN$8=\"○\"),1,INDEX('表4(Fe)'!$A$3:$Y$36,MATCH($AW143,'表4(Fe)'!$A$3:$A$36,0),MATCH($F128,'表4(Fe)'!$A$3:$Y$3,0)))","v":1},null,null,null,"透過率",{"$f":"IF(OR($M151=0,A点!$AN$8=1,A点!$AN$8=\"○\"),1,INDEX('表4(Fe)'!$A$3:$Y$36,MATCH($AX133,'表4(Fe)'!$A$3:$A$36,0),MATCH($F128,'表4(Fe)'!$A$3:$Y$3,0)))","v":1},{"$f":"IF(OR($N151=0,A点!$AN$8=1,A点!$AN$8=\"○\"),1,INDEX('表4(Fe)'!$A$3:$Y$36,MATCH($AX143,'表4(Fe)'!$A$3:$A$36,0),MATCH($F128,'表4(Fe)'!$A$3:$Y$3,0)))","v":1},null,null,null,"透過率",{"$f":"IF(OR($S151=0,A点!$AN$8=1,A点!$AN$8=\"○\"),1,INDEX('表4(Fe)'!$A$3:$Y$36,MATCH($AY133,'表4(Fe)'!$A$3:$A$36,0),MATCH($F128,'表4(Fe)'!$A$3:$Y$3,0)))","v":1},{"$f":"IF(OR($T151=0,A点!$AN$8=1,A点!$AN$8=\"○\"),1,INDEX('表4(Fe)'!$A$3:$Y$36,MATCH($AY143,'表4(Fe)'!$A$3:$A$36,0),MATCH($F128,'表4(Fe)'!$A$3:$Y$3,0)))","v":1},null,null,null,null,null,null,null,null,null,null,null,null,null,null,null,null,null,null,null,null,null,null,null,null,null,null,null,"第3遮蔽材",{"$f":"IF($AW160=\"11\",X$8,Y$8)","v":0},{"$f":"IF($AW160=\"11\",X$20,Y$20)","v":0},{"$f":"IF($AW160=\"11\",X$32,Y$32)","v":0}]
[null,null,null,"d)　石膏(表5)",null,"等価厚さ",{"$f":"IF($G144=$Z$10,$W$9*$AE$11,0)","v":0},{"$f":"IF($H144=$Z$10,$W$9*$AE$11,0)","v":0},null,"d)　石膏(表5)",null,"等価厚さ",{"$f":"IF($M144=$Z$22,$W$21*$AE$11,0)","v":0},{"$f":"IF($N144=$Z$22,$W$21*$AE$11,0)","v":0},null,"d)　石膏(表5)",null,"等価厚さ",{"$f":"IF($S144=$Z$34,$W$33*$AE$11,0)","v":0},{"$f":"IF($T144=$Z$34,$W$33*$AE$11,0)","v":0},null,null,null,null,null,null,null,null,null,null,null,null,null,null,null,null,null,null,null,null,null,null,null,null,null,null,null,"第4遮蔽材",{"$f":"IF($AW160=\"11\",Y$8,Z$8)","v":0},{"$f":"IF($AW160=\"11\",Y$20,Z$20)","v":0},{"$f":"IF($AW160=\"11\",Y$32,Z$32)","v":0}]
[null,null,null,null,null,"透過率",{"$f":"IF(OR($G153=0,A点!$AN$8=1,A点!$AN$8=\"○\"),1,INDEX('表5(CaSO4)'!$A$3:$Y$36,MATCH($AW134,'表5(CaSO4)'!$A$3:$A$36,0),MATCH($F128,'表5(CaSO4)'!$A$3:$Y$3,0)))","v":1},{"$f":"IF(OR($H153=0,A点!$AN$8=1,A点!$AN$8=\"○\"),1,INDEX('表5(CaSO4)'!$A$3:$Y$36,MATCH($AW144,'表5(CaSO4)'!$A$3:$A$36,0),MATCH($F128,'表5(CaSO4)'!$A$3:$Y$3,0)))","v":1},null,null,null,"透過率",{"$f":"IF(OR($M153=0,A点!$AN$8=1,A点!$AN$8=\"○\"),1,INDEX('表5(CaSO4)'!$A$3:$Y$36,MATCH($AX134,'表5(CaSO4)'!$A$3:$A$36,0),MATCH($F128,'表5(CaSO4)'!$A$3:$Y$3,0)))","v":1},{"$f":"IF(OR($N153=0,A点!$AN$8=1,A点!$AN$8=\"○\"),1,INDEX('表5(CaSO4)'!$A$3:$Y$36,MATCH($AX144,'表5(CaSO4)'!$A$3:$A$36,0),MATCH($F128,'表5(CaSO4)'!$A$3:$Y$3,0)))","v":1},null,null,null,"透過率",{"$f":"IF(OR($S153=0,A点!$AN$8=1,A点!$AN$8=\"○\"),1,INDEX('表5(CaSO4)'!$A$3:$Y$36,MATCH($AY134,'表5(CaSO4)'!$A$3:$A$36,0),MATCH($F128,'表5(CaSO4)'!$A$3:$Y$3,0)))","v":1},{"$f":"IF(OR($T153=0,A点!$AN$8=1,A点!$AN$8=\"○\"),1,INDEX('表5(CaSO4)'!$A$3:$Y$36,MATCH($AY144,'表5(CaSO4)'!$A$3:$A$36,0),MATCH($F128,'表5(CaSO4)'!$A$3:$Y$3,0)))","v":1},null,null,null,null,null,null,null,null,null,null,null,null,null,null,null,null,null,null,null,null,null,null,null,null,null,null,null,"第5遮蔽材",{"$f":"IF($AW160=\"11\",Z$8,AA$8)","v":0},{"$f":"IF($AW160=\"11\",Z$20,AA$20)","v":0},{"$f":"IF($AW160=\"11\",Z$32,AA$32)","v":0}]
[null,null,null,"e）　ガラス(表6)",null,"等価厚さ",{"$f":"IF($G144=$AA$10,$W$9*$AE$12,0)","v":0},{"$f":"IF($H144=$AA$10,$W$9*$AE$12,0)","v":0},null,"e）　ガラス(表6)",null,"等価厚さ",{"$f":"IF($M144=$AA$22,$W$21*$AE$12,0)","v":0},{"$f":"IF($N144=$AA$22,$W$21*$AE$12,0)","v":0},null,"e）　ガラス(表6)",null,"等価厚さ",{"$f":"IF($S144=$AA$34,$W$33*$AE$12,0)","v":0},{"$f":"IF($T144=$AA$34,$W$33*$AE$12,0)","v":0},null,null,null,null,null,null,null,null,null,null,null,null,null,null,null,null,null,null,null,null,null,null,null,null,null,null,null,"第6遮蔽材",{"$f":"IF($AW160=\"11\",AA$8,AB$8)","v":0},{"$f":"IF($AW160=\"11\",AA$20,AB$20)","v":0},{"$f":"IF($AW160=\"11\",AA$32,AB$32)","v":0}]
[null,null,null,null,null,"透過率",{"$f":"IF(OR($G155=0,A点!$AN$8=1,A点!$AN$8=\"○\"),1,INDEX('表6(SiO2)'!$A$3:$Y$36,MATCH($AW135,'表6(SiO2)'!$A$3:$A$36,0),MATCH($F128,'表6(SiO2)'!$A$3:$Y$3,0)))","v":1},{"$f":"IF(OR($H155=0,A点!$AN$8=1,A点!$AN$8=\"○\"),1,INDEX('表6(SiO2)'!$A$3:$Y$36,MATCH($AW145,'表6(SiO2)'!$A$3:$A$36,0),MATCH($F128,'表6(SiO2)'!$A$3:$Y$3,0)))","v":1},null,null,null,"透過率",{"$f":"IF(OR($M155=0,A点!$AN$8=1,A点!$AN$8=\"○\"),1,INDEX('表6(SiO2)'!$A$3:$Y$36,MATCH($AX135,'表6(SiO2)'!$A$3:$A$36,0),MATCH($F128,'表6(SiO2)'!$A$3:$Y$3,0)))","v":1},{"$f":"IF(OR($N155=0,A点!$AN$8=1,A点!$AN$8=\"○\"),1,INDEX('表6(SiO2)'!$A$3:$Y$36,MATCH($AX145,'表6(SiO2)'!$A$3:$A$36,0),MATCH($F128,'表6(SiO2)'!$A$3:$Y$3,0)))","v":1},null,null,null,"透過率",{"$f":"IF(OR($S155=0,A点!$AN$8=1,A点!$AN$8=\"○\"),1,INDEX('表6(SiO2)'!$A$3:$Y$36,MATCH($AY135,'表6(SiO2)'!$A$3:$A$36,0),MATCH($F128,'表6(SiO2)'!$A$3:$Y$3,0)))","v":1},{"$f":"IF(OR($T155=0,A点!$AN$8=1,A点!$AN$8=\"○\"),1,INDEX('表6(SiO2)'!$A$3:$Y$36,MATCH($AY145,'表6(SiO2)'!$A$3:$A$36,0),MATCH($F128,'表6(SiO2)'!$A$3:$Y$3,0)))","v":1},null,null,null,null,null,null,null,null,null,null,null,null,null,null,null,null,null,null,null,null,null,null,null,null,null,null,null,"第7遮蔽材",{"$f":"IF($AW160=\"11\",AB$8,\"\")","v":""},{"$f":"IF($AW160=\"11\",AB$20,\"\")","v":""},{"$f":"IF($AW160=\"11\",AB$32,\"\")","v":""}]
[null,null,null,"f)　木材(表7)",null,"等価厚さ",{"$f":"IF($G144=$AB$10,$W$9*$AE$13,0)","v":0},{"$f":"IF($H144=$AB$10,$W$9*$AE$13,0)","v":0},null,"f)　木材(表7)",null,"等価厚さ",{"$f":"IF($M144=$AB$22,$W$21*$AE$13,0)","v":0},{"$f":"IF($N144=$AB$22,$W$21*$AE$13,0)","v":0},null,"f)　木材(表7)",null,"等価厚さ",{"$f":"IF($S144=$AB$34,$W$33*$AE$13,0)","v":0},{"$f":"IF($T144=$AB$34,$W$33*$AE$13,0)","v":0}]
[null,null,null,null,null,"透過率",{"$f":"IF(OR($G157=0,A点!$AN$8=1,A点!$AN$8=\"○\"),1,INDEX('表7(木)'!$A$3:$Y$36,MATCH($AW136,'表7(木)'!$A$3:$A$36,0),MATCH($F128,'表7(木)'!$A$3:$Y$3,0)))","v":1},{"$f":"IF(OR($H157=0,A点!$AN$8=1,A点!$AN$8=\"○\"),1,INDEX('表7(木)'!$A$3:$Y$36,MATCH($AW146,'表7(木)'!$A$3:$A$36,0),MATCH($F128,'表7(木)'!$A$3:$Y$3,0)))","v":1},null,null,null,"透過率",{"$f":"IF(OR($M157=0,A点!$AN$8=1,A点!$AN$8=\"○\"),1,INDEX('表7(木)'!$A$3:$Y$36,MATCH($AX136,'表7(木)'!$A$3:$A$36,0),MATCH($F128,'表7(木)'!$A$3:$Y$3,0)))","v":1},{"$f":"IF(OR($N157=0,A点!$AN$8=1,A点!$AN$8=\"○\"),1,INDEX('表7(木)'!$A$3:$Y$36,MATCH($AX146,'表7(木)'!$A$3:$A$36,0),MATCH($F128,'表7(木)'!$A$3:$Y$3,0)))","v":1},null,null,null,"透過率",{"$f":"IF(OR($S157=0,A点!$AN$8=1,A点!$AN$8=\"○\"),1,INDEX('表7(木)'!$A$3:$Y$36,MATCH($AY136,'表7(木)'!$A$3:$A$36,0),MATCH($F128,'表7(木)'!$A$3:$Y$3,0)))","v":1},{"$f":"IF(OR($T157=0,A点!$AN$8=1,A点!$AN$8=\"○\"),1,INDEX('表7(木)'!$A$3:$Y$36,MATCH($AY146,'表7(木)'!$A$3:$A$36,0),MATCH($F128,'表7(木)'!$A$3:$Y$3,0)))","v":1},null,null,null,null,null,null,null,null,null,null,null,null,null,null,null,null,null,null,null,null,null,null,null,null,null,null,null,"遮蔽体有無",{"$f":"IF($S128>0,1,0)","v":0},"遮蔽体有：１"]
[null,null,null,null,null,null,null,null,null,null,null,null,null,null,null,null,null,null,null,null,null,null,null,null,null,null,null,null,null,null,null,null,null,null,null,null,null,null,null,null,null,null,null,null,null,null,null,"照射方向",{"$f":"IF($M129>0,1,2)","v":2},"直接線：1、散乱線：2"]
[null,null,null,"b)　第２遮蔽材以後による一次線の減衰表9",null,null,null,null,null,"b)　第２遮蔽材以後による一次線の減衰表9",null,null,null,null,null,"b)　第２遮蔽材以後による一次線の減衰表9",null,null,null,null,null,null,null,null,null,null,null,null,null,null,null,null,null,null,null,null,null,null,null,null,null,null,null,null,null,null,null,"判定コード",{"$f":"AW158&AW159","v":"02"}]
[null,null,null,null,"Dt2=",{"$f":"F164*F166*F168*F170*F172*F174","v":0},{"$f":"G164*G166*G168*G170*G172*G174","v":0},0,null,null,"Dt2=",{"$f":"L164*L166*L168*L170*L172*L174","v":0},{"$f":"M164*M166*M168*M170*M172*M174","v":0},0,null,null,"Dt2=",{"$f":"R164*R166*R168*R170*R172*R174","v":0},{"$f":"S164*S166*S168*S170*S172*S174","v":0},0]
[null,null,null,null,null,"一次線用","散乱線用","漏洩線用",null,null,null,"一次線用","散乱線用","漏洩線用",null,null,null,"一次線用","散乱線用","漏洩線用"]
[null,null,null,"a)　鉛(表9)","半価層(mm)",{"$f":"IF(OR(A点!$AN$8=1,A点!$AN$8=\"○\"),\"\",VLOOKUP($F128,'表9(BB)'!$A$4:$M$27,2,0))","v":""},null,null,null,"a)　鉛(表9)","半価層(mm)",{"$f":"IF(OR(A点!$AN$8=1,A点!$AN$8=\"○\"),\"\",VLOOKUP($F128,'表9(BB)'!$A$4:$M$27,2,0))","v":""},null,null,null,"a)　鉛(表9)","半価層(mm)",{"$f":"IF(OR(A点!$AN$8=1,A点!$AN$8=\"○\"),\"\",VLOOKUP($F128,'表9(BB)'!$A$4:$M$27,2,0))","v":""}]
[null,null,null,null,"透過率",{"$f":"IF($S$128>0,H164,G164)","v":0},{"$f":"IF($F163=\"\",0,(1/2)^($W18*$AE$8/$F163))","v":0},{"$f":"IF($F163=\"\",0,(1/2)^($W17*$AE$8/$F163))","v":0},null,null,"透過率",{"$f":"IF($S$128>0,N164,M164)","v":0},{"$f":"IF($L$163=\"\",0,(1/2)^($W30*$AE$8/$L163))","v":0},{"$f":"IF($L163=\"\",0,(1/2)^($W29*$AE$8/$L163))","v":0},null,null,"透過率",{"$f":"IF($S$128>0,T164,S164)","v":0},{"$f":"IF($R163=\"\",0,(1/2)^($W42*$AE$8/$R163))","v":0},{"$f":"IF($R163=\"\",0,(1/2)^($W41*$AE$8/$R163))","v":0}]
[null,null,null,"b)　コンクリート(表9)","半価層(mm)",{"$f":"IF(OR(A点!$AN$8=1,A点!$AN$8=\"○\"),\"\",VLOOKUP($F128,'表9(BB)'!$A$4:$M$27,4,0))","v":""},null,null,null,"b)　コンクリート(表9)","半価層(mm)",{"$f":"IF(OR(A点!$AN$8=1,A点!$AN$8=\"○\"),\"\",VLOOKUP($F128,'表9(BB)'!$A$4:$M$27,4,0))","v":""},null,null,null,"b)　コンクリート(表9)","半価層(mm)",{"$f":"IF(OR(A点!$AN$8=1,A点!$AN$8=\"○\"),\"\",VLOOKUP($F128,'表9(BB)'!$A$4:$M$27,4,0))","v":""}]
[null,null,null,null,"透過率",{"$f":"IF($S$128>0,H166,G166)","v":0},{"$f":"IF($F165=\"\",0,(1/2)^($X18*$AE$9/$F165))","v":0},{"$f":"IF($F165=\"\",0,(1/2)^($X17*$AE$9/$F165))","v":0},null,null,"透過率",{"$f":"IF($S$128>0,N166,M166)","v":0},{"$f":"IF($L165=\"\",0,(1/2)^($X30*$AE$9/$L165))","v":0},{"$f":"IF($L165=\"\",0,(1/2)^($X29*$AE$9/$L165))","v":0},null,null,"透過率",{"$f":"IF($S$128>0,T166,S166)","v":0},{"$f":"IF($R165=\"\",0,(1/2)^($X42*$AE$9/$R165))","v":0},{"$f":"IF($R165=\"\",0,(1/2)^($X41*$AE$9/$R165))","v":0}]
[null,null,null,"c)　鉄(表9)","半価層(mm)",{"$f":"IF(OR(A点!$AN$8=1,A点!$AN$8=\"○\"),\"\",VLOOKUP($F128,'表9(BB)'!$A$4:$M$27,6,0))","v":""},null,null,null,"c)　鉄(表9)","半価層(mm)",{"$f":"IF(OR(A点!$AN$8=1,A点!$AN$8=\"○\"),\"\",VLOOKUP($F128,'表9(BB)'!$A$4:$M$27,6,0))","v":""},null,null,null,"c)　鉄(表9)","半価層(mm)",{"$f":"IF(OR(A点!$AN$8=1,A点!$AN$8=\"○\"),\"\",VLOOKUP($F128,'表9(BB)'!$A$4:$M$27,6,0))","v":""}]
[null,null,null,null,"透過率",{"$f":"IF($S$128>0,H168,G168)","v":0},{"$f":"IF($F167=\"\",0,(1/2)^($Y18*$AE$10/$F167))","v":0},{"$f":"IF($F167=\"\",0,(1/2)^($Y17*$AE$10/$F167))","v":0},null,null,"透過率",{"$f":"IF($S$128>0,N168,M168)","v":0},{"$f":"IF($L167=\"\",0,(1/2)^($Y30*$AE$10/$L167))","v":0},{"$f":"IF($L167=\"\",0,(1/2)^($Y29*$AE$10/$L167))","v":0},null,null,"透過率",{"$f":"IF($S$128>0,T168,S168)","v":0},{"$f":"IF($R167=\"\",0,(1/2)^($Y42*$AE$10/$R167))","v":0},{"$f":"IF($R167=\"\",0,(1/2)^($Y41*$AE$10/$R167))","v":0}]
[null,null,null,"d)　石膏(表9)","半価層(mm)",{"$f":"IF(OR(A点!$AN$8=1,A点!$AN$8=\"○\"),\"\",VLOOKUP($F128,'表9(BB)'!$A$4:$M$27,8,0))","v":""},null,null,null,"d)　石膏(表9)","半価層(mm)",{"$f":"IF(OR(A点!$AN$8=1,A点!$AN$8=\"○\"),\"\",VLOOKUP($F128,'表9(BB)'!$A$4:$M$27,8,0))","v":""},null,null,null,"d)　石膏(表9)","半価層(mm)",{"$f":"IF(OR(A点!$AN$8=1,A点!$AN$8=\"○\"),\"\",VLOOKUP($F128,'表9(BB)'!$A$4:$M$27,8,0))","v":""}]
[null,null,null,null,"透過率",{"$f":"IF($S$128>0,H170,G170)","v":0},{"$f":"IF($F169=\"\",0,(1/2)^($Z18*$AE$11/$F169))","v":0},{"$f":"IF($F169=\"\",0,(1/2)^($Z17*$AE$11/$F169))","v":0},null,null,"透過率",{"$f":"IF($S$128>0,N170,M170)","v":0},{"$f":"IF($L169=\"\",0,(1/2)^($Z30*$AE$11/$L169))","v":0},{"$f":"IF($L169=\"\",0,(1/2)^($Z29*$AE$11/$L169))","v":0},null,null,"透過率",{"$f":"IF($S$128>0,T170,S170)","v":0},{"$f":"IF($R169=\"\",0,(1/2)^($Z42*$AE$11/$R169))","v":0},{"$f":"IF($R169=\"\",0,(1/2)^($Z41*$AE$11/$R169))","v":0}]
[null,null,null,"e）　ガラス(表9)","半価層(mm)",{"$f":"IF(OR(A点!$AN$8=1,A点!$AN$8=\"○\"),\"\",VLOOKUP($F128,'表9(BB)'!$A$4:$M$27,10,0))","v":""},null,null,null,"e）　ガラス(表9)","半価層(mm)",{"$f":"IF(OR(A点!$AN$8=1,A点!$AN$8=\"○\"),\"\",VLOOKUP($F128,'表9(BB)'!$A$4:$M$27,10,0))","v":""},null,null,null,"e）　ガラス(表9)","半価層(mm)",{"$f":"IF(OR(A点!$AN$8=1,A点!$AN$8=\"○\"),\"\",VLOOKUP($F128,'表9(BB)'!$A$4:$M$27,10,0))","v":""}]
[null,null,null,null,"透過率",{"$f":"IF($S$128>0,H172,G172)","v":0},{"$f":"IF($F171=\"\",0,(1/2)^($AA18*$AE$12/$F171))","v":0},{"$f":"IF($F171=\"\",0,(1/2)^($AA17*$AE$12/$F171))","v":0},null,null,"透過率",{"$f":"IF($S$128>0,N172,M172)","v":0},{"$f":"IF($L171=\"\",0,(1/2)^($AA30*$AE$12/$L171))","v":0},{"$f":"IF($L171=\"\",0,(1/2)^($AA29*$AE$12/$L171))","v":0},null,null,"透過率",{"$f":"IF($S$128>0,T172,S172)","v":0},{"$f":"IF($R$171=\"\",0,(1/2)^($AA42*$AE$12/$R171))","v":0},{"$f":"IF($R171=\"\",0,(1/2)^($AA41*$AE$12/$R171))","v":0}]
[null,null,null,"f)　木材(表9)","半価層(mm)",{"$f":"IF(OR(A点!$AN$8=1,A点!$AN$8=\"○\"),\"\",VLOOKUP($F128,'表9(BB)'!$A$4:$M$27,12,0))","v":""},null,null,null,"f)　木材(表9)","半価層(mm)",{"$f":"IF(OR(A点!$AN$8=1,A点!$AN$8=\"○\"),\"\",VLOOKUP($F128,'表9(BB)'!$A$4:$M$27,12,0))","v":""},null,null,null,"f)　木材(表9)","半価層(mm)",{"$f":"IF(OR(A点!$AN$8=1,A点!$AN$8=\"○\"),\"\",VLOOKUP($F128,'表9(BB)'!$A$4:$M$27,12,0))","v":""}]
[null,null,null,null,"透過率",{"$f":"IF($S$128>0,H174,G174)","v":0},{"$f":"IF($F173=\"\",0,(1/2)^($AB18*$AE$13/$F173))","v":0},{"$f":"IF($F173=\"\",0,(1/2)^($AB17*$AE$13/$F173))","v":0},null,null,"透過率",{"$f":"IF($S$128>0,N174,M174)","v":0},{"$f":"IF($L173=\"\",0,(1/2)^($AB30*$AE$13/$L173))","v":0},{"$f":"IF($L173=\"\",0,(1/2)^($AB29*$AE$13/$L173))","v":0},null,null,"透過率",{"$f":"IF($S$128>0,T174,S174)","v":0},{"$f":"IF($R173=\"\",0,(1/2)^($AB42*$AE$13/$R173))","v":0},{"$f":"IF($R173=\"\",0,(1/2)^($AB41*$AE$13/$R173))","v":0}]
[]
[]
[null,null,null,"2)　Es：散乱エックス線の漏洩線量(散乱角90度)",null,null,null,null,null,"2)　Es：散乱エックス線の漏洩線量(散乱角90度)",null,null,null,null,null,"2)　Es：散乱エックス線の漏洩線量(散乱角90度)"]
[null,null,null,null,"Dt=",{"$f":"H145*G161","v":0},null,null,null,null,"Dt=",{"$f":"N145*M161","v":0},null,null,null,null,"Dt=",{"$f":"T145*S161","v":0}]
[null,null,null,null,"Es=",{"$f":"IF(OR($F128=0,$M130=0,$M131=0,AND($W$8=0,$W$45>0),A点!$AQ$7=1),0,$G128*$G132*$G131*F178*$M127*$M128*($K131/100)*$K132/(400*($M130^2)*($M131^2)))","v":0},"μSv/3ヶ月",null,null,null,"Es=",{"$f":"IF(OR($F128=0,$M130=0,$M131=0,AND($W$20=0,$W$45>0),A点!$AQ$7=1),0,$G128*$G132*$G131*L178*$M127*$M128*($K131/100)*$K132/(400*($M130^2)*($M131^2)))","v":0},"μSv/3ヶ月",null,null,null,"Es=",{"$f":"IF(OR($F128=0,$M130=0,$M131=0,AND($W$32=0,$W$45>0),A点!$AQ$7=1),0,$G128*$G132*$G131*R178*$M127*$M128*($K131/100)*$K132/(400*($M130^2)*($M131^2)))","v":0},"μSv/3ヶ月"]
[]
[]
[null,null,null,"3)　EL：エックス線管容器からの漏洩線量(最大見積)",null,null,null,null,null,"3)　EL：エックス線管容器からの漏洩線量(最大見積)",null,null,null,null,null,"3)　EL：エックス線管容器からの漏洩線量(最大見積)"]
[]
[null,null,null,null,"EL=",{"$f":"IF(OR($F128=0,$M132=0,AND($W$8=0,$W$45>0),A点!$AQ$7=1),0,H161*$S137*$M133*$G131*$M127*$M128/($M132^2))","v":0},"μGy/h",null,null,null,"EL=",{"$f":"IF(OR($F128=0,$M132=0,AND($W$20=0,$W$45>0),A点!$AQ$7=1),0,N161*$S137*$M133*$G131*$M127*$M128/($M132^2))","v":0},"μGy/h",null,null,null,"EL=",{"$f":"IF(OR($F128=0,$M132=0,AND($W$32=0,$W$45>0),A点!$AQ$7=1),0,T161*$S137*$M133*$G131*$M127*$M128/($M132^2))","v":0},"μGy/h"]

{"sheet":"H点","index":8,"n_rows":184,"n_cols":51,"rows_kept":184,"cut":false,"hidden":true,"merged":[[66,1,124,1],[126,1,184,1],[13,15,13,16],[14,15,14,16],[15,15,15,16],[16,15,16,16],[6,1,64,1],[5,15,5,16],[0,15,0,16],[1,15,1,16],[2,15,2,16],[3,15,3,16],[4,15,4,16]]}
[null,null,"エックス線診療室の画壁等の実効線量",null,null,null,null,null,null,null,null,null,null,null,null,"W：３Ｍ実効稼動負荷",null,{"$f":"+G12","v":0},{"$f":"+G72","v":0},{"$f":"+G132","v":0},null,null,null,null,null,null,null,null,null,null,null,null,null,null,null,null,null,null,null,null,null,null,null,null,null,null,"③透視用透過率（表2-7）"]
[null,null,null,"H点の漏洩エックス線量の計算(利用線錘方向）",null,null,null,null,"H点の漏洩エックス線量の計算(被写体・管球）",null,null,null,null,null,null,"X：空気ｶｰﾏ(表1)",null,{"$f":"+G8","v":0},{"$f":"+G68","v":0},{"$f":"+G128","v":0},null,null,null,null,null,null,null,null,null,null,null,null,null,null,null,null,null,null,null,null,null,null,null,null,null,null,"1)直接線用"]
[null,null,null,null,"Ep=",{"$f":"IF(A点!$AQ$4=3,\"\",IF(A点!$AQ$5>0,\"No Data\",F15+F75+F135))","v":""},"μSv/3ヶ月",null,null,"Es＝",{"$f":"IF(A点!$AQ$4=3,\"\",IF(A点!$AQ$5>0,\"No Data\",K15+K75+K135))","v":""},"μSv/3ヶ月",null,null,null,"空気ｶｰﾏ率(表8)",null,{"$f":"+K11","v":0},{"$f":"+K71","v":0},{"$f":"+K131","v":0},null,null,null,null,null,null,null,null,null,null,null,null,null,null,null,null,null,null,null,null,null,null,null,null,null,null,"遮蔽厚参照値"]
[null,null,null,null,null,null,null,null,null,"EL＝",{"$f":"IF(A点!$AQ$4=3,\"\",IF(A点!$AQ$5>0,\"No Data\",K16+K76+K136))","v":""},"μSv/3ヶ月",null,null,null,"E/Ka（表10）",null,{"$f":"+G11","v":0},{"$f":"+G71","v":0},{"$f":"+G131","v":0},null,null,null,null,null,null,null,null,null,null,null,null,null,null,null,null,null,null,null,null,null,null,null,null,null,null,null,null,"H点","H'点","H\"点"]
[null,null,null,null,null,null,null,null,null,"合計",{"$f":"IF(A点!$AQ$4=3,\"\",IF(A点!$AQ$5>0,\"No Data\",K17+K77+K137))","v":""},null,null,null,null,"対向板Dt",null,{"$f":"+R10","v":""},{"$f":"+R70","v":""},{"$f":"+R130","v":""},null,null,null,null,null,null,null,null,null,null,null,null,null,null,null,null,null,null,null,null,null,null,null,null,null,null,null,"Pb",{"$f":"IF($G27=0,\"\",IF($G27<=3,INT(10*$G27)/10,IF($G27>4,4,0.5*INT($G27/0.5))))","v":""},{"$f":"IF($M27=0,\"\",IF($M27<=3,INT(10*$M27)/10,IF($M27>4,4,0.5*INT($M27/0.5))))","v":""},{"$f":"IF($S27=0,\"\",IF($S27<=3,INT(10*$S27)/10,IF($S27>4,4,0.5*INT($S27/0.5))))","v":""}]
[null,null,null,null,null,null,null,null,null,null,null,null,null,null,null,null,null,null,null,null,null,null,null,null,null,null,null,null,null,null,null,null,null,null,null,null,null,null,null,null,null,null,null,null,null,null,null,"ｺﾝｸﾘ",{"$f":"IF($G29=0,\"\",IF($G29<=300,INT($G29/10)*10,IF($G29>400,400,50*INT($G29/50))))","v":""},{"$f":"IF($M29=0,\"\",IF($M29<=300,INT($M29/10)*10,IF($M29>400,400,50*INT($M29/50))))","v":""},{"$f":"IF($S29=0,\"\",IF($S29<=300,INT($S29/10)*10,IF($S29>400,400,50*INT($S29/50))))","v":""}]
[null,"透視装置",null,"①　X：空気ｶｰﾏ：表1",null,null,null,"④　使用係数",null,null,null,"Ｕ＝",1,null,null,"1)対向板による一次線の減衰(表２)",null,null,null,null,null,null,"H点",null,null,null,null,null,null,"リスト",{"$f":"入力用シート!BQ2","v":"密度比"},null,null,null,null,null,null,null,null,null,null,null,null,null,null,null,null,"Fe",{"$f":"IF($G31=0,\"\",IF($G31<=30,INT($G31),IF($G31>40,40,5*INT($G31/5))))","v":""},{"$f":"IF($M31=0,\"\",IF($M31<=30,INT($M31),IF($M31>40,40,5*INT($M31/5))))","v":""},{"$f":"IF($S31=0,\"\",IF($S31<=30,INT($S31),IF($S31>40,40,5*INT($S31/5))))","v":""}]
[null,null,null,null,"採用管電圧",{"$f":"A点!$F$8","v":0},{"$f":"A点!$G$8","v":0},"⑤　居住係数",null,null,null,"Ｔ＝",1,null,null,null,null,"等価厚さ",{"$f":"入力用シート!$AA$8","v":0},"mm",null,null,{"$f":"入力用シート!N80","v":0},{"$f":"入力用シート!P80","v":0},{"$f":"入力用シート!R80","v":0},{"$f":"入力用シート!T80","v":0},{"$f":"入力用シート!V80","v":0},{"$f":"入力用シート!X80","v":0},null,"Pb",{"$f":"入力用シート!BQ3","v":0.96916299559471364},null,null,null,null,null,null,null,null,null,null,null,null,null,null,null,null,"石膏",{"$f":"IF($G33=0,\"\",IF($G33<=30,INT($G33),IF($G33>40,40,5*INT($G33/5))))","v":""},{"$f":"IF($M33=0,\"\",IF($M33<=30,INT($M33),IF($M33>40,40,5*INT($M33/5))))","v":""},{"$f":"IF($S33=0,\"\",IF($S33<=30,INT($S33),IF($S33>40,40,5*INT($S33/5))))","v":""}]
[null,null,null,null,"電流",{"$f":"A点!$F$9","v":0},null,"⑥　距離",null,null,null,"d1=",{"$f":"入力用シート!E$80","v":0},"ｍ",null,null,"使用管電圧",{"$f":"A点!$AL$5","v":0},null,null,null,null,{"$f":"入力用シート!N81","v":0},{"$f":"入力用シート!P81","v":0},{"$f":"入力用シート!R81","v":0},{"$f":"入力用シート!T81","v":0},{"$f":"入力用シート!V81","v":0},{"$f":"入力用シート!X81","v":0},null,"ｺﾝｸﾘ",{"$f":"入力用シート!BQ4","v":0.8936170212765957},null,null,null,null,null,null,null,null,null,null,null,null,null,null,null,null,"ｶﾞﾗｽ",{"$f":"IF($G35=0,\"\",IF($G35<=30,INT($G35),IF($G35>40,40,5*INT($G35/5))))","v":""},{"$f":"IF($M35=0,\"\",IF($M35<=30,INT($M35),IF($M35>40,40,5*INT($M35/5))))","v":""},{"$f":"IF($S35=0,\"\",IF($S35<=30,INT($S35),IF($S35>40,40,5*INT($S35/5))))","v":""}]
[null,null,null,"②　E/Ka：空気カーマ換算係数（表10）",null,null,null,"⑧　照射野400cm2空気ｶｰﾏ率表8",null,null,null,"d2=",{"$f":"入力用シート!G$80","v":0},"ｍ",null,null,"透過率",{"$f":"IF(A点!$AL$8=\"○\",\"\",IF(A点!$AL$8=1,\"データなし\",IF($S8>3,HLOOKUP($R9,'表２(Pb)'!$B$3:$Y$36,32+ROUNDDOWN(($S8-3)/0.5,0),0),HLOOKUP($R9,'表２(Pb)'!$B$3:$Y$36,2+S8/0.1,0))))","v":""},null,null,null,null,"Pb","ｺﾝｸﾘ","Fe","石膏","ｶﾞﾗｽ","木材",null,"Fe",{"$f":"入力用シート!BQ5","v":0.98339719029374206},null,null,null,null,null,null,null,null,null,null,null,null,null,null,null,null,"木材",{"$f":"IF($G37=0,\"\",IF($G37<=300,INT($G37/10)*10,IF($G37>400,400,50*INT($G37/50))))","v":""},{"$f":"IF($M37=0,\"\",IF($M37<=300,INT($M37/10)*10,IF($M37>400,400,50*INT($M37/50))))","v":""},{"$f":"IF($S37=0,\"\",IF($S37<=300,INT($S37/10)*10,IF($S37>400,400,50*INT($S37/50))))","v":""}]
[null,null,null,null,"採用管電圧",{"$f":"A点!$F$11","v":0},{"$f":"A点!$G$11","v":0},null,null,null,{"$f":"A点!$AL$7","v":0},"d3=",{"$f":"入力用シート!I$80","v":0},"ｍ",null,null,null,null,null,null,null,1,{"$f":"IF($W8=\"Pb\",$W9,0)","v":0},{"$f":"IF($W8=\"ｺﾝｸﾘ\",$W9,0)","v":0},{"$f":"IF($W8=\"Fe\",$W9,0)","v":0},{"$f":"IF($W8=\"石膏\",$W9,0)","v":0},{"$f":"IF($W8=\"ｶﾞﾗｽ\",$W9,0)","v":0},{"$f":"IF($W8=\"木材\",$W9,0)","v":0},null,"石膏",{"$f":"入力用シート!BQ6","v":1}]
[null,null,null,"③　W：３Ｍ実効稼動負荷",null,"合計",{"$f":"13*(入力用シート!$L$22*入力用シート!$Q$22*60*入力用シート!$L$23*入力用シート!$Q$23)","v":0},"⑨　受像面照射野",null,null,{"$f":"入力用シート!$E$16","v":1225},"d4=",{"$f":"入力用シート!K$80","v":0},"ｍ",null,null,null,null,null,null,null,2,{"$f":"IF($X8=\"Pb\",$X9,0)","v":0},{"$f":"IF($X8=\"ｺﾝｸﾘ\",$X9,0)","v":0},{"$f":"IF($X8=\"Fe\",$X9,0)","v":0},{"$f":"IF($X8=\"石膏\",$X9,0)","v":0},{"$f":"IF($X8=\"ｶﾞﾗｽ\",$X9,0)","v":0},{"$f":"IF($X8=\"木材\",$X9,0)","v":0},null,"ｶﾞﾗｽ",{"$f":"入力用シート!BQ7","v":0.9765625},null,null,null,null,null,null,null,null,null,null,null,null,null,null,null,"2)散乱線用"]
[null,null,null,null,null,null,null,"⑩　tw：３月間における稼働時間(h)",null,null,null,null,{"$f":"IF(F9=0,0,G12/(F9*3600))","v":0},null,null,"機器の種類",null,"管容器からの空気ｶｰﾏ率（mGy/h）",null,null,null,3,{"$f":"IF($Y8=\"Pb\",$Y9,0)","v":0},{"$f":"IF($Y8=\"ｺﾝｸﾘ\",$Y9,0)","v":0},{"$f":"IF($Y8=\"Fe\",$Y9,0)","v":0},{"$f":"IF($Y8=\"石膏\",$Y9,0)","v":0},{"$f":"IF($Y8=\"ｶﾞﾗｽ\",$Y9,0)","v":0},{"$f":"IF($Y8=\"木材\",$Y9,0)","v":0},null,"木材",{"$f":"入力用シート!BQ8","v":1},null,null,null,null,null,null,null,null,null,null,null,null,null,null,null,"遮蔽厚参照値"]
[null,null,null,"H点の漏洩エックス線量の計算(利用線錘方向）",null,null,null,null,"H点の漏洩エックス線量の計算(被写体・管球）",null,null,null,null,null,1,"1:治療用ｴｯｸｽ線装置（≦50ｋV）",null,1,"選んだ機器",null,null,4,{"$f":"IF($Z8=\"Pb\",$Z9,0)","v":0},{"$f":"IF($Z8=\"ｺﾝｸﾘ\",$Z9,0)","v":0},{"$f":"IF($Z8=\"Fe\",$Z9,0)","v":0},{"$f":"IF($Z8=\"石膏\",$Z9,0)","v":0},{"$f":"IF($Z8=\"ｶﾞﾗｽ\",$Z9,0)","v":0},{"$f":"IF($Z8=\"木材\",$Z9,0)","v":0},null,null,null,null,null,null,null,null,null,null,null,null,null,null,null,null,null,null,null,null,"H点","H'点","H\"点"]
[null,null,null,null,"Ea=",{"$f":"MAX(F21,L21,R21)","v":0},"μSv/3ヶ月",null,null,"Es＝",{"$f":"MAX(F59,L59,R59)","v":0},"μSv/3ヶ月",null,null,2,"2:治療用ｴｯｸｽ線装置（＞50ｋV）",null,10,{"$f":"入力用シート!$C$7","v":0},null,null,5,{"$f":"IF($AA8=\"Pb\",$AA9,0)","v":0},{"$f":"IF($AA8=\"ｺﾝｸﾘ\",$AA9,0)","v":0},{"$f":"IF($AA8=\"Fe\",$AA9,0)","v":0},{"$f":"IF($AA8=\"石膏\",$AA9,0)","v":0},{"$f":"IF($AA8=\"ｶﾞﾗｽ\",$AA9,0)","v":0},{"$f":"IF($AA8=\"木材\",$AA9,0)","v":0},null,null,null,null,null,null,null,null,null,null,null,null,null,null,null,null,null,null,null,"Pb",{"$f":"IF($H27=0,\"\",IF($H27<=3,INT(10*$H27)/10,IF($H27>4,4,0.5*INT($H27/0.5))))","v":""},{"$f":"IF($N27=0,\"\",IF($N27<=3,INT(10*$N27)/10,IF($N27>4,4,0.5*INT($N27/0.5))))","v":""},{"$f":"IF($T27=0,\"\",IF($T27<=3,INT(10*$T27)/10,IF($T27>4,4,0.5*INT($T27/0.5))))","v":""}]
[null,null,null,null,null,null,null,null,null,"EL＝",{"$f":"MAX(F64,L64,R64)","v":0},"μSv/3ヶ月",null,null,3,"3:口内法撮影用X線装置（≦125ｋV）",null,0.25,"選ばれた空気ｶｰﾏ率XL",null,null,6,{"$f":"IF($AB8=\"Pb\",$AB9,0)","v":0},{"$f":"IF($AB8=\"ｺﾝｸﾘ\",$AB9,0)","v":0},{"$f":"IF($AB8=\"Fe\",$AB9,0)","v":0},{"$f":"IF($AB8=\"石膏\",$AB9,0)","v":0},{"$f":"IF($AB8=\"ｶﾞﾗｽ\",$AB9,0)","v":0},{"$f":"IF($AB8=\"木材\",$AB9,0)","v":0},null,null,null,null,null,null,null,null,null,null,null,null,null,null,null,null,null,null,null,"ｺﾝｸﾘ",{"$f":"IF($H29=0,\"\",IF($H29<=300,INT($H29/10)*10,IF($H29>400,400,50*INT($H29/50))))","v":""},{"$f":"IF($N29=0,\"\",IF($N29<=300,INT($N29/10)*10,IF($N29>400,400,50*INT($N29/50))))","v":""},{"$f":"IF($T29=0,\"\",IF($T29<=300,INT($T29/10)*10,IF($T29>400,400,50*INT($T29/50))))","v":""}]
[null,null,null,null,null,null,null,null,null,"合計",{"$f":"+K15+K16","v":0},null,null,null,4,"4:上記以外の診断用X線装置",null,1,{"$f":"IF(S15=0,0,VLOOKUP(S15,O14:R17,4,0)*1000)","v":0},null,null,null,{"$f":"SUM(W11:W16)","v":0},{"$f":"SUM(X11:X16)","v":0},0,0,0,0,"第1～6遮蔽材合計",null,null,null,null,null,null,null,null,null,null,null,null,null,null,null,null,null,null,"Fe",{"$f":"IF($H31=0,\"\",IF($H31<=30,INT($H31),IF($H31>40,40,5*INT($H31/5))))","v":""},{"$f":"IF($N31=0,\"\",IF($N31<=30,INT($N31),IF($N31>40,40,5*INT($N31/5))))","v":""},{"$f":"IF($T31=0,\"\",IF($T31<=30,INT($T31),IF($T31>40,40,5*INT($T31/5))))","v":""}]
[null,null,null,null,null,null,null,null,null,null,null,null,null,null,null,"※１：治療用装置は、装置接触可能5cmの数値であるため任意の数値に変更可能",null,null,null,null,null,null,{"$f":"SUM(W12:W16)","v":0},{"$f":"SUM(X12:X16)","v":0},0,0,0,0,"第2～6遮蔽材合計",null,null,null,null,null,null,null,null,null,null,null,null,null,null,null,null,null,null,"石膏",{"$f":"IF($H33=0,\"\",IF($H33<=30,INT($H33),IF($H33>40,40,5*INT($H33/5))))","v":""},{"$f":"IF($N33=0,\"\",IF($N33<=30,INT($N33),IF($N33>40,40,5*INT($N33/5))))","v":""},{"$f":"IF($T33=0,\"\",IF($T33<=30,INT($T33),IF($T33>40,40,5*INT($T33/5))))","v":""}]
[null,null,null,"H点の計算",null,null,null,null,null,"H'点の計算",null,null,null,null,null,"H\"点の計算",null,null,null,null,null,null,"H'点",null,null,null,null,null,null,null,null,null,null,null,null,null,null,null,null,null,null,null,null,null,null,null,null,"ｶﾞﾗｽ",{"$f":"IF($H35=0,\"\",IF($H35<=30,INT($H35),IF($H35>40,40,5*INT($H35/5))))","v":""},{"$f":"IF($N35=0,\"\",IF($N35<=30,INT($N35),IF($N35>40,40,5*INT($N35/5))))","v":""},{"$f":"IF($T35=0,\"\",IF($T35<=30,INT($T35),IF($T35>40,40,5*INT($T35/5))))","v":""}]
[null,null,null,"1) Ep：撮影方向",null,null,null,null,null,"1) Ep：撮影方向",null,null,null,null,null,"1) Ep：撮影方向",null,null,null,null,null,null,{"$f":"入力用シート!N82","v":0},{"$f":"入力用シート!P82","v":0},{"$f":"入力用シート!R82","v":0},{"$f":"入力用シート!T82","v":0},{"$f":"入力用シート!V82","v":0},{"$f":"入力用シート!X82","v":0},null,null,null,null,null,null,null,null,null,null,null,null,null,null,null,null,null,null,null,"木材",{"$f":"IF($H37=0,\"\",IF($H37<=300,INT($H37/10)*10,IF($H37>400,400,50*INT($H37/50))))","v":""},{"$f":"IF($N37=0,\"\",IF($N37<=300,INT($N37/10)*10,IF($N37>400,400,50*INT($N37/50))))","v":""},{"$f":"IF($T37=0,\"\",IF($T37<=300,INT($T37/10)*10,IF($T37>400,400,50*INT($T37/50))))","v":""}]
[null,null,null,"　",null,{"$f":"IF(OR($F8=0,$M9=0,A点!$AQ$7=1,AND($W$8=0,$W$45>0)),0,($G8*$R10*$G25*$F41*$G12*$G11*$M7*$M8)/($M9^2))","v":0},"μSv/3ヶ月",null,null,"　",null,{"$f":"IF(OR($F8=0,$M9=0,A点!$AQ$7=1,AND($W$20=0,$W$45>0)),0,($G8*$R10*$M25*$L41*$G12*$G11*$M7*$M8)/($M9^2))","v":0},"μSv/3ヶ月",null,null,"　",null,{"$f":"IF(OR($F8=0,$M9=0,A点!$AQ$7=1,AND($W$32=0,$W$45>0)),0,($G8*$R10*$S25*$R41*$G12*$G11*$M7*$M8)/($M9^2))","v":0},"μSv/3ヶ月",null,null,null,{"$f":"入力用シート!N83","v":0},{"$f":"入力用シート!P83","v":0},{"$f":"入力用シート!R83","v":0},{"$f":"入力用シート!T83","v":0},{"$f":"入力用シート!V83","v":0},{"$f":"入力用シート!X83","v":0}]
[null,null,null,null,null,null,null,null,null,null,null,null,null,null,null,null,null,null,null,null,null,null,"Pb","ｺﾝｸﾘ","Fe","石膏","ｶﾞﾗｽ","木材",null,null,null,null,null,null,null,null,null,null,null,null,null,null,null,null,null,null,"3)","遮蔽材順"]
[null,null,null,"a) 第１遮蔽材による減衰(遮蔽体がある場合透過率=1)",null,null,null,null,null,"○ 第１遮蔽材による減衰(遮蔽体がある場合透過率=1)",null,null,null,null,null,"○ 第１遮蔽材による減衰(遮蔽体がある場合透過率=1)",null,null,null,null,null,null,{"$f":"IF($W20=\"Pb\",$W21,0)","v":0},{"$f":"IF($W20=\"ｺﾝｸﾘ\",$W21,0)","v":0},{"$f":"IF($W20=\"Fe\",$W21,0)","v":0},{"$f":"IF($W20=\"石膏\",$W21,0)","v":0},{"$f":"IF($W20=\"ｶﾞﾗｽ\",$W21,0)","v":0},{"$f":"IF($W20=\"木材\",$W21,0)","v":0},null,null,null,null,null,null,null,null,null,null,null,null,null,null,null,null,null,null,null,null,"H点","H'点","H\"点"]
[null,null,null,null,null,"第1遮蔽材",{"$f":"IF($S$8>0,\"遮蔽体\",$W$8)","v":0},{"$f":"$W$8","v":0},null,null,null,"第1遮蔽材",{"$f":"IF($S$8>0,\"遮蔽体\",$W$20)","v":0},{"$f":"$W$20","v":0},null,null,null,"第1遮蔽材",{"$f":"IF($S$8>0,\"遮蔽体\",$W$32)","v":0},{"$f":"$W$32","v":0},null,null,{"$f":"IF($X20=\"Pb\",$X21,0)","v":0},{"$f":"IF($X20=\"ｺﾝｸﾘ\",$X21,0)","v":0},{"$f":"IF($X20=\"Fe\",$X21,0)","v":0},{"$f":"IF($X20=\"石膏\",$X21,0)","v":0},{"$f":"IF($X20=\"ｶﾞﾗｽ\",$X21,0)","v":0},{"$f":"IF($X20=\"木材\",$X21,0)","v":0},null,null,null,null,null,null,null,null,null,null,null,null,null,null,null,null,null,null,null,"第1遮蔽材",{"$f":"IF($AW34=\"11\",G$24,H$24)","v":0},{"$f":"IF($AW34=\"11\",M$24,N$24)","v":0},{"$f":"IF($AW34=\"11\",S$24,T$24)","v":0}]
[null,null,null,null,null,"Dt1=",{"$f":"G28*G30*G32*G34*G36*G38","v":1},{"$f":"H28*H30*H32*H34*H36*H38","v":1},null,null,null,"Dt1=",{"$f":"M28*M30*M32*M34*M36*M38","v":1},{"$f":"N28*N30*N32*N34*N36*N38","v":1},null,null,null,"Dt1=",{"$f":"S28*S30*S32*S34*S36*S38","v":1},{"$f":"T28*T30*T32*T34*T36*T38","v":1},null,null,{"$f":"IF($Y20=\"Pb\",$Y21,0)","v":0},{"$f":"IF($Y20=\"ｺﾝｸﾘ\",$Y21,0)","v":0},{"$f":"IF($Y20=\"Fe\",$Y21,0)","v":0},{"$f":"IF($Y20=\"石膏\",$Y21,0)","v":0},{"$f":"IF($Y20=\"ｶﾞﾗｽ\",$Y21,0)","v":0},{"$f":"IF($Y20=\"木材\",$Y21,0)","v":0},null,null,null,null,null,null,null,null,null,null,null,null,null,null,null,null,null,null,null,"第2遮蔽材",{"$f":"IF($AW34=\"11\",W$8,X$8)","v":0},{"$f":"IF($AW34=\"11\",W$20,X$20)","v":0},{"$f":"IF($AW34=\"11\",W$32,X$32)","v":0}]
[null,null,null,null,null,null,"一次線用","散乱線用",null,null,null,null,"一次線用","散乱線用",null,null,null,null,"一次線用","散乱線用",null,null,{"$f":"IF($Z20=\"Pb\",$Z21,0)","v":0},{"$f":"IF($Z20=\"ｺﾝｸﾘ\",$Z21,0)","v":0},{"$f":"IF($Z20=\"Fe\",$Z21,0)","v":0},{"$f":"IF($Z20=\"石膏\",$Z21,0)","v":0},{"$f":"IF($Z20=\"ｶﾞﾗｽ\",$Z21,0)","v":0},{"$f":"IF($Z20=\"木材\",$Z21,0)","v":0},null,null,null,null,null,null,null,null,null,null,null,null,null,null,null,null,null,null,null,"第3遮蔽材",{"$f":"IF($AW34=\"11\",X$8,Y$8)","v":0},{"$f":"IF($AW34=\"11\",X$20,Y$20)","v":0},{"$f":"IF($AW34=\"11\",X$32,Y$32)","v":0}]
[null,null,null,"a)　鉛(表2)",null,"等価厚さ",{"$f":"IF($G24=$W$10,$W$9*$AE$8,0)","v":0},{"$f":"IF($H24=$W$10,$W$9*$AE$8,0)","v":0},null,"a)　鉛(表2)",null,"等価厚さ",{"$f":"IF($M24=$W$22,$W$21*$AE$8,0)","v":0},{"$f":"IF($N24=$W$22,$W$21*$AE$8,0)","v":0},null,"a)　鉛(表2)",null,"等価厚さ",{"$f":"IF($S24=$W$34,$W$33*$AE$8,0)","v":0},{"$f":"IF($T24=$W$34,$W$33*$AE$8,0)","v":0},null,null,{"$f":"IF($AA20=\"Pb\",$AA21,0)","v":0},{"$f":"IF($AA20=\"ｺﾝｸﾘ\",$AA21,0)","v":0},{"$f":"IF($AA20=\"Fe\",$AA21,0)","v":0},{"$f":"IF($AA20=\"石膏\",$AA21,0)","v":0},{"$f":"IF($AA20=\"ｶﾞﾗｽ\",$AA21,0)","v":0},{"$f":"IF($AA20=\"木材\",$AA21,0)","v":0},null,null,null,null,null,null,null,null,null,null,null,null,null,null,null,null,null,null,null,"第4遮蔽材",{"$f":"IF($AW34=\"11\",Y$8,Z$8)","v":0},{"$f":"IF($AW34=\"11\",Y$20,Z$20)","v":0},{"$f":"IF($AW34=\"11\",Y$32,Z$32)","v":0}]
[null,null,null,null,null,"透過率",{"$f":"IF(OR($G27=0,A点!$AL$8=1,A点!$AL$8=\"○\"),1,INDEX('表２(Pb)'!$A$3:$Y$36,MATCH($AW5,'表２(Pb)'!$A$3:$A$36,0),MATCH($F8,'表２(Pb)'!$A$3:$Y$3,0)))","v":1},{"$f":"IF(OR($H27=0,A点!$AL$8=1,A点!$AL$8=\"○\"),1,INDEX('表２(Pb)'!$A$3:$Y$36,MATCH($AW15,'表２(Pb)'!$A$3:$A$36,0),MATCH($F8,'表２(Pb)'!$A$3:$Y$3,0)))","v":1},null,null,null,"透過率",{"$f":"IF(OR($M27=0,A点!$AL$8=1,A点!$AL$8=\"○\"),1,INDEX('表２(Pb)'!$A$3:$Y$36,MATCH($AX5,'表２(Pb)'!$A$3:$A$36,0),MATCH($F8,'表２(Pb)'!$A$3:$Y$3,0)))","v":1},{"$f":"IF(OR($N27=0,A点!$AL$8=1,A点!$AL$8=\"○\"),1,INDEX('表２(Pb)'!$A$3:$Y$36,MATCH($AX15,'表２(Pb)'!$A$3:$A$36,0),MATCH($F8,'表２(Pb)'!$A$3:$Y$3,0)))","v":1},null,null,null,"透過率",{"$f":"IF(OR($S27=0,A点!$AL$8=1,A点!$AL$8=\"○\"),1,INDEX('表２(Pb)'!$A$3:$Y$36,MATCH($AY5,'表２(Pb)'!$A$3:$A$36,0),MATCH($F8,'表２(Pb)'!$A$3:$Y$3,0)))","v":1},{"$f":"IF(OR($T27=0,A点!$AL$8=1,A点!$AL$8=\"○\"),1,INDEX('表２(Pb)'!$A$3:$Y$36,MATCH($AY15,'表２(Pb)'!$A$3:$A$36,0),MATCH($F8,'表２(Pb)'!$A$3:$Y$3,0)))","v":1},null,null,{"$f":"IF($AB20=\"Pb\",$AB21,0)","v":0},{"$f":"IF($AB20=\"ｺﾝｸﾘ\",$AB21,0)","v":0},{"$f":"IF($AB20=\"Fe\",$AB21,0)","v":0},{"$f":"IF($AB20=\"石膏\",$AB21,0)","v":0},{"$f":"IF($AB20=\"ｶﾞﾗｽ\",$AB21,0)","v":0},{"$f":"IF($AB20=\"木材\",$AB21,0)","v":0},null,null,null,null,null,null,null,null,null,null,null,null,null,null,null,null,null,null,null,"第5遮蔽材",{"$f":"IF($AW34=\"11\",Z$8,AA$8)","v":0},{"$f":"IF($AW34=\"11\",Z$20,AA$20)","v":0},{"$f":"IF($AW34=\"11\",Z$32,AA$32)","v":0}]
[null,null,null,"b)　コンクリート(表3)",null,"等価厚さ",{"$f":"IF($G24=$X$10,$W$9*$AE$9,0)","v":0},{"$f":"IF($H24=$X$10,$W$9*$AE$9,0)","v":0},null,"b)　コンクリート(表3)",null,"等価厚さ",{"$f":"IF($M24=$X$22,$W$21*$AE$9,0)","v":0},{"$f":"IF($N24=$X$22,$W$21*$AE$9,0)","v":0},null,"b)　コンクリート(表3)",null,"等価厚さ",{"$f":"IF($S24=$X$34,$W$33*$AE$9,0)","v":0},{"$f":"IF($T24=$X$34,$W$33*$AE$9,0)","v":0},null,null,{"$f":"SUM(W23:W28)","v":0},{"$f":"SUM(X23:X28)","v":0},0,0,0,0,"第1～6遮蔽材合計",null,null,null,null,null,null,null,null,null,null,null,null,null,null,null,null,null,null,"第6遮蔽材",{"$f":"IF($AW34=\"11\",AA$8,AB$8)","v":0},{"$f":"IF($AW34=\"11\",AA$20,AB$20)","v":0},{"$f":"IF($AW34=\"11\",AA$32,AB$32)","v":0}]
[null,null,null,null,null,"透過率",{"$f":"IF(OR($G29=0,A点!$AL$8=1,A点!$AL$8=\"○\"),1,INDEX('表３(コ)'!$A$3:$Y$36,MATCH($AW6,'表３(コ)'!$A$3:$A$36,0),MATCH($F8,'表３(コ)'!$A$3:$Y$3,0)))","v":1},{"$f":"IF(OR($H29=0,A点!$AL$8=1,A点!$AL$8=\"○\"),1,INDEX('表３(コ)'!$A$3:$Y$36,MATCH($AW16,'表３(コ)'!$A$3:$A$36,0),MATCH($F8,'表３(コ)'!$A$3:$Y$3,0)))","v":1},null,null,null,"透過率",{"$f":"IF(OR($M29=0,A点!$AL$8=1,A点!$AL$8=\"○\"),1,INDEX('表３(コ)'!$A$3:$Y$36,MATCH($AX6,'表３(コ)'!$A$3:$A$36,0),MATCH($F8,'表３(コ)'!$A$3:$Y$3,0)))","v":1},{"$f":"IF(OR($N29=0,A点!$AL$8=1,A点!$AL$8=\"○\"),1,INDEX('表３(コ)'!$A$3:$Y$36,MATCH($AX16,'表３(コ)'!$A$3:$A$36,0),MATCH($F8,'表３(コ)'!$A$3:$Y$3,0)))","v":1},null,null,null,"透過率",{"$f":"IF(OR($S29=0,A点!$AL$8=1,A点!$AL$8=\"○\"),1,INDEX('表３(コ)'!$A$3:$Y$36,MATCH($AY6,'表３(コ)'!$A$3:$A$36,0),MATCH($F8,'表３(コ)'!$A$3:$Y$3,0)))","v":1},{"$f":"IF(OR($T29=0,A点!$AL$8=1,A点!$AL$8=\"○\"),1,INDEX('表３(コ)'!$A$3:$Y$36,MATCH($AY16,'表３(コ)'!$A$3:$A$36,0),MATCH($F8,'表３(コ)'!$A$3:$Y$3,0)))","v":1},null,null,{"$f":"SUM(W24:W28)","v":0},{"$f":"SUM(X24:X28)","v":0},0,0,0,0,"第2～6遮蔽材合計",null,null,null,null,null,null,null,null,null,null,null,null,null,null,null,null,null,null,"第7遮蔽材",{"$f":"IF($AW34=\"11\",AB$8,\"\")","v":""},{"$f":"IF($AW34=\"11\",AB$20,\"\")","v":""},{"$f":"IF($AW34=\"11\",AB$32,\"\")","v":""}]
[null,null,null,"c)　鉄(表4)",null,"等価厚さ",{"$f":"IF($G24=$Y$10,$W$9*$AE$10,0)","v":0},{"$f":"IF($H24=$Y$10,$W$9*$AE$10,0)","v":0},null,"c)　鉄(表4)",null,"等価厚さ",{"$f":"IF($M24=$Y$22,$W$21*$AE$10,0)","v":0},{"$f":"IF($N24=$Y$22,$W$21*$AE$10,0)","v":0},null,"c)　鉄(表4)",null,"等価厚さ",{"$f":"IF($S24=$Y$34,$W$33*$AE$10,0)","v":0},{"$f":"IF($T24=$Y$34,$W$33*$AE$10,0)","v":0},null,null,"H\"点"]
[null,null,null,null,null,"透過率",{"$f":"IF(OR($G31=0,A点!$AL$8=1,A点!$AL$8=\"○\"),1,INDEX('表4(Fe)'!$A$3:$Y$36,MATCH($AW7,'表4(Fe)'!$A$3:$A$36,0),MATCH($F8,'表4(Fe)'!$A$3:$Y$3,0)))","v":1},{"$f":"IF(OR($H31=0,A点!$AL$8=1,A点!$AL$8=\"○\"),1,INDEX('表4(Fe)'!$A$3:$Y$36,MATCH($AW17,'表4(Fe)'!$A$3:$A$36,0),MATCH($F8,'表4(Fe)'!$A$3:$Y$3,0)))","v":1},null,null,null,"透過率",{"$f":"IF(OR($M31=0,A点!$AL$8=1,A点!$AL$8=\"○\"),1,INDEX('表4(Fe)'!$A$3:$Y$36,MATCH($AX7,'表4(Fe)'!$A$3:$A$36,0),MATCH($F8,'表4(Fe)'!$A$3:$Y$3,0)))","v":1},{"$f":"IF(OR($N31=0,A点!$AL$8=1,A点!$AL$8=\"○\"),1,INDEX('表4(Fe)'!$A$3:$Y$36,MATCH($AX17,'表4(Fe)'!$A$3:$A$36,0),MATCH($F8,'表4(Fe)'!$A$3:$Y$3,0)))","v":1},null,null,null,"透過率",{"$f":"IF(OR($S31=0,A点!$AL$8=1,A点!$AL$8=\"○\"),1,INDEX('表4(Fe)'!$A$3:$Y$36,MATCH($AY7,'表4(Fe)'!$A$3:$A$36,0),MATCH($F8,'表4(Fe)'!$A$3:$Y$3,0)))","v":1},{"$f":"IF(OR($T31=0,A点!$AL$8=1,A点!$AL$8=\"○\"),1,INDEX('表4(Fe)'!$A$3:$Y$36,MATCH($AY17,'表4(Fe)'!$A$3:$A$36,0),MATCH($F8,'表4(Fe)'!$A$3:$Y$3,0)))","v":1},null,null,{"$f":"入力用シート!N84","v":0},{"$f":"入力用シート!P84","v":0},{"$f":"入力用シート!R84","v":0},{"$f":"入力用シート!T84","v":0},{"$f":"入力用シート!V84","v":0},{"$f":"入力用シート!X84","v":0},null,null,null,null,null,null,null,null,null,null,null,null,null,null,null,null,null,null,null,"遮蔽体有無",{"$f":"IF($S8>0,1,0)","v":0},"遮蔽体有：１"]
[null,null,null,"d)　石膏(表5)",null,"等価厚さ",{"$f":"IF($G24=$Z$10,$W$9*$AE$11,0)","v":0},{"$f":"IF($H24=$Z$10,$W$9*$AE$11,0)","v":0},null,"d)　石膏(表5)",null,"等価厚さ",{"$f":"IF($M24=$Z$22,$W$21*$AE$11,0)","v":0},{"$f":"IF($N24=$Z$22,$W$21*$AE$11,0)","v":0},null,"d)　石膏(表5)",null,"等価厚さ",{"$f":"IF($S24=$Z$34,$W$33*$AE$11,0)","v":0},{"$f":"IF($T24=$Z$34,$W$33*$AE$11,0)","v":0},null,null,{"$f":"入力用シート!N85","v":0},{"$f":"入力用シート!P85","v":0},{"$f":"入力用シート!R85","v":0},{"$f":"入力用シート!T85","v":0},{"$f":"入力用シート!V85","v":0},{"$f":"入力用シート!X85","v":0},null,null,null,null,null,null,null,null,null,null,null,null,null,null,null,null,null,null,null,"照射方向",{"$f":"IF($M9>0,1,2)","v":2},"直接線：1、散乱線：2"]
[null,null,null,null,null,"透過率",{"$f":"IF(OR($G33=0,A点!$AL$8=1,A点!$AL$8=\"○\"),1,INDEX('表5(CaSO4)'!$A$3:$Y$36,MATCH($AW8,'表5(CaSO4)'!$A$3:$A$36,0),MATCH($F8,'表5(CaSO4)'!$A$3:$Y$3,0)))","v":1},{"$f":"IF(OR($H33=0,A点!$AL$8=1,A点!$AL$8=\"○\"),1,INDEX('表5(CaSO4)'!$A$3:$Y$36,MATCH($AW18,'表5(CaSO4)'!$A$3:$A$36,0),MATCH($F8,'表5(CaSO4)'!$A$3:$Y$3,0)))","v":1},null,null,null,"透過率",{"$f":"IF(OR($M33=0,A点!$AL$8=1,A点!$AL$8=\"○\"),1,INDEX('表5(CaSO4)'!$A$3:$Y$36,MATCH($AX8,'表5(CaSO4)'!$A$3:$A$36,0),MATCH($F8,'表5(CaSO4)'!$A$3:$Y$3,0)))","v":1},{"$f":"IF(OR($N33=0,A点!$AL$8=1,A点!$AL$8=\"○\"),1,INDEX('表5(CaSO4)'!$A$3:$Y$36,MATCH($AX18,'表5(CaSO4)'!$A$3:$A$36,0),MATCH($F8,'表5(CaSO4)'!$A$3:$Y$3,0)))","v":1},null,null,null,"透過率",{"$f":"IF(OR($S33=0,A点!$AL$8=1,A点!$AL$8=\"○\"),1,INDEX('表5(CaSO4)'!$A$3:$Y$36,MATCH($AY8,'表5(CaSO4)'!$A$3:$A$36,0),MATCH($F8,'表5(CaSO4)'!$A$3:$Y$3,0)))","v":1},{"$f":"IF(OR($T33=0,A点!$AL$8=1,A点!$AL$8=\"○\"),1,INDEX('表5(CaSO4)'!$A$3:$Y$36,MATCH($AY18,'表5(CaSO4)'!$A$3:$A$36,0),MATCH($F8,'表5(CaSO4)'!$A$3:$Y$3,0)))","v":1},null,null,"Pb","ｺﾝｸﾘ","Fe","石膏","ｶﾞﾗｽ","木材",null,null,null,null,null,null,null,null,null,null,null,null,null,null,null,null,null,null,null,"判定コード",{"$f":"AW32&AW33","v":"02"}]
[null,null,null,"e）　ガラス(表6)",null,"等価厚さ",{"$f":"IF($G24=$AA$10,$W$9*$AE$12,0)","v":0},{"$f":"IF($H24=$AA$10,$W$9*$AE$12,0)","v":0},null,"e）　ガラス(表6)",null,"等価厚さ",{"$f":"IF($M24=$AA$22,$W$21*$AE$12,0)","v":0},{"$f":"IF($N24=$AA$22,$W$21*$AE$12,0)","v":0},null,"e）　ガラス(表6)",null,"等価厚さ",{"$f":"IF($S24=$AA$34,$W$33*$AE$12,0)","v":0},{"$f":"IF($T24=$AA$34,$W$33*$AE$12,0)","v":0},null,null,{"$f":"IF($W32=\"Pb\",$W33,0)","v":0},{"$f":"IF($W32=\"ｺﾝｸﾘ\",$W33,0)","v":0},{"$f":"IF($W32=\"Fe\",$W33,0)","v":0},{"$f":"IF($W32=\"石膏\",$W33,0)","v":0},{"$f":"IF($W32=\"ｶﾞﾗｽ\",$W33,0)","v":0},{"$f":"IF($W32=\"木材\",$W33,0)","v":0}]
[null,null,null,null,null,"透過率",{"$f":"IF(OR($G35=0,A点!$AL$8=1,A点!$AL$8=\"○\"),1,INDEX('表6(SiO2)'!$A$3:$Y$36,MATCH($AW9,'表6(SiO2)'!$A$3:$A$36,0),MATCH($F8,'表6(SiO2)'!$A$3:$Y$3,0)))","v":1},{"$f":"IF(OR($H35=0,A点!$AL$8=1,A点!$AL$8=\"○\"),1,INDEX('表6(SiO2)'!$A$3:$Y$36,MATCH($AW19,'表6(SiO2)'!$A$3:$A$36,0),MATCH($F8,'表6(SiO2)'!$A$3:$Y$3,0)))","v":1},null,null,null,"透過率",{"$f":"IF(OR($M35=0,A点!$AL$8=1,A点!$AL$8=\"○\"),1,INDEX('表6(SiO2)'!$A$3:$Y$36,MATCH($AX9,'表6(SiO2)'!$A$3:$A$36,0),MATCH($F8,'表6(SiO2)'!$A$3:$Y$3,0)))","v":1},{"$f":"IF(OR($N35=0,A点!$AL$8=1,A点!$AL$8=\"○\"),1,INDEX('表6(SiO2)'!$A$3:$Y$36,MATCH($AX19,'表6(SiO2)'!$A$3:$A$36,0),MATCH($F8,'表6(SiO2)'!$A$3:$Y$3,0)))","v":1},null,null,null,"透過率",{"$f":"IF(OR($S35=0,A点!$AL$8=1,A点!$AL$8=\"○\"),1,INDEX('表6(SiO2)'!$A$3:$Y$36,MATCH($AY9,'表6(SiO2)'!$A$3:$A$36,0),MATCH($F8,'表6(SiO2)'!$A$3:$Y$3,0)))","v":1},{"$f":"IF(OR($T35=0,A点!$AL$8=1,A点!$AL$8=\"○\"),1,INDEX('表6(SiO2)'!$A$3:$Y$36,MATCH($AY19,'表6(SiO2)'!$A$3:$A$36,0),MATCH($F8,'表6(SiO2)'!$A$3:$Y$3,0)))","v":1},null,null,{"$f":"IF($X32=\"Pb\",$X33,0)","v":0},{"$f":"IF($X32=\"ｺﾝｸﾘ\",$X33,0)","v":0},{"$f":"IF($X32=\"Fe\",$X33,0)","v":0},{"$f":"IF($X32=\"石膏\",$X33,0)","v":0},{"$f":"IF($X32=\"ｶﾞﾗｽ\",$X33,0)","v":0},{"$f":"IF($X32=\"木材\",$X33,0)","v":0}]
[null,null,null,"f)　木材(表7)",null,"等価厚さ",{"$f":"IF($G24=$AB$10,$W$9*$AE$13,0)","v":0},{"$f":"IF($H24=$AB$10,$W$9*$AE$13,0)","v":0},null,"f)　木材(表7)",null,"等価厚さ",{"$f":"IF($M24=$AB$22,$W$21*$AE$13,0)","v":0},{"$f":"IF($N24=$AB$22,$W$21*$AE$13,0)","v":0},null,"f)　木材(表7)",null,"等価厚さ",{"$f":"IF($S24=$AB$34,$W$33*$AE$13,0)","v":0},{"$f":"IF($T24=$AB$34,$W$33*$AE$13,0)","v":0},null,null,{"$f":"IF($Y32=\"Pb\",$Y33,0)","v":0},{"$f":"IF($Y32=\"ｺﾝｸﾘ\",$Y33,0)","v":0},{"$f":"IF($Y32=\"Fe\",$Y33,0)","v":0},{"$f":"IF($Y32=\"石膏\",$Y33,0)","v":0},{"$f":"IF($Y32=\"ｶﾞﾗｽ\",$Y33,0)","v":0},{"$f":"IF($Y32=\"木材\",$Y33,0)","v":0}]
[null,null,null,null,null,"透過率",{"$f":"IF(OR($G37=0,A点!$AL$8=1,A点!$AL$8=\"○\"),1,INDEX('表7(木)'!$A$3:$Y$36,MATCH($AW10,'表7(木)'!$A$3:$A$36,0),MATCH($F8,'表7(木)'!$A$3:$Y$3,0)))","v":1},{"$f":"IF(OR($H37=0,A点!$AL$8=1,A点!$AL$8=\"○\"),1,INDEX('表7(木)'!$A$3:$Y$36,MATCH($AW20,'表7(木)'!$A$3:$A$36,0),MATCH($F8,'表7(木)'!$A$3:$Y$3,0)))","v":1},null,null,null,"透過率",{"$f":"IF(OR($M37=0,A点!$AL$8=1,A点!$AL$8=\"○\"),1,INDEX('表7(木)'!$A$3:$Y$36,MATCH($AX10,'表7(木)'!$A$3:$A$36,0),MATCH($F8,'表7(木)'!$A$3:$Y$3,0)))","v":1},{"$f":"IF(OR($N37=0,A点!$AL$8=1,A点!$AL$8=\"○\"),1,INDEX('表7(木)'!$A$3:$Y$36,MATCH($AX20,'表7(木)'!$A$3:$A$36,0),MATCH($F8,'表7(木)'!$A$3:$Y$3,0)))","v":1},null,null,null,"透過率",{"$f":"IF(OR($S37=0,A点!$AL$8=1,A点!$AL$8=\"○\"),1,INDEX('表7(木)'!$A$3:$Y$36,MATCH($AY10,'表7(木)'!$A$3:$A$36,0),MATCH($F8,'表7(木)'!$A$3:$Y$3,0)))","v":1},{"$f":"IF(OR($T37=0,A点!$AL$8=1,A点!$AL$8=\"○\"),1,INDEX('表7(木)'!$A$3:$Y$36,MATCH($AY20,'表7(木)'!$A$3:$A$36,0),MATCH($F8,'表7(木)'!$A$3:$Y$3,0)))","v":1},null,null,{"$f":"IF($Z32=\"Pb\",$Z33,0)","v":0},{"$f":"IF($Z32=\"ｺﾝｸﾘ\",$Z33,0)","v":0},{"$f":"IF($Z32=\"Fe\",$Z33,0)","v":0},{"$f":"IF($Z32=\"石膏\",$Z33,0)","v":0},{"$f":"IF($Z32=\"ｶﾞﾗｽ\",$Z33,0)","v":0},{"$f":"IF($Z32=\"木材\",$Z33,0)","v":0}]
[null,null,null,null,null,null,null,null,null,null,null,null,null,null,null,null,null,null,null,null,null,null,{"$f":"IF($AA32=\"Pb\",$AA33,0)","v":0},{"$f":"IF($AA32=\"ｺﾝｸﾘ\",$AA33,0)","v":0},{"$f":"IF($AA32=\"Fe\",$AA33,0)","v":0},{"$f":"IF($AA32=\"石膏\",$AA33,0)","v":0},{"$f":"IF($AA32=\"ｶﾞﾗｽ\",$AA33,0)","v":0},{"$f":"IF($AA32=\"木材\",$AA33,0)","v":0}]
[null,null,null,"b)　第２遮蔽材以後による一次線の減衰表9",null,null,null,null,null,"2)　第２遮蔽材以後による一次線の減衰表9",null,null,null,null,null,"2)　第２遮蔽材以後による一次線の減衰表9",null,null,null,null,null,null,{"$f":"IF($AB32=\"Pb\",$AB33,0)","v":0},{"$f":"IF($AB32=\"ｺﾝｸﾘ\",$AB33,0)","v":0},{"$f":"IF($AB32=\"Fe\",$AB33,0)","v":0},{"$f":"IF($AB32=\"石膏\",$AB33,0)","v":0},{"$f":"IF($AB32=\"ｶﾞﾗｽ\",$AB33,0)","v":0},{"$f":"IF($AB32=\"木材\",$AB33,0)","v":0}]
[null,null,null,null,"Dt2=",{"$f":"F44*F46*F48*F50*F52*F54","v":0},{"$f":"G44*G46*G48*G50*G52*G54","v":0},0,null,null,"Dt2=",{"$f":"L44*L46*L48*L50*L52*L54","v":0},{"$f":"M44*M46*M48*M50*M52*M54","v":0},0,null,null,"Dt2=",{"$f":"R44*R46*R48*R50*R52*R54","v":0},{"$f":"S44*S46*S48*S50*S52*S54","v":0},0,null,null,{"$f":"SUM(W35:W40)","v":0},{"$f":"SUM(X35:X40)","v":0},0,0,0,0,"第1～6遮蔽材合計"]
[null,null,null,null,null,"一次線用","散乱線用","漏洩線用",null,null,null,"一次線用","散乱線用","漏洩線用",null,null,null,"一次線用","散乱線用","漏洩線用",null,null,{"$f":"SUM(W36:W40)","v":0},{"$f":"SUM(X36:X40)","v":0},0,0,0,0,"第2～6遮蔽材合計"]
[null,null,null,"a)　鉛(表9)","半価層(mm)",{"$f":"IF(OR(A点!$AL$8=1,A点!$AL$8=\"○\"),\"\",VLOOKUP($F8,'表9(BB)'!$A$4:$M$27,2,0))","v":""},null,null,null,"a)　鉛(表9)","半価層(mm)",{"$f":"IF(OR(A点!$AL$8=1,A点!$AL$8=\"○\"),\"\",VLOOKUP($F8,'表9(BB)'!$A$4:$M$27,2,0))","v":""},null,null,null,"a)　鉛(表9)","半価層(mm)",{"$f":"IF(OR(A点!$AL$8=1,A点!$AL$8=\"○\"),\"\",VLOOKUP($F8,'表9(BB)'!$A$4:$M$27,2,0))","v":""}]
[null,null,null,null,"透過率",{"$f":"IF($S$8>0,$H44,$G44)","v":0},{"$f":"IF($F43=\"\",0,(1/2)^($W18*$AE$8/$F43))","v":0},{"$f":"IF($F43=\"\",0,(1/2)^($W17*$AE$8/$F43))","v":0},null,null,"透過率",{"$f":"IF($S$8>0,$N44,$M44)","v":0},{"$f":"IF($L43=\"\",0,(1/2)^($W30*$AE$8/$L43))","v":0},{"$f":"IF($L43=\"\",0,(1/2)^($W29*$AE$8/$L43))","v":0},null,null,"透過率",{"$f":"IF($S$8>0,$T44,$S44)","v":0},{"$f":"IF($R43=\"\",0,(1/2)^($W42*$AE$8/$R43))","v":0},{"$f":"IF($R43=\"\",0,(1/2)^($W41*$AE$8/$R43))","v":0},null,null,"遮蔽材判定"]
[null,null,null,"b)　コンクリート(表9)","半価層(mm)",{"$f":"IF(OR(A点!$AL$8=1,A点!$AL$8=\"○\"),\"\",VLOOKUP($F8,'表9(BB)'!$A$4:$M$27,4,0))","v":""},null,null,null,"b)　コンクリート(表9)","半価層(mm)",{"$f":"IF(OR(A点!$AL$8=1,A点!$AL$8=\"○\"),\"\",VLOOKUP($F8,'表9(BB)'!$A$4:$M$27,4,0))","v":""},null,null,null,"b)　コンクリート(表9)","半価層(mm)",{"$f":"IF(OR(A点!$AL$8=1,A点!$AL$8=\"○\"),\"\",VLOOKUP($F8,'表9(BB)'!$A$4:$M$27,4,0))","v":""},null,null,null,null,{"$f":"SUM(W17:AB17)+SUM(W29:AB29)+SUM(W41:AB41)","v":0}]
[null,null,null,null,"透過率",{"$f":"IF($S$8>0,$H46,$G46)","v":0},{"$f":"IF($F45=\"\",0,(1/2)^($X18*$AE$9/$F45))","v":0},{"$f":"IF($F45=\"\",0,(1/2)^($X17*$AE$9/$F45))","v":0},null,null,"透過率",{"$f":"IF($S$8>0,$N46,$M46)","v":0},{"$f":"IF($L45=\"\",0,(1/2)^($X30*$AE$9/$L45))","v":0},{"$f":"IF($L45=\"\",0,(1/2)^($X29*$AE$9/$L45))","v":0},null,null,"透過率",{"$f":"IF($S$8>0,$T46,$S46)","v":0},{"$f":"IF($R45=\"\",0,(1/2)^($X42*$AE$9/$R45))","v":0},{"$f":"IF($R45=\"\",0,(1/2)^($X41*$AE$9/$R45))","v":0}]
[null,null,null,"c)　鉄(表9)","半価層(mm)",{"$f":"IF(OR(A点!$AL$8=1,A点!$AL$8=\"○\"),\"\",VLOOKUP($F8,'表9(BB)'!$A$4:$M$27,6,0))","v":""},null,null,null,"c)　鉄(表9)","半価層(mm)",{"$f":"IF(OR(A点!$AL$8=1,A点!$AL$8=\"○\"),\"\",VLOOKUP($F8,'表9(BB)'!$A$4:$M$27,6,0))","v":""},null,null,null,"c)　鉄(表9)","半価層(mm)",{"$f":"IF(OR(A点!$AL$8=1,A点!$AL$8=\"○\"),\"\",VLOOKUP($F8,'表9(BB)'!$A$4:$M$27,6,0))","v":""}]
[null,null,null,null,"透過率",{"$f":"IF($S$8>0,$H48,$G48)","v":0},{"$f":"IF($F47=\"\",0,(1/2)^($Y18*$AE$10/$F47))","v":0},{"$f":"IF($F47=\"\",0,(1/2)^($Y17*$AE$10/$F47))","v":0},null,null,"透過率",{"$f":"IF($S$8>0,$N48,$M48)","v":0},{"$f":"IF($L47=\"\",0,(1/2)^($Y30*$AE$10/$L47))","v":0},{"$f":"IF($L47=\"\",0,(1/2)^($Y29*$AE$10/$L47))","v":0},null,null,"透過率",{"$f":"IF($S$8>0,$T48,$S48)","v":0},{"$f":"IF($R47=\"\",0,(1/2)^($Y42*$AE$10/$R47))","v":0},{"$f":"IF($R47=\"\",0,(1/2)^($Y41*$AE$10/$R47))","v":0}]
[null,null,null,"d)　石膏(表9)","半価層(mm)",{"$f":"IF(OR(A点!$AL$8=1,A点!$AL$8=\"○\"),\"\",VLOOKUP($F8,'表9(BB)'!$A$4:$M$27,8,0))","v":""},null,null,null,"d)　石膏(表9)","半価層(mm)",{"$f":"IF(OR(A点!$AL$8=1,A点!$AL$8=\"○\"),\"\",VLOOKUP($F8,'表9(BB)'!$A$4:$M$27,8,0))","v":""},null,null,null,"d)　石膏(表9)","半価層(mm)",{"$f":"IF(OR(A点!$AL$8=1,A点!$AL$8=\"○\"),\"\",VLOOKUP($F8,'表9(BB)'!$A$4:$M$27,8,0))","v":""}]
[null,null,null,null,"透過率",{"$f":"IF($S$8>0,$H50,$G50)","v":0},{"$f":"IF($F49=\"\",0,(1/2)^($Z18*$AE$11/$F49))","v":0},{"$f":"IF($F49=\"\",0,(1/2)^($Z17*$AE$11/$F49))","v":0},null,null,"透過率",{"$f":"IF($S$8>0,$N50,$M50)","v":0},{"$f":"IF($L49=\"\",0,(1/2)^($Z30*$AE$11/$L49))","v":0},{"$f":"IF($L49=\"\",0,(1/2)^($Z29*$AE$11/$L49))","v":0},null,null,"透過率",{"$f":"IF($S$8>0,$T50,$S50)","v":0},{"$f":"IF($R49=\"\",0,(1/2)^($Z42*$AE$11/$R49))","v":0},{"$f":"IF($R49=\"\",0,(1/2)^($Z41*$AE$11/$R49))","v":0}]
[null,null,null,"e）　ガラス(表9)","半価層(mm)",{"$f":"IF(OR(A点!$AL$8=1,A点!$AL$8=\"○\"),\"\",VLOOKUP($F8,'表9(BB)'!$A$4:$M$27,10,0))","v":""},null,null,null,"e）　ガラス(表9)","半価層(mm)",{"$f":"IF(OR(A点!$AL$8=1,A点!$AL$8=\"○\"),\"\",VLOOKUP($F8,'表9(BB)'!$A$4:$M$27,10,0))","v":""},null,null,null,"e）　ガラス(表9)","半価層(mm)",{"$f":"IF(OR(A点!$AL$8=1,A点!$AL$8=\"○\"),\"\",VLOOKUP($F8,'表9(BB)'!$A$4:$M$27,10,0))","v":""}]
[null,null,null,null,"透過率",{"$f":"IF($S$8>0,$H52,$G52)","v":0},{"$f":"IF($F51=\"\",0,(1/2)^($AA18*$AE$12/$F51))","v":0},{"$f":"IF($F51=\"\",0,(1/2)^($AA17*$AE$12/$F51))","v":0},null,null,"透過率",{"$f":"IF($S$8>0,$N52,$M52)","v":0},{"$f":"IF($L51=\"\",0,(1/2)^($AA30*$AE$12/$L51))","v":0},{"$f":"IF($L51=\"\",0,(1/2)^($AA29*$AE$12/$L51))","v":0},null,null,"透過率",{"$f":"IF($S$8>0,$T52,$S52)","v":0},{"$f":"IF($R51=\"\",0,(1/2)^($AA42*$AE$12/$R51))","v":0},{"$f":"IF($R51=\"\",0,(1/2)^($AA41*$AE$12/$R51))","v":0}]
[null,null,null,"f)　木材(表9)","半価層(mm)",{"$f":"IF(OR(A点!$AL$8=1,A点!$AL$8=\"○\"),\"\",VLOOKUP($F8,'表9(BB)'!$A$4:$M$27,12,0))","v":""},null,null,null,"f)　木材(表9)","半価層(mm)",{"$f":"IF(OR(A点!$AL$8=1,A点!$AL$8=\"○\"),\"\",VLOOKUP($F8,'表9(BB)'!$A$4:$M$27,12,0))","v":""},null,null,null,"f)　木材(表9)","半価層(mm)",{"$f":"IF(OR(A点!$AL$8=1,A点!$AL$8=\"○\"),\"\",VLOOKUP($F8,'表9(BB)'!$A$4:$M$27,12,0))","v":""}]
[null,null,null,null,"透過率",{"$f":"IF($S$8>0,$H54,$G54)","v":0},{"$f":"IF($F53=\"\",0,(1/2)^($AB18*$AE$13/$F53))","v":0},{"$f":"IF($F53=\"\",0,(1/2)^($AB17*$AE$13/$F53))","v":0},null,null,"透過率",{"$f":"IF($S$8>0,$N54,$M54)","v":0},{"$f":"IF($L53=\"\",0,(1/2)^($AB$30*$AE$13/$L$53))","v":0},{"$f":"IF($L53=\"\",0,(1/2)^($AB$29*$AE$13/$L$53))","v":0},null,null,"透過率",{"$f":"IF($S$8>0,$T54,$S54)","v":0},{"$f":"IF($R53=\"\",0,(1/2)^($AB42*$AE$13/$R53))","v":0},{"$f":"IF($R53=\"\",0,(1/2)^($AB41*$AE$13/$R53))","v":0}]
[]
[]
[null,null,null,"2)　Es：散乱エックス線の漏洩線量(散乱角90度)",null,null,null,null,null,"2)　Es：散乱エックス線の漏洩線量(散乱角90度)",null,null,null,null,null,"2)　Es：散乱エックス線の漏洩線量(散乱角90度)"]
[null,null,null,null,"Dt=",{"$f":"H25*G41","v":0},null,null,null,null,"Dt=",{"$f":"N25*M41","v":0},null,null,null,null,"Dt=",{"$f":"T25*S41","v":0}]
[null,null,null,null,"Es=",{"$f":"IF(OR($F8=0,$M10=0,$M11=0,AND($W$8=0,$W$45>0),A点!$AQ$7=1),0,$G8*F58*$G12*$G11*$M7*$M8*($K11/100)*$K12/(400*($M10^2)*($M11^2)))","v":0},"μSv/3ヶ月",null,null,null,"Es=",{"$f":"IF(OR($F8=0,$M10=0,$M11=0,AND($W$20=0,$W$45>0),A点!$AQ$7=1),0,$G8*$G12*$G11*L58*$M7*$M8*($K11/100)*$K12/(400*($M10^2)*($M11^2)))","v":0},"μSv/3ヶ月",null,null,null,"Es=",{"$f":"IF(OR($F8=0,$M10=0,$M11=0,AND($W$32=0,$W$45>0),A点!$AQ$7=1),0,$G8*$G12*$G11*R58*$M7*$M8*($K11/100)*$K12/(400*($M10^2)*($M11^2)))","v":0},"μSv/3ヶ月"]
[]
[]
[null,null,null,"3)　EL：エックス線管容器からの漏洩線量(最大見積)",null,null,null,null,null,"3)　EL：エックス線管容器からの漏洩線量(最大見積)",null,null,null,null,null,"3)　EL：エックス線管容器からの漏洩線量(最大見積)"]
[]
[null,null,null,null,"EL=",{"$f":"IF(OR($F8=0,$M12=0,A点!$AQ$7=1,AND($W$8=0,$W$45>0)),0,$S17*$G11*$M13*H41*$M7*$M8/($M12^2))","v":0},"μGy/h",null,null,null,"EL=",{"$f":"IF(OR($F8=0,$M12=0,A点!$AQ$7=1,AND($W$20=0,$W$45>0)),0,$S17*$G11*$M13*N41*$M7*$M8/($M12^2))","v":0},"μGy/h",null,null,null,"EL=",{"$f":"IF(OR($F8=0,$M12=0,A点!$AQ$7=1,AND($W$32=0,$W$45>0)),0,$S17*$G11*$M13*T41*$M7*$M8/($M12^2))","v":0},"μGy/h"]
[]
[]
[null,"一般撮影",null,"①　X：空気カーマ(表1)",null,null,null,"④　使用係数",null,null,null,"Ｕ＝",1,null,null,"1)対向板による一次線の減衰(表２)",null,null,null,null,null,null,null,null,null,null,null,null,null,null,null,null,null,null,null,null,null,null,null,null,null,null,null,null,null,null,"③撮影用透過率（表2-7）"]
[null,null,null,null,"採用管電圧",{"$f":"A点!$F$68","v":0},{"$f":"A点!$G$68","v":0},"⑤　居住係数",null,null,null,"Ｔ＝",1,null,null,null,null,"等価厚さ",{"$f":"入力用シート!$AA$9","v":0},"mm",null,null,null,null,null,null,null,null,null,null,null,null,null,null,null,null,null,null,null,null,null,null,null,null,null,null,"1)直接線用"]
[null,null,null,null,"電流",{"$f":"A点!$F$69","v":0},null,"⑥　距離",null,null,null,"d1=",{"$f":"M9","v":0},"ｍ",null,null,"使用管電圧",{"$f":"A点!$AM$5","v":0},null,null,null,null,null,null,null,null,null,null,null,null,null,null,null,null,null,null,null,null,null,null,null,null,null,null,null,null,"遮蔽厚参照値"]
[null,null,null,"②　E/Ka：空気カーマ換算係数（表10）",null,null,null,"⑧　照射野400cm2空気ｶｰﾏ率表8",null,null,null,"d2=",0,"ｍ",null,null,"透過率",{"$f":"IF(A点!$AM$8=\"○\",\"\",IF(A点!$AM$8=1,\"データなし\",IF($S68>3,HLOOKUP($R69,'表２(Pb)'!$B$3:$Y$36,32+ROUNDDOWN(($S68-3)/0.5,0),0),HLOOKUP($R69,'表２(Pb)'!$B$3:$Y$36,2+S68/0.1,0))))","v":""},null,null,null,null,null,null,null,null,null,null,null,null,null,null,null,null,null,null,null,null,null,null,null,null,null,null,null,null,null,null,"H点","H'点","H\"点"]
[null,null,null,null,"採用管電圧",{"$f":"A点!$F$71","v":0},{"$f":"A点!$G$71","v":0},null,null,null,{"$f":"A点!$AM$7","v":0},"d3=",0,"ｍ",null,null,null,null,null,null,null,null,null,null,null,null,null,null,null,null,null,null,null,null,null,null,null,null,null,null,null,null,null,null,null,null,null,"Pb",{"$f":"IF($G87=0,\"\",IF($G87<=3,INT(10*$G87)/10,IF($G87>4,4,0.5*INT($G87/0.5))))","v":""},{"$f":"IF($M87=0,\"\",IF($M87<=3,INT(10*$M87)/10,IF($M87>4,4,0.5*INT($M87/0.5))))","v":""},{"$f":"IF($S87=0,\"\",IF($S87<=3,INT(10*$S87)/10,IF($S87>4,4,0.5*INT($S87/0.5))))","v":""}]
[null,null,null,"③　W：３Ｍ実効稼動負荷",null,"合計",{"$f":"13*(入力用シート!$L$26*入力用シート!$Q$26*入力用シート!$H$27*入力用シート!$L$27*入力用シート!$Q$27)","v":0},"⑨　受像面照射野",null,null,{"$f":"入力用シート!$E$16","v":1225},"d4=",0,"ｍ",null,null,null,null,null,null,null,null,null,null,null,null,null,null,null,null,null,null,null,null,null,null,null,null,null,null,null,null,null,null,null,null,null,"ｺﾝｸﾘ",{"$f":"IF($G89=0,\"\",IF($G89<=300,INT($G89/10)*10,IF($G89>400,400,50*INT($G89/50))))","v":""},{"$f":"IF($M89=0,\"\",IF($M89<=300,INT($M89/10)*10,IF($M89>400,400,50*INT($M89/50))))","v":""},{"$f":"IF($S89=0,\"\",IF($S89<=300,INT($S89/10)*10,IF($S89>400,400,50*INT($S89/50))))","v":""}]
[null,null,null,null,null,null,null,"⑩　tw：３月間における稼働時間(h)",null,null,null,null,{"$f":"IF(F69=0,0,G72/(F69*3600))","v":0},null,null,"機器の種類",null,"管容器からの空気ｶｰﾏ率（mGy/h）",null,null,null,null,null,null,null,null,null,null,null,null,null,null,null,null,null,null,null,null,null,null,null,null,null,null,null,null,null,"Fe",{"$f":"IF($G91=0,\"\",IF($G91<=30,INT($G91),IF($G91>40,40,5*INT($G91/5))))","v":""},{"$f":"IF($M91=0,\"\",IF($M91<=30,INT($M91),IF($M91>40,40,5*INT($M91/5))))","v":""},{"$f":"IF($S91=0,\"\",IF($S91<=30,INT($S91),IF($S91>40,40,5*INT($S91/5))))","v":""}]
[null,null,null,"H点の漏洩エックス線量の計算(利用線錘方向）",null,null,null,null,"H点の漏洩エックス線量の計算(被写体・管球）",null,null,null,null,null,1,"治療用ｴｯｸｽ線装置（≧50ｋV）",null,1,"選んだ機器",null,null,null,null,null,null,null,null,null,null,null,null,null,null,null,null,null,null,null,null,null,null,null,null,null,null,null,null,"石膏",{"$f":"IF($G93=0,\"\",IF($G93<=30,INT($G93),IF($G93>40,40,5*INT($G93/5))))","v":""},{"$f":"IF($M93=0,\"\",IF($M93<=30,INT($M93),IF($M93>40,40,5*INT($M93/5))))","v":""},{"$f":"IF($S93=0,\"\",IF($S93<=30,INT($S93),IF($S93>40,40,5*INT($S93/5))))","v":""}]
[null,null,null,null,"Ea=",{"$f":"MAX(F81,L81,R81)","v":0},"μSv/3ヶ月",null,null,"Es＝",{"$f":"MAX(F119,L119,R119)","v":0},"μSv/3ヶ月",null,null,2,"治療用ｴｯｸｽ線装置（＜50ｋV）",null,10,{"$f":"入力用シート!$C$7","v":0},null,null,null,null,null,null,null,null,null,null,null,null,null,null,null,null,null,null,null,null,null,null,null,null,null,null,null,null,"ｶﾞﾗｽ",{"$f":"IF($G95=0,\"\",IF($G95<=30,INT($G95),IF($G95>40,40,5*INT($G95/5))))","v":""},{"$f":"IF($M95=0,\"\",IF($M95<=30,INT($M95),IF($M95>40,40,5*INT($M95/5))))","v":""},{"$f":"IF($S95=0,\"\",IF($S95<=30,INT($S95),IF($S95>40,40,5*INT($S95/5))))","v":""}]
[null,null,null,null,null,null,null,null,null,"EL＝",{"$f":"MAX(F124,L124,R124)","v":0},"μSv/3ヶ月",null,null,3,"口内法撮影用X線装置（≦120ｋV）",null,0.25,"選ばれた空気ｶｰﾏ率XL",null,null,null,null,null,null,null,null,null,null,null,null,null,null,null,null,null,null,null,null,null,null,null,null,null,null,null,null,"木材",{"$f":"IF($G97=0,\"\",IF($G97<=300,INT($G97/10)*10,IF($G97>400,400,50*INT($G97/50))))","v":""},{"$f":"IF($M97=0,\"\",IF($M97<=300,INT($M97/10)*10,IF($M97>400,400,50*INT($M97/50))))","v":""},{"$f":"IF($S97=0,\"\",IF($S97<=300,INT($S97/10)*10,IF($S97>400,400,50*INT($S97/50))))","v":""}]
[null,null,null,null,null,null,null,null,null,"合計",{"$f":"+K75+K76","v":0},null,null,null,4,"上記以外の診断用X線装置",null,1,{"$f":"IF(S75=0,0,VLOOKUP(S75,O74:R77,4,0)*1000)","v":0}]
[null,null,null,null,null,null,null,null,null,null,null,null,null,null,null,null,null,null,null,null,null,null,null,null,null,null,null,null,null,null,null,null,null,null,null,null,null,null,null,null,null,null,null,null,null,null,"2)散乱線用"]
[null,null,null,"H点の計算",null,null,null,null,null,"H'点の計算",null,null,null,null,null,"H\"点の計算",null,null,null,null,null,null,null,null,null,null,null,null,null,null,null,null,null,null,null,null,null,null,null,null,null,null,null,null,null,null,"遮蔽厚参照値"]
[null,null,null,"1) Ep：一次エックス線（撮影方向）",null,null,null,null,null,"1) Ep：一次エックス線（撮影方向）",null,null,null,null,null,"1) Ep：一次エックス線（撮影方向）",null,null,null,null,null,null,null,null,null,null,null,null,null,null,null,null,null,null,null,null,null,null,null,null,null,null,null,null,null,null,null,null,"H点","H'点","H\"点"]
[null,null,null,"　",null,{"$f":"IF(OR($F68=0,$M69=0,A点!$AQ$7=1,AND($W$8=0,$W$45>0)),0,($G68*$R70*$G85*$F101*$G72*$G71*$M67*$M68)/($M69^2))","v":0},"μSv/3ヶ月",null,null,"　",null,{"$f":"IF(OR($F68=0,$M69=0,A点!$AQ$7=1,AND($W$20=0,$W$45>0)),0,($G68*$R70*$M85*$L101*$G72*$G71*$M67*$M68)/($M69^2))","v":0},"μSv/3ヶ月",null,null,"　",null,{"$f":"IF(OR($F68=0,$M69=0,A点!$AQ$7=1,AND($W$32=0,$W$45>0)),0,($G68*$R70*$S85*$R101*$G72*$G71*$M67*$M68)/($M69^2))","v":0},"μSv/3ヶ月",null,null,null,null,null,null,null,null,null,null,null,null,null,null,null,null,null,null,null,null,null,null,null,null,null,null,null,null,"Pb",{"$f":"IF($H87=0,\"\",IF($H87<=3,INT(10*$H87)/10,IF($H87>4,4,0.5*INT($H87/0.5))))","v":""},{"$f":"IF($N87=0,\"\",IF($N87<=3,INT(10*$N87)/10,IF($N87>4,4,0.5*INT($N87/0.5))))","v":""},{"$f":"IF($T87=0,\"\",IF($T87<=3,INT(10*$T87)/10,IF($T87>4,4,0.5*INT($T87/0.5))))","v":""}]
[null,null,null,null,null,null,null,null,null,null,null,null,null,null,null,null,null,null,null,null,null,null,null,null,null,null,null,null,null,null,null,null,null,null,null,null,null,null,null,null,null,null,null,null,null,null,null,"ｺﾝｸﾘ",{"$f":"IF($H89=0,\"\",IF($H89<=300,INT($H89/10)*10,IF($H89>400,400,50*INT($H89/50))))","v":""},{"$f":"IF($N89=0,\"\",IF($N89<=300,INT($N89/10)*10,IF($N89>400,400,50*INT($N89/50))))","v":""},{"$f":"IF($T89=0,\"\",IF($T89<=300,INT($T89/10)*10,IF($T89>400,400,50*INT($T89/50))))","v":""}]
[null,null,null,"a) 第１遮蔽材による減衰(遮蔽体がある場合透過率=1)",null,null,null,null,null,"a) 第１遮蔽材による減衰(遮蔽体がある場合透過率=1)",null,null,null,null,null,"a) 第１遮蔽材による減衰(遮蔽体がある場合透過率=1)",null,null,null,null,null,null,null,null,null,null,null,null,null,null,null,null,null,null,null,null,null,null,null,null,null,null,null,null,null,null,null,"Fe",{"$f":"IF($H91=0,\"\",IF($H91<=30,INT($H91),IF($H91>40,40,5*INT($H91/5))))","v":""},{"$f":"IF($N91=0,\"\",IF($N91<=30,INT($N91),IF($N91>40,40,5*INT($N91/5))))","v":""},{"$f":"IF($T91=0,\"\",IF($T91<=30,INT($T91),IF($T91>40,40,5*INT($T91/5))))","v":""}]
[null,null,null,null,null,"第1遮蔽材",{"$f":"IF($S$68>0,\"遮蔽体\",$W$8)","v":0},{"$f":"$W$8","v":0},null,null,null,"第1遮蔽材",{"$f":"IF($S$68>0,\"遮蔽体\",$W$20)","v":0},{"$f":"$W$20","v":0},null,null,null,"第1遮蔽材",{"$f":"IF($S$68>0,\"遮蔽体\",$W$32)","v":0},{"$f":"$W$32","v":0},null,null,null,null,null,null,null,null,null,null,null,null,null,null,null,null,null,null,null,null,null,null,null,null,null,null,null,"石膏",{"$f":"IF($H93=0,\"\",IF($H93<=30,INT($H93),IF($H93>40,40,5*INT($H93/5))))","v":""},{"$f":"IF($N93=0,\"\",IF($N93<=30,INT($N93),IF($N93>40,40,5*INT($N93/5))))","v":""},{"$f":"IF($T93=0,\"\",IF($T93<=30,INT($T93),IF($T93>40,40,5*INT($T93/5))))","v":""}]
[null,null,null,null,null,"Dt1=",{"$f":"G88*G90*G92*G94*G96*G98","v":1},{"$f":"H88*H90*H92*H94*H96*H98","v":1},null,null,null,"Dt1=",{"$f":"M88*M90*M92*M94*M96*M98","v":1},{"$f":"N88*N90*N92*N94*N96*N98","v":1},null,null,null,"Dt1=",{"$f":"S88*S90*S92*S94*S96*S98","v":1},{"$f":"T88*T90*T92*T94*T96*T98","v":1},null,null,null,null,null,null,null,null,null,null,null,null,null,null,null,null,null,null,null,null,null,null,null,null,null,null,null,"ｶﾞﾗｽ",{"$f":"IF($H95=0,\"\",IF($H95<=30,INT($H95),IF($H95>40,40,5*INT($H95/5))))","v":""},{"$f":"IF($N95=0,\"\",IF($N95<=30,INT($N95),IF($N95>40,40,5*INT($N95/5))))","v":""},{"$f":"IF($T95=0,\"\",IF($T95<=30,INT($T95),IF($T95>40,40,5*INT($T95/5))))","v":""}]
[null,null,null,null,null,null,"一次線用","散乱線用",null,null,null,null,"一次線用","散乱線用",null,null,null,null,"一次線用","散乱線用",null,null,null,null,null,null,null,null,null,null,null,null,null,null,null,null,null,null,null,null,null,null,null,null,null,null,null,"木材",{"$f":"IF($H97=0,\"\",IF($H97<=300,INT($H97/10)*10,IF($H97>400,400,50*INT($H97/50))))","v":""},{"$f":"IF($N97=0,\"\",IF($N97<=300,INT($N97/10)*10,IF($N97>400,400,50*INT($N97/50))))","v":""},{"$f":"IF($T97=0,\"\",IF($T97<=300,INT($T97/10)*10,IF($T97>400,400,50*INT($T97/50))))","v":""}]
[null,null,null,"a)　鉛(表2)",null,"等価厚さ",{"$f":"IF($G84=$W$10,$W$9*$AE$8,0)","v":0},{"$f":"IF($H84=$W$10,$W$9*$AE$8,0)","v":0},null,"a)　鉛(表2)",null,"等価厚さ",{"$f":"IF($M84=$W$22,$W$21*$AE$8,0)","v":0},{"$f":"IF($N84=$W$22,$W$21*$AE$8,0)","v":0},null,"a)　鉛(表2)",null,"等価厚さ",{"$f":"IF($S84=$W$34,$W$33*$AE$8,0)","v":0},{"$f":"IF($T84=$W$34,$W$33*$AE$8,0)","v":0}]
[null,null,null,null,null,"透過率",{"$f":"IF(OR($G87=0,A点!$AM$8=1,A点!$AM$8=\"○\"),1,INDEX('表２(Pb)'!$A$3:$Y$36,MATCH($AW71,'表２(Pb)'!$A$3:$A$36,0),MATCH($F68,'表２(Pb)'!$A$3:$Y$3,0)))","v":1},{"$f":"IF(OR($H87=0,A点!$AM$8=1,A点!$AM$8=\"○\"),1,INDEX('表２(Pb)'!$A$3:$Y$36,MATCH($AW81,'表２(Pb)'!$A$3:$A$36,0),MATCH($F68,'表２(Pb)'!$A$3:$Y$3,0)))","v":1},null,null,null,"透過率",{"$f":"IF(OR($M87=0,A点!$AM$8=1,A点!$AM$8=\"○\"),1,INDEX('表２(Pb)'!$A$3:$Y$36,MATCH($AX71,'表２(Pb)'!$A$3:$A$36,0),MATCH($F68,'表２(Pb)'!$A$3:$Y$3,0)))","v":1},{"$f":"IF(OR($N87=0,A点!$AM$8=1,A点!$AM$8=\"○\"),1,INDEX('表２(Pb)'!$A$3:$Y$36,MATCH($AX81,'表２(Pb)'!$A$3:$A$36,0),MATCH($F68,'表２(Pb)'!$A$3:$Y$3,0)))","v":1},null,null,null,"透過率",{"$f":"IF(OR($S87=0,A点!$AM$8=1,A点!$AM$8=\"○\"),1,INDEX('表２(Pb)'!$A$3:$Y$36,MATCH($AY71,'表２(Pb)'!$A$3:$A$36,0),MATCH($F68,'表２(Pb)'!$A$3:$Y$3,0)))","v":1},{"$f":"IF(OR($T87=0,A点!$AM$8=1,A点!$AM$8=\"○\"),1,INDEX('表２(Pb)'!$A$3:$Y$36,MATCH($AY81,'表２(Pb)'!$A$3:$A$36,0),MATCH($F68,'表２(Pb)'!$A$3:$Y$3,0)))","v":1},null,null,null,null,null,null,null,null,null,null,null,null,null,null,null,null,null,null,null,null,null,null,null,null,null,null,"3)","遮蔽材順"]
[null,null,null,"b)　コンクリート(表3)",null,"等価厚さ",{"$f":"IF($G84=$X$10,$W$9*$AE$9,0)","v":0},{"$f":"IF($H84=$X$10,$W$9*$AE$9,0)","v":0},null,"b)　コンクリート(表3)",null,"等価厚さ",{"$f":"IF($M84=$X$22,$W$21*$AE$9,0)","v":0},{"$f":"IF($N84=$X$22,$W$21*$AE$9,0)","v":0},null,"b)　コンクリート(表3)",null,"等価厚さ",{"$f":"IF($S84=$X$34,$W$33*$AE$9,0)","v":0},{"$f":"IF($T84=$X$34,$W$33*$AE$9,0)","v":0},null,null,null,null,null,null,null,null,null,null,null,null,null,null,null,null,null,null,null,null,null,null,null,null,null,null,null,null,"H点","H'点","H\"点"]
[null,null,null,null,null,"透過率",{"$f":"IF(OR($G89=0,A点!$AM$8=1,A点!$AM$8=\"○\"),1,INDEX('表３(コ)'!$A$3:$Y$36,MATCH($AW72,'表３(コ)'!$A$3:$A$36,0),MATCH($F68,'表３(コ)'!$A$3:$Y$3,0)))","v":1},{"$f":"IF(OR($H89=0,A点!$AM$8=1,A点!$AM$8=\"○\"),1,INDEX('表３(コ)'!$A$3:$Y$36,MATCH($AW82,'表３(コ)'!$A$3:$A$36,0),MATCH($F68,'表３(コ)'!$A$3:$Y$3,0)))","v":1},null,null,null,"透過率",{"$f":"IF(OR($M89=0,A点!$AM$8=1,A点!$AM$8=\"○\"),1,INDEX('表３(コ)'!$A$3:$Y$36,MATCH($AX72,'表３(コ)'!$A$3:$A$36,0),MATCH($F68,'表３(コ)'!$A$3:$Y$3,0)))","v":1},{"$f":"IF(OR($N89=0,A点!$AM$8=1,A点!$AM$8=\"○\"),1,INDEX('表３(コ)'!$A$3:$Y$36,MATCH($AX82,'表３(コ)'!$A$3:$A$36,0),MATCH($F68,'表３(コ)'!$A$3:$Y$3,0)))","v":1},null,null,null,"透過率",{"$f":"IF(OR($S89=0,A点!$AM$8=1,A点!$AM$8=\"○\"),1,INDEX('表３(コ)'!$A$3:$Y$36,MATCH($AY72,'表３(コ)'!$A$3:$A$36,0),MATCH($F68,'表３(コ)'!$A$3:$Y$3,0)))","v":1},{"$f":"IF(OR($T89=0,A点!$AM$8=1,A点!$AM$8=\"○\"),1,INDEX('表３(コ)'!$A$3:$Y$36,MATCH($AY82,'表３(コ)'!$A$3:$A$36,0),MATCH($F68,'表３(コ)'!$A$3:$Y$3,0)))","v":1},null,null,null,null,null,null,null,null,null,null,null,null,null,null,null,null,null,null,null,null,null,null,null,null,null,null,null,"第1遮蔽材",{"$f":"IF($AW100=\"11\",G$84,H$84)","v":0},{"$f":"IF($AW100=\"11\",M$84,N$84)","v":0},{"$f":"IF($AW100=\"11\",S$84,T$84)","v":0}]
[null,null,null,"c)　鉄(表4)",null,"等価厚さ",{"$f":"IF($G84=$Y$10,$W$9*$AE$10,0)","v":0},{"$f":"IF($H84=$Y$10,$W$9*$AE$10,0)","v":0},null,"c)　鉄(表4)",null,"等価厚さ",{"$f":"IF($M84=$Y$22,$W$21*$AE$10,0)","v":0},{"$f":"IF($N84=$Y$22,$W$21*$AE$10,0)","v":0},null,"c)　鉄(表4)",null,"等価厚さ",{"$f":"IF($S84=$Y$34,$W$33*$AE$10,0)","v":0},{"$f":"IF($T84=$Y$34,$W$33*$AE$10,0)","v":0},null,null,null,null,null,null,null,null,null,null,null,null,null,null,null,null,null,null,null,null,null,null,null,null,null,null,null,"第2遮蔽材",{"$f":"IF($AW100=\"11\",W$8,X$8)","v":0},{"$f":"IF($AW100=\"11\",W$20,X$20)","v":0},{"$f":"IF($AW100=\"11\",W$32,X$32)","v":0}]
[null,null,null,null,null,"透過率",{"$f":"IF(OR($G91=0,A点!$AM$8=1,A点!$AM$8=\"○\"),1,INDEX('表4(Fe)'!$A$3:$Y$36,MATCH($AW73,'表4(Fe)'!$A$3:$A$36,0),MATCH($F68,'表4(Fe)'!$A$3:$Y$3,0)))","v":1},{"$f":"IF(OR($H91=0,A点!$AM$8=1,A点!$AM$8=\"○\"),1,INDEX('表4(Fe)'!$A$3:$Y$36,MATCH($AW83,'表4(Fe)'!$A$3:$A$36,0),MATCH($F68,'表4(Fe)'!$A$3:$Y$3,0)))","v":1},null,null,null,"透過率",{"$f":"IF(OR($M91=0,A点!$AM$8=1,A点!$AM$8=\"○\"),1,INDEX('表4(Fe)'!$A$3:$Y$36,MATCH($AX73,'表4(Fe)'!$A$3:$A$36,0),MATCH($F68,'表4(Fe)'!$A$3:$Y$3,0)))","v":1},{"$f":"IF(OR($N91=0,A点!$AM$8=1,A点!$AM$8=\"○\"),1,INDEX('表4(Fe)'!$A$3:$Y$36,MATCH($AX83,'表4(Fe)'!$A$3:$A$36,0),MATCH($F68,'表4(Fe)'!$A$3:$Y$3,0)))","v":1},null,null,null,"透過率",{"$f":"IF(OR($S91=0,A点!$AM$8=1,A点!$AM$8=\"○\"),1,INDEX('表4(Fe)'!$A$3:$Y$36,MATCH($AY73,'表4(Fe)'!$A$3:$A$36,0),MATCH($F68,'表4(Fe)'!$A$3:$Y$3,0)))","v":1},{"$f":"IF(OR($T91=0,A点!$AM$8=1,A点!$AM$8=\"○\"),1,INDEX('表4(Fe)'!$A$3:$Y$36,MATCH($AY83,'表4(Fe)'!$A$3:$A$36,0),MATCH($F68,'表4(Fe)'!$A$3:$Y$3,0)))","v":1},null,null,null,null,null,null,null,null,null,null,null,null,null,null,null,null,null,null,null,null,null,null,null,null,null,null,null,"第3遮蔽材",{"$f":"IF($AW100=\"11\",X$8,Y$8)","v":0},{"$f":"IF($AW100=\"11\",X$20,Y$20)","v":0},{"$f":"IF($AW100=\"11\",X$32,Y$32)","v":0}]
[null,null,null,"d)　石膏(表5)",null,"等価厚さ",{"$f":"IF($G84=$Z$10,$W$9*$AE$11,0)","v":0},{"$f":"IF($H84=$Z$10,$W$9*$AE$11,0)","v":0},null,"d)　石膏(表5)",null,"等価厚さ",{"$f":"IF($M84=$Z$22,$W$21*$AE$11,0)","v":0},{"$f":"IF($N84=$Z$22,$W$21*$AE$11,0)","v":0},null,"d)　石膏(表5)",null,"等価厚さ",{"$f":"IF($S84=$Z$34,$W$33*$AE$11,0)","v":0},{"$f":"IF($T84=$Z$34,$W$33*$AE$11,0)","v":0},null,null,null,null,null,null,null,null,null,null,null,null,null,null,null,null,null,null,null,null,null,null,null,null,null,null,null,"第4遮蔽材",{"$f":"IF($AW100=\"11\",Y$8,Z$8)","v":0},{"$f":"IF($AW100=\"11\",Y$20,Z$20)","v":0},{"$f":"IF($AW100=\"11\",Y$32,Z$32)","v":0}]
[null,null,null,null,null,"透過率",{"$f":"IF(OR($G93=0,A点!$AM$8=1,A点!$AM$8=\"○\"),1,INDEX('表5(CaSO4)'!$A$3:$Y$36,MATCH($AW74,'表5(CaSO4)'!$A$3:$A$36,0),MATCH($F68,'表5(CaSO4)'!$A$3:$Y$3,0)))","v":1},{"$f":"IF(OR($H93=0,A点!$AM$8=1,A点!$AM$8=\"○\"),1,INDEX('表5(CaSO4)'!$A$3:$Y$36,MATCH($AW84,'表5(CaSO4)'!$A$3:$A$36,0),MATCH($F68,'表5(CaSO4)'!$A$3:$Y$3,0)))","v":1},null,null,null,"透過率",{"$f":"IF(OR($M93=0,A点!$AM$8=1,A点!$AM$8=\"○\"),1,INDEX('表5(CaSO4)'!$A$3:$Y$36,MATCH($AX74,'表5(CaSO4)'!$A$3:$A$36,0),MATCH($F68,'表5(CaSO4)'!$A$3:$Y$3,0)))","v":1},{"$f":"IF(OR($N93=0,A点!$AM$8=1,A点!$AM$8=\"○\"),1,INDEX('表5(CaSO4)'!$A$3:$Y$36,MATCH($AX84,'表5(CaSO4)'!$A$3:$A$36,0),MATCH($F68,'表5(CaSO4)'!$A$3:$Y$3,0)))","v":1},null,null,null,"透過率",{"$f":"IF(OR($S93=0,A点!$AM$8=1,A点!$AM$8=\"○\"),1,INDEX('表5(CaSO4)'!$A$3:$Y$36,MATCH($AY74,'表5(CaSO4)'!$A$3:$A$36,0),MATCH($F68,'表5(CaSO4)'!$A$3:$Y$3,0)))","v":1},{"$f":"IF(OR($T93=0,A点!$AM$8=1,A点!$AM$8=\"○\"),1,INDEX('表5(CaSO4)'!$A$3:$Y$36,MATCH($AY84,'表5(CaSO4)'!$A$3:$A$36,0),MATCH($F68,'表5(CaSO4)'!$A$3:$Y$3,0)))","v":1},null,null,null,null,null,null,null,null,null,null,null,null,null,null,null,null,null,null,null,null,null,null,null,null,null,null,null,"第5遮蔽材",{"$f":"IF($AW100=\"11\",Z$8,AA$8)","v":0},{"$f":"IF($AW100=\"11\",Z$20,AA$20)","v":0},{"$f":"IF($AW100=\"11\",Z$32,AA$32)","v":0}]
[null,null,null,"e）　ガラス(表6)",null,"等価厚さ",{"$f":"IF($G84=$AA$10,$W$9*$AE$12,0)","v":0},{"$f":"IF($H84=$AA$10,$W$9*$AE$12,0)","v":0},null,"e）　ガラス(表6)",null,"等価厚さ",{"$f":"IF($M84=$AA$22,$W$21*$AE$12,0)","v":0},{"$f":"IF($N84=$AA$22,$W$21*$AE$12,0)","v":0},null,"e）　ガラス(表6)",null,"等価厚さ",{"$f":"IF($S84=$AA$34,$W$33*$AE$12,0)","v":0},{"$f":"IF($T84=$AA$34,$W$33*$AE$12,0)","v":0},null,null,null,null,null,null,null,null,null,null,null,null,null,null,null,null,null,null,null,null,null,null,null,null,null,null,null,"第6遮蔽材",{"$f":"IF($AW100=\"11\",AA$8,AB$8)","v":0},{"$f":"IF($AW100=\"11\",AA$20,AB$20)","v":0},{"$f":"IF($AW100=\"11\",AA$32,AB$32)","v":0}]
[null,null,null,null,null,"透過率",{"$f":"IF(OR($G95=0,A点!$AM$8=1,A点!$AM$8=\"○\"),1,INDEX('表6(SiO2)'!$A$3:$Y$36,MATCH($AW75,'表6(SiO2)'!$A$3:$A$36,0),MATCH($F68,'表6(SiO2)'!$A$3:$Y$3,0)))","v":1},{"$f":"IF(OR($H95=0,A点!$AM$8=1,A点!$AM$8=\"○\"),1,INDEX('表6(SiO2)'!$A$3:$Y$36,MATCH($AW85,'表6(SiO2)'!$A$3:$A$36,0),MATCH($F68,'表6(SiO2)'!$A$3:$Y$3,0)))","v":1},null,null,null,"透過率",{"$f":"IF(OR($M95=0,A点!$AM$8=1,A点!$AM$8=\"○\"),1,INDEX('表6(SiO2)'!$A$3:$Y$36,MATCH($AX75,'表6(SiO2)'!$A$3:$A$36,0),MATCH($F68,'表6(SiO2)'!$A$3:$Y$3,0)))","v":1},{"$f":"IF(OR($N95=0,A点!$AM$8=1,A点!$AM$8=\"○\"),1,INDEX('表6(SiO2)'!$A$3:$Y$36,MATCH($AX85,'表6(SiO2)'!$A$3:$A$36,0),MATCH($F68,'表6(SiO2)'!$A$3:$Y$3,0)))","v":1},null,null,null,"透過率",{"$f":"IF(OR($S95=0,A点!$AM$8=1,A点!$AM$8=\"○\"),1,INDEX('表6(SiO2)'!$A$3:$Y$36,MATCH($AY75,'表6(SiO2)'!$A$3:$A$36,0),MATCH($F68,'表6(SiO2)'!$A$3:$Y$3,0)))","v":1},{"$f":"IF(OR($T95=0,A点!$AM$8=1,A点!$AM$8=\"○\"),1,INDEX('表6(SiO2)'!$A$3:$Y$36,MATCH($AY85,'表6(SiO2)'!$A$3:$A$36,0),MATCH($F68,'表6(SiO2)'!$A$3:$Y$3,0)))","v":1},null,null,null,null,null,null,null,null,null,null,null,null,null,null,null,null,null,null,null,null,null,null,null,null,null,null,null,"第7遮蔽材",{"$f":"IF($AW100=\"11\",AB$8,\"\")","v":""},{"$f":"IF($AW100=\"11\",AB$20,\"\")","v":""},{"$f":"IF($AW100=\"11\",AB$32,\"\")","v":""}]
[null,null,null,"f)　木材(表7)",null,"等価厚さ",{"$f":"IF($G84=$AB$10,$W$9*$AE$13,0)","v":0},{"$f":"IF($H84=$AB$10,$W$9*$AE$13,0)","v":0},null,"f)　木材(表7)",null,"等価厚さ",{"$f":"IF($M84=$AB$22,$W$21*$AE$13,0)","v":0},{"$f":"IF($N84=$AB$22,$W$21*$AE$13,0)","v":0},null,"f)　木材(表7)",null,"等価厚さ",{"$f":"IF($S84=$AB$34,$W$33*$AE$13,0)","v":0},{"$f":"IF($T84=$AB$34,$W$33*$AE$13,0)","v":0}]
[null,null,null,null,null,"透過率",{"$f":"IF(OR($G97=0,A点!$AM$8=1,A点!$AM$8=\"○\"),1,INDEX('表7(木)'!$A$3:$Y$36,MATCH($AW76,'表7(木)'!$A$3:$A$36,0),MATCH($F68,'表7(木)'!$A$3:$Y$3,0)))","v":1},{"$f":"IF(OR($H97=0,A点!$AM$8=1,A点!$AM$8=\"○\"),1,INDEX('表7(木)'!$A$3:$Y$36,MATCH($AW86,'表7(木)'!$A$3:$A$36,0),MATCH($F68,'表7(木)'!$A$3:$Y$3,0)))","v":1},null,null,null,"透過率",{"$f":"IF(OR($M97=0,A点!$AM$8=1,A点!$AM$8=\"○\"),1,INDEX('表7(木)'!$A$3:$Y$36,MATCH($AX76,'表7(木)'!$A$3:$A$36,0),MATCH($F68,'表7(木)'!$A$3:$Y$3,0)))","v":1},{"$f":"IF(OR($N97=0,A点!$AM$8=1,A点!$AM$8=\"○\"),1,INDEX('表7(木)'!$A$3:$Y$36,MATCH($AX86,'表7(木)'!$A$3:$A$36,0),MATCH($F68,'表7(木)'!$A$3:$Y$3,0)))","v":1},null,null,null,"透過率",{"$f":"IF(OR($S97=0,A点!$AM$8=1,A点!$AM$8=\"○\"),1,INDEX('表7(木)'!$A$3:$Y$36,MATCH($AY76,'表7(木)'!$A$3:$A$36,0),MATCH($F68,'表7(木)'!$A$3:$Y$3,0)))","v":1},{"$f":"IF(OR($T97=0,A点!$AM$8=1,A点!$AM$8=\"○\"),1,INDEX('表7(木)'!$A$3:$Y$36,MATCH($AY86,'表7(木)'!$A$3:$A$36,0),MATCH($F68,'表7(木)'!$A$3:$Y$3,0)))","v":1},null,null,null,null,null,null,null,null,null,null,null,null,null,null,null,null,null,null,null,null,null,null,null,null,null,null,null,"遮蔽体有無",{"$f":"IF($S68>0,1,0)","v":0},"遮蔽体有：１"]
[null,null,null,null,null,null,null,null,null,null,null,null,null,null,null,null,null,null,null,null,null,null,null,null,null,null,null,null,null,null,null,null,null,null,null,null,null,null,null,null,null,null,null,null,null,null,null,"照射方向",{"$f":"IF($M69>0,1,2)","v":2},"直接線：1、散乱線：2"]
[null,null,null,"b)　第２遮蔽材以後による一次線の減衰表9",null,null,null,null,null,"b)　第２遮蔽材以後による一次線の減衰表9",null,null,null,null,null,"b)　第２遮蔽材以後による一次線の減衰表9",null,null,null,null,null,null,null,null,null,null,null,null,null,null,null,null,null,null,null,null,null,null,null,null,null,null,null,null,null,null,null,"判定コード",{"$f":"AW98&AW99","v":"02"}]
[null,null,null,null,"Dt2=",{"$f":"F104*F106*F108*F110*F112*F114","v":0},{"$f":"G104*G106*G108*G110*G112*G114","v":0},0,null,null,"Dt2=",{"$f":"L104*L106*L108*L110*L112*L114","v":0},{"$f":"M104*M106*M108*M110*M112*M114","v":0},0,null,null,"Dt2=",{"$f":"R104*R106*R108*R110*R112*R114","v":0},{"$f":"S104*S106*S108*S110*S112*S114","v":0},0]
[null,null,null,null,null,"一次線用","散乱線用","漏洩線用",null,null,null,"一次線用","散乱線用","漏洩線用",null,null,null,"一次線用","散乱線用","漏洩線用"]
[null,null,null,"a)　鉛(表9)","半価層(mm)",{"$f":"IF(OR(A点!$AM$8=1,A点!$AM$8=\"○\"),\"\",VLOOKUP($F68,'表9(BB)'!$A$4:$M$27,2,0))","v":""},null,null,null,"a)　鉛(表9)","半価層(mm)",{"$f":"IF(OR(A点!$AM$8=1,A点!$AM$8=\"○\"),\"\",VLOOKUP($F68,'表9(BB)'!$A$4:$M$27,2,0))","v":""},null,null,null,"a)　鉛(表9)","半価層(mm)",{"$f":"IF(OR(A点!$AM$8=1,A点!$AM$8=\"○\"),\"\",VLOOKUP($F68,'表9(BB)'!$A$4:$M$27,2,0))","v":""}]
[null,null,null,null,"透過率",{"$f":"IF($S$68>0,$H104,$G104)","v":0},{"$f":"IF($F103=\"\",0,(1/2)^($W18*$AE$8/$F103))","v":0},{"$f":"IF($F103=\"\",0,(1/2)^($W17*$AE$8/$F103))","v":0},null,null,"透過率",{"$f":"IF($S$68>0,$N104,$M104)","v":0},{"$f":"IF($L103=\"\",0,(1/2)^($W30*$AE$8/$L103))","v":0},{"$f":"IF($L103=\"\",0,(1/2)^($W29*$AE$8/$L103))","v":0},null,null,"透過率",{"$f":"IF($S$68>0,$T104,$S104)","v":0},{"$f":"IF($R103=\"\",0,(1/2)^($W42*$AE$8/$R103))","v":0},{"$f":"IF($R103=\"\",0,(1/2)^($W41*$AE$8/$R103))","v":0}]
[null,null,null,"b)　コンクリート(表9)","半価層(mm)",{"$f":"IF(OR(A点!$AM$8=1,A点!$AM$8=\"○\"),\"\",VLOOKUP($F68,'表9(BB)'!$A$4:$M$27,4,0))","v":""},null,null,null,"b)　コンクリート(表9)","半価層(mm)",{"$f":"IF(OR(A点!$AM$8=1,A点!$AM$8=\"○\"),\"\",VLOOKUP($F68,'表9(BB)'!$A$4:$M$27,4,0))","v":""},null,null,null,"b)　コンクリート(表9)","半価層(mm)",{"$f":"IF(OR(A点!$AM$8=1,A点!$AM$8=\"○\"),\"\",VLOOKUP($F68,'表9(BB)'!$A$4:$M$27,4,0))","v":""}]
[null,null,null,null,"透過率",{"$f":"IF($S$68>0,$H106,$G106)","v":0},{"$f":"IF($F105=\"\",0,(1/2)^($X18*$AE$9/$F105))","v":0},{"$f":"IF($F105=\"\",0,(1/2)^($X17*$AE$9/$F105))","v":0},null,null,"透過率",{"$f":"IF($S$68>0,$N106,$M106)","v":0},{"$f":"IF($L105=\"\",0,(1/2)^($X30*$AE$9/$L105))","v":0},{"$f":"IF($L105=\"\",0,(1/2)^($X29*$AE$9/$L105))","v":0},null,null,"透過率",{"$f":"IF($S$68>0,$T106,$S106)","v":0},{"$f":"IF($R105=\"\",0,(1/2)^($X42*$AE$9/$R105))","v":0},{"$f":"IF($R105=\"\",0,(1/2)^($X41*$AE$9/$R105))","v":0}]
[null,null,null,"c)　鉄(表9)","半価層(mm)",{"$f":"IF(OR(A点!$AM$8=1,A点!$AM$8=\"○\"),\"\",VLOOKUP($F68,'表9(BB)'!$A$4:$M$27,6,0))","v":""},null,null,null,"c)　鉄(表9)","半価層(mm)",{"$f":"IF(OR(A点!$AM$8=1,A点!$AM$8=\"○\"),\"\",VLOOKUP($F68,'表9(BB)'!$A$4:$M$27,6,0))","v":""},null,null,null,"c)　鉄(表9)","半価層(mm)",{"$f":"IF(OR(A点!$AM$8=1,A点!$AM$8=\"○\"),\"\",VLOOKUP($F68,'表9(BB)'!$A$4:$M$27,6,0))","v":""}]
[null,null,null,null,"透過率",{"$f":"IF($S$68>0,$H108,$G108)","v":0},{"$f":"IF($F107=\"\",0,(1/2)^($Y18*$AE$10/$F107))","v":0},{"$f":"IF($F107=\"\",0,(1/2)^($Y17*$AE$10/$F107))","v":0},null,null,"透過率",{"$f":"IF($S$68>0,$N108,$M108)","v":0},{"$f":"IF($L107=\"\",0,(1/2)^($Y30*$AE$10/$L107))","v":0},{"$f":"IF($L107=\"\",0,(1/2)^($Y29*$AE$10/$L107))","v":0},null,null,"透過率",{"$f":"IF($S$68>0,$T108,$S108)","v":0},{"$f":"IF($R107=\"\",0,(1/2)^($Y42*$AE$10/$R107))","v":0},{"$f":"IF($R107=\"\",0,(1/2)^($Y41*$AE$10/$R107))","v":0}]
[null,null,null,"d)　石膏(表9)","半価層(mm)",{"$f":"IF(OR(A点!$AM$8=1,A点!$AM$8=\"○\"),\"\",VLOOKUP($F68,'表9(BB)'!$A$4:$M$27,8,0))","v":""},null,null,null,"d)　石膏(表9)","半価層(mm)",{"$f":"IF(OR(A点!$AM$8=1,A点!$AM$8=\"○\"),\"\",VLOOKUP($F68,'表9(BB)'!$A$4:$M$27,8,0))","v":""},null,null,null,"d)　石膏(表9)","半価層(mm)",{"$f":"IF(OR(A点!$AM$8=1,A点!$AM$8=\"○\"),\"\",VLOOKUP($F68,'表9(BB)'!$A$4:$M$27,8,0))","v":""}]
[null,null,null,null,"透過率",{"$f":"IF($S$68>0,$H110,$G110)","v":0},{"$f":"IF($F109=\"\",0,(1/2)^($Z18*$AE$11/$F109))","v":0},{"$f":"IF($F109=\"\",0,(1/2)^($Z17*$AE$11/$F109))","v":0},null,null,"透過率",{"$f":"IF($S$68>0,$N110,$M110)","v":0},{"$f":"IF($L109=\"\",0,(1/2)^($Z30*$AE$11/$L109))","v":0},{"$f":"IF($L109=\"\",0,(1/2)^($Z29*$AE$11/$L109))","v":0},null,null,"透過率",{"$f":"IF($S$68>0,$T110,$S110)","v":0},{"$f":"IF($R109=\"\",0,(1/2)^($Z42*$AE$11/$R109))","v":0},{"$f":"IF($R109=\"\",0,(1/2)^($Z41*$AE$11/$R109))","v":0}]
[null,null,null,"e）　ガラス(表9)","半価層(mm)",{"$f":"IF(OR(A点!$AM$8=1,A点!$AM$8=\"○\"),\"\",VLOOKUP($F68,'表9(BB)'!$A$4:$M$27,10,0))","v":""},null,null,null,"e）　ガラス(表9)","半価層(mm)",{"$f":"IF(OR(A点!$AM$8=1,A点!$AM$8=\"○\"),\"\",VLOOKUP($F68,'表9(BB)'!$A$4:$M$27,10,0))","v":""},null,null,null,"e）　ガラス(表9)","半価層(mm)",{"$f":"IF(OR(A点!$AM$8=1,A点!$AM$8=\"○\"),\"\",VLOOKUP($F68,'表9(BB)'!$A$4:$M$27,10,0))","v":""}]
[null,null,null,null,"透過率",{"$f":"IF($S$68>0,$H112,$G112)","v":0},{"$f":"IF($F111=\"\",0,(1/2)^($AA18*$AE$12/$F111))","v":0},{"$f":"IF($F111=\"\",0,(1/2)^($AA17*$AE$12/$F111))","v":0},null,null,"透過率",{"$f":"IF($S$68>0,$N112,$M112)","v":0},{"$f":"IF($L111=\"\",0,(1/2)^($AA30*$AE$12/$L111))","v":0},{"$f":"IF($L111=\"\",0,(1/2)^($AA29*$AE$12/$L111))","v":0},null,null,"透過率",{"$f":"IF($S$68>0,$T112,$S112)","v":0},{"$f":"IF($R111=\"\",0,(1/2)^($AA42*$AE$12/$R111))","v":0},{"$f":"IF($R111=\"\",0,(1/2)^($AA41*$AE$12/$R111))","v":0}]
[null,null,null,"f)　木材(表9)","半価層(mm)",{"$f":"IF(OR(A点!$AM$8=1,A点!$AM$8=\"○\"),\"\",VLOOKUP($F68,'表9(BB)'!$A$4:$M$27,12,0))","v":""},null,null,null,"f)　木材(表9)","半価層(mm)",{"$f":"IF(OR(A点!$AM$8=1,A点!$AM$8=\"○\"),\"\",VLOOKUP($F68,'表9(BB)'!$A$4:$M$27,12,0))","v":""},null,null,null,"f)　木材(表9)","半価層(mm)",{"$f":"IF(OR(A点!$AM$8=1,A点!$AM$8=\"○\"),\"\",VLOOKUP($F68,'表9(BB)'!$A$4:$M$27,12,0))","v":""}]
[null,null,null,null,"透過率",{"$f":"IF($S$68>0,$H114,$G114)","v":0},{"$f":"IF($F113=\"\",0,(1/2)^($AB18*$AE$13/$F113))","v":0},{"$f":"IF($F113=\"\",0,(1/2)^($AB17*$AE$13/$F113))","v":0},null,null,"透過率",{"$f":"IF($S$68>0,$N114,$M114)","v":0},{"$f":"IF(L113=\"\",0,(1/2)^($AB30*$AE$13/$L113))","v":0},{"$f":"IF($L113=\"\",0,(1/2)^($AB29*$AE$13/$L113))","v":0},null,null,"透過率",{"$f":"IF($S$68>0,$T114,$S114)","v":0},{"$f":"IF($R113=\"\",0,(1/2)^($AB42*$AE$13/$R113))","v":0},{"$f":"IF($R113=\"\",0,(1/2)^($AB41*$AE$13/$R113))","v":0}]
[]
[]
[null,null,null,"2)　Es：散乱エックス線の漏洩線量(散乱角90度)",null,null,null,null,null,"2)　Es：散乱エックス線の漏洩線量(散乱角90度)",null,null,null,null,null,"2)　Es：散乱エックス線の漏洩線量(散乱角90度)"]
[null,null,null,null,"Dt=",{"$f":"H85*G101","v":0},null,null,null,null,"Dt=",{"$f":"N85*M101","v":0},null,null,null,null,"Dt=",{"$f":"T85*S101","v":0}]
[null,null,null,null,"Es=",{"$f":"IF(OR($F68=0,$M70=0,$M71=0,AND($W$8=0,$W$45>0),A点!$AQ$7=1),0,$G68*$G72*$G71*F118*$M67*$M68*($K71/100)*$K72/(400*($M70^2)*($M71^2)))","v":0},"μSv/3ヶ月",null,null,null,"Es=",{"$f":"IF(OR($F68=0,$M70=0,$M71=0,AND($W$20=0,$W$45>0),A点!$AQ$7=1),0,$G68*$G72*$G71*L118*$M67*$M68*($K71/100)*$K72/(400*($M70^2)*($M71^2)))","v":0},"μSv/3ヶ月",null,null,null,"Es=",{"$f":"IF(OR($F68=0,$M70=0,$M71=0,AND($W$32=0,$W$45>0),A点!$AQ$7=1),0,$G68*$G72*$G71*R118*$M67*$M68*($K71/100)*$K72/(400*($M70^2)*($M71^2)))","v":0},"μSv/3ヶ月"]
[]
[]
[null,null,null,"3)　EL：エックス線管容器からの漏洩線量(最大見積)",null,null,null,null,null,"3)　EL：エックス線管容器からの漏洩線量(最大見積)",null,null,null,null,null,"3)　EL：エックス線管容器からの漏洩線量(最大見積)"]
[]
[null,null,null,null,"EL=",{"$f":"IF(OR($F68=0,$M72=0,AND($W$8=0,$W$45>0),A点!$AQ$7=1),0,$S77*$G71*$M73*H101*$M67*$M68/($M72^2))","v":0},"μGy/h",null,null,null,"EL=",{"$f":"IF(OR($F68=0,$M72=0,AND($W$20=0,$W$45>0),A点!$AQ$7=1),0,$S77*$G71*$M73*N101*$M67*$M68/($M72^2))","v":0},"μGy/h",null,null,null,"EL=",{"$f":"IF(OR($F68=0,$F68=0,$M72=0,AND($W$32=0,$W$45>0)),0,$S77*$G71*$M73*T101*$M67*$M68/($M72^2))","v":0},"μGy/h"]
[]
[]
[null,"CT撮影",null,"①　X：空気カーマ(表1)",null,null,null,"④　使用係数",null,null,null,"Ｕ＝",1,null,null,"1)対向板による一次線の減衰(表２)",null,null,null,null,null,null,null,null,null,null,null,null,null,null,null,null,null,null,null,null,null,null,null,null,null,null,null,null,null,null,"③CT用透過率（表2-7）"]
[null,null,null,null,"使用管電圧",{"$f":"A点!$F$128","v":0},{"$f":"A点!$G$128","v":0},"⑤　居住係数",null,null,null,"Ｔ＝",1,null,null,null,null,"等価厚さ",{"$f":"入力用シート!$AA$10","v":0},"mm",null,null,null,null,null,null,null,null,null,null,null,null,null,null,null,null,null,null,null,null,null,null,null,null,null,null,"1)直接線用"]
[null,null,null,null,"電流",{"$f":"A点!$F$129","v":0},null,"⑥　距離",null,null,null,"d1=",{"$f":"M9","v":0},"ｍ",null,null,"使用管電圧",{"$f":"A点!$AN$5","v":0},null,null,null,null,null,null,null,null,null,null,null,null,null,null,null,null,null,null,null,null,null,null,null,null,null,null,null,null,"遮蔽厚参照値"]
[null,null,null,"②　E/Ka：空気カーマ換算係数（表10）",null,null,null,"⑧　照射野400cm2空気ｶｰﾏ率表8",null,null,null,"d2=",{"$f":"M10","v":0},"ｍ",null,null,"透過率",{"$f":"IF(A点!$AN$8=\"○\",\"\",IF(A点!$AN$8=1,\"データなし\",IF($S128>3,HLOOKUP($R129,'表２(Pb)'!$B$3:$Y$36,32+ROUNDDOWN(($S128-3)/0.5,0),0),HLOOKUP($R129,'表２(Pb)'!$B$3:$Y$36,2+S128/0.1,0))))","v":""},null,null,null,null,null,null,null,null,null,null,null,null,null,null,null,null,null,null,null,null,null,null,null,null,null,null,null,null,null,null,"H点","H'点","H\"点"]
[null,null,null,null,"使用管電圧",{"$f":"A点!$F$131","v":0},{"$f":"A点!$G$131","v":0},null,null,null,{"$f":"A点!$AN$7","v":0},"d3=",0,"ｍ",null,null,null,null,null,null,null,null,null,null,null,null,null,null,null,null,null,null,null,null,null,null,null,null,null,null,null,null,null,null,null,null,null,"Pb",{"$f":"IF($G147=0,\"\",IF($G147<=3,INT(10*$G147)/10,IF($G147>4,4,0.5*INT($G147/0.5))))","v":""},{"$f":"IF($M147=0,\"\",IF($M147<=3,INT(10*$M147)/10,IF($M147>4,4,0.5*INT($M147/0.5))))","v":""},{"$f":"IF($S147=0,\"\",IF($S147<=3,INT(10*$S147)/10,IF($S147>4,4,0.5*INT($S147/0.5))))","v":""}]
[null,null,null,"③　W：３Ｍ実効稼動負荷",null,"合計",{"$f":"13*(入力用シート!$L$32*入力用シート!$Q$32*入力用シート!$H$33*入力用シート!$L$33*入力用シート!$Q$33)","v":0},"⑨　受像面照射野",null,null,{"$f":"入力用シート!$E$17","v":60},"d4=",0,"ｍ",null,null,null,null,null,null,null,null,null,null,null,null,null,null,null,null,null,null,null,null,null,null,null,null,null,null,null,null,null,null,null,null,null,"ｺﾝｸﾘ",{"$f":"IF($G149=0,\"\",IF($G149<=300,INT($G149/10)*10,IF($G149>400,400,50*INT($G149/50))))","v":""},{"$f":"IF($M149=0,\"\",IF($M149<=300,INT($M149/10)*10,IF($M149>400,400,50*INT($M149/50))))","v":""},{"$f":"IF($S149=0,\"\",IF($S149<=300,INT($S149/10)*10,IF($S149>400,400,50*INT($S149/50))))","v":""}]
[null,null,null,null,null,null,null,"⑩　tw：３月間における稼働時間(h)",null,null,null,null,{"$f":"IF(F129=0,0,G132/(F129*3600))","v":0},null,null,"機器の種類",null,"管容器からの空気ｶｰﾏ率（mGy/h）",null,null,null,null,null,null,null,null,null,null,null,null,null,null,null,null,null,null,null,null,null,null,null,null,null,null,null,null,null,"Fe",{"$f":"IF($G151=0,\"\",IF($G151<=30,INT($G151),IF($G151>40,40,5*INT($G151/5))))","v":""},{"$f":"IF($M151=0,\"\",IF($M151<=30,INT($M151),IF($M151>40,40,5*INT($M151/5))))","v":""},{"$f":"IF($S151=0,\"\",IF($S151<=30,INT($S151),IF($S151>40,40,5*INT($S151/5))))","v":""}]
[null,null,null,"H点の漏洩エックス線量の計算(利用線錘方向）",null,null,null,null,"H点の漏洩エックス線量の計算(被写体・管球）",null,null,null,null,null,1,"治療用ｴｯｸｽ線装置（≧50ｋV）",null,1,"選んだ機器",null,null,null,null,null,null,null,null,null,null,null,null,null,null,null,null,null,null,null,null,null,null,null,null,null,null,null,null,"石膏",{"$f":"IF($G153=0,\"\",IF($G153<=30,INT($G153),IF($G153>40,40,5*INT($G153/5))))","v":""},{"$f":"IF($M153=0,\"\",IF($M153<=30,INT($M153),IF($M153>40,40,5*INT($M153/5))))","v":""},{"$f":"IF($S153=0,\"\",IF($S153<=30,INT($S153),IF($S153>40,40,5*INT($S153/5))))","v":""}]
[null,null,null,null,"Ea=",{"$f":"MAX(F141,L141,R141)","v":0},"μSv/3ヶ月",null,null,"Es＝",{"$f":"MAX(F179,L179,R179)","v":0},"μSv/3ヶ月",null,null,2,"治療用ｴｯｸｽ線装置（＜50ｋV）",null,10,{"$f":"入力用シート!$C$7","v":0},null,null,null,null,null,null,null,null,null,null,null,null,null,null,null,null,null,null,null,null,null,null,null,null,null,null,null,null,"ｶﾞﾗｽ",{"$f":"IF($G155=0,\"\",IF($G155<=30,INT($G155),IF($G155>40,40,5*INT($G155/5))))","v":""},{"$f":"IF($M155=0,\"\",IF($M155<=30,INT($M155),IF($M155>40,40,5*INT($M155/5))))","v":""},{"$f":"IF($S155=0,\"\",IF($S155<=30,INT($S155),IF($S155>40,40,5*INT($S155/5))))","v":""}]
[null,null,null,null,null,null,null,null,null,"EL＝",{"$f":"MAX(F184,L184,R184)","v":0},"μSv/3ヶ月",null,null,3,"口内法撮影用X線装置（≦120ｋV）",null,0.25,"選ばれた空気ｶｰﾏ率XL",null,null,null,null,null,null,null,null,null,null,null,null,null,null,null,null,null,null,null,null,null,null,null,null,null,null,null,null,"木材",{"$f":"IF($G157=0,\"\",IF($G157<=300,INT($G157/10)*10,IF($G157>400,400,50*INT($G157/50))))","v":""},{"$f":"IF($M157=0,\"\",IF($M157<=300,INT($M157/10)*10,IF($M157>400,400,50*INT($M157/50))))","v":""},{"$f":"IF($S157=0,\"\",IF($S157<=300,INT($S157/10)*10,IF($S157>400,400,50*INT($S157/50))))","v":""}]
[null,null,null,null,null,null,null,null,null,"合計",{"$f":"+K135+K136","v":0},null,null,null,4,"上記以外の診断用X線装置",null,1,{"$f":"IF(S135=0,0,VLOOKUP(S135,O134:R137,4,0)*1000)","v":0}]
[null,null,null,null,null,null,null,null,null,null,null,null,null,null,null,null,null,null,null,null,null,null,null,null,null,null,null,null,null,null,null,null,null,null,null,null,null,null,null,null,null,null,null,null,null,null,"2)散乱線用"]
[null,null,null,"H点の計算",null,null,null,null,null,"H'点の計算",null,null,null,null,null,"H\"点の計算",null,null,null,null,null,null,null,null,null,null,null,null,null,null,null,null,null,null,null,null,null,null,null,null,null,null,null,null,null,null,"遮蔽厚参照値"]
[null,null,null,"1) Ep：一次エックス線（撮影方向）",null,null,null,null,null,"1) Ep：一次エックス線（撮影方向）",null,null,null,null,null,"1) Ep：一次エックス線（撮影方向）",null,null,null,null,null,null,null,null,null,null,null,null,null,null,null,null,null,null,null,null,null,null,null,null,null,null,null,null,null,null,null,null,"H点","H'点","H\"点"]
[null,null,null,"　",null,{"$f":"IF(OR($F128=0,$M129=0,A点!$AQ$7=1,AND($W$8=0,$W$45>0)),0,($G128*$R130*$G145*$F161*0.25*$G132*$G131*$M127*$M128)/($M129^2))","v":0},"μSv/3ヶ月",null,null,"　",null,{"$f":"IF(OR($F128=0,$M129=0,A点!$AQ$7=1,AND($W$20=0,$W$45>0)),0,($G128*$R130*$M145*$L161*0.25*$G132*$G131*$M127*$M128)/($M129^2))","v":0},"μSv/3ヶ月",null,null,"　",null,{"$f":"IF(OR($F128=0,$M129=0,A点!$AQ$7=1,AND($W$32=0,$W$45>0)),0,($G128*$R130*$S145*$R161*0.25*$G132*$G131*$M127*$M128)/($M129^2))","v":0},"μSv/3ヶ月",null,null,null,null,null,null,null,null,null,null,null,null,null,null,null,null,null,null,null,null,null,null,null,null,null,null,null,null,"Pb",{"$f":"IF($H147=0,\"\",IF($H147<=3,INT(10*$H147)/10,IF($H147>4,4,0.5*INT($H147/0.5))))","v":""},{"$f":"IF($N147=0,\"\",IF($N147<=3,INT(10*$N147)/10,IF($N147>4,4,0.5*INT($N147/0.5))))","v":""},{"$f":"IF($T147=0,\"\",IF($T147<=3,INT(10*$T147)/10,IF($T147>4,4,0.5*INT($T147/0.5))))","v":""}]
[null,null,null,null,null,null,null,null,null,null,null,null,null,null,null,null,null,null,null,null,null,null,null,null,null,null,null,null,null,null,null,null,null,null,null,null,null,null,null,null,null,null,null,null,null,null,null,"ｺﾝｸﾘ",{"$f":"IF($H149=0,\"\",IF($H149<=300,INT($H149/10)*10,IF($H149>400,400,50*INT($H149/50))))","v":""},{"$f":"IF($N149=0,\"\",IF($N149<=300,INT($N149/10)*10,IF($N149>400,400,50*INT($N149/50))))","v":""},{"$f":"IF($T149=0,\"\",IF($T149<=300,INT($T149/10)*10,IF($T149>400,400,50*INT($T149/50))))","v":""}]
[null,null,null,"a) 第１遮蔽材による減衰(遮蔽体がある場合透過率=1)",null,null,null,null,null,"a) 第１遮蔽材による減衰(遮蔽体がある場合透過率=1)",null,null,null,null,null,"a) 第１遮蔽材による減衰(遮蔽体がある場合透過率=1)",null,null,null,null,null,null,null,null,null,null,null,null,null,null,null,null,null,null,null,null,null,null,null,null,null,null,null,null,null,null,null,"Fe",{"$f":"IF($H151=0,\"\",IF($H151<=30,INT($H151),IF($H151>40,40,5*INT($H151/5))))","v":""},{"$f":"IF($N151=0,\"\",IF($N151<=30,INT($N151),IF($N151>40,40,5*INT($N151/5))))","v":""},{"$f":"IF($T151=0,\"\",IF($T151<=30,INT($T151),IF($T151>40,40,5*INT($T151/5))))","v":""}]
[null,null,null,null,null,"第1遮蔽材",{"$f":"IF($S$128>0,\"遮蔽体\",$W$8)","v":0},{"$f":"$W$8","v":0},null,null,null,"第1遮蔽材",{"$f":"IF($S$128>0,\"遮蔽体\",$W$20)","v":0},{"$f":"$W$20","v":0},null,null,null,"第1遮蔽材",{"$f":"IF($S$128>0,\"遮蔽体\",$W$32)","v":0},{"$f":"$W$32","v":0},null,null,null,null,null,null,null,null,null,null,null,null,null,null,null,null,null,null,null,null,null,null,null,null,null,null,null,"石膏",{"$f":"IF($H153=0,\"\",IF($H153<=30,INT($H153),IF($H153>40,40,5*INT($H153/5))))","v":""},{"$f":"IF($N153=0,\"\",IF($N153<=30,INT($N153),IF($N153>40,40,5*INT($N153/5))))","v":""},{"$f":"IF($T153=0,\"\",IF($T153<=30,INT($T153),IF($T153>40,40,5*INT($T153/5))))","v":""}]
[null,null,null,null,null,"Dt1=",{"$f":"G148*G150*G152*G154*G156*G158","v":1},{"$f":"H148*H150*H152*H154*H156*H158","v":1},null,null,null,"Dt1=",{"$f":"M148*M150*M152*M154*M156*M158","v":1},{"$f":"N148*N150*N152*N154*N156*N158","v":1},null,null,null,"Dt1=",{"$f":"S148*S150*S152*S154*S156*S158","v":1},{"$f":"T148*T150*T152*T154*T156*T158","v":1},null,null,null,null,null,null,null,null,null,null,null,null,null,null,null,null,null,null,null,null,null,null,null,null,null,null,null,"ｶﾞﾗｽ",{"$f":"IF($H155=0,\"\",IF($H155<=30,INT($H155),IF($H155>40,40,5*INT($H155/5))))","v":""},{"$f":"IF($N155=0,\"\",IF($N155<=30,INT($N155),IF($N155>40,40,5*INT($N155/5))))","v":""},{"$f":"IF($T155=0,\"\",IF($T155<=30,INT($T155),IF($T155>40,40,5*INT($T155/5))))","v":""}]
[null,null,null,null,null,null,"一次線用","散乱線用",null,null,null,null,"一次線用","散乱線用",null,null,null,null,"一次線用","散乱線用",null,null,null,null,null,null,null,null,null,null,null,null,null,null,null,null,null,null,null,null,null,null,null,null,null,null,null,"木材",{"$f":"IF($H157=0,\"\",IF($H157<=300,INT($H157/10)*10,IF($H157>400,400,50*INT($H157/50))))","v":""},{"$f":"IF($N157=0,\"\",IF($N157<=300,INT($N157/10)*10,IF($N157>400,400,50*INT($N157/50))))","v":""},{"$f":"IF($T157=0,\"\",IF($T157<=300,INT($T157/10)*10,IF($T157>400,400,50*INT($T157/50))))","v":""}]
[null,null,null,"a)　鉛(表2)",null,"等価厚さ",{"$f":"IF($G144=$W$10,$W$9*$AE$8,0)","v":0},{"$f":"IF($H144=$W$10,$W$9*$AE$8,0)","v":0},null,"a)　鉛(表2)",null,"等価厚さ",{"$f":"IF($M144=$W$22,$W$21*$AE$8,0)","v":0},{"$f":"IF($N144=$W$22,$W$21*$AE$8,0)","v":0},null,"a)　鉛(表2)",null,"等価厚さ",{"$f":"IF($S144=$W$34,$W$33*$AE$8,0)","v":0},{"$f":"IF($T144=$W$34,$W$33*$AE$8,0)","v":0}]
[null,null,null,null,null,"透過率",{"$f":"IF(OR($G147=0,A点!$AN$8=1,A点!$AN$8=\"○\"),1,INDEX('表２(Pb)'!$A$3:$Y$36,MATCH($AW131,'表２(Pb)'!$A$3:$A$36,0),MATCH($F128,'表２(Pb)'!$A$3:$Y$3,0)))","v":1},{"$f":"IF(OR($H147=0,A点!$AN$8=1,A点!$AN$8=\"○\"),1,INDEX('表２(Pb)'!$A$3:$Y$36,MATCH($AW141,'表２(Pb)'!$A$3:$A$36,0),MATCH($F128,'表２(Pb)'!$A$3:$Y$3,0)))","v":1},null,null,null,"透過率",{"$f":"IF(OR($M147=0,A点!$AN$8=1,A点!$AN$8=\"○\"),1,INDEX('表２(Pb)'!$A$3:$Y$36,MATCH($AX131,'表２(Pb)'!$A$3:$A$36,0),MATCH($F128,'表２(Pb)'!$A$3:$Y$3,0)))","v":1},{"$f":"IF(OR($N147=0,A点!$AN$8=1,A点!$AN$8=\"○\"),1,INDEX('表２(Pb)'!$A$3:$Y$36,MATCH($AX141,'表２(Pb)'!$A$3:$A$36,0),MATCH($F128,'表２(Pb)'!$A$3:$Y$3,0)))","v":1},null,null,null,"透過率",{"$f":"IF(OR($S147=0,A点!$AN$8=1,A点!$AN$8=\"○\"),1,INDEX('表２(Pb)'!$A$3:$Y$36,MATCH($AY131,'表２(Pb)'!$A$3:$A$36,0),MATCH($F128,'表２(Pb)'!$A$3:$Y$3,0)))","v":1},{"$f":"IF(OR($T147=0,A点!$AN$8=1,A点!$AN$8=\"○\"),1,INDEX('表２(Pb)'!$A$3:$Y$36,MATCH($AY141,'表２(Pb)'!$A$3:$A$36,0),MATCH($F128,'表２(Pb)'!$A$3:$Y$3,0)))","v":1},null,null,null,null,null,null,null,null,null,null,null,null,null,null,null,null,null,null,null,null,null,null,null,null,null,null,"3)","遮蔽材順"]
[null,null,null,"b)　コンクリート(表3)",null,"等価厚さ",{"$f":"IF($G144=$X$10,$W$9*$AE$9,0)","v":0},{"$f":"IF($H144=$X$10,$W$9*$AE$9,0)","v":0},null,"b)　コンクリート(表3)",null,"等価厚さ",{"$f":"IF($M144=$X$22,$W$21*$AE$9,0)","v":0},{"$f":"IF($N144=$X$22,$W$21*$AE$9,0)","v":0},null,"b)　コンクリート(表3)",null,"等価厚さ",{"$f":"IF($S144=$X$34,$W$33*$AE$9,0)","v":0},{"$f":"IF($T144=$X$34,$W$33*$AE$9,0)","v":0},null,null,null,null,null,null,null,null,null,null,null,null,null,null,null,null,null,null,null,null,null,null,null,null,null,null,null,null,"H点","H'点","H\"点"]
[null,null,null,null,null,"透過率",{"$f":"IF(OR($G149=0,A点!$AN$8=1,A点!$AN$8=\"○\"),1,INDEX('表３(コ)'!$A$3:$Y$36,MATCH($AW132,'表３(コ)'!$A$3:$A$36,0),MATCH($F128,'表３(コ)'!$A$3:$Y$3,0)))","v":1},{"$f":"IF(OR($H149=0,A点!$AN$8=1,A点!$AN$8=\"○\"),1,INDEX('表３(コ)'!$A$3:$Y$36,MATCH($AW142,'表３(コ)'!$A$3:$A$36,0),MATCH($F128,'表３(コ)'!$A$3:$Y$3,0)))","v":1},null,null,null,"透過率",{"$f":"IF(OR($M149=0,A点!$AN$8=1,A点!$AN$8=\"○\"),1,INDEX('表３(コ)'!$A$3:$Y$36,MATCH($AX132,'表３(コ)'!$A$3:$A$36,0),MATCH($F128,'表３(コ)'!$A$3:$Y$3,0)))","v":1},{"$f":"IF(OR($N149=0,A点!$AN$8=1,A点!$AN$8=\"○\"),1,INDEX('表３(コ)'!$A$3:$Y$36,MATCH($AX142,'表３(コ)'!$A$3:$A$36,0),MATCH($F128,'表３(コ)'!$A$3:$Y$3,0)))","v":1},null,null,null,"透過率",{"$f":"IF(OR($S149=0,A点!$AN$8=1,A点!$AN$8=\"○\"),1,INDEX('表３(コ)'!$A$3:$Y$36,MATCH($AY132,'表３(コ)'!$A$3:$A$36,0),MATCH($F128,'表３(コ)'!$A$3:$Y$3,0)))","v":1},{"$f":"IF(OR($T149=0,A点!$AN$8=1,A点!$AN$8=\"○\"),1,INDEX('表３(コ)'!$A$3:$Y$36,MATCH($AY142,'表３(コ)'!$A$3:$A$36,0),MATCH($F128,'表３(コ)'!$A$3:$Y$3,0)))","v":1},null,null,null,null,null,null,null,null,null,null,null,null,null,null,null,null,null,null,null,null,null,null,null,null,null,null,null,"第1遮蔽材",{"$f":"IF($AW160=\"11\",G$144,H$144)","v":0},{"$f":"IF($AW160=\"11\",M$144,N$144)","v":0},{"$f":"IF($AW160=\"11\",S$144,T$144)","v":0}]
[null,null,null,"c)　鉄(表4)",null,"等価厚さ",{"$f":"IF($G144=$Y$10,$W$9*$AE$10,0)","v":0},{"$f":"IF($H144=$Y$10,$W$9*$AE$10,0)","v":0},null,"c)　鉄(表4)",null,"等価厚さ",{"$f":"IF($M144=$Y$22,$W$21*$AE$10,0)","v":0},{"$f":"IF($N144=$Y$22,$W$21*$AE$10,0)","v":0},null,"c)　鉄(表4)",null,"等価厚さ",{"$f":"IF($S144=$Y$34,$W$33*$AE$10,0)","v":0},{"$f":"IF($T144=$Y$34,$W$33*$AE$10,0)","v":0},null,null,null,null,null,null,null,null,null,null,null,null,null,null,null,null,null,null,null,null,null,null,null,null,null,null,null,"第2遮蔽材",{"$f":"IF($AW160=\"11\",W$8,X$8)","v":0},{"$f":"IF($AW160=\"11\",W$20,X$20)","v":0},{"$f":"IF($AW160=\"11\",W$32,X$32)","v":0}]
[null,null,null,null,null,"透過率",{"$f":"IF(OR($G151=0,A点!$AN$8=1,A点!$AN$8=\"○\"),1,INDEX('表4(Fe)'!$A$3:$Y$36,MATCH($AW133,'表4(Fe)'!$A$3:$A$36,0),MATCH($F128,'表4(Fe)'!$A$3:$Y$3,0)))","v":1},{"$f":"IF(OR($H151=0,A点!$AN$8=1,A点!$AN$8=\"○\"),1,INDEX('表4(Fe)'!$A$3:$Y$36,MATCH($AW143,'表4(Fe)'!$A$3:$A$36,0),MATCH($F128,'表4(Fe)'!$A$3:$Y$3,0)))","v":1},null,null,null,"透過率",{"$f":"IF(OR($M151=0,A点!$AN$8=1,A点!$AN$8=\"○\"),1,INDEX('表4(Fe)'!$A$3:$Y$36,MATCH($AX133,'表4(Fe)'!$A$3:$A$36,0),MATCH($F128,'表4(Fe)'!$A$3:$Y$3,0)))","v":1},{"$f":"IF(OR($N151=0,A点!$AN$8=1,A点!$AN$8=\"○\"),1,INDEX('表4(Fe)'!$A$3:$Y$36,MATCH($AX143,'表4(Fe)'!$A$3:$A$36,0),MATCH($F128,'表4(Fe)'!$A$3:$Y$3,0)))","v":1},null,null,null,"透過率",{"$f":"IF(OR($S151=0,A点!$AN$8=1,A点!$AN$8=\"○\"),1,INDEX('表4(Fe)'!$A$3:$Y$36,MATCH($AY133,'表4(Fe)'!$A$3:$A$36,0),MATCH($F128,'表4(Fe)'!$A$3:$Y$3,0)))","v":1},{"$f":"IF(OR($T151=0,A点!$AN$8=1,A点!$AN$8=\"○\"),1,INDEX('表4(Fe)'!$A$3:$Y$36,MATCH($AY143,'表4(Fe)'!$A$3:$A$36,0),MATCH($F128,'表4(Fe)'!$A$3:$Y$3,0)))","v":1},null,null,null,null,null,null,null,null,null,null,null,null,null,null,null,null,null,null,null,null,null,null,null,null,null,null,null,"第3遮蔽材",{"$f":"IF($AW160=\"11\",X$8,Y$8)","v":0},{"$f":"IF($AW160=\"11\",X$20,Y$20)","v":0},{"$f":"IF($AW160=\"11\",X$32,Y$32)","v":0}]
[null,null,null,"d)　石膏(表5)",null,"等価厚さ",{"$f":"IF($G144=$Z$10,$W$9*$AE$11,0)","v":0},{"$f":"IF($H144=$Z$10,$W$9*$AE$11,0)","v":0},null,"d)　石膏(表5)",null,"等価厚さ",{"$f":"IF($M144=$Z$22,$W$21*$AE$11,0)","v":0},{"$f":"IF($N144=$Z$22,$W$21*$AE$11,0)","v":0},null,"d)　石膏(表5)",null,"等価厚さ",{"$f":"IF($S144=$Z$34,$W$33*$AE$11,0)","v":0},{"$f":"IF($T144=$Z$34,$W$33*$AE$11,0)","v":0},null,null,null,null,null,null,null,null,null,null,null,null,null,null,null,null,null,null,null,null,null,null,null,null,null,null,null,"第4遮蔽材",{"$f":"IF($AW160=\"11\",Y$8,Z$8)","v":0},{"$f":"IF($AW160=\"11\",Y$20,Z$20)","v":0},{"$f":"IF($AW160=\"11\",Y$32,Z$32)","v":0}]
[null,null,null,null,null,"透過率",{"$f":"IF(OR($G153=0,A点!$AN$8=1,A点!$AN$8=\"○\"),1,INDEX('表5(CaSO4)'!$A$3:$Y$36,MATCH($AW134,'表5(CaSO4)'!$A$3:$A$36,0),MATCH($F128,'表5(CaSO4)'!$A$3:$Y$3,0)))","v":1},{"$f":"IF(OR($H153=0,A点!$AN$8=1,A点!$AN$8=\"○\"),1,INDEX('表5(CaSO4)'!$A$3:$Y$36,MATCH($AW144,'表5(CaSO4)'!$A$3:$A$36,0),MATCH($F128,'表5(CaSO4)'!$A$3:$Y$3,0)))","v":1},null,null,null,"透過率",{"$f":"IF(OR($M153=0,A点!$AN$8=1,A点!$AN$8=\"○\"),1,INDEX('表5(CaSO4)'!$A$3:$Y$36,MATCH($AX134,'表5(CaSO4)'!$A$3:$A$36,0),MATCH($F128,'表5(CaSO4)'!$A$3:$Y$3,0)))","v":1},{"$f":"IF(OR($N153=0,A点!$AN$8=1,A点!$AN$8=\"○\"),1,INDEX('表5(CaSO4)'!$A$3:$Y$36,MATCH($AX144,'表5(CaSO4)'!$A$3:$A$36,0),MATCH($F128,'表5(CaSO4)'!$A$3:$Y$3,0)))","v":1},null,null,null,"透過率",{"$f":"IF(OR($S153=0,A点!$AN$8=1,A点!$AN$8=\"○\"),1,INDEX('表5(CaSO4)'!$A$3:$Y$36,MATCH($AY134,'表5(CaSO4)'!$A$3:$A$36,0),MATCH($F128,'表5(CaSO4)'!$A$3:$Y$3,0)))","v":1},{"$f":"IF(OR($T153=0,A点!$AN$8=1,A点!$AN$8=\"○\"),1,INDEX('表5(CaSO4)'!$A$3:$Y$36,MATCH($AY144,'表5(CaSO4)'!$A$3:$A$36,0),MATCH($F128,'表5(CaSO4)'!$A$3:$Y$3,0)))","v":1},null,null,null,null,null,null,null,null,null,null,null,null,null,null,null,null,null,null,null,null,null,null,null,null,null,null,null,"第5遮蔽材",{"$f":"IF($AW160=\"11\",Z$8,AA$8)","v":0},{"$f":"IF($AW160=\"11\",Z$20,AA$20)","v":0},{"$f":"IF($AW160=\"11\",Z$32,AA$32)","v":0}]
[null,null,null,"e）　ガラス(表6)",null,"等価厚さ",{"$f":"IF($G144=$AA$10,$W$9*$AE$12,0)","v":0},{"$f":"IF($H144=$AA$10,$W$9*$AE$12,0)","v":0},null,"e）　ガラス(表6)",null,"等価厚さ",{"$f":"IF($M144=$AA$22,$W$21*$AE$12,0)","v":0},{"$f":"IF($N144=$AA$22,$W$21*$AE$12,0)","v":0},null,"e）　ガラス(表6)",null,"等価厚さ",{"$f":"IF($S144=$AA$34,$W$33*$AE$12,0)","v":0},{"$f":"IF($T144=$AA$34,$W$33*$AE$12,0)","v":0},null,null,null,null,null,null,null,null,null,null,null,null,null,null,null,null,null,null,null,null,null,null,null,null,null,null,null,"第6遮蔽材",{"$f":"IF($AW160=\"11\",AA$8,AB$8)","v":0},{"$f":"IF($AW160=\"11\",AA$20,AB$20)","v":0},{"$f":"IF($AW160=\"11\",AA$32,AB$32)","v":0}]
[null,null,null,null,null,"透過率",{"$f":"IF(OR($G155=0,A点!$AN$8=1,A点!$AN$8=\"○\"),1,INDEX('表6(SiO2)'!$A$3:$Y$36,MATCH($AW135,'表6(SiO2)'!$A$3:$A$36,0),MATCH($F128,'表6(SiO2)'!$A$3:$Y$3,0)))","v":1},{"$f":"IF(OR($H155=0,A点!$AN$8=1,A点!$AN$8=\"○\"),1,INDEX('表6(SiO2)'!$A$3:$Y$36,MATCH($AW145,'表6(SiO2)'!$A$3:$A$36,0),MATCH($F128,'表6(SiO2)'!$A$3:$Y$3,0)))","v":1},null,null,null,"透過率",{"$f":"IF(OR($M155=0,A点!$AN$8=1,A点!$AN$8=\"○\"),1,INDEX('表6(SiO2)'!$A$3:$Y$36,MATCH($AX135,'表6(SiO2)'!$A$3:$A$36,0),MATCH($F128,'表6(SiO2)'!$A$3:$Y$3,0)))","v":1},{"$f":"IF(OR($N155=0,A点!$AN$8=1,A点!$AN$8=\"○\"),1,INDEX('表6(SiO2)'!$A$3:$Y$36,MATCH($AX145,'表6(SiO2)'!$A$3:$A$36,0),MATCH($F128,'表6(SiO2)'!$A$3:$Y$3,0)))","v":1},null,null,null,"透過率",{"$f":"IF(OR($S155=0,A点!$AN$8=1,A点!$AN$8=\"○\"),1,INDEX('表6(SiO2)'!$A$3:$Y$36,MATCH($AY135,'表6(SiO2)'!$A$3:$A$36,0),MATCH($F128,'表6(SiO2)'!$A$3:$Y$3,0)))","v":1},{"$f":"IF(OR($T155=0,A点!$AN$8=1,A点!$AN$8=\"○\"),1,INDEX('表6(SiO2)'!$A$3:$Y$36,MATCH($AY145,'表6(SiO2)'!$A$3:$A$36,0),MATCH($F128,'表6(SiO2)'!$A$3:$Y$3,0)))","v":1},null,null,null,null,null,null,null,null,null,null,null,null,null,null,null,null,null,null,null,null,null,null,null,null,null,null,null,"第7遮蔽材",{"$f":"IF($AW160=\"11\",AB$8,\"\")","v":""},{"$f":"IF($AW160=\"11\",AB$20,\"\")","v":""},{"$f":"IF($AW160=\"11\",AB$32,\"\")","v":""}]
[null,null,null,"f)　木材(表7)",null,"等価厚さ",{"$f":"IF($G144=$AB$10,$W$9*$AE$13,0)","v":0},{"$f":"IF($H144=$AB$10,$W$9*$AE$13,0)","v":0},null,"f)　木材(表7)",null,"等価厚さ",{"$f":"IF($M144=$AB$22,$W$21*$AE$13,0)","v":0},{"$f":"IF($N144=$AB$22,$W$21*$AE$13,0)","v":0},null,"f)　木材(表7)",null,"等価厚さ",{"$f":"IF($S144=$AB$34,$W$33*$AE$13,0)","v":0},{"$f":"IF($T144=$AB$34,$W$33*$AE$13,0)","v":0}]
[null,null,null,null,null,"透過率",{"$f":"IF(OR($G157=0,A点!$AN$8=1,A点!$AN$8=\"○\"),1,INDEX('表7(木)'!$A$3:$Y$36,MATCH($AW136,'表7(木)'!$A$3:$A$36,0),MATCH($F128,'表7(木)'!$A$3:$Y$3,0)))","v":1},{"$f":"IF(OR($H157=0,A点!$AN$8=1,A点!$AN$8=\"○\"),1,INDEX('表7(木)'!$A$3:$Y$36,MATCH($AW146,'表7(木)'!$A$3:$A$36,0),MATCH($F128,'表7(木)'!$A$3:$Y$3,0)))","v":1},null,null,null,"透過率",{"$f":"IF(OR($M157=0,A点!$AN$8=1,A点!$AN$8=\"○\"),1,INDEX('表7(木)'!$A$3:$Y$36,MATCH($AX136,'表7(木)'!$A$3:$A$36,0),MATCH($F128,'表7(木)'!$A$3:$Y$3,0)))","v":1},{"$f":"IF(OR($N157=0,A点!$AN$8=1,A点!$AN$8=\"○\"),1,INDEX('表7(木)'!$A$3:$Y$36,MATCH($AX146,'表7(木)'!$A$3:$A$36,0),MATCH($F128,'表7(木)'!$A$3:$Y$3,0)))","v":1},null,null,null,"透過率",{"$f":"IF(OR($S157=0,A点!$AN$8=1,A点!$AN$8=\"○\"),1,INDEX('表7(木)'!$A$3:$Y$36,MATCH($AY136,'表7(木)'!$A$3:$A$36,0),MATCH($F128,'表7(木)'!$A$3:$Y$3,0)))","v":1},{"$f":"IF(OR($T157=0,A点!$AN$8=1,A点!$AN$8=\"○\"),1,INDEX('表7(木)'!$A$3:$Y$36,MATCH($AY146,'表7(木)'!$A$3:$A$36,0),MATCH($F128,'表7(木)'!$A$3:$Y$3,0)))","v":1},null,null,null,null,null,null,null,null,null,null,null,null,null,null,null,null,null,null,null,null,null,null,null,null,null,null,null,"遮蔽体有無",{"$f":"IF($S128>0,1,0)","v":0},"遮蔽体有：１"]
[null,null,null,null,null,null,null,null,null,null,null,null,null,null,null,null,null,null,null,null,null,null,null,null,null,null,null,null,null,null,null,null,null,null,null,null,null,null,null,null,null,null,null,null,null,null,null,"照射方向",{"$f":"IF($M129>0,1,2)","v":2},"直接線：1、散乱線：2"]
[null,null,null,"b)　第２遮蔽材以後による一次線の減衰表9",null,null,null,null,null,"b)　第２遮蔽材以後による一次線の減衰表9",null,null,null,null,null,"b)　第２遮蔽材以後による一次線の減衰表9",null,null,null,null,null,null,null,null,null,null,null,null,null,null,null,null,null,null,null,null,null,null,null,null,null,null,null,null,null,null,null,"判定コード",{"$f":"AW158&AW159","v":"02"}]
[null,null,null,null,"Dt2=",{"$f":"F164*F166*F168*F170*F172*F174","v":0},{"$f":"G164*G166*G168*G170*G172*G174","v":0},0,null,null,"Dt2=",{"$f":"L164*L166*L168*L170*L172*L174","v":0},{"$f":"M164*M166*M168*M170*M172*M174","v":0},0,null,null,"Dt2=",{"$f":"R164*R166*R168*R170*R172*R174","v":0},{"$f":"S164*S166*S168*S170*S172*S174","v":0},0]
[null,null,null,null,null,"一次線用","散乱線用","漏洩線用",null,null,null,"一次線用","散乱線用","漏洩線用",null,null,null,"一次線用","散乱線用","漏洩線用"]
[null,null,null,"a)　鉛(表9)","半価層(mm)",{"$f":"IF(OR(A点!$AN$8=1,A点!$AN$8=\"○\"),\"\",VLOOKUP($F128,'表9(BB)'!$A$4:$M$27,2,0))","v":""},null,null,null,"a)　鉛(表9)","半価層(mm)",{"$f":"IF(OR(A点!$AN$8=1,A点!$AN$8=\"○\"),\"\",VLOOKUP($F128,'表9(BB)'!$A$4:$M$27,2,0))","v":""},null,null,null,"a)　鉛(表9)","半価層(mm)",{"$f":"IF(OR(A点!$AN$8=1,A点!$AN$8=\"○\"),\"\",VLOOKUP($F128,'表9(BB)'!$A$4:$M$27,2,0))","v":""}]
[null,null,null,null,"透過率",{"$f":"IF($S$128>0,H164,G164)","v":0},{"$f":"IF($F163=\"\",0,(1/2)^($W18*$AE$8/$F163))","v":0},{"$f":"IF($F163=\"\",0,(1/2)^($W17*$AE$8/$F163))","v":0},null,null,"透過率",{"$f":"IF($S$128>0,N164,M164)","v":0},{"$f":"IF($L$163=\"\",0,(1/2)^($W30*$AE$8/$L163))","v":0},{"$f":"IF($L163=\"\",0,(1/2)^($W29*$AE$8/$L163))","v":0},null,null,"透過率",{"$f":"IF($S$128>0,T164,S164)","v":0},{"$f":"IF($R163=\"\",0,(1/2)^($W42*$AE$8/$R163))","v":0},{"$f":"IF($R163=\"\",0,(1/2)^($W41*$AE$8/$R163))","v":0}]
[null,null,null,"b)　コンクリート(表9)","半価層(mm)",{"$f":"IF(OR(A点!$AN$8=1,A点!$AN$8=\"○\"),\"\",VLOOKUP($F128,'表9(BB)'!$A$4:$M$27,4,0))","v":""},null,null,null,"b)　コンクリート(表9)","半価層(mm)",{"$f":"IF(OR(A点!$AN$8=1,A点!$AN$8=\"○\"),\"\",VLOOKUP($F128,'表9(BB)'!$A$4:$M$27,4,0))","v":""},null,null,null,"b)　コンクリート(表9)","半価層(mm)",{"$f":"IF(OR(A点!$AN$8=1,A点!$AN$8=\"○\"),\"\",VLOOKUP($F128,'表9(BB)'!$A$4:$M$27,4,0))","v":""}]
[null,null,null,null,"透過率",{"$f":"IF($S$128>0,H166,G166)","v":0},{"$f":"IF($F165=\"\",0,(1/2)^($X18*$AE$9/$F165))","v":0},{"$f":"IF($F165=\"\",0,(1/2)^($X17*$AE$9/$F165))","v":0},null,null,"透過率",{"$f":"IF($S$128>0,N166,M166)","v":0},{"$f":"IF($L165=\"\",0,(1/2)^($X30*$AE$9/$L165))","v":0},{"$f":"IF($L165=\"\",0,(1/2)^($X29*$AE$9/$L165))","v":0},null,null,"透過率",{"$f":"IF($S$128>0,T166,S166)","v":0},{"$f":"IF($R165=\"\",0,(1/2)^($X42*$AE$9/$R165))","v":0},{"$f":"IF($R165=\"\",0,(1/2)^($X41*$AE$9/$R165))","v":0}]
[null,null,null,"c)　鉄(表9)","半価層(mm)",{"$f":"IF(OR(A点!$AN$8=1,A点!$AN$8=\"○\"),\"\",VLOOKUP($F128,'表9(BB)'!$A$4:$M$27,6,0))","v":""},null,null,null,"c)　鉄(表9)","半価層(mm)",{"$f":"IF(OR(A点!$AN$8=1,A点!$AN$8=\"○\"),\"\",VLOOKUP($F128,'表9(BB)'!$A$4:$M$27,6,0))","v":""},null,null,null,"c)　鉄(表9)","半価層(mm)",{"$f":"IF(OR(A点!$AN$8=1,A点!$AN$8=\"○\"),\"\",VLOOKUP($F128,'表9(BB)'!$A$4:$M$27,6,0))","v":""}]
[null,null,null,null,"透過率",{"$f":"IF($S$128>0,H168,G168)","v":0},{"$f":"IF($F167=\"\",0,(1/2)^($Y18*$AE$10/$F167))","v":0},{"$f":"IF($F167=\"\",0,(1/2)^($Y17*$AE$10/$F167))","v":0},null,null,"透過率",{"$f":"IF($S$128>0,N168,M168)","v":0},{"$f":"IF($L167=\"\",0,(1/2)^($Y30*$AE$10/$L167))","v":0},{"$f":"IF($L167=\"\",0,(1/2)^($Y29*$AE$10/$L167))","v":0},null,null,"透過率",{"$f":"IF($S$128>0,T168,S168)","v":0},{"$f":"IF($R167=\"\",0,(1/2)^($Y42*$AE$10/$R167))","v":0},{"$f":"IF($R167=\"\",0,(1/2)^($Y41*$AE$10/$R167))","v":0}]
[null,null,null,"d)　石膏(表9)","半価層(mm)",{"$f":"IF(OR(A点!$AN$8=1,A点!$AN$8=\"○\"),\"\",VLOOKUP($F128,'表9(BB)'!$A$4:$M$27,8,0))","v":""},null,null,null,"d)　石膏(表9)","半価層(mm)",{"$f":"IF(OR(A点!$AN$8=1,A点!$AN$8=\"○\"),\"\",VLOOKUP($F128,'表9(BB)'!$A$4:$M$27,8,0))","v":""},null,null,null,"d)　石膏(表9)","半価層(mm)",{"$f":"IF(OR(A点!$AN$8=1,A点!$AN$8=\"○\"),\"\",VLOOKUP($F128,'表9(BB)'!$A$4:$M$27,8,0))","v":""}]
[null,null,null,null,"透過率",{"$f":"IF($S$128>0,H170,G170)","v":0},{"$f":"IF($F169=\"\",0,(1/2)^($Z18*$AE$11/$F169))","v":0},{"$f":"IF($F169=\"\",0,(1/2)^($Z17*$AE$11/$F169))","v":0},null,null,"透過率",{"$f":"IF($S$128>0,N170,M170)","v":0},{"$f":"IF($L169=\"\",0,(1/2)^($Z30*$AE$11/$L169))","v":0},{"$f":"IF($L169=\"\",0,(1/2)^($Z29*$AE$11/$L169))","v":0},null,null,"透過率",{"$f":"IF($S$128>0,T170,S170)","v":0},{"$f":"IF($R169=\"\",0,(1/2)^($Z42*$AE$11/$R169))","v":0},{"$f":"IF($R169=\"\",0,(1/2)^($Z41*$AE$11/$R169))","v":0}]
[null,null,null,"e）　ガラス(表9)","半価層(mm)",{"$f":"IF(OR(A点!$AN$8=1,A点!$AN$8=\"○\"),\"\",VLOOKUP($F128,'表9(BB)'!$A$4:$M$27,10,0))","v":""},null,null,null,"e）　ガラス(表9)","半価層(mm)",{"$f":"IF(OR(A点!$AN$8=1,A点!$AN$8=\"○\"),\"\",VLOOKUP($F128,'表9(BB)'!$A$4:$M$27,10,0))","v":""},null,null,null,"e）　ガラス(表9)","半価層(mm)",{"$f":"IF(OR(A点!$AN$8=1,A点!$AN$8=\"○\"),\"\",VLOOKUP($F128,'表9(BB)'!$A$4:$M$27,10,0))","v":""}]
[null,null,null,null,"透過率",{"$f":"IF($S$128>0,H172,G172)","v":0},{"$f":"IF($F171=\"\",0,(1/2)^($AA18*$AE$12/$F171))","v":0},{"$f":"IF($F171=\"\",0,(1/2)^($AA17*$AE$12/$F171))","v":0},null,null,"透過率",{"$f":"IF($S$128>0,N172,M172)","v":0},{"$f":"IF($L171=\"\",0,(1/2)^($AA30*$AE$12/$L171))","v":0},{"$f":"IF($L171=\"\",0,(1/2)^($AA29*$AE$12/$L171))","v":0},null,null,"透過率",{"$f":"IF($S$128>0,T172,S172)","v":0},{"$f":"IF($R$171=\"\",0,(1/2)^($AA42*$AE$12/$R171))","v":0},{"$f":"IF($R171=\"\",0,(1/2)^($AA41*$AE$12/$R171))","v":0}]
[null,null,null,"f)　木材(表9)","半価層(mm)",{"$f":"IF(OR(A点!$AN$8=1,A点!$AN$8=\"○\"),\"\",VLOOKUP($F128,'表9(BB)'!$A$4:$M$27,12,0))","v":""},null,null,null,"f)　木材(表9)","半価層(mm)",{"$f":"IF(OR(A点!$AN$8=1,A点!$AN$8=\"○\"),\"\",VLOOKUP($F128,'表9(BB)'!$A$4:$M$27,12,0))","v":""},null,null,null,"f)　木材(表9)","半価層(mm)",{"$f":"IF(OR(A点!$AN$8=1,A点!$AN$8=\"○\"),\"\",VLOOKUP($F128,'表9(BB)'!$A$4:$M$27,12,0))","v":""}]
[null,null,null,null,"透過率",{"$f":"IF($S$128>0,H174,G174)","v":0},{"$f":"IF($F173=\"\",0,(1/2)^($AB18*$AE$13/$F173))","v":0},{"$f":"IF($F173=\"\",0,(1/2)^($AB17*$AE$13/$F173))","v":0},null,null,"透過率",{"$f":"IF($S$128>0,N174,M174)","v":0},{"$f":"IF($L173=\"\",0,(1/2)^($AB30*$AE$13/$L173))","v":0},{"$f":"IF($L173=\"\",0,(1/2)^($AB29*$AE$13/$L173))","v":0},null,null,"透過率",{"$f":"IF($S$128>0,T174,S174)","v":0},{"$f":"IF($R173=\"\",0,(1/2)^($AB42*$AE$13/$R173))","v":0},{"$f":"IF($R173=\"\",0,(1/2)^($AB41*$AE$13/$R173))","v":0}]
[]
[]
[null,null,null,"2)　Es：散乱エックス線の漏洩線量(散乱角90度)",null,null,null,null,null,"2)　Es：散乱エックス線の漏洩線量(散乱角90度)",null,null,null,null,null,"2)　Es：散乱エックス線の漏洩線量(散乱角90度)"]
[null,null,null,null,"Dt=",{"$f":"H145*G161","v":0},null,null,null,null,"Dt=",{"$f":"N145*M161","v":0},null,null,null,null,"Dt=",{"$f":"T145*S161","v":0}]
[null,null,null,null,"Es=",{"$f":"IF(OR($F128=0,$M130=0,$M131=0,AND($W$8=0,$W$45>0),A点!$AQ$7=1),0,$G128*$G132*$G131*F178*$M127*$M128*($K131/100)*$K132/(400*($M130^2)*($M131^2)))","v":0},"μSv/3ヶ月",null,null,null,"Es=",{"$f":"IF(OR($F128=0,$M130=0,$M131=0,AND($W$20=0,$W$45>0),A点!$AQ$7=1),0,$G128*$G132*$G131*L178*$M127*$M128*($K131/100)*$K132/(400*($M130^2)*($M131^2)))","v":0},"μSv/3ヶ月",null,null,null,"Es=",{"$f":"IF(OR($F128=0,$M130=0,$M131=0,AND($W$32=0,$W$45>0),A点!$AQ$7=1),0,$G128*$G132*$G131*R178*$M127*$M128*($K131/100)*$K132/(400*($M130^2)*($M131^2)))","v":0},"μSv/3ヶ月"]
[]
[]
[null,null,null,"3)　EL：エックス線管容器からの漏洩線量(最大見積)",null,null,null,null,null,"3)　EL：エックス線管容器からの漏洩線量(最大見積)",null,null,null,null,null,"3)　EL：エックス線管容器からの漏洩線量(最大見積)"]
[]
[null,null,null,null,"EL=",{"$f":"IF(OR($F128=0,$M132=0,AND($W$8=0,$W$45>0),A点!$AQ$7=1),0,H161*$S137*$M133*$G131*$M127*$M128/($M132^2))","v":0},"μGy/h",null,null,null,"EL=",{"$f":"IF(OR($F128=0,$M132=0,AND($W$20=0,$W$45>0),A点!$AQ$7=1),0,N161*$S137*$M133*$G131*$M127*$M128/($M132^2))","v":0},"μGy/h",null,null,null,"EL=",{"$f":"IF(OR($F128=0,$M132=0,AND($W$32=0,$W$45>0),A点!$AQ$7=1),0,T161*$S137*$M133*$G131*$M127*$M128/($M132^2))","v":0},"μGy/h"]

{"sheet":"Ｉ点","index":9,"n_rows":184,"n_cols":51,"rows_kept":184,"cut":false,"hidden":true,"merged":[[66,1,124,1],[126,1,184,1],[13,15,13,16],[14,15,14,16],[15,15,15,16],[16,15,16,16],[6,1,64,1],[5,15,5,16],[0,15,0,16],[1,15,1,16],[2,15,2,16],[3,15,3,16],[4,15,4,16]]}
[null,null,"エックス線診療室の画壁等の実効線量",null,null,null,null,null,null,null,null,null,null,null,null,"W：３Ｍ実効稼動負荷",null,{"$f":"+G12","v":0},{"$f":"+G72","v":0},{"$f":"+G132","v":0},null,null,null,null,null,null,null,null,null,null,null,null,null,null,null,null,null,null,null,null,null,null,null,null,null,null,"③透視用透過率（表2-7）"]
[null,null,null,"I点の漏洩エックス線量の計算(利用線錘方向）",null,null,null,null,"I点の漏洩エックス線量の計算(被写体・管球）",null,null,null,null,null,null,"X：空気ｶｰﾏ(表1)",null,{"$f":"+G8","v":0},{"$f":"+G68","v":0},{"$f":"+G128","v":0},null,null,null,null,null,null,null,null,null,null,null,null,null,null,null,null,null,null,null,null,null,null,null,null,null,null,"1)直接線用"]
[null,null,null,null,"Ep=",{"$f":"IF(A点!$AQ$4=3,\"\",IF(A点!$AQ$5>0,\"No Data\",F15+F75+F135))","v":""},"μSv/3ヶ月",null,null,"Es＝",{"$f":"IF(A点!$AQ$4=3,\"\",IF(A点!$AQ$5>0,\"No Data\",K15+K75+K135))","v":""},"μSv/3ヶ月",null,null,null,"空気ｶｰﾏ率(表8)",null,{"$f":"+K11","v":0},{"$f":"+K71","v":0},{"$f":"+K131","v":0},null,null,null,null,null,null,null,null,null,null,null,null,null,null,null,null,null,null,null,null,null,null,null,null,null,null,"遮蔽厚参照値"]
[null,null,null,null,null,null,null,null,null,"EL＝",{"$f":"IF(A点!$AQ$4=3,\"\",IF(A点!$AQ$5>0,\"No Data\",K16+K76+K136))","v":""},"μSv/3ヶ月",null,null,null,"E/Ka（表10）",null,{"$f":"+G11","v":0},{"$f":"+G71","v":0},{"$f":"+G131","v":0},null,null,null,null,null,null,null,null,null,null,null,null,null,null,null,null,null,null,null,null,null,null,null,null,null,null,null,null,"I点","I'点","I\"点"]
[null,null,null,null,null,null,null,null,null,"合計",{"$f":"IF(A点!$AQ$4=3,\"\",IF(A点!$AQ$5>0,\"No Data\",K17+K77+K137))","v":""},null,null,null,null,"対向板Dt",null,{"$f":"+R10","v":""},{"$f":"+R70","v":""},{"$f":"+R130","v":""},null,null,null,null,null,null,null,null,null,null,null,null,null,null,null,null,null,null,null,null,null,null,null,null,null,null,null,"Pb",{"$f":"IF($G27=0,\"\",IF($G27<=3,INT(10*$G27)/10,IF($G27>4,4,0.5*INT($G27/0.5))))","v":""},{"$f":"IF($M27=0,\"\",IF($M27<=3,INT(10*$M27)/10,IF($M27>4,4,0.5*INT($M27/0.5))))","v":""},{"$f":"IF($S27=0,\"\",IF($S27<=3,INT(10*$S27)/10,IF($S27>4,4,0.5*INT($S27/0.5))))","v":""}]
[null,null,null,null,null,null,null,null,null,null,null,null,null,null,null,null,null,null,null,null,null,null,null,null,null,null,null,null,null,null,null,null,null,null,null,null,null,null,null,null,null,null,null,null,null,null,null,"ｺﾝｸﾘ",{"$f":"IF($G29=0,\"\",IF($G29<=300,INT($G29/10)*10,IF($G29>400,400,50*INT($G29/50))))","v":""},{"$f":"IF($M29=0,\"\",IF($M29<=300,INT($M29/10)*10,IF($M29>400,400,50*INT($M29/50))))","v":""},{"$f":"IF($S29=0,\"\",IF($S29<=300,INT($S29/10)*10,IF($S29>400,400,50*INT($S29/50))))","v":""}]
[null,"透視装置",null,"①　X：空気ｶｰﾏ：表1",null,null,null,"④　使用係数",null,null,null,"Ｕ＝",1,null,null,"1)対向板による一次線の減衰(表２)",null,null,null,null,null,null,"I点",null,null,null,null,null,null,"リスト",{"$f":"入力用シート!BQ2","v":"密度比"},null,null,null,null,null,null,null,null,null,null,null,null,null,null,null,null,"Fe",{"$f":"IF($G31=0,\"\",IF($G31<=30,INT($G31),IF($G31>40,40,5*INT($G31/5))))","v":""},{"$f":"IF($M31=0,\"\",IF($M31<=30,INT($M31),IF($M31>40,40,5*INT($M31/5))))","v":""},{"$f":"IF($S31=0,\"\",IF($S31<=30,INT($S31),IF($S31>40,40,5*INT($S31/5))))","v":""}]
[null,null,null,null,"採用管電圧",{"$f":"A点!$F$8","v":0},{"$f":"A点!$G$8","v":0},"⑤　居住係数",null,null,null,"Ｔ＝",1,null,null,null,null,"等価厚さ",{"$f":"入力用シート!$AA$8","v":0},"mm",null,null,{"$f":"入力用シート!N86","v":0},{"$f":"入力用シート!P86","v":0},{"$f":"入力用シート!R86","v":0},{"$f":"入力用シート!T86","v":0},{"$f":"入力用シート!V86","v":0},{"$f":"入力用シート!X86","v":0},null,"Pb",{"$f":"入力用シート!BQ3","v":0.96916299559471364},null,null,null,null,null,null,null,null,null,null,null,null,null,null,null,null,"石膏",{"$f":"IF($G33=0,\"\",IF($G33<=30,INT($G33),IF($G33>40,40,5*INT($G33/5))))","v":""},{"$f":"IF($M33=0,\"\",IF($M33<=30,INT($M33),IF($M33>40,40,5*INT($M33/5))))","v":""},{"$f":"IF($S33=0,\"\",IF($S33<=30,INT($S33),IF($S33>40,40,5*INT($S33/5))))","v":""}]
[null,null,null,null,"電流",{"$f":"A点!$F$9","v":0},null,"⑥　距離",null,null,null,"d1=",{"$f":"入力用シート!E$86","v":0},"ｍ",null,null,"使用管電圧",{"$f":"A点!$AL$5","v":0},null,null,null,null,{"$f":"入力用シート!N87","v":0},{"$f":"入力用シート!P87","v":0},{"$f":"入力用シート!R87","v":0},{"$f":"入力用シート!T87","v":0},{"$f":"入力用シート!V87","v":0},{"$f":"入力用シート!X87","v":0},null,"ｺﾝｸﾘ",{"$f":"入力用シート!BQ4","v":0.8936170212765957},null,null,null,null,null,null,null,null,null,null,null,null,null,null,null,null,"ｶﾞﾗｽ",{"$f":"IF($G35=0,\"\",IF($G35<=30,INT($G35),IF($G35>40,40,5*INT($G35/5))))","v":""},{"$f":"IF($M35=0,\"\",IF($M35<=30,INT($M35),IF($M35>40,40,5*INT($M35/5))))","v":""},{"$f":"IF($S35=0,\"\",IF($S35<=30,INT($S35),IF($S35>40,40,5*INT($S35/5))))","v":""}]
[null,null,null,"②　E/Ka：空気カーマ換算係数（表10）",null,null,null,"⑧　照射野400cm2空気ｶｰﾏ率表8",null,null,null,"d2=",{"$f":"入力用シート!G$86","v":0},"ｍ",null,null,"透過率",{"$f":"IF(A点!$AL$8=\"○\",\"\",IF(A点!$AL$8=1,\"データなし\",IF($S8>3,HLOOKUP($R9,'表２(Pb)'!$B$3:$Y$36,32+ROUNDDOWN(($S8-3)/0.5,0),0),HLOOKUP($R9,'表２(Pb)'!$B$3:$Y$36,2+S8/0.1,0))))","v":""},null,null,null,null,"Pb","ｺﾝｸﾘ","Fe","石膏","ｶﾞﾗｽ","木材",null,"Fe",{"$f":"入力用シート!BQ5","v":0.98339719029374206},null,null,null,null,null,null,null,null,null,null,null,null,null,null,null,null,"木材",{"$f":"IF($G37=0,\"\",IF($G37<=300,INT($G37/10)*10,IF($G37>400,400,50*INT($G37/50))))","v":""},{"$f":"IF($M37=0,\"\",IF($M37<=300,INT($M37/10)*10,IF($M37>400,400,50*INT($M37/50))))","v":""},{"$f":"IF($S37=0,\"\",IF($S37<=300,INT($S37/10)*10,IF($S37>400,400,50*INT($S37/50))))","v":""}]
[null,null,null,null,"採用管電圧",{"$f":"A点!$F$11","v":0},{"$f":"A点!$G$11","v":0},null,null,null,{"$f":"A点!$AL$7","v":0},"d3=",{"$f":"入力用シート!I$86","v":0},"ｍ",null,null,null,null,null,null,null,1,{"$f":"IF($W8=\"Pb\",$W9,0)","v":0},{"$f":"IF($W8=\"ｺﾝｸﾘ\",$W9,0)","v":0},{"$f":"IF($W8=\"Fe\",$W9,0)","v":0},{"$f":"IF($W8=\"石膏\",$W9,0)","v":0},{"$f":"IF($W8=\"ｶﾞﾗｽ\",$W9,0)","v":0},{"$f":"IF($W8=\"木材\",$W9,0)","v":0},null,"石膏",{"$f":"入力用シート!BQ6","v":1}]
[null,null,null,"③　W：３Ｍ実効稼動負荷",null,"合計",{"$f":"13*(入力用シート!$L$22*入力用シート!$Q$22*60*入力用シート!$L$23*入力用シート!$Q$23)","v":0},"⑨　受像面照射野",null,null,{"$f":"入力用シート!$E$16","v":1225},"d4=",{"$f":"入力用シート!K$86","v":0},"ｍ",null,null,null,null,null,null,null,2,{"$f":"IF($X8=\"Pb\",$X9,0)","v":0},{"$f":"IF($X8=\"ｺﾝｸﾘ\",$X9,0)","v":0},{"$f":"IF($X8=\"Fe\",$X9,0)","v":0},{"$f":"IF($X8=\"石膏\",$X9,0)","v":0},{"$f":"IF($X8=\"ｶﾞﾗｽ\",$X9,0)","v":0},{"$f":"IF($X8=\"木材\",$X9,0)","v":0},null,"ｶﾞﾗｽ",{"$f":"入力用シート!BQ7","v":0.9765625},null,null,null,null,null,null,null,null,null,null,null,null,null,null,null,"2)散乱線用"]
[null,null,null,null,null,null,null,"⑩　tw：３月間における稼働時間(h)",null,null,null,null,{"$f":"IF(F9=0,0,G12/(F9*3600))","v":0},null,null,"機器の種類",null,"管容器からの空気ｶｰﾏ率（mGy/h）",null,null,null,3,{"$f":"IF($Y8=\"Pb\",$Y9,0)","v":0},{"$f":"IF($Y8=\"ｺﾝｸﾘ\",$Y9,0)","v":0},{"$f":"IF($Y8=\"Fe\",$Y9,0)","v":0},{"$f":"IF($Y8=\"石膏\",$Y9,0)","v":0},{"$f":"IF($Y8=\"ｶﾞﾗｽ\",$Y9,0)","v":0},{"$f":"IF($Y8=\"木材\",$Y9,0)","v":0},null,"木材",{"$f":"入力用シート!BQ8","v":1},null,null,null,null,null,null,null,null,null,null,null,null,null,null,null,"遮蔽厚参照値"]
[null,null,null,"I点の漏洩エックス線量の計算(利用線錘方向）",null,null,null,null,"I点の漏洩エックス線量の計算(被写体・管球）",null,null,null,null,null,1,"1:治療用ｴｯｸｽ線装置（≦50ｋV）",null,1,"選んだ機器",null,null,4,{"$f":"IF($Z8=\"Pb\",$Z9,0)","v":0},{"$f":"IF($Z8=\"ｺﾝｸﾘ\",$Z9,0)","v":0},{"$f":"IF($Z8=\"Fe\",$Z9,0)","v":0},{"$f":"IF($Z8=\"石膏\",$Z9,0)","v":0},{"$f":"IF($Z8=\"ｶﾞﾗｽ\",$Z9,0)","v":0},{"$f":"IF($Z8=\"木材\",$Z9,0)","v":0},null,null,null,null,null,null,null,null,null,null,null,null,null,null,null,null,null,null,null,null,"I点","I'点","I\"点"]
[null,null,null,null,"Ea=",{"$f":"MAX(F21,L21,R21)","v":0},"μSv/3ヶ月",null,null,"Es＝",{"$f":"MAX(F59,L59,R59)","v":0},"μSv/3ヶ月",null,null,2,"2:治療用ｴｯｸｽ線装置（＞50ｋV）",null,10,{"$f":"入力用シート!$C$7","v":0},null,null,5,{"$f":"IF($AA8=\"Pb\",$AA9,0)","v":0},{"$f":"IF($AA8=\"ｺﾝｸﾘ\",$AA9,0)","v":0},{"$f":"IF($AA8=\"Fe\",$AA9,0)","v":0},{"$f":"IF($AA8=\"石膏\",$AA9,0)","v":0},{"$f":"IF($AA8=\"ｶﾞﾗｽ\",$AA9,0)","v":0},{"$f":"IF($AA8=\"木材\",$AA9,0)","v":0},null,null,null,null,null,null,null,null,null,null,null,null,null,null,null,null,null,null,null,"Pb",{"$f":"IF($H27=0,\"\",IF($H27<=3,INT(10*$H27)/10,IF($H27>4,4,0.5*INT($H27/0.5))))","v":""},{"$f":"IF($N27=0,\"\",IF($N27<=3,INT(10*$N27)/10,IF($N27>4,4,0.5*INT($N27/0.5))))","v":""},{"$f":"IF($T27=0,\"\",IF($T27<=3,INT(10*$T27)/10,IF($T27>4,4,0.5*INT($T27/0.5))))","v":""}]
[null,null,null,null,null,null,null,null,null,"EL＝",{"$f":"MAX(F64,L64,R64)","v":0},"μSv/3ヶ月",null,null,3,"3:口内法撮影用X線装置（≦125ｋV）",null,0.25,"選ばれた空気ｶｰﾏ率XL",null,null,6,{"$f":"IF($AB8=\"Pb\",$AB9,0)","v":0},{"$f":"IF($AB8=\"ｺﾝｸﾘ\",$AB9,0)","v":0},{"$f":"IF($AB8=\"Fe\",$AB9,0)","v":0},{"$f":"IF($AB8=\"石膏\",$AB9,0)","v":0},{"$f":"IF($AB8=\"ｶﾞﾗｽ\",$AB9,0)","v":0},{"$f":"IF($AB8=\"木材\",$AB9,0)","v":0},null,null,null,null,null,null,null,null,null,null,null,null,null,null,null,null,null,null,null,"ｺﾝｸﾘ",{"$f":"IF($H29=0,\"\",IF($H29<=300,INT($H29/10)*10,IF($H29>400,400,50*INT($H29/50))))","v":""},{"$f":"IF($N29=0,\"\",IF($N29<=300,INT($N29/10)*10,IF($N29>400,400,50*INT($N29/50))))","v":""},{"$f":"IF($T29=0,\"\",IF($T29<=300,INT($T29/10)*10,IF($T29>400,400,50*INT($T29/50))))","v":""}]
[null,null,null,null,null,null,null,null,null,"合計",{"$f":"+K15+K16","v":0},null,null,null,4,"4:上記以外の診断用X線装置",null,1,{"$f":"IF(S15=0,0,VLOOKUP(S15,O14:R17,4,0)*1000)","v":0},null,null,null,{"$f":"SUM(W11:W16)","v":0},{"$f":"SUM(X11:X16)","v":0},0,0,0,0,"第1～6遮蔽材合計",null,null,null,null,null,null,null,null,null,null,null,null,null,null,null,null,null,null,"Fe",{"$f":"IF($H31=0,\"\",IF($H31<=30,INT($H31),IF($H31>40,40,5*INT($H31/5))))","v":""},{"$f":"IF($N31=0,\"\",IF($N31<=30,INT($N31),IF($N31>40,40,5*INT($N31/5))))","v":""},{"$f":"IF($T31=0,\"\",IF($T31<=30,INT($T31),IF($T31>40,40,5*INT($T31/5))))","v":""}]
[null,null,null,null,null,null,null,null,null,null,null,null,null,null,null,"※１：治療用装置は、装置接触可能5cmの数値であるため任意の数値に変更可能",null,null,null,null,null,null,{"$f":"SUM(W12:W16)","v":0},{"$f":"SUM(X12:X16)","v":0},0,0,0,0,"第2～6遮蔽材合計",null,null,null,null,null,null,null,null,null,null,null,null,null,null,null,null,null,null,"石膏",{"$f":"IF($H33=0,\"\",IF($H33<=30,INT($H33),IF($H33>40,40,5*INT($H33/5))))","v":""},{"$f":"IF($N33=0,\"\",IF($N33<=30,INT($N33),IF($N33>40,40,5*INT($N33/5))))","v":""},{"$f":"IF($T33=0,\"\",IF($T33<=30,INT($T33),IF($T33>40,40,5*INT($T33/5))))","v":""}]
[null,null,null,"I点の計算",null,null,null,null,null,"I'点の計算",null,null,null,null,null,"I\"点の計算",null,null,null,null,null,null,"H'点",null,null,null,null,null,null,null,null,null,null,null,null,null,null,null,null,null,null,null,null,null,null,null,null,"ｶﾞﾗｽ",{"$f":"IF($H35=0,\"\",IF($H35<=30,INT($H35),IF($H35>40,40,5*INT($H35/5))))","v":""},{"$f":"IF($N35=0,\"\",IF($N35<=30,INT($N35),IF($N35>40,40,5*INT($N35/5))))","v":""},{"$f":"IF($T35=0,\"\",IF($T35<=30,INT($T35),IF($T35>40,40,5*INT($T35/5))))","v":""}]
[null,null,null,"1) Ep：撮影方向",null,null,null,null,null,"1) Ep：撮影方向",null,null,null,null,null,"1) Ep：撮影方向",null,null,null,null,null,null,{"$f":"入力用シート!N88","v":0},{"$f":"入力用シート!P88","v":0},{"$f":"入力用シート!R88","v":0},{"$f":"入力用シート!T88","v":0},{"$f":"入力用シート!V88","v":0},{"$f":"入力用シート!X88","v":0},null,null,null,null,null,null,null,null,null,null,null,null,null,null,null,null,null,null,null,"木材",{"$f":"IF($H37=0,\"\",IF($H37<=300,INT($H37/10)*10,IF($H37>400,400,50*INT($H37/50))))","v":""},{"$f":"IF($N37=0,\"\",IF($N37<=300,INT($N37/10)*10,IF($N37>400,400,50*INT($N37/50))))","v":""},{"$f":"IF($T37=0,\"\",IF($T37<=300,INT($T37/10)*10,IF($T37>400,400,50*INT($T37/50))))","v":""}]
[null,null,null,"　",null,{"$f":"IF(OR($F8=0,$M9=0,A点!$AQ$7=1,AND($W$8=0,$W$45>0)),0,($G8*$R10*$G25*$F41*$G12*$G11*$M7*$M8)/($M9^2))","v":0},"μSv/3ヶ月",null,null,"　",null,{"$f":"IF(OR($F8=0,$M9=0,A点!$AQ$7=1,AND($W$20=0,$W$45>0)),0,($G8*$R10*$M25*$L41*$G12*$G11*$M7*$M8)/($M9^2))","v":0},"μSv/3ヶ月",null,null,"　",null,{"$f":"IF(OR($F8=0,$M9=0,A点!$AQ$7=1,AND($W$32=0,$W$45>0)),0,($G8*$R10*$S25*$R41*$G12*$G11*$M7*$M8)/($M9^2))","v":0},"μSv/3ヶ月",null,null,null,{"$f":"入力用シート!N89","v":0},{"$f":"入力用シート!P89","v":0},{"$f":"入力用シート!R89","v":0},{"$f":"入力用シート!T89","v":0},{"$f":"入力用シート!V89","v":0},{"$f":"入力用シート!X89","v":0}]
[null,null,null,null,null,null,null,null,null,null,null,null,null,null,null,null,null,null,null,null,null,null,"Pb","ｺﾝｸﾘ","Fe","石膏","ｶﾞﾗｽ","木材",null,null,null,null,null,null,null,null,null,null,null,null,null,null,null,null,null,null,"3)","遮蔽材順"]
[null,null,null,"a) 第１遮蔽材による減衰(遮蔽体がある場合透過率=1)",null,null,null,null,null,"○ 第１遮蔽材による減衰(遮蔽体がある場合透過率=1)",null,null,null,null,null,"○ 第１遮蔽材による減衰(遮蔽体がある場合透過率=1)",null,null,null,null,null,null,{"$f":"IF($W20=\"Pb\",$W21,0)","v":0},{"$f":"IF($W20=\"ｺﾝｸﾘ\",$W21,0)","v":0},{"$f":"IF($W20=\"Fe\",$W21,0)","v":0},{"$f":"IF($W20=\"石膏\",$W21,0)","v":0},{"$f":"IF($W20=\"ｶﾞﾗｽ\",$W21,0)","v":0},{"$f":"IF($W20=\"木材\",$W21,0)","v":0},null,null,null,null,null,null,null,null,null,null,null,null,null,null,null,null,null,null,null,null,"I点","I'点","I\"点"]
[null,null,null,null,null,"第1遮蔽材",{"$f":"IF($S$8>0,\"遮蔽体\",$W$8)","v":0},{"$f":"$W$8","v":0},null,null,null,"第1遮蔽材",{"$f":"IF($S$8>0,\"遮蔽体\",$W$20)","v":0},{"$f":"$W$20","v":0},null,null,null,"第1遮蔽材",{"$f":"IF($S$8>0,\"遮蔽体\",$W$32)","v":0},{"$f":"$W$32","v":0},null,null,{"$f":"IF($X20=\"Pb\",$X21,0)","v":0},{"$f":"IF($X20=\"ｺﾝｸﾘ\",$X21,0)","v":0},{"$f":"IF($X20=\"Fe\",$X21,0)","v":0},{"$f":"IF($X20=\"石膏\",$X21,0)","v":0},{"$f":"IF($X20=\"ｶﾞﾗｽ\",$X21,0)","v":0},{"$f":"IF($X20=\"木材\",$X21,0)","v":0},null,null,null,null,null,null,null,null,null,null,null,null,null,null,null,null,null,null,null,"第1遮蔽材",{"$f":"IF($AW34=\"11\",G$24,H$24)","v":0},{"$f":"IF($AW34=\"11\",M$24,N$24)","v":0},{"$f":"IF($AW34=\"11\",S$24,T$24)","v":0}]
[null,null,null,null,null,"Dt1=",{"$f":"G28*G30*G32*G34*G36*G38","v":1},{"$f":"H28*H30*H32*H34*H36*H38","v":1},null,null,null,"Dt1=",{"$f":"M28*M30*M32*M34*M36*M38","v":1},{"$f":"N28*N30*N32*N34*N36*N38","v":1},null,null,null,"Dt1=",{"$f":"S28*S30*S32*S34*S36*S38","v":1},{"$f":"T28*T30*T32*T34*T36*T38","v":1},null,null,{"$f":"IF($Y20=\"Pb\",$Y21,0)","v":0},{"$f":"IF($Y20=\"ｺﾝｸﾘ\",$Y21,0)","v":0},{"$f":"IF($Y20=\"Fe\",$Y21,0)","v":0},{"$f":"IF($Y20=\"石膏\",$Y21,0)","v":0},{"$f":"IF($Y20=\"ｶﾞﾗｽ\",$Y21,0)","v":0},{"$f":"IF($Y20=\"木材\",$Y21,0)","v":0},null,null,null,null,null,null,null,null,null,null,null,null,null,null,null,null,null,null,null,"第2遮蔽材",{"$f":"IF($AW34=\"11\",W$8,X$8)","v":0},{"$f":"IF($AW34=\"11\",W$20,X$20)","v":0},{"$f":"IF($AW34=\"11\",W$32,X$32)","v":0}]
[null,null,null,null,null,null,"一次線用","散乱線用",null,null,null,null,"一次線用","散乱線用",null,null,null,null,"一次線用","散乱線用",null,null,{"$f":"IF($Z20=\"Pb\",$Z21,0)","v":0},{"$f":"IF($Z20=\"ｺﾝｸﾘ\",$Z21,0)","v":0},{"$f":"IF($Z20=\"Fe\",$Z21,0)","v":0},{"$f":"IF($Z20=\"石膏\",$Z21,0)","v":0},{"$f":"IF($Z20=\"ｶﾞﾗｽ\",$Z21,0)","v":0},{"$f":"IF($Z20=\"木材\",$Z21,0)","v":0},null,null,null,null,null,null,null,null,null,null,null,null,null,null,null,null,null,null,null,"第3遮蔽材",{"$f":"IF($AW34=\"11\",X$8,Y$8)","v":0},{"$f":"IF($AW34=\"11\",X$20,Y$20)","v":0},{"$f":"IF($AW34=\"11\",X$32,Y$32)","v":0}]
[null,null,null,"a)　鉛(表2)",null,"等価厚さ",{"$f":"IF($G24=$W$10,$W$9*$AE$8,0)","v":0},{"$f":"IF($H24=$W$10,$W$9*$AE$8,0)","v":0},null,"a)　鉛(表2)",null,"等価厚さ",{"$f":"IF($M24=$W$22,$W$21*$AE$8,0)","v":0},{"$f":"IF($N24=$W$22,$W$21*$AE$8,0)","v":0},null,"a)　鉛(表2)",null,"等価厚さ",{"$f":"IF($S24=$W$34,$W$33*$AE$8,0)","v":0},{"$f":"IF($T24=$W$34,$W$33*$AE$8,0)","v":0},null,null,{"$f":"IF($AA20=\"Pb\",$AA21,0)","v":0},{"$f":"IF($AA20=\"ｺﾝｸﾘ\",$AA21,0)","v":0},{"$f":"IF($AA20=\"Fe\",$AA21,0)","v":0},{"$f":"IF($AA20=\"石膏\",$AA21,0)","v":0},{"$f":"IF($AA20=\"ｶﾞﾗｽ\",$AA21,0)","v":0},{"$f":"IF($AA20=\"木材\",$AA21,0)","v":0},null,null,null,null,null,null,null,null,null,null,null,null,null,null,null,null,null,null,null,"第4遮蔽材",{"$f":"IF($AW34=\"11\",Y$8,Z$8)","v":0},{"$f":"IF($AW34=\"11\",Y$20,Z$20)","v":0},{"$f":"IF($AW34=\"11\",Y$32,Z$32)","v":0}]
[null,null,null,null,null,"透過率",{"$f":"IF(OR($G27=0,A点!$AL$8=1,A点!$AL$8=\"○\"),1,INDEX('表２(Pb)'!$A$3:$Y$36,MATCH($AW5,'表２(Pb)'!$A$3:$A$36,0),MATCH($F8,'表２(Pb)'!$A$3:$Y$3,0)))","v":1},{"$f":"IF(OR($H27=0,A点!$AL$8=1,A点!$AL$8=\"○\"),1,INDEX('表２(Pb)'!$A$3:$Y$36,MATCH($AW15,'表２(Pb)'!$A$3:$A$36,0),MATCH($F8,'表２(Pb)'!$A$3:$Y$3,0)))","v":1},null,null,null,"透過率",{"$f":"IF(OR($M27=0,A点!$AL$8=1,A点!$AL$8=\"○\"),1,INDEX('表２(Pb)'!$A$3:$Y$36,MATCH($AX5,'表２(Pb)'!$A$3:$A$36,0),MATCH($F8,'表２(Pb)'!$A$3:$Y$3,0)))","v":1},{"$f":"IF(OR($N27=0,A点!$AL$8=1,A点!$AL$8=\"○\"),1,INDEX('表２(Pb)'!$A$3:$Y$36,MATCH($AX15,'表２(Pb)'!$A$3:$A$36,0),MATCH($F8,'表２(Pb)'!$A$3:$Y$3,0)))","v":1},null,null,null,"透過率",{"$f":"IF(OR($S27=0,A点!$AL$8=1,A点!$AL$8=\"○\"),1,INDEX('表２(Pb)'!$A$3:$Y$36,MATCH($AY5,'表２(Pb)'!$A$3:$A$36,0),MATCH($F8,'表２(Pb)'!$A$3:$Y$3,0)))","v":1},{"$f":"IF(OR($T27=0,A点!$AL$8=1,A点!$AL$8=\"○\"),1,INDEX('表２(Pb)'!$A$3:$Y$36,MATCH($AY15,'表２(Pb)'!$A$3:$A$36,0),MATCH($F8,'表２(Pb)'!$A$3:$Y$3,0)))","v":1},null,null,{"$f":"IF($AB20=\"Pb\",$AB21,0)","v":0},{"$f":"IF($AB20=\"ｺﾝｸﾘ\",$AB21,0)","v":0},{"$f":"IF($AB20=\"Fe\",$AB21,0)","v":0},{"$f":"IF($AB20=\"石膏\",$AB21,0)","v":0},{"$f":"IF($AB20=\"ｶﾞﾗｽ\",$AB21,0)","v":0},{"$f":"IF($AB20=\"木材\",$AB21,0)","v":0},null,null,null,null,null,null,null,null,null,null,null,null,null,null,null,null,null,null,null,"第5遮蔽材",{"$f":"IF($AW34=\"11\",Z$8,AA$8)","v":0},{"$f":"IF($AW34=\"11\",Z$20,AA$20)","v":0},{"$f":"IF($AW34=\"11\",Z$32,AA$32)","v":0}]
[null,null,null,"b)　コンクリート(表3)",null,"等価厚さ",{"$f":"IF($G24=$X$10,$W$9*$AE$9,0)","v":0},{"$f":"IF($H24=$X$10,$W$9*$AE$9,0)","v":0},null,"b)　コンクリート(表3)",null,"等価厚さ",{"$f":"IF($M24=$X$22,$W$21*$AE$9,0)","v":0},{"$f":"IF($N24=$X$22,$W$21*$AE$9,0)","v":0},null,"b)　コンクリート(表3)",null,"等価厚さ",{"$f":"IF($S24=$X$34,$W$33*$AE$9,0)","v":0},{"$f":"IF($T24=$X$34,$W$33*$AE$9,0)","v":0},null,null,{"$f":"SUM(W23:W28)","v":0},{"$f":"SUM(X23:X28)","v":0},0,0,0,0,"第1～6遮蔽材合計",null,null,null,null,null,null,null,null,null,null,null,null,null,null,null,null,null,null,"第6遮蔽材",{"$f":"IF($AW34=\"11\",AA$8,AB$8)","v":0},{"$f":"IF($AW34=\"11\",AA$20,AB$20)","v":0},{"$f":"IF($AW34=\"11\",AA$32,AB$32)","v":0}]
[null,null,null,null,null,"透過率",{"$f":"IF(OR($G29=0,A点!$AL$8=1,A点!$AL$8=\"○\"),1,INDEX('表３(コ)'!$A$3:$Y$36,MATCH($AW6,'表３(コ)'!$A$3:$A$36,0),MATCH($F8,'表３(コ)'!$A$3:$Y$3,0)))","v":1},{"$f":"IF(OR($H29=0,A点!$AL$8=1,A点!$AL$8=\"○\"),1,INDEX('表３(コ)'!$A$3:$Y$36,MATCH($AW16,'表３(コ)'!$A$3:$A$36,0),MATCH($F8,'表３(コ)'!$A$3:$Y$3,0)))","v":1},null,null,null,"透過率",{"$f":"IF(OR($M29=0,A点!$AL$8=1,A点!$AL$8=\"○\"),1,INDEX('表３(コ)'!$A$3:$Y$36,MATCH($AX6,'表３(コ)'!$A$3:$A$36,0),MATCH($F8,'表３(コ)'!$A$3:$Y$3,0)))","v":1},{"$f":"IF(OR($N29=0,A点!$AL$8=1,A点!$AL$8=\"○\"),1,INDEX('表３(コ)'!$A$3:$Y$36,MATCH($AX16,'表３(コ)'!$A$3:$A$36,0),MATCH($F8,'表３(コ)'!$A$3:$Y$3,0)))","v":1},null,null,null,"透過率",{"$f":"IF(OR($S29=0,A点!$AL$8=1,A点!$AL$8=\"○\"),1,INDEX('表３(コ)'!$A$3:$Y$36,MATCH($AY6,'表３(コ)'!$A$3:$A$36,0),MATCH($F8,'表３(コ)'!$A$3:$Y$3,0)))","v":1},{"$f":"IF(OR($T29=0,A点!$AL$8=1,A点!$AL$8=\"○\"),1,INDEX('表３(コ)'!$A$3:$Y$36,MATCH($AY16,'表３(コ)'!$A$3:$A$36,0),MATCH($F8,'表３(コ)'!$A$3:$Y$3,0)))","v":1},null,null,{"$f":"SUM(W24:W28)","v":0},{"$f":"SUM(X24:X28)","v":0},0,0,0,0,"第2～6遮蔽材合計",null,null,null,null,null,null,null,null,null,null,null,null,null,null,null,null,null,null,"第7遮蔽材",{"$f":"IF($AW34=\"11\",AB$8,\"\")","v":""},{"$f":"IF($AW34=\"11\",AB$20,\"\")","v":""},{"$f":"IF($AW34=\"11\",AB$32,\"\")","v":""}]
[null,null,null,"c)　鉄(表4)",null,"等価厚さ",{"$f":"IF($G24=$Y$10,$W$9*$AE$10,0)","v":0},{"$f":"IF($H24=$Y$10,$W$9*$AE$10,0)","v":0},null,"c)　鉄(表4)",null,"等価厚さ",{"$f":"IF($M24=$Y$22,$W$21*$AE$10,0)","v":0},{"$f":"IF($N24=$Y$22,$W$21*$AE$10,0)","v":0},null,"c)　鉄(表4)",null,"等価厚さ",{"$f":"IF($S24=$Y$34,$W$33*$AE$10,0)","v":0},{"$f":"IF($T24=$Y$34,$W$33*$AE$10,0)","v":0},null,null,"H\"点"]
[null,null,null,null,null,"透過率",{"$f":"IF(OR($G31=0,A点!$AL$8=1,A点!$AL$8=\"○\"),1,INDEX('表4(Fe)'!$A$3:$Y$36,MATCH($AW7,'表4(Fe)'!$A$3:$A$36,0),MATCH($F8,'表4(Fe)'!$A$3:$Y$3,0)))","v":1},{"$f":"IF(OR($H31=0,A点!$AL$8=1,A点!$AL$8=\"○\"),1,INDEX('表4(Fe)'!$A$3:$Y$36,MATCH($AW17,'表4(Fe)'!$A$3:$A$36,0),MATCH($F8,'表4(Fe)'!$A$3:$Y$3,0)))","v":1},null,null,null,"透過率",{"$f":"IF(OR($M31=0,A点!$AL$8=1,A点!$AL$8=\"○\"),1,INDEX('表4(Fe)'!$A$3:$Y$36,MATCH($AX7,'表4(Fe)'!$A$3:$A$36,0),MATCH($F8,'表4(Fe)'!$A$3:$Y$3,0)))","v":1},{"$f":"IF(OR($N31=0,A点!$AL$8=1,A点!$AL$8=\"○\"),1,INDEX('表4(Fe)'!$A$3:$Y$36,MATCH($AX17,'表4(Fe)'!$A$3:$A$36,0),MATCH($F8,'表4(Fe)'!$A$3:$Y$3,0)))","v":1},null,null,null,"透過率",{"$f":"IF(OR($S31=0,A点!$AL$8=1,A点!$AL$8=\"○\"),1,INDEX('表4(Fe)'!$A$3:$Y$36,MATCH($AY7,'表4(Fe)'!$A$3:$A$36,0),MATCH($F8,'表4(Fe)'!$A$3:$Y$3,0)))","v":1},{"$f":"IF(OR($T31=0,A点!$AL$8=1,A点!$AL$8=\"○\"),1,INDEX('表4(Fe)'!$A$3:$Y$36,MATCH($AY17,'表4(Fe)'!$A$3:$A$36,0),MATCH($F8,'表4(Fe)'!$A$3:$Y$3,0)))","v":1},null,null,{"$f":"入力用シート!N90","v":0},{"$f":"入力用シート!P90","v":0},{"$f":"入力用シート!R90","v":0},{"$f":"入力用シート!T90","v":0},{"$f":"入力用シート!V90","v":0},{"$f":"入力用シート!X90","v":0},null,null,null,null,null,null,null,null,null,null,null,null,null,null,null,null,null,null,null,"遮蔽体有無",{"$f":"IF($S8>0,1,0)","v":0},"遮蔽体有：１"]
[null,null,null,"d)　石膏(表5)",null,"等価厚さ",{"$f":"IF($G24=$Z$10,$W$9*$AE$11,0)","v":0},{"$f":"IF($H24=$Z$10,$W$9*$AE$11,0)","v":0},null,"d)　石膏(表5)",null,"等価厚さ",{"$f":"IF($M24=$Z$22,$W$21*$AE$11,0)","v":0},{"$f":"IF($N24=$Z$22,$W$21*$AE$11,0)","v":0},null,"d)　石膏(表5)",null,"等価厚さ",{"$f":"IF($S24=$Z$34,$W$33*$AE$11,0)","v":0},{"$f":"IF($T24=$Z$34,$W$33*$AE$11,0)","v":0},null,null,{"$f":"入力用シート!N91","v":0},{"$f":"入力用シート!P91","v":0},{"$f":"入力用シート!R91","v":0},{"$f":"入力用シート!T91","v":0},{"$f":"入力用シート!V91","v":0},{"$f":"入力用シート!X91","v":0},null,null,null,null,null,null,null,null,null,null,null,null,null,null,null,null,null,null,null,"照射方向",{"$f":"IF($M9>0,1,2)","v":2},"直接線：1、散乱線：2"]
[null,null,null,null,null,"透過率",{"$f":"IF(OR($G33=0,A点!$AL$8=1,A点!$AL$8=\"○\"),1,INDEX('表5(CaSO4)'!$A$3:$Y$36,MATCH($AW8,'表5(CaSO4)'!$A$3:$A$36,0),MATCH($F8,'表5(CaSO4)'!$A$3:$Y$3,0)))","v":1},{"$f":"IF(OR($H33=0,A点!$AL$8=1,A点!$AL$8=\"○\"),1,INDEX('表5(CaSO4)'!$A$3:$Y$36,MATCH($AW18,'表5(CaSO4)'!$A$3:$A$36,0),MATCH($F8,'表5(CaSO4)'!$A$3:$Y$3,0)))","v":1},null,null,null,"透過率",{"$f":"IF(OR($M33=0,A点!$AL$8=1,A点!$AL$8=\"○\"),1,INDEX('表5(CaSO4)'!$A$3:$Y$36,MATCH($AX8,'表5(CaSO4)'!$A$3:$A$36,0),MATCH($F8,'表5(CaSO4)'!$A$3:$Y$3,0)))","v":1},{"$f":"IF(OR($N33=0,A点!$AL$8=1,A点!$AL$8=\"○\"),1,INDEX('表5(CaSO4)'!$A$3:$Y$36,MATCH($AX18,'表5(CaSO4)'!$A$3:$A$36,0),MATCH($F8,'表5(CaSO4)'!$A$3:$Y$3,0)))","v":1},null,null,null,"透過率",{"$f":"IF(OR($S33=0,A点!$AL$8=1,A点!$AL$8=\"○\"),1,INDEX('表5(CaSO4)'!$A$3:$Y$36,MATCH($AY8,'表5(CaSO4)'!$A$3:$A$36,0),MATCH($F8,'表5(CaSO4)'!$A$3:$Y$3,0)))","v":1},{"$f":"IF(OR($T33=0,A点!$AL$8=1,A点!$AL$8=\"○\"),1,INDEX('表5(CaSO4)'!$A$3:$Y$36,MATCH($AY18,'表5(CaSO4)'!$A$3:$A$36,0),MATCH($F8,'表5(CaSO4)'!$A$3:$Y$3,0)))","v":1},null,null,"Pb","ｺﾝｸﾘ","Fe","石膏","ｶﾞﾗｽ","木材",null,null,null,null,null,null,null,null,null,null,null,null,null,null,null,null,null,null,null,"判定コード",{"$f":"AW32&AW33","v":"02"}]
[null,null,null,"e）　ガラス(表6)",null,"等価厚さ",{"$f":"IF($G24=$AA$10,$W$9*$AE$12,0)","v":0},{"$f":"IF($H24=$AA$10,$W$9*$AE$12,0)","v":0},null,"e）　ガラス(表6)",null,"等価厚さ",{"$f":"IF($M24=$AA$22,$W$21*$AE$12,0)","v":0},{"$f":"IF($N24=$AA$22,$W$21*$AE$12,0)","v":0},null,"e）　ガラス(表6)",null,"等価厚さ",{"$f":"IF($S24=$AA$34,$W$33*$AE$12,0)","v":0},{"$f":"IF($T24=$AA$34,$W$33*$AE$12,0)","v":0},null,null,{"$f":"IF($W32=\"Pb\",$W33,0)","v":0},{"$f":"IF($W32=\"ｺﾝｸﾘ\",$W33,0)","v":0},{"$f":"IF($W32=\"Fe\",$W33,0)","v":0},{"$f":"IF($W32=\"石膏\",$W33,0)","v":0},{"$f":"IF($W32=\"ｶﾞﾗｽ\",$W33,0)","v":0},{"$f":"IF($W32=\"木材\",$W33,0)","v":0}]
[null,null,null,null,null,"透過率",{"$f":"IF(OR($G35=0,A点!$AL$8=1,A点!$AL$8=\"○\"),1,INDEX('表6(SiO2)'!$A$3:$Y$36,MATCH($AW9,'表6(SiO2)'!$A$3:$A$36,0),MATCH($F8,'表6(SiO2)'!$A$3:$Y$3,0)))","v":1},{"$f":"IF(OR($H35=0,A点!$AL$8=1,A点!$AL$8=\"○\"),1,INDEX('表6(SiO2)'!$A$3:$Y$36,MATCH($AW19,'表6(SiO2)'!$A$3:$A$36,0),MATCH($F8,'表6(SiO2)'!$A$3:$Y$3,0)))","v":1},null,null,null,"透過率",{"$f":"IF(OR($M35=0,A点!$AL$8=1,A点!$AL$8=\"○\"),1,INDEX('表6(SiO2)'!$A$3:$Y$36,MATCH($AX9,'表6(SiO2)'!$A$3:$A$36,0),MATCH($F8,'表6(SiO2)'!$A$3:$Y$3,0)))","v":1},{"$f":"IF(OR($N35=0,A点!$AL$8=1,A点!$AL$8=\"○\"),1,INDEX('表6(SiO2)'!$A$3:$Y$36,MATCH($AX19,'表6(SiO2)'!$A$3:$A$36,0),MATCH($F8,'表6(SiO2)'!$A$3:$Y$3,0)))","v":1},null,null,null,"透過率",{"$f":"IF(OR($S35=0,A点!$AL$8=1,A点!$AL$8=\"○\"),1,INDEX('表6(SiO2)'!$A$3:$Y$36,MATCH($AY9,'表6(SiO2)'!$A$3:$A$36,0),MATCH($F8,'表6(SiO2)'!$A$3:$Y$3,0)))","v":1},{"$f":"IF(OR($T35=0,A点!$AL$8=1,A点!$AL$8=\"○\"),1,INDEX('表6(SiO2)'!$A$3:$Y$36,MATCH($AY19,'表6(SiO2)'!$A$3:$A$36,0),MATCH($F8,'表6(SiO2)'!$A$3:$Y$3,0)))","v":1},null,null,{"$f":"IF($X32=\"Pb\",$X33,0)","v":0},{"$f":"IF($X32=\"ｺﾝｸﾘ\",$X33,0)","v":0},{"$f":"IF($X32=\"Fe\",$X33,0)","v":0},{"$f":"IF($X32=\"石膏\",$X33,0)","v":0},{"$f":"IF($X32=\"ｶﾞﾗｽ\",$X33,0)","v":0},{"$f":"IF($X32=\"木材\",$X33,0)","v":0}]
[null,null,null,"f)　木材(表7)",null,"等価厚さ",{"$f":"IF($G24=$AB$10,$W$9*$AE$13,0)","v":0},{"$f":"IF($H24=$AB$10,$W$9*$AE$13,0)","v":0},null,"f)　木材(表7)",null,"等価厚さ",{"$f":"IF($M24=$AB$22,$W$21*$AE$13,0)","v":0},{"$f":"IF($N24=$AB$22,$W$21*$AE$13,0)","v":0},null,"f)　木材(表7)",null,"等価厚さ",{"$f":"IF($S24=$AB$34,$W$33*$AE$13,0)","v":0},{"$f":"IF($T24=$AB$34,$W$33*$AE$13,0)","v":0},null,null,{"$f":"IF($Y32=\"Pb\",$Y33,0)","v":0},{"$f":"IF($Y32=\"ｺﾝｸﾘ\",$Y33,0)","v":0},{"$f":"IF($Y32=\"Fe\",$Y33,0)","v":0},{"$f":"IF($Y32=\"石膏\",$Y33,0)","v":0},{"$f":"IF($Y32=\"ｶﾞﾗｽ\",$Y33,0)","v":0},{"$f":"IF($Y32=\"木材\",$Y33,0)","v":0}]
[null,null,null,null,null,"透過率",{"$f":"IF(OR($G37=0,A点!$AL$8=1,A点!$AL$8=\"○\"),1,INDEX('表7(木)'!$A$3:$Y$36,MATCH($AW10,'表7(木)'!$A$3:$A$36,0),MATCH($F8,'表7(木)'!$A$3:$Y$3,0)))","v":1},{"$f":"IF(OR($H37=0,A点!$AL$8=1,A点!$AL$8=\"○\"),1,INDEX('表7(木)'!$A$3:$Y$36,MATCH($AW20,'表7(木)'!$A$3:$A$36,0),MATCH($F8,'表7(木)'!$A$3:$Y$3,0)))","v":1},null,null,null,"透過率",{"$f":"IF(OR($M37=0,A点!$AL$8=1,A点!$AL$8=\"○\"),1,INDEX('表7(木)'!$A$3:$Y$36,MATCH($AX10,'表7(木)'!$A$3:$A$36,0),MATCH($F8,'表7(木)'!$A$3:$Y$3,0)))","v":1},{"$f":"IF(OR($N37=0,A点!$AL$8=1,A点!$AL$8=\"○\"),1,INDEX('表7(木)'!$A$3:$Y$36,MATCH($AX20,'表7(木)'!$A$3:$A$36,0),MATCH($F8,'表7(木)'!$A$3:$Y$3,0)))","v":1},null,null,null,"透過率",{"$f":"IF(OR($S37=0,A点!$AL$8=1,A点!$AL$8=\"○\"),1,INDEX('表7(木)'!$A$3:$Y$36,MATCH($AY10,'表7(木)'!$A$3:$A$36,0),MATCH($F8,'表7(木)'!$A$3:$Y$3,0)))","v":1},{"$f":"IF(OR($T37=0,A点!$AL$8=1,A点!$AL$8=\"○\"),1,INDEX('表7(木)'!$A$3:$Y$36,MATCH($AY20,'表7(木)'!$A$3:$A$36,0),MATCH($F8,'表7(木)'!$A$3:$Y$3,0)))","v":1},null,null,{"$f":"IF($Z32=\"Pb\",$Z33,0)","v":0},{"$f":"IF($Z32=\"ｺﾝｸﾘ\",$Z33,0)","v":0},{"$f":"IF($Z32=\"Fe\",$Z33,0)","v":0},{"$f":"IF($Z32=\"石膏\",$Z33,0)","v":0},{"$f":"IF($Z32=\"ｶﾞﾗｽ\",$Z33,0)","v":0},{"$f":"IF($Z32=\"木材\",$Z33,0)","v":0}]
[null,null,null,null,null,null,null,null,null,null,null,null,null,null,null,null,null,null,null,null,null,null,{"$f":"IF($AA32=\"Pb\",$AA33,0)","v":0},{"$f":"IF($AA32=\"ｺﾝｸﾘ\",$AA33,0)","v":0},{"$f":"IF($AA32=\"Fe\",$AA33,0)","v":0},{"$f":"IF($AA32=\"石膏\",$AA33,0)","v":0},{"$f":"IF($AA32=\"ｶﾞﾗｽ\",$AA33,0)","v":0},{"$f":"IF($AA32=\"木材\",$AA33,0)","v":0}]
[null,null,null,"b)　第２遮蔽材以後による一次線の減衰表9",null,null,null,null,null,"2)　第２遮蔽材以後による一次線の減衰表9",null,null,null,null,null,"2)　第２遮蔽材以後による一次線の減衰表9",null,null,null,null,null,null,{"$f":"IF($AB32=\"Pb\",$AB33,0)","v":0},{"$f":"IF($AB32=\"ｺﾝｸﾘ\",$AB33,0)","v":0},{"$f":"IF($AB32=\"Fe\",$AB33,0)","v":0},{"$f":"IF($AB32=\"石膏\",$AB33,0)","v":0},{"$f":"IF($AB32=\"ｶﾞﾗｽ\",$AB33,0)","v":0},{"$f":"IF($AB32=\"木材\",$AB33,0)","v":0}]
[null,null,null,null,"Dt2=",{"$f":"F44*F46*F48*F50*F52*F54","v":0},{"$f":"G44*G46*G48*G50*G52*G54","v":0},0,null,null,"Dt2=",{"$f":"L44*L46*L48*L50*L52*L54","v":0},{"$f":"M44*M46*M48*M50*M52*M54","v":0},0,null,null,"Dt2=",{"$f":"R44*R46*R48*R50*R52*R54","v":0},{"$f":"S44*S46*S48*S50*S52*S54","v":0},0,null,null,{"$f":"SUM(W35:W40)","v":0},{"$f":"SUM(X35:X40)","v":0},0,0,0,0,"第1～6遮蔽材合計"]
[null,null,null,null,null,"一次線用","散乱線用","漏洩線用",null,null,null,"一次線用","散乱線用","漏洩線用",null,null,null,"一次線用","散乱線用","漏洩線用",null,null,{"$f":"SUM(W36:W40)","v":0},{"$f":"SUM(X36:X40)","v":0},0,0,0,0,"第2～6遮蔽材合計"]
[null,null,null,"a)　鉛(表9)","半価層(mm)",{"$f":"IF(OR(A点!$AL$8=1,A点!$AL$8=\"○\"),\"\",VLOOKUP($F8,'表9(BB)'!$A$4:$M$27,2,0))","v":""},null,null,null,"a)　鉛(表9)","半価層(mm)",{"$f":"IF(OR(A点!$AL$8=1,A点!$AL$8=\"○\"),\"\",VLOOKUP($F8,'表9(BB)'!$A$4:$M$27,2,0))","v":""},null,null,null,"a)　鉛(表9)","半価層(mm)",{"$f":"IF(OR(A点!$AL$8=1,A点!$AL$8=\"○\"),\"\",VLOOKUP($F8,'表9(BB)'!$A$4:$M$27,2,0))","v":""}]
[null,null,null,null,"透過率",{"$f":"IF($S$8>0,$H44,$G44)","v":0},{"$f":"IF($F43=\"\",0,(1/2)^($W18*$AE$8/$F43))","v":0},{"$f":"IF($F43=\"\",0,(1/2)^($W17*$AE$8/$F43))","v":0},null,null,"透過率",{"$f":"IF($S$8>0,$N44,$M44)","v":0},{"$f":"IF($L43=\"\",0,(1/2)^($W30*$AE$8/$L43))","v":0},{"$f":"IF($L43=\"\",0,(1/2)^($W29*$AE$8/$L43))","v":0},null,null,"透過率",{"$f":"IF($S$8>0,$T44,$S44)","v":0},{"$f":"IF($R43=\"\",0,(1/2)^($W42*$AE$8/$R43))","v":0},{"$f":"IF($R43=\"\",0,(1/2)^($W41*$AE$8/$R43))","v":0},null,null,"遮蔽材判定"]
[null,null,null,"b)　コンクリート(表9)","半価層(mm)",{"$f":"IF(OR(A点!$AL$8=1,A点!$AL$8=\"○\"),\"\",VLOOKUP($F8,'表9(BB)'!$A$4:$M$27,4,0))","v":""},null,null,null,"b)　コンクリート(表9)","半価層(mm)",{"$f":"IF(OR(A点!$AL$8=1,A点!$AL$8=\"○\"),\"\",VLOOKUP($F8,'表9(BB)'!$A$4:$M$27,4,0))","v":""},null,null,null,"b)　コンクリート(表9)","半価層(mm)",{"$f":"IF(OR(A点!$AL$8=1,A点!$AL$8=\"○\"),\"\",VLOOKUP($F8,'表9(BB)'!$A$4:$M$27,4,0))","v":""},null,null,null,null,{"$f":"SUM(W17:AB17)+SUM(W29:AB29)+SUM(W41:AB41)","v":0}]
[null,null,null,null,"透過率",{"$f":"IF($S$8>0,$H46,$G46)","v":0},{"$f":"IF($F45=\"\",0,(1/2)^($X18*$AE$9/$F45))","v":0},{"$f":"IF($F45=\"\",0,(1/2)^($X17*$AE$9/$F45))","v":0},null,null,"透過率",{"$f":"IF($S$8>0,$N46,$M46)","v":0},{"$f":"IF($L45=\"\",0,(1/2)^($X30*$AE$9/$L45))","v":0},{"$f":"IF($L45=\"\",0,(1/2)^($X29*$AE$9/$L45))","v":0},null,null,"透過率",{"$f":"IF($S$8>0,$T46,$S46)","v":0},{"$f":"IF($R45=\"\",0,(1/2)^($X42*$AE$9/$R45))","v":0},{"$f":"IF($R45=\"\",0,(1/2)^($X41*$AE$9/$R45))","v":0}]
[null,null,null,"c)　鉄(表9)","半価層(mm)",{"$f":"IF(OR(A点!$AL$8=1,A点!$AL$8=\"○\"),\"\",VLOOKUP($F8,'表9(BB)'!$A$4:$M$27,6,0))","v":""},null,null,null,"c)　鉄(表9)","半価層(mm)",{"$f":"IF(OR(A点!$AL$8=1,A点!$AL$8=\"○\"),\"\",VLOOKUP($F8,'表9(BB)'!$A$4:$M$27,6,0))","v":""},null,null,null,"c)　鉄(表9)","半価層(mm)",{"$f":"IF(OR(A点!$AL$8=1,A点!$AL$8=\"○\"),\"\",VLOOKUP($F8,'表9(BB)'!$A$4:$M$27,6,0))","v":""}]
[null,null,null,null,"透過率",{"$f":"IF($S$8>0,$H48,$G48)","v":0},{"$f":"IF($F47=\"\",0,(1/2)^($Y18*$AE$10/$F47))","v":0},{"$f":"IF($F47=\"\",0,(1/2)^($Y17*$AE$10/$F47))","v":0},null,null,"透過率",{"$f":"IF($S$8>0,$N48,$M48)","v":0},{"$f":"IF($L47=\"\",0,(1/2)^($Y30*$AE$10/$L47))","v":0},{"$f":"IF($L47=\"\",0,(1/2)^($Y29*$AE$10/$L47))","v":0},null,null,"透過率",{"$f":"IF($S$8>0,$T48,$S48)","v":0},{"$f":"IF($R47=\"\",0,(1/2)^($Y42*$AE$10/$R47))","v":0},{"$f":"IF($R47=\"\",0,(1/2)^($Y41*$AE$10/$R47))","v":0}]
[null,null,null,"d)　石膏(表9)","半価層(mm)",{"$f":"IF(OR(A点!$AL$8=1,A点!$AL$8=\"○\"),\"\",VLOOKUP($F8,'表9(BB)'!$A$4:$M$27,8,0))","v":""},null,null,null,"d)　石膏(表9)","半価層(mm)",{"$f":"IF(OR(A点!$AL$8=1,A点!$AL$8=\"○\"),\"\",VLOOKUP($F8,'表9(BB)'!$A$4:$M$27,8,0))","v":""},null,null,null,"d)　石膏(表9)","半価層(mm)",{"$f":"IF(OR(A点!$AL$8=1,A点!$AL$8=\"○\"),\"\",VLOOKUP($F8,'表9(BB)'!$A$4:$M$27,8,0))","v":""}]
[null,null,null,null,"透過率",{"$f":"IF($S$8>0,$H50,$G50)","v":0},{"$f":"IF($F49=\"\",0,(1/2)^($Z18*$AE$11/$F49))","v":0},{"$f":"IF($F49=\"\",0,(1/2)^($Z17*$AE$11/$F49))","v":0},null,null,"透過率",{"$f":"IF($S$8>0,$N50,$M50)","v":0},{"$f":"IF($L49=\"\",0,(1/2)^($Z30*$AE$11/$L49))","v":0},{"$f":"IF($L49=\"\",0,(1/2)^($Z29*$AE$11/$L49))","v":0},null,null,"透過率",{"$f":"IF($S$8>0,$T50,$S50)","v":0},{"$f":"IF($R49=\"\",0,(1/2)^($Z42*$AE$11/$R49))","v":0},{"$f":"IF($R49=\"\",0,(1/2)^($Z41*$AE$11/$R49))","v":0}]
[null,null,null,"e）　ガラス(表9)","半価層(mm)",{"$f":"IF(OR(A点!$AL$8=1,A点!$AL$8=\"○\"),\"\",VLOOKUP($F8,'表9(BB)'!$A$4:$M$27,10,0))","v":""},null,null,null,"e）　ガラス(表9)","半価層(mm)",{"$f":"IF(OR(A点!$AL$8=1,A点!$AL$8=\"○\"),\"\",VLOOKUP($F8,'表9(BB)'!$A$4:$M$27,10,0))","v":""},null,null,null,"e）　ガラス(表9)","半価層(mm)",{"$f":"IF(OR(A点!$AL$8=1,A点!$AL$8=\"○\"),\"\",VLOOKUP($F8,'表9(BB)'!$A$4:$M$27,10,0))","v":""}]
[null,null,null,null,"透過率",{"$f":"IF($S$8>0,$H52,$G52)","v":0},{"$f":"IF($F51=\"\",0,(1/2)^($AA18*$AE$12/$F51))","v":0},{"$f":"IF($F51=\"\",0,(1/2)^($AA17*$AE$12/$F51))","v":0},null,null,"透過率",{"$f":"IF($S$8>0,$N52,$M52)","v":0},{"$f":"IF($L51=\"\",0,(1/2)^($AA30*$AE$12/$L51))","v":0},{"$f":"IF($L51=\"\",0,(1/2)^($AA29*$AE$12/$L51))","v":0},null,null,"透過率",{"$f":"IF($S$8>0,$T52,$S52)","v":0},{"$f":"IF($R51=\"\",0,(1/2)^($AA42*$AE$12/$R51))","v":0},{"$f":"IF($R51=\"\",0,(1/2)^($AA41*$AE$12/$R51))","v":0}]
[null,null,null,"f)　木材(表9)","半価層(mm)",{"$f":"IF(OR(A点!$AL$8=1,A点!$AL$8=\"○\"),\"\",VLOOKUP($F8,'表9(BB)'!$A$4:$M$27,12,0))","v":""},null,null,null,"f)　木材(表9)","半価層(mm)",{"$f":"IF(OR(A点!$AL$8=1,A点!$AL$8=\"○\"),\"\",VLOOKUP($F8,'表9(BB)'!$A$4:$M$27,12,0))","v":""},null,null,null,"f)　木材(表9)","半価層(mm)",{"$f":"IF(OR(A点!$AL$8=1,A点!$AL$8=\"○\"),\"\",VLOOKUP($F8,'表9(BB)'!$A$4:$M$27,12,0))","v":""}]
[null,null,null,null,"透過率",{"$f":"IF($S$8>0,$H54,$G54)","v":0},{"$f":"IF($F53=\"\",0,(1/2)^($AB18*$AE$13/$F53))","v":0},{"$f":"IF($F53=\"\",0,(1/2)^($AB17*$AE$13/$F53))","v":0},null,null,"透過率",{"$f":"IF($S$8>0,$N54,$M54)","v":0},{"$f":"IF($L53=\"\",0,(1/2)^($AB$30*$AE$13/$L$53))","v":0},{"$f":"IF($L53=\"\",0,(1/2)^($AB$29*$AE$13/$L$53))","v":0},null,null,"透過率",{"$f":"IF($S$8>0,$T54,$S54)","v":0},{"$f":"IF($R53=\"\",0,(1/2)^($AB42*$AE$13/$R53))","v":0},{"$f":"IF($R53=\"\",0,(1/2)^($AB41*$AE$13/$R53))","v":0}]
[]
[]
[null,null,null,"2)　Es：散乱エックス線の漏洩線量(散乱角90度)",null,null,null,null,null,"2)　Es：散乱エックス線の漏洩線量(散乱角90度)",null,null,null,null,null,"2)　Es：散乱エックス線の漏洩線量(散乱角90度)"]
[null,null,null,null,"Dt=",{"$f":"H25*G41","v":0},null,null,null,null,"Dt=",{"$f":"N25*M41","v":0},null,null,null,null,"Dt=",{"$f":"T25*S41","v":0}]
[null,null,null,null,"Es=",{"$f":"IF(OR($F8=0,$M10=0,$M11=0,AND($W$8=0,$W$45>0),A点!$AQ$7=1),0,$G8*F58*$G12*$G11*$M7*$M8*($K11/100)*$K12/(400*($M10^2)*($M11^2)))","v":0},"μSv/3ヶ月",null,null,null,"Es=",{"$f":"IF(OR($F8=0,$M10=0,$M11=0,AND($W$20=0,$W$45>0),A点!$AQ$7=1),0,$G8*$G12*$G11*L58*$M7*$M8*($K11/100)*$K12/(400*($M10^2)*($M11^2)))","v":0},"μSv/3ヶ月",null,null,null,"Es=",{"$f":"IF(OR($F8=0,$M10=0,$M11=0,AND($W$32=0,$W$45>0),A点!$AQ$7=1),0,$G8*$G12*$G11*R58*$M7*$M8*($K11/100)*$K12/(400*($M10^2)*($M11^2)))","v":0},"μSv/3ヶ月"]
[]
[]
[null,null,null,"3)　EL：エックス線管容器からの漏洩線量(最大見積)",null,null,null,null,null,"3)　EL：エックス線管容器からの漏洩線量(最大見積)",null,null,null,null,null,"3)　EL：エックス線管容器からの漏洩線量(最大見積)"]
[]
[null,null,null,null,"EL=",{"$f":"IF(OR($F8=0,$M12=0,A点!$AQ$7=1,AND($W$8=0,$W$45>0)),0,$S17*$G11*$M13*H41*$M7*$M8/($M12^2))","v":0},"μGy/h",null,null,null,"EL=",{"$f":"IF(OR($F8=0,$M12=0,A点!$AQ$7=1,AND($W$20=0,$W$45>0)),0,$S17*$G11*$M13*N41*$M7*$M8/($M12^2))","v":0},"μGy/h",null,null,null,"EL=",{"$f":"IF(OR($F8=0,$M12=0,A点!$AQ$7=1,AND($W$32=0,$W$45>0)),0,$S17*$G11*$M13*T41*$M7*$M8/($M12^2))","v":0},"μGy/h"]
[]
[]
[null,"一般撮影",null,"①　X：空気カーマ(表1)",null,null,null,"④　使用係数",null,null,null,"Ｕ＝",1,null,null,"1)対向板による一次線の減衰(表２)",null,null,null,null,null,null,null,null,null,null,null,null,null,null,null,null,null,null,null,null,null,null,null,null,null,null,null,null,null,null,"③撮影用透過率（表2-7）"]
[null,null,null,null,"採用管電圧",{"$f":"A点!$F$68","v":0},{"$f":"A点!$G$68","v":0},"⑤　居住係数",null,null,null,"Ｔ＝",1,null,null,null,null,"等価厚さ",{"$f":"入力用シート!$AA$9","v":0},"mm",null,null,null,null,null,null,null,null,null,null,null,null,null,null,null,null,null,null,null,null,null,null,null,null,null,null,"1)直接線用"]
[null,null,null,null,"電流",{"$f":"A点!$F$69","v":0},null,"⑥　距離",null,null,null,"d1=",{"$f":"M9","v":0},"ｍ",null,null,"使用管電圧",{"$f":"A点!$AM$5","v":0},null,null,null,null,null,null,null,null,null,null,null,null,null,null,null,null,null,null,null,null,null,null,null,null,null,null,null,null,"遮蔽厚参照値"]
[null,null,null,"②　E/Ka：空気カーマ換算係数（表10）",null,null,null,"⑧　照射野400cm2空気ｶｰﾏ率表8",null,null,null,"d2=",0,"ｍ",null,null,"透過率",{"$f":"IF(A点!$AM$8=\"○\",\"\",IF(A点!$AM$8=1,\"データなし\",IF($S68>3,HLOOKUP($R69,'表２(Pb)'!$B$3:$Y$36,32+ROUNDDOWN(($S68-3)/0.5,0),0),HLOOKUP($R69,'表２(Pb)'!$B$3:$Y$36,2+S68/0.1,0))))","v":""},null,null,null,null,null,null,null,null,null,null,null,null,null,null,null,null,null,null,null,null,null,null,null,null,null,null,null,null,null,null,"I点","I'点","I\"点"]
[null,null,null,null,"採用管電圧",{"$f":"A点!$F$71","v":0},{"$f":"A点!$G$71","v":0},null,null,null,{"$f":"A点!$AM$7","v":0},"d3=",0,"ｍ",null,null,null,null,null,null,null,null,null,null,null,null,null,null,null,null,null,null,null,null,null,null,null,null,null,null,null,null,null,null,null,null,null,"Pb",{"$f":"IF($G87=0,\"\",IF($G87<=3,INT(10*$G87)/10,IF($G87>4,4,0.5*INT($G87/0.5))))","v":""},{"$f":"IF($M87=0,\"\",IF($M87<=3,INT(10*$M87)/10,IF($M87>4,4,0.5*INT($M87/0.5))))","v":""},{"$f":"IF($S87=0,\"\",IF($S87<=3,INT(10*$S87)/10,IF($S87>4,4,0.5*INT($S87/0.5))))","v":""}]
[null,null,null,"③　W：３Ｍ実効稼動負荷",null,"合計",{"$f":"13*(入力用シート!$L$26*入力用シート!$Q$26*入力用シート!$H$27*入力用シート!$L$27*入力用シート!$Q$27)","v":0},"⑨　受像面照射野",null,null,{"$f":"入力用シート!$E$16","v":1225},"d4=",0,"ｍ",null,null,null,null,null,null,null,null,null,null,null,null,null,null,null,null,null,null,null,null,null,null,null,null,null,null,null,null,null,null,null,null,null,"ｺﾝｸﾘ",{"$f":"IF($G89=0,\"\",IF($G89<=300,INT($G89/10)*10,IF($G89>400,400,50*INT($G89/50))))","v":""},{"$f":"IF($M89=0,\"\",IF($M89<=300,INT($M89/10)*10,IF($M89>400,400,50*INT($M89/50))))","v":""},{"$f":"IF($S89=0,\"\",IF($S89<=300,INT($S89/10)*10,IF($S89>400,400,50*INT($S89/50))))","v":""}]
[null,null,null,null,null,null,null,"⑩　tw：３月間における稼働時間(h)",null,null,null,null,{"$f":"IF(F69=0,0,G72/(F69*3600))","v":0},null,null,"機器の種類",null,"管容器からの空気ｶｰﾏ率（mGy/h）",null,null,null,null,null,null,null,null,null,null,null,null,null,null,null,null,null,null,null,null,null,null,null,null,null,null,null,null,null,"Fe",{"$f":"IF($G91=0,\"\",IF($G91<=30,INT($G91),IF($G91>40,40,5*INT($G91/5))))","v":""},{"$f":"IF($M91=0,\"\",IF($M91<=30,INT($M91),IF($M91>40,40,5*INT($M91/5))))","v":""},{"$f":"IF($S91=0,\"\",IF($S91<=30,INT($S91),IF($S91>40,40,5*INT($S91/5))))","v":""}]
[null,null,null,"I点の漏洩エックス線量の計算(利用線錘方向）",null,null,null,null,"I点の漏洩エックス線量の計算(被写体・管球）",null,null,null,null,null,1,"治療用ｴｯｸｽ線装置（≧50ｋV）",null,1,"選んだ機器",null,null,null,null,null,null,null,null,null,null,null,null,null,null,null,null,null,null,null,null,null,null,null,null,null,null,null,null,"石膏",{"$f":"IF($G93=0,\"\",IF($G93<=30,INT($G93),IF($G93>40,40,5*INT($G93/5))))","v":""},{"$f":"IF($M93=0,\"\",IF($M93<=30,INT($M93),IF($M93>40,40,5*INT($M93/5))))","v":""},{"$f":"IF($S93=0,\"\",IF($S93<=30,INT($S93),IF($S93>40,40,5*INT($S93/5))))","v":""}]
[null,null,null,null,"Ea=",{"$f":"MAX(F81,L81,R81)","v":0},"μSv/3ヶ月",null,null,"Es＝",{"$f":"MAX(F119,L119,R119)","v":0},"μSv/3ヶ月",null,null,2,"治療用ｴｯｸｽ線装置（＜50ｋV）",null,10,{"$f":"入力用シート!$C$7","v":0},null,null,null,null,null,null,null,null,null,null,null,null,null,null,null,null,null,null,null,null,null,null,null,null,null,null,null,null,"ｶﾞﾗｽ",{"$f":"IF($G95=0,\"\",IF($G95<=30,INT($G95),IF($G95>40,40,5*INT($G95/5))))","v":""},{"$f":"IF($M95=0,\"\",IF($M95<=30,INT($M95),IF($M95>40,40,5*INT($M95/5))))","v":""},{"$f":"IF($S95=0,\"\",IF($S95<=30,INT($S95),IF($S95>40,40,5*INT($S95/5))))","v":""}]
[null,null,null,null,null,null,null,null,null,"EL＝",{"$f":"MAX(F124,L124,R124)","v":0},"μSv/3ヶ月",null,null,3,"口内法撮影用X線装置（≦120ｋV）",null,0.25,"選ばれた空気ｶｰﾏ率XL",null,null,null,null,null,null,null,null,null,null,null,null,null,null,null,null,null,null,null,null,null,null,null,null,null,null,null,null,"木材",{"$f":"IF($G97=0,\"\",IF($G97<=300,INT($G97/10)*10,IF($G97>400,400,50*INT($G97/50))))","v":""},{"$f":"IF($M97=0,\"\",IF($M97<=300,INT($M97/10)*10,IF($M97>400,400,50*INT($M97/50))))","v":""},{"$f":"IF($S97=0,\"\",IF($S97<=300,INT($S97/10)*10,IF($S97>400,400,50*INT($S97/50))))","v":""}]
[null,null,null,null,null,null,null,null,null,"合計",{"$f":"+K75+K76","v":0},null,null,null,4,"上記以外の診断用X線装置",null,1,{"$f":"IF(S75=0,0,VLOOKUP(S75,O74:R77,4,0)*1000)","v":0}]
[null,null,null,null,null,null,null,null,null,null,null,null,null,null,null,null,null,null,null,null,null,null,null,null,null,null,null,null,null,null,null,null,null,null,null,null,null,null,null,null,null,null,null,null,null,null,"2)散乱線用"]
[null,null,null,"I点の計算",null,null,null,null,null,"I'点の計算",null,null,null,null,null,"I\"点の計算",null,null,null,null,null,null,null,null,null,null,null,null,null,null,null,null,null,null,null,null,null,null,null,null,null,null,null,null,null,null,"遮蔽厚参照値"]
[null,null,null,"1) Ep：一次エックス線（撮影方向）",null,null,null,null,null,"1) Ep：一次エックス線（撮影方向）",null,null,null,null,null,"1) Ep：一次エックス線（撮影方向）",null,null,null,null,null,null,null,null,null,null,null,null,null,null,null,null,null,null,null,null,null,null,null,null,null,null,null,null,null,null,null,null,"I点","I'点","I\"点"]
[null,null,null,"　",null,{"$f":"IF(OR($F68=0,$M69=0,A点!$AQ$7=1,AND($W$8=0,$W$45>0)),0,($G68*$R70*$G85*$F101*$G72*$G71*$M67*$M68)/($M69^2))","v":0},"μSv/3ヶ月",null,null,"　",null,{"$f":"IF(OR($F68=0,$M69=0,A点!$AQ$7=1,AND($W$20=0,$W$45>0)),0,($G68*$R70*$M85*$L101*$G72*$G71*$M67*$M68)/($M69^2))","v":0},"μSv/3ヶ月",null,null,"　",null,{"$f":"IF(OR($F68=0,$M69=0,A点!$AQ$7=1,AND($W$32=0,$W$45>0)),0,($G68*$R70*$S85*$R101*$G72*$G71*$M67*$M68)/($M69^2))","v":0},"μSv/3ヶ月",null,null,null,null,null,null,null,null,null,null,null,null,null,null,null,null,null,null,null,null,null,null,null,null,null,null,null,null,"Pb",{"$f":"IF($H87=0,\"\",IF($H87<=3,INT(10*$H87)/10,IF($H87>4,4,0.5*INT($H87/0.5))))","v":""},{"$f":"IF($N87=0,\"\",IF($N87<=3,INT(10*$N87)/10,IF($N87>4,4,0.5*INT($N87/0.5))))","v":""},{"$f":"IF($T87=0,\"\",IF($T87<=3,INT(10*$T87)/10,IF($T87>4,4,0.5*INT($T87/0.5))))","v":""}]
[null,null,null,null,null,null,null,null,null,null,null,null,null,null,null,null,null,null,null,null,null,null,null,null,null,null,null,null,null,null,null,null,null,null,null,null,null,null,null,null,null,null,null,null,null,null,null,"ｺﾝｸﾘ",{"$f":"IF($H89=0,\"\",IF($H89<=300,INT($H89/10)*10,IF($H89>400,400,50*INT($H89/50))))","v":""},{"$f":"IF($N89=0,\"\",IF($N89<=300,INT($N89/10)*10,IF($N89>400,400,50*INT($N89/50))))","v":""},{"$f":"IF($T89=0,\"\",IF($T89<=300,INT($T89/10)*10,IF($T89>400,400,50*INT($T89/50))))","v":""}]
[null,null,null,"a) 第１遮蔽材による減衰(遮蔽体がある場合透過率=1)",null,null,null,null,null,"a) 第１遮蔽材による減衰(遮蔽体がある場合透過率=1)",null,null,null,null,null,"a) 第１遮蔽材による減衰(遮蔽体がある場合透過率=1)",null,null,null,null,null,null,null,null,null,null,null,null,null,null,null,null,null,null,null,null,null,null,null,null,null,null,null,null,null,null,null,"Fe",{"$f":"IF($H91=0,\"\",IF($H91<=30,INT($H91),IF($H91>40,40,5*INT($H91/5))))","v":""},{"$f":"IF($N91=0,\"\",IF($N91<=30,INT($N91),IF($N91>40,40,5*INT($N91/5))))","v":""},{"$f":"IF($T91=0,\"\",IF($T91<=30,INT($T91),IF($T91>40,40,5*INT($T91/5))))","v":""}]
[null,null,null,null,null,"第1遮蔽材",{"$f":"IF($S$68>0,\"遮蔽体\",$W$8)","v":0},{"$f":"$W$8","v":0},null,null,null,"第1遮蔽材",{"$f":"IF($S$68>0,\"遮蔽体\",$W$20)","v":0},{"$f":"$W$20","v":0},null,null,null,"第1遮蔽材",{"$f":"IF($S$68>0,\"遮蔽体\",$W$32)","v":0},{"$f":"$W$32","v":0},null,null,null,null,null,null,null,null,null,null,null,null,null,null,null,null,null,null,null,null,null,null,null,null,null,null,null,"石膏",{"$f":"IF($H93=0,\"\",IF($H93<=30,INT($H93),IF($H93>40,40,5*INT($H93/5))))","v":""},{"$f":"IF($N93=0,\"\",IF($N93<=30,INT($N93),IF($N93>40,40,5*INT($N93/5))))","v":""},{"$f":"IF($T93=0,\"\",IF($T93<=30,INT($T93),IF($T93>40,40,5*INT($T93/5))))","v":""}]
[null,null,null,null,null,"Dt1=",{"$f":"G88*G90*G92*G94*G96*G98","v":1},{"$f":"H88*H90*H92*H94*H96*H98","v":1},null,null,null,"Dt1=",{"$f":"M88*M90*M92*M94*M96*M98","v":1},{"$f":"N88*N90*N92*N94*N96*N98","v":1},null,null,null,"Dt1=",{"$f":"S88*S90*S92*S94*S96*S98","v":1},{"$f":"T88*T90*T92*T94*T96*T98","v":1},null,null,null,null,null,null,null,null,null,null,null,null,null,null,null,null,null,null,null,null,null,null,null,null,null,null,null,"ｶﾞﾗｽ",{"$f":"IF($H95=0,\"\",IF($H95<=30,INT($H95),IF($H95>40,40,5*INT($H95/5))))","v":""},{"$f":"IF($N95=0,\"\",IF($N95<=30,INT($N95),IF($N95>40,40,5*INT($N95/5))))","v":""},{"$f":"IF($T95=0,\"\",IF($T95<=30,INT($T95),IF($T95>40,40,5*INT($T95/5))))","v":""}]
[null,null,null,null,null,null,"一次線用","散乱線用",null,null,null,null,"一次線用","散乱線用",null,null,null,null,"一次線用","散乱線用",null,null,null,null,null,null,null,null,null,null,null,null,null,null,null,null,null,null,null,null,null,null,null,null,null,null,null,"木材",{"$f":"IF($H97=0,\"\",IF($H97<=300,INT($H97/10)*10,IF($H97>400,400,50*INT($H97/50))))","v":""},{"$f":"IF($N97=0,\"\",IF($N97<=300,INT($N97/10)*10,IF($N97>400,400,50*INT($N97/50))))","v":""},{"$f":"IF($T97=0,\"\",IF($T97<=300,INT($T97/10)*10,IF($T97>400,400,50*INT($T97/50))))","v":""}]
[null,null,null,"a)　鉛(表2)",null,"等価厚さ",{"$f":"IF($G84=$W$10,$W$9*$AE$8,0)","v":0},{"$f":"IF($H84=$W$10,$W$9*$AE$8,0)","v":0},null,"a)　鉛(表2)",null,"等価厚さ",{"$f":"IF($M84=$W$22,$W$21*$AE$8,0)","v":0},{"$f":"IF($N84=$W$22,$W$21*$AE$8,0)","v":0},null,"a)　鉛(表2)",null,"等価厚さ",{"$f":"IF($S84=$W$34,$W$33*$AE$8,0)","v":0},{"$f":"IF($T84=$W$34,$W$33*$AE$8,0)","v":0}]
[null,null,null,null,null,"透過率",{"$f":"IF(OR($G87=0,A点!$AM$8=1,A点!$AM$8=\"○\"),1,INDEX('表２(Pb)'!$A$3:$Y$36,MATCH($AW71,'表２(Pb)'!$A$3:$A$36,0),MATCH($F68,'表２(Pb)'!$A$3:$Y$3,0)))","v":1},{"$f":"IF(OR($H87=0,A点!$AM$8=1,A点!$AM$8=\"○\"),1,INDEX('表２(Pb)'!$A$3:$Y$36,MATCH($AW81,'表２(Pb)'!$A$3:$A$36,0),MATCH($F68,'表２(Pb)'!$A$3:$Y$3,0)))","v":1},null,null,null,"透過率",{"$f":"IF(OR($M87=0,A点!$AM$8=1,A点!$AM$8=\"○\"),1,INDEX('表２(Pb)'!$A$3:$Y$36,MATCH($AX71,'表２(Pb)'!$A$3:$A$36,0),MATCH($F68,'表２(Pb)'!$A$3:$Y$3,0)))","v":1},{"$f":"IF(OR($N87=0,A点!$AM$8=1,A点!$AM$8=\"○\"),1,INDEX('表２(Pb)'!$A$3:$Y$36,MATCH($AX81,'表２(Pb)'!$A$3:$A$36,0),MATCH($F68,'表２(Pb)'!$A$3:$Y$3,0)))","v":1},null,null,null,"透過率",{"$f":"IF(OR($S87=0,A点!$AM$8=1,A点!$AM$8=\"○\"),1,INDEX('表２(Pb)'!$A$3:$Y$36,MATCH($AY71,'表２(Pb)'!$A$3:$A$36,0),MATCH($F68,'表２(Pb)'!$A$3:$Y$3,0)))","v":1},{"$f":"IF(OR($T87=0,A点!$AM$8=1,A点!$AM$8=\"○\"),1,INDEX('表２(Pb)'!$A$3:$Y$36,MATCH($AY81,'表２(Pb)'!$A$3:$A$36,0),MATCH($F68,'表２(Pb)'!$A$3:$Y$3,0)))","v":1},null,null,null,null,null,null,null,null,null,null,null,null,null,null,null,null,null,null,null,null,null,null,null,null,null,null,"3)","遮蔽材順"]
[null,null,null,"b)　コンクリート(表3)",null,"等価厚さ",{"$f":"IF($G84=$X$10,$W$9*$AE$9,0)","v":0},{"$f":"IF($H84=$X$10,$W$9*$AE$9,0)","v":0},null,"b)　コンクリート(表3)",null,"等価厚さ",{"$f":"IF($M84=$X$22,$W$21*$AE$9,0)","v":0},{"$f":"IF($N84=$X$22,$W$21*$AE$9,0)","v":0},null,"b)　コンクリート(表3)",null,"等価厚さ",{"$f":"IF($S84=$X$34,$W$33*$AE$9,0)","v":0},{"$f":"IF($T84=$X$34,$W$33*$AE$9,0)","v":0},null,null,null,null,null,null,null,null,null,null,null,null,null,null,null,null,null,null,null,null,null,null,null,null,null,null,null,null,"I点","I'点","I\"点"]
[null,null,null,null,null,"透過率",{"$f":"IF(OR($G89=0,A点!$AM$8=1,A点!$AM$8=\"○\"),1,INDEX('表３(コ)'!$A$3:$Y$36,MATCH($AW72,'表３(コ)'!$A$3:$A$36,0),MATCH($F68,'表３(コ)'!$A$3:$Y$3,0)))","v":1},{"$f":"IF(OR($H89=0,A点!$AM$8=1,A点!$AM$8=\"○\"),1,INDEX('表３(コ)'!$A$3:$Y$36,MATCH($AW82,'表３(コ)'!$A$3:$A$36,0),MATCH($F68,'表３(コ)'!$A$3:$Y$3,0)))","v":1},null,null,null,"透過率",{"$f":"IF(OR($M89=0,A点!$AM$8=1,A点!$AM$8=\"○\"),1,INDEX('表３(コ)'!$A$3:$Y$36,MATCH($AX72,'表３(コ)'!$A$3:$A$36,0),MATCH($F68,'表３(コ)'!$A$3:$Y$3,0)))","v":1},{"$f":"IF(OR($N89=0,A点!$AM$8=1,A点!$AM$8=\"○\"),1,INDEX('表３(コ)'!$A$3:$Y$36,MATCH($AX82,'表３(コ)'!$A$3:$A$36,0),MATCH($F68,'表３(コ)'!$A$3:$Y$3,0)))","v":1},null,null,null,"透過率",{"$f":"IF(OR($S89=0,A点!$AM$8=1,A点!$AM$8=\"○\"),1,INDEX('表３(コ)'!$A$3:$Y$36,MATCH($AY72,'表３(コ)'!$A$3:$A$36,0),MATCH($F68,'表３(コ)'!$A$3:$Y$3,0)))","v":1},{"$f":"IF(OR($T89=0,A点!$AM$8=1,A点!$AM$8=\"○\"),1,INDEX('表３(コ)'!$A$3:$Y$36,MATCH($AY82,'表３(コ)'!$A$3:$A$36,0),MATCH($F68,'表３(コ)'!$A$3:$Y$3,0)))","v":1},null,null,null,null,null,null,null,null,null,null,null,null,null,null,null,null,null,null,null,null,null,null,null,null,null,null,null,"第1遮蔽材",{"$f":"IF($AW100=\"11\",G$84,H$84)","v":0},{"$f":"IF($AW100=\"11\",M$84,N$84)","v":0},{"$f":"IF($AW100=\"11\",S$84,T$84)","v":0}]
[null,null,null,"c)　鉄(表4)",null,"等価厚さ",{"$f":"IF($G84=$Y$10,$W$9*$AE$10,0)","v":0},{"$f":"IF($H84=$Y$10,$W$9*$AE$10,0)","v":0},null,"c)　鉄(表4)",null,"等価厚さ",{"$f":"IF($M84=$Y$22,$W$21*$AE$10,0)","v":0},{"$f":"IF($N84=$Y$22,$W$21*$AE$10,0)","v":0},null,"c)　鉄(表4)",null,"等価厚さ",{"$f":"IF($S84=$Y$34,$W$33*$AE$10,0)","v":0},{"$f":"IF($T84=$Y$34,$W$33*$AE$10,0)","v":0},null,null,null,null,null,null,null,null,null,null,null,null,null,null,null,null,null,null,null,null,null,null,null,null,null,null,null,"第2遮蔽材",{"$f":"IF($AW100=\"11\",W$8,X$8)","v":0},{"$f":"IF($AW100=\"11\",W$20,X$20)","v":0},{"$f":"IF($AW100=\"11\",W$32,X$32)","v":0}]
[null,null,null,null,null,"透過率",{"$f":"IF(OR($G91=0,A点!$AM$8=1,A点!$AM$8=\"○\"),1,INDEX('表4(Fe)'!$A$3:$Y$36,MATCH($AW73,'表4(Fe)'!$A$3:$A$36,0),MATCH($F68,'表4(Fe)'!$A$3:$Y$3,0)))","v":1},{"$f":"IF(OR($H91=0,A点!$AM$8=1,A点!$AM$8=\"○\"),1,INDEX('表4(Fe)'!$A$3:$Y$36,MATCH($AW83,'表4(Fe)'!$A$3:$A$36,0),MATCH($F68,'表4(Fe)'!$A$3:$Y$3,0)))","v":1},null,null,null,"透過率",{"$f":"IF(OR($M91=0,A点!$AM$8=1,A点!$AM$8=\"○\"),1,INDEX('表4(Fe)'!$A$3:$Y$36,MATCH($AX73,'表4(Fe)'!$A$3:$A$36,0),MATCH($F68,'表4(Fe)'!$A$3:$Y$3,0)))","v":1},{"$f":"IF(OR($N91=0,A点!$AM$8=1,A点!$AM$8=\"○\"),1,INDEX('表4(Fe)'!$A$3:$Y$36,MATCH($AX83,'表4(Fe)'!$A$3:$A$36,0),MATCH($F68,'表4(Fe)'!$A$3:$Y$3,0)))","v":1},null,null,null,"透過率",{"$f":"IF(OR($S91=0,A点!$AM$8=1,A点!$AM$8=\"○\"),1,INDEX('表4(Fe)'!$A$3:$Y$36,MATCH($AY73,'表4(Fe)'!$A$3:$A$36,0),MATCH($F68,'表4(Fe)'!$A$3:$Y$3,0)))","v":1},{"$f":"IF(OR($T91=0,A点!$AM$8=1,A点!$AM$8=\"○\"),1,INDEX('表4(Fe)'!$A$3:$Y$36,MATCH($AY83,'表4(Fe)'!$A$3:$A$36,0),MATCH($F68,'表4(Fe)'!$A$3:$Y$3,0)))","v":1},null,null,null,null,null,null,null,null,null,null,null,null,null,null,null,null,null,null,null,null,null,null,null,null,null,null,null,"第3遮蔽材",{"$f":"IF($AW100=\"11\",X$8,Y$8)","v":0},{"$f":"IF($AW100=\"11\",X$20,Y$20)","v":0},{"$f":"IF($AW100=\"11\",X$32,Y$32)","v":0}]
[null,null,null,"d)　石膏(表5)",null,"等価厚さ",{"$f":"IF($G84=$Z$10,$W$9*$AE$11,0)","v":0},{"$f":"IF($H84=$Z$10,$W$9*$AE$11,0)","v":0},null,"d)　石膏(表5)",null,"等価厚さ",{"$f":"IF($M84=$Z$22,$W$21*$AE$11,0)","v":0},{"$f":"IF($N84=$Z$22,$W$21*$AE$11,0)","v":0},null,"d)　石膏(表5)",null,"等価厚さ",{"$f":"IF($S84=$Z$34,$W$33*$AE$11,0)","v":0},{"$f":"IF($T84=$Z$34,$W$33*$AE$11,0)","v":0},null,null,null,null,null,null,null,null,null,null,null,null,null,null,null,null,null,null,null,null,null,null,null,null,null,null,null,"第4遮蔽材",{"$f":"IF($AW100=\"11\",Y$8,Z$8)","v":0},{"$f":"IF($AW100=\"11\",Y$20,Z$20)","v":0},{"$f":"IF($AW100=\"11\",Y$32,Z$32)","v":0}]
[null,null,null,null,null,"透過率",{"$f":"IF(OR($G93=0,A点!$AM$8=1,A点!$AM$8=\"○\"),1,INDEX('表5(CaSO4)'!$A$3:$Y$36,MATCH($AW74,'表5(CaSO4)'!$A$3:$A$36,0),MATCH($F68,'表5(CaSO4)'!$A$3:$Y$3,0)))","v":1},{"$f":"IF(OR($H93=0,A点!$AM$8=1,A点!$AM$8=\"○\"),1,INDEX('表5(CaSO4)'!$A$3:$Y$36,MATCH($AW84,'表5(CaSO4)'!$A$3:$A$36,0),MATCH($F68,'表5(CaSO4)'!$A$3:$Y$3,0)))","v":1},null,null,null,"透過率",{"$f":"IF(OR($M93=0,A点!$AM$8=1,A点!$AM$8=\"○\"),1,INDEX('表5(CaSO4)'!$A$3:$Y$36,MATCH($AX74,'表5(CaSO4)'!$A$3:$A$36,0),MATCH($F68,'表5(CaSO4)'!$A$3:$Y$3,0)))","v":1},{"$f":"IF(OR($N93=0,A点!$AM$8=1,A点!$AM$8=\"○\"),1,INDEX('表5(CaSO4)'!$A$3:$Y$36,MATCH($AX84,'表5(CaSO4)'!$A$3:$A$36,0),MATCH($F68,'表5(CaSO4)'!$A$3:$Y$3,0)))","v":1},null,null,null,"透過率",{"$f":"IF(OR($S93=0,A点!$AM$8=1,A点!$AM$8=\"○\"),1,INDEX('表5(CaSO4)'!$A$3:$Y$36,MATCH($AY74,'表5(CaSO4)'!$A$3:$A$36,0),MATCH($F68,'表5(CaSO4)'!$A$3:$Y$3,0)))","v":1},{"$f":"IF(OR($T93=0,A点!$AM$8=1,A点!$AM$8=\"○\"),1,INDEX('表5(CaSO4)'!$A$3:$Y$36,MATCH($AY84,'表5(CaSO4)'!$A$3:$A$36,0),MATCH($F68,'表5(CaSO4)'!$A$3:$Y$3,0)))","v":1},null,null,null,null,null,null,null,null,null,null,null,null,null,null,null,null,null,null,null,null,null,null,null,null,null,null,null,"第5遮蔽材",{"$f":"IF($AW100=\"11\",Z$8,AA$8)","v":0},{"$f":"IF($AW100=\"11\",Z$20,AA$20)","v":0},{"$f":"IF($AW100=\"11\",Z$32,AA$32)","v":0}]
[null,null,null,"e）　ガラス(表6)",null,"等価厚さ",{"$f":"IF($G84=$AA$10,$W$9*$AE$12,0)","v":0},{"$f":"IF($H84=$AA$10,$W$9*$AE$12,0)","v":0},null,"e）　ガラス(表6)",null,"等価厚さ",{"$f":"IF($M84=$AA$22,$W$21*$AE$12,0)","v":0},{"$f":"IF($N84=$AA$22,$W$21*$AE$12,0)","v":0},null,"e）　ガラス(表6)",null,"等価厚さ",{"$f":"IF($S84=$AA$34,$W$33*$AE$12,0)","v":0},{"$f":"IF($T84=$AA$34,$W$33*$AE$12,0)","v":0},null,null,null,null,null,null,null,null,null,null,null,null,null,null,null,null,null,null,null,null,null,null,null,null,null,null,null,"第6遮蔽材",{"$f":"IF($AW100=\"11\",AA$8,AB$8)","v":0},{"$f":"IF($AW100=\"11\",AA$20,AB$20)","v":0},{"$f":"IF($AW100=\"11\",AA$32,AB$32)","v":0}]
[null,null,null,null,null,"透過率",{"$f":"IF(OR($G95=0,A点!$AM$8=1,A点!$AM$8=\"○\"),1,INDEX('表6(SiO2)'!$A$3:$Y$36,MATCH($AW75,'表6(SiO2)'!$A$3:$A$36,0),MATCH($F68,'表6(SiO2)'!$A$3:$Y$3,0)))","v":1},{"$f":"IF(OR($H95=0,A点!$AM$8=1,A点!$AM$8=\"○\"),1,INDEX('表6(SiO2)'!$A$3:$Y$36,MATCH($AW85,'表6(SiO2)'!$A$3:$A$36,0),MATCH($F68,'表6(SiO2)'!$A$3:$Y$3,0)))","v":1},null,null,null,"透過率",{"$f":"IF(OR($M95=0,A点!$AM$8=1,A点!$AM$8=\"○\"),1,INDEX('表6(SiO2)'!$A$3:$Y$36,MATCH($AX75,'表6(SiO2)'!$A$3:$A$36,0),MATCH($F68,'表6(SiO2)'!$A$3:$Y$3,0)))","v":1},{"$f":"IF(OR($N95=0,A点!$AM$8=1,A点!$AM$8=\"○\"),1,INDEX('表6(SiO2)'!$A$3:$Y$36,MATCH($AX85,'表6(SiO2)'!$A$3:$A$36,0),MATCH($F68,'表6(SiO2)'!$A$3:$Y$3,0)))","v":1},null,null,null,"透過率",{"$f":"IF(OR($S95=0,A点!$AM$8=1,A点!$AM$8=\"○\"),1,INDEX('表6(SiO2)'!$A$3:$Y$36,MATCH($AY75,'表6(SiO2)'!$A$3:$A$36,0),MATCH($F68,'表6(SiO2)'!$A$3:$Y$3,0)))","v":1},{"$f":"IF(OR($T95=0,A点!$AM$8=1,A点!$AM$8=\"○\"),1,INDEX('表6(SiO2)'!$A$3:$Y$36,MATCH($AY85,'表6(SiO2)'!$A$3:$A$36,0),MATCH($F68,'表6(SiO2)'!$A$3:$Y$3,0)))","v":1},null,null,null,null,null,null,null,null,null,null,null,null,null,null,null,null,null,null,null,null,null,null,null,null,null,null,null,"第7遮蔽材",{"$f":"IF($AW100=\"11\",AB$8,\"\")","v":""},{"$f":"IF($AW100=\"11\",AB$20,\"\")","v":""},{"$f":"IF($AW100=\"11\",AB$32,\"\")","v":""}]
[null,null,null,"f)　木材(表7)",null,"等価厚さ",{"$f":"IF($G84=$AB$10,$W$9*$AE$13,0)","v":0},{"$f":"IF($H84=$AB$10,$W$9*$AE$13,0)","v":0},null,"f)　木材(表7)",null,"等価厚さ",{"$f":"IF($M84=$AB$22,$W$21*$AE$13,0)","v":0},{"$f":"IF($N84=$AB$22,$W$21*$AE$13,0)","v":0},null,"f)　木材(表7)",null,"等価厚さ",{"$f":"IF($S84=$AB$34,$W$33*$AE$13,0)","v":0},{"$f":"IF($T84=$AB$34,$W$33*$AE$13,0)","v":0}]
[null,null,null,null,null,"透過率",{"$f":"IF(OR($G97=0,A点!$AM$8=1,A点!$AM$8=\"○\"),1,INDEX('表7(木)'!$A$3:$Y$36,MATCH($AW76,'表7(木)'!$A$3:$A$36,0),MATCH($F68,'表7(木)'!$A$3:$Y$3,0)))","v":1},{"$f":"IF(OR($H97=0,A点!$AM$8=1,A点!$AM$8=\"○\"),1,INDEX('表7(木)'!$A$3:$Y$36,MATCH($AW86,'表7(木)'!$A$3:$A$36,0),MATCH($F68,'表7(木)'!$A$3:$Y$3,0)))","v":1},null,null,null,"透過率",{"$f":"IF(OR($M97=0,A点!$AM$8=1,A点!$AM$8=\"○\"),1,INDEX('表7(木)'!$A$3:$Y$36,MATCH($AX76,'表7(木)'!$A$3:$A$36,0),MATCH($F68,'表7(木)'!$A$3:$Y$3,0)))","v":1},{"$f":"IF(OR($N97=0,A点!$AM$8=1,A点!$AM$8=\"○\"),1,INDEX('表7(木)'!$A$3:$Y$36,MATCH($AX86,'表7(木)'!$A$3:$A$36,0),MATCH($F68,'表7(木)'!$A$3:$Y$3,0)))","v":1},null,null,null,"透過率",{"$f":"IF(OR($S97=0,A点!$AM$8=1,A点!$AM$8=\"○\"),1,INDEX('表7(木)'!$A$3:$Y$36,MATCH($AY76,'表7(木)'!$A$3:$A$36,0),MATCH($F68,'表7(木)'!$A$3:$Y$3,0)))","v":1},{"$f":"IF(OR($T97=0,A点!$AM$8=1,A点!$AM$8=\"○\"),1,INDEX('表7(木)'!$A$3:$Y$36,MATCH($AY86,'表7(木)'!$A$3:$A$36,0),MATCH($F68,'表7(木)'!$A$3:$Y$3,0)))","v":1},null,null,null,null,null,null,null,null,null,null,null,null,null,null,null,null,null,null,null,null,null,null,null,null,null,null,null,"遮蔽体有無",{"$f":"IF($S68>0,1,0)","v":0},"遮蔽体有：１"]
[null,null,null,null,null,null,null,null,null,null,null,null,null,null,null,null,null,null,null,null,null,null,null,null,null,null,null,null,null,null,null,null,null,null,null,null,null,null,null,null,null,null,null,null,null,null,null,"照射方向",{"$f":"IF($M69>0,1,2)","v":2},"直接線：1、散乱線：2"]
[null,null,null,"b)　第２遮蔽材以後による一次線の減衰表9",null,null,null,null,null,"b)　第２遮蔽材以後による一次線の減衰表9",null,null,null,null,null,"b)　第２遮蔽材以後による一次線の減衰表9",null,null,null,null,null,null,null,null,null,null,null,null,null,null,null,null,null,null,null,null,null,null,null,null,null,null,null,null,null,null,null,"判定コード",{"$f":"AW98&AW99","v":"02"}]
[null,null,null,null,"Dt2=",{"$f":"F104*F106*F108*F110*F112*F114","v":0},{"$f":"G104*G106*G108*G110*G112*G114","v":0},0,null,null,"Dt2=",{"$f":"L104*L106*L108*L110*L112*L114","v":0},{"$f":"M104*M106*M108*M110*M112*M114","v":0},0,null,null,"Dt2=",{"$f":"R104*R106*R108*R110*R112*R114","v":0},{"$f":"S104*S106*S108*S110*S112*S114","v":0},0]
[null,null,null,null,null,"一次線用","散乱線用","漏洩線用",null,null,null,"一次線用","散乱線用","漏洩線用",null,null,null,"一次線用","散乱線用","漏洩線用"]
[null,null,null,"a)　鉛(表9)","半価層(mm)",{"$f":"IF(OR(A点!$AM$8=1,A点!$AM$8=\"○\"),\"\",VLOOKUP($F68,'表9(BB)'!$A$4:$M$27,2,0))","v":""},null,null,null,"a)　鉛(表9)","半価層(mm)",{"$f":"IF(OR(A点!$AM$8=1,A点!$AM$8=\"○\"),\"\",VLOOKUP($F68,'表9(BB)'!$A$4:$M$27,2,0))","v":""},null,null,null,"a)　鉛(表9)","半価層(mm)",{"$f":"IF(OR(A点!$AM$8=1,A点!$AM$8=\"○\"),\"\",VLOOKUP($F68,'表9(BB)'!$A$4:$M$27,2,0))","v":""}]
[null,null,null,null,"透過率",{"$f":"IF($S$68>0,$H104,$G104)","v":0},{"$f":"IF($F103=\"\",0,(1/2)^($W18*$AE$8/$F103))","v":0},{"$f":"IF($F103=\"\",0,(1/2)^($W17*$AE$8/$F103))","v":0},null,null,"透過率",{"$f":"IF($S$68>0,$N104,$M104)","v":0},{"$f":"IF($L103=\"\",0,(1/2)^($W30*$AE$8/$L103))","v":0},{"$f":"IF($L103=\"\",0,(1/2)^($W29*$AE$8/$L103))","v":0},null,null,"透過率",{"$f":"IF($S$68>0,$T104,$S104)","v":0},{"$f":"IF($R103=\"\",0,(1/2)^($W42*$AE$8/$R103))","v":0},{"$f":"IF($R103=\"\",0,(1/2)^($W41*$AE$8/$R103))","v":0}]
[null,null,null,"b)　コンクリート(表9)","半価層(mm)",{"$f":"IF(OR(A点!$AM$8=1,A点!$AM$8=\"○\"),\"\",VLOOKUP($F68,'表9(BB)'!$A$4:$M$27,4,0))","v":""},null,null,null,"b)　コンクリート(表9)","半価層(mm)",{"$f":"IF(OR(A点!$AM$8=1,A点!$AM$8=\"○\"),\"\",VLOOKUP($F68,'表9(BB)'!$A$4:$M$27,4,0))","v":""},null,null,null,"b)　コンクリート(表9)","半価層(mm)",{"$f":"IF(OR(A点!$AM$8=1,A点!$AM$8=\"○\"),\"\",VLOOKUP($F68,'表9(BB)'!$A$4:$M$27,4,0))","v":""}]
[null,null,null,null,"透過率",{"$f":"IF($S$68>0,$H106,$G106)","v":0},{"$f":"IF($F105=\"\",0,(1/2)^($X18*$AE$9/$F105))","v":0},{"$f":"IF($F105=\"\",0,(1/2)^($X17*$AE$9/$F105))","v":0},null,null,"透過率",{"$f":"IF($S$68>0,$N106,$M106)","v":0},{"$f":"IF($L105=\"\",0,(1/2)^($X30*$AE$9/$L105))","v":0},{"$f":"IF($L105=\"\",0,(1/2)^($X29*$AE$9/$L105))","v":0},null,null,"透過率",{"$f":"IF($S$68>0,$T106,$S106)","v":0},{"$f":"IF($R105=\"\",0,(1/2)^($X42*$AE$9/$R105))","v":0},{"$f":"IF($R105=\"\",0,(1/2)^($X41*$AE$9/$R105))","v":0}]
[null,null,null,"c)　鉄(表9)","半価層(mm)",{"$f":"IF(OR(A点!$AM$8=1,A点!$AM$8=\"○\"),\"\",VLOOKUP($F68,'表9(BB)'!$A$4:$M$27,6,0))","v":""},null,null,null,"c)　鉄(表9)","半価層(mm)",{"$f":"IF(OR(A点!$AM$8=1,A点!$AM$8=\"○\"),\"\",VLOOKUP($F68,'表9(BB)'!$A$4:$M$27,6,0))","v":""},null,null,null,"c)　鉄(表9)","半価層(mm)",{"$f":"IF(OR(A点!$AM$8=1,A点!$AM$8=\"○\"),\"\",VLOOKUP($F68,'表9(BB)'!$A$4:$M$27,6,0))","v":""}]
[null,null,null,null,"透過率",{"$f":"IF($S$68>0,$H108,$G108)","v":0},{"$f":"IF($F107=\"\",0,(1/2)^($Y18*$AE$10/$F107))","v":0},{"$f":"IF($F107=\"\",0,(1/2)^($Y17*$AE$10/$F107))","v":0},null,null,"透過率",{"$f":"IF($S$68>0,$N108,$M108)","v":0},{"$f":"IF($L107=\"\",0,(1/2)^($Y30*$AE$10/$L107))","v":0},{"$f":"IF($L107=\"\",0,(1/2)^($Y29*$AE$10/$L107))","v":0},null,null,"透過率",{"$f":"IF($S$68>0,$T108,$S108)","v":0},{"$f":"IF($R107=\"\",0,(1/2)^($Y42*$AE$10/$R107))","v":0},{"$f":"IF($R107=\"\",0,(1/2)^($Y41*$AE$10/$R107))","v":0}]
[null,null,null,"d)　石膏(表9)","半価層(mm)",{"$f":"IF(OR(A点!$AM$8=1,A点!$AM$8=\"○\"),\"\",VLOOKUP($F68,'表9(BB)'!$A$4:$M$27,8,0))","v":""},null,null,null,"d)　石膏(表9)","半価層(mm)",{"$f":"IF(OR(A点!$AM$8=1,A点!$AM$8=\"○\"),\"\",VLOOKUP($F68,'表9(BB)'!$A$4:$M$27,8,0))","v":""},null,null,null,"d)　石膏(表9)","半価層(mm)",{"$f":"IF(OR(A点!$AM$8=1,A点!$AM$8=\"○\"),\"\",VLOOKUP($F68,'表9(BB)'!$A$4:$M$27,8,0))","v":""}]
[null,null,null,null,"透過率",{"$f":"IF($S$68>0,$H110,$G110)","v":0},{"$f":"IF($F109=\"\",0,(1/2)^($Z18*$AE$11/$F109))","v":0},{"$f":"IF($F109=\"\",0,(1/2)^($Z17*$AE$11/$F109))","v":0},null,null,"透過率",{"$f":"IF($S$68>0,$N110,$M110)","v":0},{"$f":"IF($L109=\"\",0,(1/2)^($Z30*$AE$11/$L109))","v":0},{"$f":"IF($L109=\"\",0,(1/2)^($Z29*$AE$11/$L109))","v":0},null,null,"透過率",{"$f":"IF($S$68>0,$T110,$S110)","v":0},{"$f":"IF($R109=\"\",0,(1/2)^($Z42*$AE$11/$R109))","v":0},{"$f":"IF($R109=\"\",0,(1/2)^($Z41*$AE$11/$R109))","v":0}]
[null,null,null,"e）　ガラス(表9)","半価層(mm)",{"$f":"IF(OR(A点!$AM$8=1,A点!$AM$8=\"○\"),\"\",VLOOKUP($F68,'表9(BB)'!$A$4:$M$27,10,0))","v":""},null,null,null,"e）　ガラス(表9)","半価層(mm)",{"$f":"IF(OR(A点!$AM$8=1,A点!$AM$8=\"○\"),\"\",VLOOKUP($F68,'表9(BB)'!$A$4:$M$27,10,0))","v":""},null,null,null,"e）　ガラス(表9)","半価層(mm)",{"$f":"IF(OR(A点!$AM$8=1,A点!$AM$8=\"○\"),\"\",VLOOKUP($F68,'表9(BB)'!$A$4:$M$27,10,0))","v":""}]
[null,null,null,null,"透過率",{"$f":"IF($S$68>0,$H112,$G112)","v":0},{"$f":"IF($F111=\"\",0,(1/2)^($AA18*$AE$12/$F111))","v":0},{"$f":"IF($F111=\"\",0,(1/2)^($AA17*$AE$12/$F111))","v":0},null,null,"透過率",{"$f":"IF($S$68>0,$N112,$M112)","v":0},{"$f":"IF($L111=\"\",0,(1/2)^($AA30*$AE$12/$L111))","v":0},{"$f":"IF($L111=\"\",0,(1/2)^($AA29*$AE$12/$L111))","v":0},null,null,"透過率",{"$f":"IF($S$68>0,$T112,$S112)","v":0},{"$f":"IF($R111=\"\",0,(1/2)^($AA42*$AE$12/$R111))","v":0},{"$f":"IF($R111=\"\",0,(1/2)^($AA41*$AE$12/$R111))","v":0}]
[null,null,null,"f)　木材(表9)","半価層(mm)",{"$f":"IF(OR(A点!$AM$8=1,A点!$AM$8=\"○\"),\"\",VLOOKUP($F68,'表9(BB)'!$A$4:$M$27,12,0))","v":""},null,null,null,"f)　木材(表9)","半価層(mm)",{"$f":"IF(OR(A点!$AM$8=1,A点!$AM$8=\"○\"),\"\",VLOOKUP($F68,'表9(BB)'!$A$4:$M$27,12,0))","v":""},null,null,null,"f)　木材(表9)","半価層(mm)",{"$f":"IF(OR(A点!$AM$8=1,A点!$AM$8=\"○\"),\"\",VLOOKUP($F68,'表9(BB)'!$A$4:$M$27,12,0))","v":""}]
[null,null,null,null,"透過率",{"$f":"IF($S$68>0,$H114,$G114)","v":0},{"$f":"IF($F113=\"\",0,(1/2)^($AB18*$AE$13/$F113))","v":0},{"$f":"IF($F113=\"\",0,(1/2)^($AB17*$AE$13/$F113))","v":0},null,null,"透過率",{"$f":"IF($S$68>0,$N114,$M114)","v":0},{"$f":"IF(L113=\"\",0,(1/2)^($AB30*$AE$13/$L113))","v":0},{"$f":"IF($L113=\"\",0,(1/2)^($AB29*$AE$13/$L113))","v":0},null,null,"透過率",{"$f":"IF($S$68>0,$T114,$S114)","v":0},{"$f":"IF($R113=\"\",0,(1/2)^($AB42*$AE$13/$R113))","v":0},{"$f":"IF($R113=\"\",0,(1/2)^($AB41*$AE$13/$R113))","v":0}]
[]
[]
[null,null,null,"2)　Es：散乱エックス線の漏洩線量(散乱角90度)",null,null,null,null,null,"2)　Es：散乱エックス線の漏洩線量(散乱角90度)",null,null,null,null,null,"2)　Es：散乱エックス線の漏洩線量(散乱角90度)"]
[null,null,null,null,"Dt=",{"$f":"H85*G101","v":0},null,null,null,null,"Dt=",{"$f":"N85*M101","v":0},null,null,null,null,"Dt=",{"$f":"T85*S101","v":0}]
[null,null,null,null,"Es=",{"$f":"IF(OR($F68=0,$M70=0,$M71=0,AND($W$8=0,$W$45>0),A点!$AQ$7=1),0,$G68*$G72*$G71*F118*$M67*$M68*($K71/100)*$K72/(400*($M70^2)*($M71^2)))","v":0},"μSv/3ヶ月",null,null,null,"Es=",{"$f":"IF(OR($F68=0,$M70=0,$M71=0,AND($W$20=0,$W$45>0),A点!$AQ$7=1),0,$G68*$G72*$G71*L118*$M67*$M68*($K71/100)*$K72/(400*($M70^2)*($M71^2)))","v":0},"μSv/3ヶ月",null,null,null,"Es=",{"$f":"IF(OR($F68=0,$M70=0,$M71=0,AND($W$32=0,$W$45>0),A点!$AQ$7=1),0,$G68*$G72*$G71*R118*$M67*$M68*($K71/100)*$K72/(400*($M70^2)*($M71^2)))","v":0},"μSv/3ヶ月"]
[]
[]
[null,null,null,"3)　EL：エックス線管容器からの漏洩線量(最大見積)",null,null,null,null,null,"3)　EL：エックス線管容器からの漏洩線量(最大見積)",null,null,null,null,null,"3)　EL：エックス線管容器からの漏洩線量(最大見積)"]
[]
[null,null,null,null,"EL=",{"$f":"IF(OR($F68=0,$M72=0,AND($W$8=0,$W$45>0),A点!$AQ$7=1),0,$S77*$G71*$M73*H101*$M67*$M68/($M72^2))","v":0},"μGy/h",null,null,null,"EL=",{"$f":"IF(OR($F68=0,$M72=0,AND($W$20=0,$W$45>0),A点!$AQ$7=1),0,$S77*$G71*$M73*N101*$M67*$M68/($M72^2))","v":0},"μGy/h",null,null,null,"EL=",{"$f":"IF(OR($F68=0,$F68=0,$M72=0,AND($W$32=0,$W$45>0)),0,$S77*$G71*$M73*T101*$M67*$M68/($M72^2))","v":0},"μGy/h"]
[]
[]
[null,"CT撮影",null,"①　X：空気カーマ(表1)",null,null,null,"④　使用係数",null,null,null,"Ｕ＝",1,null,null,"1)対向板による一次線の減衰(表２)",null,null,null,null,null,null,null,null,null,null,null,null,null,null,null,null,null,null,null,null,null,null,null,null,null,null,null,null,null,null,"③CT用透過率（表2-7）"]
[null,null,null,null,"使用管電圧",{"$f":"A点!$F$128","v":0},{"$f":"A点!$G$128","v":0},"⑤　居住係数",null,null,null,"Ｔ＝",1,null,null,null,null,"等価厚さ",{"$f":"入力用シート!$AA$10","v":0},"mm",null,null,null,null,null,null,null,null,null,null,null,null,null,null,null,null,null,null,null,null,null,null,null,null,null,null,"1)直接線用"]
[null,null,null,null,"電流",{"$f":"A点!$F$129","v":0},null,"⑥　距離",null,null,null,"d1=",{"$f":"M9","v":0},"ｍ",null,null,"使用管電圧",{"$f":"A点!$AN$5","v":0},null,null,null,null,null,null,null,null,null,null,null,null,null,null,null,null,null,null,null,null,null,null,null,null,null,null,null,null,"遮蔽厚参照値"]
[null,null,null,"②　E/Ka：空気カーマ換算係数（表10）",null,null,null,"⑧　照射野400cm2空気ｶｰﾏ率表8",null,null,null,"d2=",{"$f":"M10","v":0},"ｍ",null,null,"透過率",{"$f":"IF(A点!$AN$8=\"○\",\"\",IF(A点!$AN$8=1,\"データなし\",IF($S128>3,HLOOKUP($R129,'表２(Pb)'!$B$3:$Y$36,32+ROUNDDOWN(($S128-3)/0.5,0),0),HLOOKUP($R129,'表２(Pb)'!$B$3:$Y$36,2+S128/0.1,0))))","v":""},null,null,null,null,null,null,null,null,null,null,null,null,null,null,null,null,null,null,null,null,null,null,null,null,null,null,null,null,null,null,"I点","I'点","I\"点"]
[null,null,null,null,"使用管電圧",{"$f":"A点!$F$131","v":0},{"$f":"A点!$G$131","v":0},null,null,null,{"$f":"A点!$AN$7","v":0},"d3=",0,"ｍ",null,null,null,null,null,null,null,null,null,null,null,null,null,null,null,null,null,null,null,null,null,null,null,null,null,null,null,null,null,null,null,null,null,"Pb",{"$f":"IF($G147=0,\"\",IF($G147<=3,INT(10*$G147)/10,IF($G147>4,4,0.5*INT($G147/0.5))))","v":""},{"$f":"IF($M147=0,\"\",IF($M147<=3,INT(10*$M147)/10,IF($M147>4,4,0.5*INT($M147/0.5))))","v":""},{"$f":"IF($S147=0,\"\",IF($S147<=3,INT(10*$S147)/10,IF($S147>4,4,0.5*INT($S147/0.5))))","v":""}]
[null,null,null,"③　W：３Ｍ実効稼動負荷",null,"合計",{"$f":"13*(入力用シート!$L$32*入力用シート!$Q$32*入力用シート!$H$33*入力用シート!$L$33*入力用シート!$Q$33)","v":0},"⑨　受像面照射野",null,null,{"$f":"入力用シート!$E$17","v":60},"d4=",0,"ｍ",null,null,null,null,null,null,null,null,null,null,null,null,null,null,null,null,null,null,null,null,null,null,null,null,null,null,null,null,null,null,null,null,null,"ｺﾝｸﾘ",{"$f":"IF($G149=0,\"\",IF($G149<=300,INT($G149/10)*10,IF($G149>400,400,50*INT($G149/50))))","v":""},{"$f":"IF($M149=0,\"\",IF($M149<=300,INT($M149/10)*10,IF($M149>400,400,50*INT($M149/50))))","v":""},{"$f":"IF($S149=0,\"\",IF($S149<=300,INT($S149/10)*10,IF($S149>400,400,50*INT($S149/50))))","v":""}]
[null,null,null,null,null,null,null,"⑩　tw：３月間における稼働時間(h)",null,null,null,null,{"$f":"IF(F129=0,0,G132/(F129*3600))","v":0},null,null,"機器の種類",null,"管容器からの空気ｶｰﾏ率（mGy/h）",null,null,null,null,null,null,null,null,null,null,null,null,null,null,null,null,null,null,null,null,null,null,null,null,null,null,null,null,null,"Fe",{"$f":"IF($G151=0,\"\",IF($G151<=30,INT($G151),IF($G151>40,40,5*INT($G151/5))))","v":""},{"$f":"IF($M151=0,\"\",IF($M151<=30,INT($M151),IF($M151>40,40,5*INT($M151/5))))","v":""},{"$f":"IF($S151=0,\"\",IF($S151<=30,INT($S151),IF($S151>40,40,5*INT($S151/5))))","v":""}]
[null,null,null,"I点の漏洩エックス線量の計算(利用線錘方向）",null,null,null,null,"I点の漏洩エックス線量の計算(被写体・管球）",null,null,null,null,null,1,"治療用ｴｯｸｽ線装置（≧50ｋV）",null,1,"選んだ機器",null,null,null,null,null,null,null,null,null,null,null,null,null,null,null,null,null,null,null,null,null,null,null,null,null,null,null,null,"石膏",{"$f":"IF($G153=0,\"\",IF($G153<=30,INT($G153),IF($G153>40,40,5*INT($G153/5))))","v":""},{"$f":"IF($M153=0,\"\",IF($M153<=30,INT($M153),IF($M153>40,40,5*INT($M153/5))))","v":""},{"$f":"IF($S153=0,\"\",IF($S153<=30,INT($S153),IF($S153>40,40,5*INT($S153/5))))","v":""}]
[null,null,null,null,"Ea=",{"$f":"MAX(F141,L141,R141)","v":0},"μSv/3ヶ月",null,null,"Es＝",{"$f":"MAX(F179,L179,R179)","v":0},"μSv/3ヶ月",null,null,2,"治療用ｴｯｸｽ線装置（＜50ｋV）",null,10,{"$f":"入力用シート!$C$7","v":0},null,null,null,null,null,null,null,null,null,null,null,null,null,null,null,null,null,null,null,null,null,null,null,null,null,null,null,null,"ｶﾞﾗｽ",{"$f":"IF($G155=0,\"\",IF($G155<=30,INT($G155),IF($G155>40,40,5*INT($G155/5))))","v":""},{"$f":"IF($M155=0,\"\",IF($M155<=30,INT($M155),IF($M155>40,40,5*INT($M155/5))))","v":""},{"$f":"IF($S155=0,\"\",IF($S155<=30,INT($S155),IF($S155>40,40,5*INT($S155/5))))","v":""}]
[null,null,null,null,null,null,null,null,null,"EL＝",{"$f":"MAX(F184,L184,R184)","v":0},"μSv/3ヶ月",null,null,3,"口内法撮影用X線装置（≦120ｋV）",null,0.25,"選ばれた空気ｶｰﾏ率XL",null,null,null,null,null,null,null,null,null,null,null,null,null,null,null,null,null,null,null,null,null,null,null,null,null,null,null,null,"木材",{"$f":"IF($G157=0,\"\",IF($G157<=300,INT($G157/10)*10,IF($G157>400,400,50*INT($G157/50))))","v":""},{"$f":"IF($M157=0,\"\",IF($M157<=300,INT($M157/10)*10,IF($M157>400,400,50*INT($M157/50))))","v":""},{"$f":"IF($S157=0,\"\",IF($S157<=300,INT($S157/10)*10,IF($S157>400,400,50*INT($S157/50))))","v":""}]
[null,null,null,null,null,null,null,null,null,"合計",{"$f":"+K135+K136","v":0},null,null,null,4,"上記以外の診断用X線装置",null,1,{"$f":"IF(S135=0,0,VLOOKUP(S135,O134:R137,4,0)*1000)","v":0}]
[null,null,null,null,null,null,null,null,null,null,null,null,null,null,null,null,null,null,null,null,null,null,null,null,null,null,null,null,null,null,null,null,null,null,null,null,null,null,null,null,null,null,null,null,null,null,"2)散乱線用"]
[null,null,null,"I点の計算",null,null,null,null,null,"I'点の計算",null,null,null,null,null,"I\"点の計算",null,null,null,null,null,null,null,null,null,null,null,null,null,null,null,null,null,null,null,null,null,null,null,null,null,null,null,null,null,null,"遮蔽厚参照値"]
[null,null,null,"1) Ep：一次エックス線（撮影方向）",null,null,null,null,null,"1) Ep：一次エックス線（撮影方向）",null,null,null,null,null,"1) Ep：一次エックス線（撮影方向）",null,null,null,null,null,null,null,null,null,null,null,null,null,null,null,null,null,null,null,null,null,null,null,null,null,null,null,null,null,null,null,null,"I点","I'点","I\"点"]
[null,null,null,"　",null,{"$f":"IF(OR($F128=0,$M129=0,A点!$AQ$7=1,AND($W$8=0,$W$45>0)),0,($G128*$R130*$G145*$F161*0.25*$G132*$G131*$M127*$M128)/($M129^2))","v":0},"μSv/3ヶ月",null,null,"　",null,{"$f":"IF(OR($F128=0,$M129=0,A点!$AQ$7=1,AND($W$20=0,$W$45>0)),0,($G128*$R130*$M145*$L161*0.25*$G132*$G131*$M127*$M128)/($M129^2))","v":0},"μSv/3ヶ月",null,null,"　",null,{"$f":"IF(OR($F128=0,$M129=0,A点!$AQ$7=1,AND($W$32=0,$W$45>0)),0,($G128*$R130*$S145*$R161*0.25*$G132*$G131*$M127*$M128)/($M129^2))","v":0},"μSv/3ヶ月",null,null,null,null,null,null,null,null,null,null,null,null,null,null,null,null,null,null,null,null,null,null,null,null,null,null,null,null,"Pb",{"$f":"IF($H147=0,\"\",IF($H147<=3,INT(10*$H147)/10,IF($H147>4,4,0.5*INT($H147/0.5))))","v":""},{"$f":"IF($N147=0,\"\",IF($N147<=3,INT(10*$N147)/10,IF($N147>4,4,0.5*INT($N147/0.5))))","v":""},{"$f":"IF($T147=0,\"\",IF($T147<=3,INT(10*$T147)/10,IF($T147>4,4,0.5*INT($T147/0.5))))","v":""}]
[null,null,null,null,null,null,null,null,null,null,null,null,null,null,null,null,null,null,null,null,null,null,null,null,null,null,null,null,null,null,null,null,null,null,null,null,null,null,null,null,null,null,null,null,null,null,null,"ｺﾝｸﾘ",{"$f":"IF($H149=0,\"\",IF($H149<=300,INT($H149/10)*10,IF($H149>400,400,50*INT($H149/50))))","v":""},{"$f":"IF($N149=0,\"\",IF($N149<=300,INT($N149/10)*10,IF($N149>400,400,50*INT($N149/50))))","v":""},{"$f":"IF($T149=0,\"\",IF($T149<=300,INT($T149/10)*10,IF($T149>400,400,50*INT($T149/50))))","v":""}]
[null,null,null,"a) 第１遮蔽材による減衰(遮蔽体がある場合透過率=1)",null,null,null,null,null,"a) 第１遮蔽材による減衰(遮蔽体がある場合透過率=1)",null,null,null,null,null,"a) 第１遮蔽材による減衰(遮蔽体がある場合透過率=1)",null,null,null,null,null,null,null,null,null,null,null,null,null,null,null,null,null,null,null,null,null,null,null,null,null,null,null,null,null,null,null,"Fe",{"$f":"IF($H151=0,\"\",IF($H151<=30,INT($H151),IF($H151>40,40,5*INT($H151/5))))","v":""},{"$f":"IF($N151=0,\"\",IF($N151<=30,INT($N151),IF($N151>40,40,5*INT($N151/5))))","v":""},{"$f":"IF($T151=0,\"\",IF($T151<=30,INT($T151),IF($T151>40,40,5*INT($T151/5))))","v":""}]
[null,null,null,null,null,"第1遮蔽材",{"$f":"IF($S$128>0,\"遮蔽体\",$W$8)","v":0},{"$f":"$W$8","v":0},null,null,null,"第1遮蔽材",{"$f":"IF($S$128>0,\"遮蔽体\",$W$20)","v":0},{"$f":"$W$20","v":0},null,null,null,"第1遮蔽材",{"$f":"IF($S$128>0,\"遮蔽体\",$W$32)","v":0},{"$f":"$W$32","v":0},null,null,null,null,null,null,null,null,null,null,null,null,null,null,null,null,null,null,null,null,null,null,null,null,null,null,null,"石膏",{"$f":"IF($H153=0,\"\",IF($H153<=30,INT($H153),IF($H153>40,40,5*INT($H153/5))))","v":""},{"$f":"IF($N153=0,\"\",IF($N153<=30,INT($N153),IF($N153>40,40,5*INT($N153/5))))","v":""},{"$f":"IF($T153=0,\"\",IF($T153<=30,INT($T153),IF($T153>40,40,5*INT($T153/5))))","v":""}]
[null,null,null,null,null,"Dt1=",{"$f":"G148*G150*G152*G154*G156*G158","v":1},{"$f":"H148*H150*H152*H154*H156*H158","v":1},null,null,null,"Dt1=",{"$f":"M148*M150*M152*M154*M156*M158","v":1},{"$f":"N148*N150*N152*N154*N156*N158","v":1},null,null,null,"Dt1=",{"$f":"S148*S150*S152*S154*S156*S158","v":1},{"$f":"T148*T150*T152*T154*T156*T158","v":1},null,null,null,null,null,null,null,null,null,null,null,null,null,null,null,null,null,null,null,null,null,null,null,null,null,null,null,"ｶﾞﾗｽ",{"$f":"IF($H155=0,\"\",IF($H155<=30,INT($H155),IF($H155>40,40,5*INT($H155/5))))","v":""},{"$f":"IF($N155=0,\"\",IF($N155<=30,INT($N155),IF($N155>40,40,5*INT($N155/5))))","v":""},{"$f":"IF($T155=0,\"\",IF($T155<=30,INT($T155),IF($T155>40,40,5*INT($T155/5))))","v":""}]
[null,null,null,null,null,null,"一次線用","散乱線用",null,null,null,null,"一次線用","散乱線用",null,null,null,null,"一次線用","散乱線用",null,null,null,null,null,null,null,null,null,null,null,null,null,null,null,null,null,null,null,null,null,null,null,null,null,null,null,"木材",{"$f":"IF($H157=0,\"\",IF($H157<=300,INT($H157/10)*10,IF($H157>400,400,50*INT($H157/50))))","v":""},{"$f":"IF($N157=0,\"\",IF($N157<=300,INT($N157/10)*10,IF($N157>400,400,50*INT($N157/50))))","v":""},{"$f":"IF($T157=0,\"\",IF($T157<=300,INT($T157/10)*10,IF($T157>400,400,50*INT($T157/50))))","v":""}]
[null,null,null,"a)　鉛(表2)",null,"等価厚さ",{"$f":"IF($G144=$W$10,$W$9*$AE$8,0)","v":0},{"$f":"IF($H144=$W$10,$W$9*$AE$8,0)","v":0},null,"a)　鉛(表2)",null,"等価厚さ",{"$f":"IF($M144=$W$22,$W$21*$AE$8,0)","v":0},{"$f":"IF($N144=$W$22,$W$21*$AE$8,0)","v":0},null,"a)　鉛(表2)",null,"等価厚さ",{"$f":"IF($S144=$W$34,$W$33*$AE$8,0)","v":0},{"$f":"IF($T144=$W$34,$W$33*$AE$8,0)","v":0}]
[null,null,null,null,null,"透過率",{"$f":"IF(OR($G147=0,A点!$AN$8=1,A点!$AN$8=\"○\"),1,INDEX('表２(Pb)'!$A$3:$Y$36,MATCH($AW131,'表２(Pb)'!$A$3:$A$36,0),MATCH($F128,'表２(Pb)'!$A$3:$Y$3,0)))","v":1},{"$f":"IF(OR($H147=0,A点!$AN$8=1,A点!$AN$8=\"○\"),1,INDEX('表２(Pb)'!$A$3:$Y$36,MATCH($AW141,'表２(Pb)'!$A$3:$A$36,0),MATCH($F128,'表２(Pb)'!$A$3:$Y$3,0)))","v":1},null,null,null,"透過率",{"$f":"IF(OR($M147=0,A点!$AN$8=1,A点!$AN$8=\"○\"),1,INDEX('表２(Pb)'!$A$3:$Y$36,MATCH($AX131,'表２(Pb)'!$A$3:$A$36,0),MATCH($F128,'表２(Pb)'!$A$3:$Y$3,0)))","v":1},{"$f":"IF(OR($N147=0,A点!$AN$8=1,A点!$AN$8=\"○\"),1,INDEX('表２(Pb)'!$A$3:$Y$36,MATCH($AX141,'表２(Pb)'!$A$3:$A$36,0),MATCH($F128,'表２(Pb)'!$A$3:$Y$3,0)))","v":1},null,null,null,"透過率",{"$f":"IF(OR($S147=0,A点!$AN$8=1,A点!$AN$8=\"○\"),1,INDEX('表２(Pb)'!$A$3:$Y$36,MATCH($AY131,'表２(Pb)'!$A$3:$A$36,0),MATCH($F128,'表２(Pb)'!$A$3:$Y$3,0)))","v":1},{"$f":"IF(OR($T147=0,A点!$AN$8=1,A点!$AN$8=\"○\"),1,INDEX('表２(Pb)'!$A$3:$Y$36,MATCH($AY141,'表２(Pb)'!$A$3:$A$36,0),MATCH($F128,'表２(Pb)'!$A$3:$Y$3,0)))","v":1},null,null,null,null,null,null,null,null,null,null,null,null,null,null,null,null,null,null,null,null,null,null,null,null,null,null,"3)","遮蔽材順"]
[null,null,null,"b)　コンクリート(表3)",null,"等価厚さ",{"$f":"IF($G144=$X$10,$W$9*$AE$9,0)","v":0},{"$f":"IF($H144=$X$10,$W$9*$AE$9,0)","v":0},null,"b)　コンクリート(表3)",null,"等価厚さ",{"$f":"IF($M144=$X$22,$W$21*$AE$9,0)","v":0},{"$f":"IF($N144=$X$22,$W$21*$AE$9,0)","v":0},null,"b)　コンクリート(表3)",null,"等価厚さ",{"$f":"IF($S144=$X$34,$W$33*$AE$9,0)","v":0},{"$f":"IF($T144=$X$34,$W$33*$AE$9,0)","v":0},null,null,null,null,null,null,null,null,null,null,null,null,null,null,null,null,null,null,null,null,null,null,null,null,null,null,null,null,"I点","I'点","I\"点"]
[null,null,null,null,null,"透過率",{"$f":"IF(OR($G149=0,A点!$AN$8=1,A点!$AN$8=\"○\"),1,INDEX('表３(コ)'!$A$3:$Y$36,MATCH($AW132,'表３(コ)'!$A$3:$A$36,0),MATCH($F128,'表３(コ)'!$A$3:$Y$3,0)))","v":1},{"$f":"IF(OR($H149=0,A点!$AN$8=1,A点!$AN$8=\"○\"),1,INDEX('表３(コ)'!$A$3:$Y$36,MATCH($AW142,'表３(コ)'!$A$3:$A$36,0),MATCH($F128,'表３(コ)'!$A$3:$Y$3,0)))","v":1},null,null,null,"透過率",{"$f":"IF(OR($M149=0,A点!$AN$8=1,A点!$AN$8=\"○\"),1,INDEX('表３(コ)'!$A$3:$Y$36,MATCH($AX132,'表３(コ)'!$A$3:$A$36,0),MATCH($F128,'表３(コ)'!$A$3:$Y$3,0)))","v":1},{"$f":"IF(OR($N149=0,A点!$AN$8=1,A点!$AN$8=\"○\"),1,INDEX('表３(コ)'!$A$3:$Y$36,MATCH($AX142,'表３(コ)'!$A$3:$A$36,0),MATCH($F128,'表３(コ)'!$A$3:$Y$3,0)))","v":1},null,null,null,"透過率",{"$f":"IF(OR($S149=0,A点!$AN$8=1,A点!$AN$8=\"○\"),1,INDEX('表３(コ)'!$A$3:$Y$36,MATCH($AY132,'表３(コ)'!$A$3:$A$36,0),MATCH($F128,'表３(コ)'!$A$3:$Y$3,0)))","v":1},{"$f":"IF(OR($T149=0,A点!$AN$8=1,A点!$AN$8=\"○\"),1,INDEX('表３(コ)'!$A$3:$Y$36,MATCH($AY142,'表３(コ)'!$A$3:$A$36,0),MATCH($F128,'表３(コ)'!$A$3:$Y$3,0)))","v":1},null,null,null,null,null,null,null,null,null,null,null,null,null,null,null,null,null,null,null,null,null,null,null,null,null,null,null,"第1遮蔽材",{"$f":"IF($AW160=\"11\",G$144,H$144)","v":0},{"$f":"IF($AW160=\"11\",M$144,N$144)","v":0},{"$f":"IF($AW160=\"11\",S$144,T$144)","v":0}]
[null,null,null,"c)　鉄(表4)",null,"等価厚さ",{"$f":"IF($G144=$Y$10,$W$9*$AE$10,0)","v":0},{"$f":"IF($H144=$Y$10,$W$9*$AE$10,0)","v":0},null,"c)　鉄(表4)",null,"等価厚さ",{"$f":"IF($M144=$Y$22,$W$21*$AE$10,0)","v":0},{"$f":"IF($N144=$Y$22,$W$21*$AE$10,0)","v":0},null,"c)　鉄(表4)",null,"等価厚さ",{"$f":"IF($S144=$Y$34,$W$33*$AE$10,0)","v":0},{"$f":"IF($T144=$Y$34,$W$33*$AE$10,0)","v":0},null,null,null,null,null,null,null,null,null,null,null,null,null,null,null,null,null,null,null,null,null,null,null,null,null,null,null,"第2遮蔽材",{"$f":"IF($AW160=\"11\",W$8,X$8)","v":0},{"$f":"IF($AW160=\"11\",W$20,X$20)","v":0},{"$f":"IF($AW160=\"11\",W$32,X$32)","v":0}]
[null,null,null,null,null,"透過率",{"$f":"IF(OR($G151=0,A点!$AN$8=1,A点!$AN$8=\"○\"),1,INDEX('表4(Fe)'!$A$3:$Y$36,MATCH($AW133,'表4(Fe)'!$A$3:$A$36,0),MATCH($F128,'表4(Fe)'!$A$3:$Y$3,0)))","v":1},{"$f":"IF(OR($H151=0,A点!$AN$8=1,A点!$AN$8=\"○\"),1,INDEX('表4(Fe)'!$A$3:$Y$36,MATCH($AW143,'表4(Fe)'!$A$3:$A$36,0),MATCH($F128,'表4(Fe)'!$A$3:$Y$3,0)))","v":1},null,null,null,"透過率",{"$f":"IF(OR($M151=0,A点!$AN$8=1,A点!$AN$8=\"○\"),1,INDEX('表4(Fe)'!$A$3:$Y$36,MATCH($AX133,'表4(Fe)'!$A$3:$A$36,0),MATCH($F128,'表4(Fe)'!$A$3:$Y$3,0)))","v":1},{"$f":"IF(OR($N151=0,A点!$AN$8=1,A点!$AN$8=\"○\"),1,INDEX('表4(Fe)'!$A$3:$Y$36,MATCH($AX143,'表4(Fe)'!$A$3:$A$36,0),MATCH($F128,'表4(Fe)'!$A$3:$Y$3,0)))","v":1},null,null,null,"透過率",{"$f":"IF(OR($S151=0,A点!$AN$8=1,A点!$AN$8=\"○\"),1,INDEX('表4(Fe)'!$A$3:$Y$36,MATCH($AY133,'表4(Fe)'!$A$3:$A$36,0),MATCH($F128,'表4(Fe)'!$A$3:$Y$3,0)))","v":1},{"$f":"IF(OR($T151=0,A点!$AN$8=1,A点!$AN$8=\"○\"),1,INDEX('表4(Fe)'!$A$3:$Y$36,MATCH($AY143,'表4(Fe)'!$A$3:$A$36,0),MATCH($F128,'表4(Fe)'!$A$3:$Y$3,0)))","v":1},null,null,null,null,null,null,null,null,null,null,null,null,null,null,null,null,null,null,null,null,null,null,null,null,null,null,null,"第3遮蔽材",{"$f":"IF($AW160=\"11\",X$8,Y$8)","v":0},{"$f":"IF($AW160=\"11\",X$20,Y$20)","v":0},{"$f":"IF($AW160=\"11\",X$32,Y$32)","v":0}]
[null,null,null,"d)　石膏(表5)",null,"等価厚さ",{"$f":"IF($G144=$Z$10,$W$9*$AE$11,0)","v":0},{"$f":"IF($H144=$Z$10,$W$9*$AE$11,0)","v":0},null,"d)　石膏(表5)",null,"等価厚さ",{"$f":"IF($M144=$Z$22,$W$21*$AE$11,0)","v":0},{"$f":"IF($N144=$Z$22,$W$21*$AE$11,0)","v":0},null,"d)　石膏(表5)",null,"等価厚さ",{"$f":"IF($S144=$Z$34,$W$33*$AE$11,0)","v":0},{"$f":"IF($T144=$Z$34,$W$33*$AE$11,0)","v":0},null,null,null,null,null,null,null,null,null,null,null,null,null,null,null,null,null,null,null,null,null,null,null,null,null,null,null,"第4遮蔽材",{"$f":"IF($AW160=\"11\",Y$8,Z$8)","v":0},{"$f":"IF($AW160=\"11\",Y$20,Z$20)","v":0},{"$f":"IF($AW160=\"11\",Y$32,Z$32)","v":0}]
[null,null,null,null,null,"透過率",{"$f":"IF(OR($G153=0,A点!$AN$8=1,A点!$AN$8=\"○\"),1,INDEX('表5(CaSO4)'!$A$3:$Y$36,MATCH($AW134,'表5(CaSO4)'!$A$3:$A$36,0),MATCH($F128,'表5(CaSO4)'!$A$3:$Y$3,0)))","v":1},{"$f":"IF(OR($H153=0,A点!$AN$8=1,A点!$AN$8=\"○\"),1,INDEX('表5(CaSO4)'!$A$3:$Y$36,MATCH($AW144,'表5(CaSO4)'!$A$3:$A$36,0),MATCH($F128,'表5(CaSO4)'!$A$3:$Y$3,0)))","v":1},null,null,null,"透過率",{"$f":"IF(OR($M153=0,A点!$AN$8=1,A点!$AN$8=\"○\"),1,INDEX('表5(CaSO4)'!$A$3:$Y$36,MATCH($AX134,'表5(CaSO4)'!$A$3:$A$36,0),MATCH($F128,'表5(CaSO4)'!$A$3:$Y$3,0)))","v":1},{"$f":"IF(OR($N153=0,A点!$AN$8=1,A点!$AN$8=\"○\"),1,INDEX('表5(CaSO4)'!$A$3:$Y$36,MATCH($AX144,'表5(CaSO4)'!$A$3:$A$36,0),MATCH($F128,'表5(CaSO4)'!$A$3:$Y$3,0)))","v":1},null,null,null,"透過率",{"$f":"IF(OR($S153=0,A点!$AN$8=1,A点!$AN$8=\"○\"),1,INDEX('表5(CaSO4)'!$A$3:$Y$36,MATCH($AY134,'表5(CaSO4)'!$A$3:$A$36,0),MATCH($F128,'表5(CaSO4)'!$A$3:$Y$3,0)))","v":1},{"$f":"IF(OR($T153=0,A点!$AN$8=1,A点!$AN$8=\"○\"),1,INDEX('表5(CaSO4)'!$A$3:$Y$36,MATCH($AY144,'表5(CaSO4)'!$A$3:$A$36,0),MATCH($F128,'表5(CaSO4)'!$A$3:$Y$3,0)))","v":1},null,null,null,null,null,null,null,null,null,null,null,null,null,null,null,null,null,null,null,null,null,null,null,null,null,null,null,"第5遮蔽材",{"$f":"IF($AW160=\"11\",Z$8,AA$8)","v":0},{"$f":"IF($AW160=\"11\",Z$20,AA$20)","v":0},{"$f":"IF($AW160=\"11\",Z$32,AA$32)","v":0}]
[null,null,null,"e）　ガラス(表6)",null,"等価厚さ",{"$f":"IF($G144=$AA$10,$W$9*$AE$12,0)","v":0},{"$f":"IF($H144=$AA$10,$W$9*$AE$12,0)","v":0},null,"e）　ガラス(表6)",null,"等価厚さ",{"$f":"IF($M144=$AA$22,$W$21*$AE$12,0)","v":0},{"$f":"IF($N144=$AA$22,$W$21*$AE$12,0)","v":0},null,"e）　ガラス(表6)",null,"等価厚さ",{"$f":"IF($S144=$AA$34,$W$33*$AE$12,0)","v":0},{"$f":"IF($T144=$AA$34,$W$33*$AE$12,0)","v":0},null,null,null,null,null,null,null,null,null,null,null,null,null,null,null,null,null,null,null,null,null,null,null,null,null,null,null,"第6遮蔽材",{"$f":"IF($AW160=\"11\",AA$8,AB$8)","v":0},{"$f":"IF($AW160=\"11\",AA$20,AB$20)","v":0},{"$f":"IF($AW160=\"11\",AA$32,AB$32)","v":0}]
[null,null,null,null,null,"透過率",{"$f":"IF(OR($G155=0,A点!$AN$8=1,A点!$AN$8=\"○\"),1,INDEX('表6(SiO2)'!$A$3:$Y$36,MATCH($AW135,'表6(SiO2)'!$A$3:$A$36,0),MATCH($F128,'表6(SiO2)'!$A$3:$Y$3,0)))","v":1},{"$f":"IF(OR($H155=0,A点!$AN$8=1,A点!$AN$8=\"○\"),1,INDEX('表6(SiO2)'!$A$3:$Y$36,MATCH($AW145,'表6(SiO2)'!$A$3:$A$36,0),MATCH($F128,'表6(SiO2)'!$A$3:$Y$3,0)))","v":1},null,null,null,"透過率",{"$f":"IF(OR($M155=0,A点!$AN$8=1,A点!$AN$8=\"○\"),1,INDEX('表6(SiO2)'!$A$3:$Y$36,MATCH($AX135,'表6(SiO2)'!$A$3:$A$36,0),MATCH($F128,'表6(SiO2)'!$A$3:$Y$3,0)))","v":1},{"$f":"IF(OR($N155=0,A点!$AN$8=1,A点!$AN$8=\"○\"),1,INDEX('表6(SiO2)'!$A$3:$Y$36,MATCH($AX145,'表6(SiO2)'!$A$3:$A$36,0),MATCH($F128,'表6(SiO2)'!$A$3:$Y$3,0)))","v":1},null,null,null,"透過率",{"$f":"IF(OR($S155=0,A点!$AN$8=1,A点!$AN$8=\"○\"),1,INDEX('表6(SiO2)'!$A$3:$Y$36,MATCH($AY135,'表6(SiO2)'!$A$3:$A$36,0),MATCH($F128,'表6(SiO2)'!$A$3:$Y$3,0)))","v":1},{"$f":"IF(OR($T155=0,A点!$AN$8=1,A点!$AN$8=\"○\"),1,INDEX('表6(SiO2)'!$A$3:$Y$36,MATCH($AY145,'表6(SiO2)'!$A$3:$A$36,0),MATCH($F128,'表6(SiO2)'!$A$3:$Y$3,0)))","v":1},null,null,null,null,null,null,null,null,null,null,null,null,null,null,null,null,null,null,null,null,null,null,null,null,null,null,null,"第7遮蔽材",{"$f":"IF($AW160=\"11\",AB$8,\"\")","v":""},{"$f":"IF($AW160=\"11\",AB$20,\"\")","v":""},{"$f":"IF($AW160=\"11\",AB$32,\"\")","v":""}]
[null,null,null,"f)　木材(表7)",null,"等価厚さ",{"$f":"IF($G144=$AB$10,$W$9*$AE$13,0)","v":0},{"$f":"IF($H144=$AB$10,$W$9*$AE$13,0)","v":0},null,"f)　木材(表7)",null,"等価厚さ",{"$f":"IF($M144=$AB$22,$W$21*$AE$13,0)","v":0},{"$f":"IF($N144=$AB$22,$W$21*$AE$13,0)","v":0},null,"f)　木材(表7)",null,"等価厚さ",{"$f":"IF($S144=$AB$34,$W$33*$AE$13,0)","v":0},{"$f":"IF($T144=$AB$34,$W$33*$AE$13,0)","v":0}]
[null,null,null,null,null,"透過率",{"$f":"IF(OR($G157=0,A点!$AN$8=1,A点!$AN$8=\"○\"),1,INDEX('表7(木)'!$A$3:$Y$36,MATCH($AW136,'表7(木)'!$A$3:$A$36,0),MATCH($F128,'表7(木)'!$A$3:$Y$3,0)))","v":1},{"$f":"IF(OR($H157=0,A点!$AN$8=1,A点!$AN$8=\"○\"),1,INDEX('表7(木)'!$A$3:$Y$36,MATCH($AW146,'表7(木)'!$A$3:$A$36,0),MATCH($F128,'表7(木)'!$A$3:$Y$3,0)))","v":1},null,null,null,"透過率",{"$f":"IF(OR($M157=0,A点!$AN$8=1,A点!$AN$8=\"○\"),1,INDEX('表7(木)'!$A$3:$Y$36,MATCH($AX136,'表7(木)'!$A$3:$A$36,0),MATCH($F128,'表7(木)'!$A$3:$Y$3,0)))","v":1},{"$f":"IF(OR($N157=0,A点!$AN$8=1,A点!$AN$8=\"○\"),1,INDEX('表7(木)'!$A$3:$Y$36,MATCH($AX146,'表7(木)'!$A$3:$A$36,0),MATCH($F128,'表7(木)'!$A$3:$Y$3,0)))","v":1},null,null,null,"透過率",{"$f":"IF(OR($S157=0,A点!$AN$8=1,A点!$AN$8=\"○\"),1,INDEX('表7(木)'!$A$3:$Y$36,MATCH($AY136,'表7(木)'!$A$3:$A$36,0),MATCH($F128,'表7(木)'!$A$3:$Y$3,0)))","v":1},{"$f":"IF(OR($T157=0,A点!$AN$8=1,A点!$AN$8=\"○\"),1,INDEX('表7(木)'!$A$3:$Y$36,MATCH($AY146,'表7(木)'!$A$3:$A$36,0),MATCH($F128,'表7(木)'!$A$3:$Y$3,0)))","v":1},null,null,null,null,null,null,null,null,null,null,null,null,null,null,null,null,null,null,null,null,null,null,null,null,null,null,null,"遮蔽体有無",{"$f":"IF($S128>0,1,0)","v":0},"遮蔽体有：１"]
[null,null,null,null,null,null,null,null,null,null,null,null,null,null,null,null,null,null,null,null,null,null,null,null,null,null,null,null,null,null,null,null,null,null,null,null,null,null,null,null,null,null,null,null,null,null,null,"照射方向",{"$f":"IF($M129>0,1,2)","v":2},"直接線：1、散乱線：2"]
[null,null,null,"b)　第２遮蔽材以後による一次線の減衰表9",null,null,null,null,null,"b)　第２遮蔽材以後による一次線の減衰表9",null,null,null,null,null,"b)　第２遮蔽材以後による一次線の減衰表9",null,null,null,null,null,null,null,null,null,null,null,null,null,null,null,null,null,null,null,null,null,null,null,null,null,null,null,null,null,null,null,"判定コード",{"$f":"AW158&AW159","v":"02"}]
[null,null,null,null,"Dt2=",{"$f":"F164*F166*F168*F170*F172*F174","v":0},{"$f":"G164*G166*G168*G170*G172*G174","v":0},0,null,null,"Dt2=",{"$f":"L164*L166*L168*L170*L172*L174","v":0},{"$f":"M164*M166*M168*M170*M172*M174","v":0},0,null,null,"Dt2=",{"$f":"R164*R166*R168*R170*R172*R174","v":0},{"$f":"S164*S166*S168*S170*S172*S174","v":0},0]
[null,null,null,null,null,"一次線用","散乱線用","漏洩線用",null,null,null,"一次線用","散乱線用","漏洩線用",null,null,null,"一次線用","散乱線用","漏洩線用"]
[null,null,null,"a)　鉛(表9)","半価層(mm)",{"$f":"IF(OR(A点!$AN$8=1,A点!$AN$8=\"○\"),\"\",VLOOKUP($F128,'表9(BB)'!$A$4:$M$27,2,0))","v":""},null,null,null,"a)　鉛(表9)","半価層(mm)",{"$f":"IF(OR(A点!$AN$8=1,A点!$AN$8=\"○\"),\"\",VLOOKUP($F128,'表9(BB)'!$A$4:$M$27,2,0))","v":""},null,null,null,"a)　鉛(表9)","半価層(mm)",{"$f":"IF(OR(A点!$AN$8=1,A点!$AN$8=\"○\"),\"\",VLOOKUP($F128,'表9(BB)'!$A$4:$M$27,2,0))","v":""}]
[null,null,null,null,"透過率",{"$f":"IF($S$128>0,H164,G164)","v":0},{"$f":"IF($F163=\"\",0,(1/2)^($W18*$AE$8/$F163))","v":0},{"$f":"IF($F163=\"\",0,(1/2)^($W17*$AE$8/$F163))","v":0},null,null,"透過率",{"$f":"IF($S$128>0,N164,M164)","v":0},{"$f":"IF($L$163=\"\",0,(1/2)^($W30*$AE$8/$L163))","v":0},{"$f":"IF($L163=\"\",0,(1/2)^($W29*$AE$8/$L163))","v":0},null,null,"透過率",{"$f":"IF($S$128>0,T164,S164)","v":0},{"$f":"IF($R163=\"\",0,(1/2)^($W42*$AE$8/$R163))","v":0},{"$f":"IF($R163=\"\",0,(1/2)^($W41*$AE$8/$R163))","v":0}]
[null,null,null,"b)　コンクリート(表9)","半価層(mm)",{"$f":"IF(OR(A点!$AN$8=1,A点!$AN$8=\"○\"),\"\",VLOOKUP($F128,'表9(BB)'!$A$4:$M$27,4,0))","v":""},null,null,null,"b)　コンクリート(表9)","半価層(mm)",{"$f":"IF(OR(A点!$AN$8=1,A点!$AN$8=\"○\"),\"\",VLOOKUP($F128,'表9(BB)'!$A$4:$M$27,4,0))","v":""},null,null,null,"b)　コンクリート(表9)","半価層(mm)",{"$f":"IF(OR(A点!$AN$8=1,A点!$AN$8=\"○\"),\"\",VLOOKUP($F128,'表9(BB)'!$A$4:$M$27,4,0))","v":""}]
[null,null,null,null,"透過率",{"$f":"IF($S$128>0,H166,G166)","v":0},{"$f":"IF($F165=\"\",0,(1/2)^($X18*$AE$9/$F165))","v":0},{"$f":"IF($F165=\"\",0,(1/2)^($X17*$AE$9/$F165))","v":0},null,null,"透過率",{"$f":"IF($S$128>0,N166,M166)","v":0},{"$f":"IF($L165=\"\",0,(1/2)^($X30*$AE$9/$L165))","v":0},{"$f":"IF($L165=\"\",0,(1/2)^($X29*$AE$9/$L165))","v":0},null,null,"透過率",{"$f":"IF($S$128>0,T166,S166)","v":0},{"$f":"IF($R165=\"\",0,(1/2)^($X42*$AE$9/$R165))","v":0},{"$f":"IF($R165=\"\",0,(1/2)^($X41*$AE$9/$R165))","v":0}]
[null,null,null,"c)　鉄(表9)","半価層(mm)",{"$f":"IF(OR(A点!$AN$8=1,A点!$AN$8=\"○\"),\"\",VLOOKUP($F128,'表9(BB)'!$A$4:$M$27,6,0))","v":""},null,null,null,"c)　鉄(表9)","半価層(mm)",{"$f":"IF(OR(A点!$AN$8=1,A点!$AN$8=\"○\"),\"\",VLOOKUP($F128,'表9(BB)'!$A$4:$M$27,6,0))","v":""},null,null,null,"c)　鉄(表9)","半価層(mm)",{"$f":"IF(OR(A点!$AN$8=1,A点!$AN$8=\"○\"),\"\",VLOOKUP($F128,'表9(BB)'!$A$4:$M$27,6,0))","v":""}]
[null,null,null,null,"透過率",{"$f":"IF($S$128>0,H168,G168)","v":0},{"$f":"IF($F167=\"\",0,(1/2)^($Y18*$AE$10/$F167))","v":0},{"$f":"IF($F167=\"\",0,(1/2)^($Y17*$AE$10/$F167))","v":0},null,null,"透過率",{"$f":"IF($S$128>0,N168,M168)","v":0},{"$f":"IF($L167=\"\",0,(1/2)^($Y30*$AE$10/$L167))","v":0},{"$f":"IF($L167=\"\",0,(1/2)^($Y29*$AE$10/$L167))","v":0},null,null,"透過率",{"$f":"IF($S$128>0,T168,S168)","v":0},{"$f":"IF($R167=\"\",0,(1/2)^($Y42*$AE$10/$R167))","v":0},{"$f":"IF($R167=\"\",0,(1/2)^($Y41*$AE$10/$R167))","v":0}]
[null,null,null,"d)　石膏(表9)","半価層(mm)",{"$f":"IF(OR(A点!$AN$8=1,A点!$AN$8=\"○\"),\"\",VLOOKUP($F128,'表9(BB)'!$A$4:$M$27,8,0))","v":""},null,null,null,"d)　石膏(表9)","半価層(mm)",{"$f":"IF(OR(A点!$AN$8=1,A点!$AN$8=\"○\"),\"\",VLOOKUP($F128,'表9(BB)'!$A$4:$M$27,8,0))","v":""},null,null,null,"d)　石膏(表9)","半価層(mm)",{"$f":"IF(OR(A点!$AN$8=1,A点!$AN$8=\"○\"),\"\",VLOOKUP($F128,'表9(BB)'!$A$4:$M$27,8,0))","v":""}]
[null,null,null,null,"透過率",{"$f":"IF($S$128>0,H170,G170)","v":0},{"$f":"IF($F169=\"\",0,(1/2)^($Z18*$AE$11/$F169))","v":0},{"$f":"IF($F169=\"\",0,(1/2)^($Z17*$AE$11/$F169))","v":0},null,null,"透過率",{"$f":"IF($S$128>0,N170,M170)","v":0},{"$f":"IF($L169=\"\",0,(1/2)^($Z30*$AE$11/$L169))","v":0},{"$f":"IF($L169=\"\",0,(1/2)^($Z29*$AE$11/$L169))","v":0},null,null,"透過率",{"$f":"IF($S$128>0,T170,S170)","v":0},{"$f":"IF($R169=\"\",0,(1/2)^($Z42*$AE$11/$R169))","v":0},{"$f":"IF($R169=\"\",0,(1/2)^($Z41*$AE$11/$R169))","v":0}]
[null,null,null,"e）　ガラス(表9)","半価層(mm)",{"$f":"IF(OR(A点!$AN$8=1,A点!$AN$8=\"○\"),\"\",VLOOKUP($F128,'表9(BB)'!$A$4:$M$27,10,0))","v":""},null,null,null,"e）　ガラス(表9)","半価層(mm)",{"$f":"IF(OR(A点!$AN$8=1,A点!$AN$8=\"○\"),\"\",VLOOKUP($F128,'表9(BB)'!$A$4:$M$27,10,0))","v":""},null,null,null,"e）　ガラス(表9)","半価層(mm)",{"$f":"IF(OR(A点!$AN$8=1,A点!$AN$8=\"○\"),\"\",VLOOKUP($F128,'表9(BB)'!$A$4:$M$27,10,0))","v":""}]
[null,null,null,null,"透過率",{"$f":"IF($S$128>0,H172,G172)","v":0},{"$f":"IF($F171=\"\",0,(1/2)^($AA18*$AE$12/$F171))","v":0},{"$f":"IF($F171=\"\",0,(1/2)^($AA17*$AE$12/$F171))","v":0},null,null,"透過率",{"$f":"IF($S$128>0,N172,M172)","v":0},{"$f":"IF($L171=\"\",0,(1/2)^($AA30*$AE$12/$L171))","v":0},{"$f":"IF($L171=\"\",0,(1/2)^($AA29*$AE$12/$L171))","v":0},null,null,"透過率",{"$f":"IF($S$128>0,T172,S172)","v":0},{"$f":"IF($R$171=\"\",0,(1/2)^($AA42*$AE$12/$R171))","v":0},{"$f":"IF($R171=\"\",0,(1/2)^($AA41*$AE$12/$R171))","v":0}]
[null,null,null,"f)　木材(表9)","半価層(mm)",{"$f":"IF(OR(A点!$AN$8=1,A点!$AN$8=\"○\"),\"\",VLOOKUP($F128,'表9(BB)'!$A$4:$M$27,12,0))","v":""},null,null,null,"f)　木材(表9)","半価層(mm)",{"$f":"IF(OR(A点!$AN$8=1,A点!$AN$8=\"○\"),\"\",VLOOKUP($F128,'表9(BB)'!$A$4:$M$27,12,0))","v":""},null,null,null,"f)　木材(表9)","半価層(mm)",{"$f":"IF(OR(A点!$AN$8=1,A点!$AN$8=\"○\"),\"\",VLOOKUP($F128,'表9(BB)'!$A$4:$M$27,12,0))","v":""}]
[null,null,null,null,"透過率",{"$f":"IF($S$128>0,H174,G174)","v":0},{"$f":"IF($F173=\"\",0,(1/2)^($AB18*$AE$13/$F173))","v":0},{"$f":"IF($F173=\"\",0,(1/2)^($AB17*$AE$13/$F173))","v":0},null,null,"透過率",{"$f":"IF($S$128>0,N174,M174)","v":0},{"$f":"IF($L173=\"\",0,(1/2)^($AB30*$AE$13/$L173))","v":0},{"$f":"IF($L173=\"\",0,(1/2)^($AB29*$AE$13/$L173))","v":0},null,null,"透過率",{"$f":"IF($S$128>0,T174,S174)","v":0},{"$f":"IF($R173=\"\",0,(1/2)^($AB42*$AE$13/$R173))","v":0},{"$f":"IF($R173=\"\",0,(1/2)^($AB41*$AE$13/$R173))","v":0}]
[]
[]
[null,null,null,"2)　Es：散乱エックス線の漏洩線量(散乱角90度)",null,null,null,null,null,"2)　Es：散乱エックス線の漏洩線量(散乱角90度)",null,null,null,null,null,"2)　Es：散乱エックス線の漏洩線量(散乱角90度)"]
[null,null,null,null,"Dt=",{"$f":"H145*G161","v":0},null,null,null,null,"Dt=",{"$f":"N145*M161","v":0},null,null,null,null,"Dt=",{"$f":"T145*S161","v":0}]
[null,null,null,null,"Es=",{"$f":"IF(OR($F128=0,$M130=0,$M131=0,AND($W$8=0,$W$45>0),A点!$AQ$7=1),0,$G128*$G132*$G131*F178*$M127*$M128*($K131/100)*$K132/(400*($M130^2)*($M131^2)))","v":0},"μSv/3ヶ月",null,null,null,"Es=",{"$f":"IF(OR($F128=0,$M130=0,$M131=0,AND($W$20=0,$W$45>0),A点!$AQ$7=1),0,$G128*$G132*$G131*L178*$M127*$M128*($K131/100)*$K132/(400*($M130^2)*($M131^2)))","v":0},"μSv/3ヶ月",null,null,null,"Es=",{"$f":"IF(OR($F128=0,$M130=0,$M131=0,AND($W$32=0,$W$45>0),A点!$AQ$7=1),0,$G128*$G132*$G131*R178*$M127*$M128*($K131/100)*$K132/(400*($M130^2)*($M131^2)))","v":0},"μSv/3ヶ月"]
[]
[]
[null,null,null,"3)　EL：エックス線管容器からの漏洩線量(最大見積)",null,null,null,null,null,"3)　EL：エックス線管容器からの漏洩線量(最大見積)",null,null,null,null,null,"3)　EL：エックス線管容器からの漏洩線量(最大見積)"]
[]
[null,null,null,null,"EL=",{"$f":"IF(OR($F128=0,$M132=0,AND($W$8=0,$W$45>0),A点!$AQ$7=1),0,H161*$S137*$M133*$G131*$M127*$M128/($M132^2))","v":0},"μGy/h",null,null,null,"EL=",{"$f":"IF(OR($F128=0,$M132=0,AND($W$20=0,$W$45>0),A点!$AQ$7=1),0,N161*$S137*$M133*$G131*$M127*$M128/($M132^2))","v":0},"μGy/h",null,null,null,"EL=",{"$f":"IF(OR($F128=0,$M132=0,AND($W$32=0,$W$45>0),A点!$AQ$7=1),0,T161*$S137*$M133*$G131*$M127*$M128/($M132^2))","v":0},"μGy/h"]

{"sheet":"表１","index":10,"n_rows":26,"n_cols":2,"rows_kept":26,"cut":false,"hidden":true,"merged":[]}
["表１　エックス線装置の定格管電圧と利用線錐方向に１メートルの距離おける空気カーマ 　　　　　　"]
["定格管電圧（ｋＶ）","空気カーマ（μGy/mAs）"]
[25,23.5]
[30,43.6]
[35,67.3]
[50,17.5]
[55,21.3]
[60,25.7]
[65,30.6]
[70,36]
[75,41.9]
[80,48.3]
[85,55]
[90,62.1]
[95,69.400000000000006]
[100,77.099999999999994]
[105,85]
[110,93.1]
[115,101]
[120,110]
[125,118]
[130,127]
[135,135]
[140,143]
[145,152]
[150,160]

{"sheet":"表２(Pb)","index":11,"n_rows":41,"n_cols":25,"rows_kept":41,"cut":false,"hidden":true,"merged":[[1,1,1,24]]}
["表２　鉛中におけるエックス線の空気カーマ透過率"]
["厚","使用管電圧(kV)"]
["(mm)",25,30,35,50,55,60,65,70,75,80,85,90,95,100,105,110,115,120,125,130,135,140,145,150]
[0,1,1,1,1,1,1,1,1,1,1,1,1,1,1,1,1,1,1,1,1,1,1,1,1]
[0.1,7.08E-5,2.9100000000000003E-4,9.6000000000000002E-4,6.7500000000000004E-2,8.5999999999999993E-2,0.107,0.13100000000000001,0.155,0.17899999999999999,0.20300000000000001,0.22700000000000001,0.251,0.27600000000000002,0.30099999999999999,0.32700000000000001,0.35299999999999998,0.379,0.40400000000000003,0.42799999999999999,0.45,0.47,0.49,0.50900000000000001,0.52600000000000002]
[0.2,3.0100000000000001E-7,3.5499999999999999E-6,2.8600000000000001E-5,1.0999999999999999E-2,1.72E-2,2.5999999999999999E-2,3.7600000000000001E-2,5.1299999999999998E-2,6.6500000000000004E-2,8.2400000000000001E-2,9.8500000000000004E-2,0.115,0.13100000000000001,0.14699999999999999,0.16300000000000001,0.17799999999999999,0.19400000000000001,0.20899999999999999,0.22500000000000001,0.24,0.255,0.27,0.28499999999999998,0.3]
[0.3,1.92E-9,6.4799999999999998E-8,1.28E-6,2.5400000000000002E-3,4.7499999999999999E-3,8.4700000000000001E-3,1.41E-2,2.18E-2,3.1099999999999999E-2,4.1500000000000002E-2,5.2499999999999998E-2,6.3700000000000007E-2,7.4800000000000005E-2,8.5300000000000001E-2,9.5500000000000002E-2,0.105,0.114,0.123,0.13200000000000001,0.14199999999999999,0.151,0.161,0.17100000000000001,0.18099999999999999]
[0.4,1.33E-11,1.3000000000000001E-9,6.3699999999999995E-8,7.1599999999999995E-4,1.56E-3,3.2100000000000002E-3,6.0800000000000003E-3,1.04E-2,1.6199999999999999E-2,2.3099999999999999E-2,3.09E-2,3.8899999999999997E-2,4.6899999999999997E-2,5.4399999999999997E-2,6.1199999999999997E-2,6.7199999999999996E-2,7.2800000000000004E-2,7.8299999999999995E-2,8.3799999999999999E-2,8.9599999999999999E-2,9.5600000000000004E-2,0.10199999999999999,0.108,0.115]
[0.5,9.3300000000000004E-14,2.6600000000000001E-11,3.2700000000000001E-9,2.2699999999999999E-4,5.6800000000000004E-4,1.33E-3,2.82E-3,5.3400000000000001E-3,8.9999999999999993E-3,1.37E-2,1.9199999999999998E-2,2.52E-2,3.1099999999999999E-2,3.6600000000000001E-2,4.1399999999999999E-2,4.5400000000000003E-2,4.9000000000000002E-2,5.2299999999999999E-2,5.57E-2,5.9299999999999999E-2,6.3E-2,6.7100000000000007E-2,7.1199999999999999E-2,7.5399999999999995E-2]
[0.6,6.5899999999999996E-16,5.4799999999999999E-13,1.7000000000000001E-10,7.7299999999999995E-5,2.2100000000000001E-4,5.8200000000000005E-4,1.3799999999999999E-3,2.8500000000000001E-3,5.1900000000000002E-3,8.4100000000000008E-3,1.24E-2,1.6899999999999998E-2,2.1399999999999999E-2,2.5499999999999998E-2,2.9100000000000001E-2,3.1899999999999998E-2,3.4200000000000001E-2,3.6299999999999999E-2,3.8300000000000001E-2,4.0599999999999997E-2,4.2999999999999997E-2,4.5600000000000002E-2,4.8300000000000003E-2,5.0999999999999997E-2]
[0.7,4.6499999999999999E-18,1.13E-14,8.82E-12,2.7800000000000001E-5,8.9699999999999998E-5,2.6499999999999999E-4,6.9200000000000002E-4,1.57E-3,3.0699999999999998E-3,5.2900000000000004E-3,8.2000000000000007E-3,1.1599999999999999E-2,1.5100000000000001E-2,1.83E-2,2.0899999999999998E-2,2.29E-2,2.4500000000000001E-2,2.58E-2,2.7099999999999999E-2,2.86E-2,3.0099999999999998E-2,3.1800000000000002E-2,3.3500000000000002E-2,3.5299999999999998E-2]
[0.8,3.2900000000000003E-20,2.3299999999999999E-16,4.5899999999999996E-13,1.04E-5,3.7599999999999999E-5,1.2400000000000001E-4,3.5500000000000001E-4,8.7600000000000004E-4,1.8400000000000001E-3,3.3899999999999998E-3,5.5100000000000001E-3,8.0800000000000004E-3,1.0800000000000001E-2,1.3299999999999999E-2,1.54E-2,1.6799999999999999E-2,1.7899999999999999E-2,1.8700000000000001E-2,1.9599999999999999E-2,2.0500000000000001E-2,2.1499999999999998E-2,2.2700000000000001E-2,2.3800000000000002E-2,2.5000000000000001E-2]
[0.9,2.3299999999999998E-22,4.8199999999999998E-18,2.3900000000000001E-14,3.9700000000000001E-6,1.6099999999999998E-5,5.8699999999999997E-5,1.85E-4,4.9600000000000002E-4,1.1199999999999999E-3,2.1900000000000001E-3,3.7499999999999999E-3,5.7099999999999998E-3,7.8600000000000007E-3,9.8499999999999994E-3,1.14E-2,1.2500000000000001E-2,1.3299999999999999E-2,1.38E-2,1.44E-2,1.4999999999999999E-2,1.5699999999999999E-2,1.6400000000000001E-2,1.72E-2,1.7999999999999999E-2]
[1,1.6399999999999999E-24,9.9500000000000005E-20,1.24E-15,1.55E-6,7.0199999999999997E-6,2.83E-5,9.7700000000000003E-5,2.8299999999999999E-4,6.8900000000000005E-4,1.4300000000000001E-3,2.5699999999999998E-3,4.0800000000000003E-3,5.77E-3,7.3600000000000002E-3,8.6E-3,9.4400000000000005E-3,9.9699999999999997E-3,1.03E-2,1.0699999999999999E-2,1.11E-2,1.1599999999999999E-2,1.21E-2,1.26E-2,1.3100000000000001E-2]
[1.1000000000000001,1.16E-26,2.05E-21,6.48E-17,6.1399999999999997E-7,3.0900000000000001E-6,1.3699999999999999E-5,5.1900000000000001E-5,1.63E-4,4.2499999999999998E-4,9.3899999999999995E-4,1.7799999999999999E-3,2.9299999999999999E-3,4.2700000000000004E-3,5.5399999999999998E-3,6.5300000000000002E-3,7.1799999999999998E-3,7.5599999999999999E-3,7.8100000000000001E-3,8.0300000000000007E-3,8.3000000000000001E-3,8.6300000000000005E-3,8.9899999999999997E-3,9.3500000000000007E-3,9.7199999999999995E-3]
[1.2,8.2200000000000001E-29,4.2399999999999997E-23,3.3800000000000001E-18,2.4600000000000001E-7,1.3799999999999999E-6,6.7299999999999999E-6,2.7699999999999999E-5,9.4099999999999997E-5,2.6400000000000002E-4,6.1899999999999998E-4,1.23E-3,2.1199999999999999E-3,3.1700000000000001E-3,4.1999999999999997E-3,5.0000000000000001E-3,5.4999999999999997E-3,5.7800000000000004E-3,5.9500000000000004E-3,6.0899999999999999E-3,6.2700000000000004E-3,6.4999999999999997E-3,6.7600000000000004E-3,7.0099999999999997E-3,7.2700000000000004E-3]
[1.3,5.8100000000000004E-31,8.7600000000000009E-25,1.7599999999999999E-19,9.9299999999999996E-8,6.1500000000000004E-7,3.3100000000000001E-6,1.4800000000000001E-5,5.4500000000000003E-5,1.64E-4,4.0900000000000002E-4,8.5899999999999995E-4,1.5399999999999999E-3,2.3700000000000001E-3,3.2000000000000002E-3,3.8400000000000001E-3,4.2399999999999998E-3,4.45E-3,4.5599999999999998E-3,4.6499999999999996E-3,4.7800000000000004E-3,4.9399999999999999E-3,5.13E-3,5.3099999999999996E-3,5.4900000000000001E-3]
[1.4,4.11E-33,1.81E-26,9.1600000000000005E-21,4.0399999999999998E-8,2.7700000000000001E-7,1.6300000000000001E-6,7.9799999999999998E-6,3.1699999999999998E-5,1.02E-4,2.7099999999999997E-4,5.9999999999999995E-4,1.1199999999999999E-3,1.7799999999999999E-3,2.4499999999999999E-3,2.97E-3,3.2799999999999999E-3,3.4399999999999999E-3,3.5200000000000001E-3,3.5799999999999998E-3,3.6600000000000001E-3,3.79E-3,3.9199999999999999E-3,4.0499999999999998E-3,4.1900000000000001E-3]
[1.5,2.9000000000000002E-35,3.74E-28,4.77E-22,1.6499999999999999E-8,1.2499999999999999E-7,8.0800000000000004E-7,4.3000000000000003E-6,1.84E-5,6.3800000000000006E-5,1.8000000000000001E-4,4.2000000000000002E-4,8.1499999999999997E-4,1.34E-3,1.8799999999999999E-3,2.3E-3,2.5500000000000002E-3,2.6800000000000001E-3,2.7299999999999998E-3,2.7599999999999999E-3,2.8300000000000001E-3,2.9199999999999999E-3,3.0200000000000001E-3,3.1199999999999999E-3,3.2100000000000002E-3]
[1.6,2.0499999999999999E-37,7.7199999999999998E-30,2.48E-23,6.7500000000000001E-9,5.6599999999999997E-8,4.01E-7,2.3199999999999998E-6,1.0699999999999999E-5,3.9900000000000001E-5,1.2E-4,2.9399999999999999E-4,5.9599999999999996E-4,1.01E-3,1.4499999999999999E-3,1.7899999999999999E-3,1.99E-3,2.0899999999999998E-3,2.1199999999999999E-3,2.15E-3,2.1900000000000001E-3,2.2599999999999999E-3,2.3400000000000001E-3,2.4099999999999998E-3,2.49E-3]
[1.7,1.4499999999999999E-39,1.59E-31,1.29E-24,2.7799999999999999E-9,2.5699999999999999E-8,1.99E-7,1.2500000000000001E-6,6.2700000000000001E-6,2.5000000000000001E-5,7.9800000000000002E-5,2.0599999999999999E-4,4.3600000000000003E-4,7.6199999999999998E-4,1.1100000000000001E-3,1.39E-3,1.56E-3,1.6299999999999999E-3,1.66E-3,1.67E-3,1.7099999999999999E-3,1.7600000000000001E-3,1.82E-3,1.8799999999999999E-3,1.9300000000000001E-3]
[1.8,1.0299999999999999E-41,3.2900000000000003E-33,6.7400000000000004E-26,1.14E-9,1.1700000000000001E-8,9.9099999999999994E-8,6.7700000000000004E-7,3.6600000000000001E-6,1.56E-5,5.3199999999999999E-5,1.45E-4,3.19E-4,5.7700000000000004E-4,8.61E-4,1.09E-3,1.2199999999999999E-3,1.2800000000000001E-3,1.2999999999999999E-3,1.31E-3,1.33E-3,1.3799999999999999E-3,1.42E-3,1.47E-3,1.5100000000000001E-3]
[1.9,7.2500000000000003E-44,6.7999999999999995E-35,3.5099999999999997E-27,4.7200000000000002E-10,5.3000000000000003E-9,4.9299999999999998E-8,3.6600000000000002E-7,2.1299999999999999E-6,9.7899999999999994E-6,3.5500000000000002E-5,1.02E-4,2.34E-4,4.37E-4,6.6600000000000003E-4,8.5300000000000003E-4,9.6199999999999996E-4,1.01E-3,1.0200000000000001E-3,1.0300000000000001E-3,1.0499999999999999E-3,1.08E-3,1.1199999999999999E-3,1.16E-3,1.1900000000000001E-3]
[2,5.1299999999999999E-46,1.4000000000000001E-36,1.83E-28,1.95E-10,2.4100000000000002E-9,2.4599999999999999E-8,1.98E-7,1.2500000000000001E-6,6.1299999999999998E-6,2.3600000000000001E-5,7.1600000000000006E-5,1.7200000000000001E-4,3.3100000000000002E-4,5.1599999999999997E-4,6.6799999999999997E-4,7.5799999999999999E-4,7.9500000000000003E-4,8.03E-4,8.0699999999999999E-4,8.2299999999999995E-4,8.4999999999999995E-4,8.8199999999999997E-4,9.1299999999999997E-4,9.4200000000000002E-4]
[2.1,3.6200000000000001E-48,2.8999999999999999E-38,9.52E-30,8.0500000000000006E-11,1.0999999999999999E-9,1.22E-8,1.0700000000000001E-7,7.2799999999999995E-7,3.8399999999999997E-6,1.5800000000000001E-5,5.0399999999999999E-5,1.26E-4,2.5099999999999998E-4,4.0000000000000002E-4,5.2400000000000005E-4,5.9699999999999998E-4,6.2699999999999995E-4,6.3299999999999999E-4,6.3599999999999996E-4,6.4899999999999995E-4,6.7100000000000005E-4,6.9800000000000005E-4,7.2400000000000003E-4,7.4700000000000005E-4]
[2.2000000000000002,2.56E-50,5.9899999999999997E-40,4.9600000000000002E-31,3.3299999999999997E-11,5.0100000000000003E-10,6.1E-9,5.8000000000000003E-8,4.2500000000000001E-7,2.4099999999999998E-6,1.0499999999999999E-5,3.5500000000000002E-5,9.2800000000000006E-5,1.9100000000000001E-4,3.1E-4,4.1199999999999999E-4,4.7199999999999998E-4,4.9600000000000002E-4,5.0000000000000001E-4,5.0299999999999997E-4,5.13E-4,5.31E-4,5.5400000000000002E-4,5.7499999999999999E-4,5.9500000000000004E-4]
[2.2999999999999998,1.8100000000000001E-52,1.2400000000000001E-41,2.58E-32,1.38E-11,2.2900000000000001E-10,3.0399999999999998E-9,3.1400000000000003E-8,2.4900000000000002E-7,1.5099999999999999E-6,7.0199999999999997E-6,2.5000000000000001E-5,6.8200000000000004E-5,1.45E-4,2.41E-4,3.2400000000000001E-4,3.7300000000000001E-4,3.9199999999999999E-4,3.9599999999999998E-4,3.9800000000000002E-4,4.06E-4,4.2200000000000001E-4,4.4000000000000002E-4,4.5899999999999999E-4,4.7600000000000002E-4]
[2.4,1.2800000000000001E-54,2.5499999999999998E-43,1.3400000000000001E-33,5.7099999999999997E-12,1.04E-10,1.5199999999999999E-9,1.7E-8,1.4499999999999999E-7,9.47E-7,4.69E-6,1.7600000000000001E-5,5.0099999999999998E-5,1.1E-4,1.8699999999999999E-4,2.5500000000000002E-4,2.9500000000000001E-4,3.1100000000000002E-4,3.1399999999999999E-4,3.1500000000000001E-4,3.2200000000000002E-4,3.3500000000000001E-4,3.5100000000000002E-4,3.6699999999999998E-4,3.8200000000000002E-4]
[2.5,9.0499999999999999E-57,5.2700000000000002E-45,6.9999999999999999E-35,2.3700000000000002E-12,4.7600000000000002E-11,7.5699999999999997E-10,9.2099999999999994E-9,8.4899999999999999E-8,5.9400000000000005E-7,3.1300000000000001E-6,1.24E-5,3.68E-5,8.3599999999999999E-5,1.45E-4,2.0000000000000001E-4,2.33E-4,2.4600000000000002E-4,2.4899999999999998E-4,2.5000000000000001E-4,2.5599999999999999E-4,2.6699999999999998E-4,2.81E-4,2.9399999999999999E-4,3.0699999999999998E-4]
[2.6,6.3999999999999998E-59,1.09E-46,3.6500000000000002E-36,9.8000000000000007E-13,2.17E-11,3.7799999999999999E-10,4.9900000000000003E-9,4.9600000000000001E-8,3.72E-7,2.0899999999999999E-6,8.7099999999999996E-6,2.7100000000000001E-5,6.3499999999999999E-5,1.13E-4,1.5799999999999999E-4,1.85E-4,1.9599999999999999E-4,1.9699999999999999E-4,1.9799999999999999E-4,2.04E-4,2.13E-4,2.2499999999999999E-4,2.3699999999999999E-4,2.4800000000000001E-4]
[2.7,4.52E-61,2.2499999999999999E-48,1.9000000000000002E-37,4.0599999999999999E-13,9.9099999999999996E-12,1.88E-10,2.7000000000000002E-9,2.9000000000000002E-8,2.3300000000000001E-7,1.39E-6,6.1399999999999997E-6,1.9899999999999999E-5,4.8300000000000002E-5,8.7899999999999995E-5,1.2400000000000001E-4,1.46E-4,1.55E-4,1.5699999999999999E-4,1.5799999999999999E-4,1.6200000000000001E-4,1.7000000000000001E-4,1.8000000000000001E-4,1.9100000000000001E-4,2.0100000000000001E-4]
[2.8,3.1999999999999999E-63,4.6399999999999996E-50,9.8899999999999995E-39,1.6799999999999999E-13,4.5300000000000003E-12,9.3999999999999999E-11,1.4599999999999999E-9,1.7E-8,1.4600000000000001E-7,9.2999999999999999E-7,4.3200000000000001E-6,1.47E-5,3.6699999999999998E-5,6.8399999999999996E-5,9.7899999999999994E-5,1.16E-4,1.2300000000000001E-4,1.25E-4,1.26E-4,1.2899999999999999E-4,1.36E-4,1.45E-4,1.54E-4,1.63E-4]
[2.9,2.2600000000000002E-65,9.5900000000000002E-52,5.1499999999999999E-40,6.9800000000000003E-14,2.0699999999999999E-12,4.6900000000000001E-11,7.9299999999999995E-10,9.9100000000000007E-9,9.1800000000000001E-8,6.2099999999999996E-7,3.0400000000000001E-6,1.08E-5,2.7900000000000001E-5,5.3199999999999999E-5,7.7200000000000006E-5,9.2100000000000003E-5,9.7999999999999997E-5,9.9199999999999999E-5,1E-4,1.03E-4,1.0900000000000001E-4,1.17E-4,1.2400000000000001E-4,1.3200000000000001E-4]
[3,1.6000000000000001E-67,1.9800000000000001E-53,2.6799999999999999E-41,2.8900000000000002E-14,9.4299999999999992E-13,2.3400000000000001E-11,4.3000000000000001E-10,5.7900000000000001E-9,5.76E-8,4.15E-7,2.1399999999999998E-6,7.9300000000000003E-6,2.1299999999999999E-5,4.1399999999999997E-5,6.0900000000000003E-5,7.2999999999999999E-5,7.7999999999999999E-5,7.8899999999999993E-5,7.9699999999999999E-5,8.2600000000000002E-5,8.7600000000000002E-5,9.3999999999999994E-5,1.01E-4,1.08E-4]
[3.5,2.8200000000000001E-78,7.4299999999999997E-62,1.03E-47,3.55E-16,1.8699999999999999E-14,7.2400000000000005E-13,1.9999999999999999E-11,3.9499999999999998E-10,5.5800000000000002E-9,5.5000000000000003E-8,3.72E-7,1.7099999999999999E-6,5.4199999999999998E-6,1.1800000000000001E-5,1.8600000000000001E-5,2.3E-5,2.4899999999999999E-5,2.5400000000000001E-5,2.58E-5,2.72E-5,2.94E-5,3.2499999999999997E-5,3.5899999999999998E-5,3.9499999999999998E-5]
[4,4.9800000000000003E-89,2.7900000000000001E-70,3.9399999999999998E-54,4.35E-18,3.7199999999999998E-16,2.2400000000000001E-14,9.3499999999999995E-13,2.7E-11,5.4199999999999999E-10,7.3E-9,6.4399999999999994E-8,3.6899999999999998E-7,1.3799999999999999E-6,3.3900000000000002E-6,5.6899999999999997E-6,7.2899999999999997E-6,7.9899999999999997E-6,8.1899999999999995E-6,8.4200000000000007E-6,9.0299999999999999E-6,1.0000000000000001E-5,1.15E-5,1.31E-5,1.5E-5]
[]
["なお、鉛の密度は、11.35g/cm3 である。"]
["NCRP Report No.147（2004）では一次エックス線と二次エックス線の透過率は同等であるこ"]
["とを示している。"]
["該当する値がない場合には、安全側に設定するか又は補間法により求めることができる。"]

{"sheet":"表３(コ)","index":12,"n_rows":44,"n_cols":28,"rows_kept":44,"cut":false,"hidden":true,"merged":[[1,1,1,24]]}
["表３　コンクリート中におけるエックス線の空気カーマ透過率"]
["厚","使用管電圧(kV)",null,null,null,null,null,null,null,null,null,null,null,null,null,null,null,null,null,null,null,null,null,null,null,null,"定格管電圧（ｋＶｐ）"]
["(mm)",25,30,35,50,55,60,65,70,75,80,85,90,95,100,105,110,115,120,125,130,135,140,145,150,null,25,2]
[0,1,1,1,1,1,1,1,1,1,1,1,1,1,1,1,1,1,1,1,1,1,1,1,1,1,30,3]
[10,1.63E-4,5.8500000000000002E-4,1.73E-3,0.108,0.128,0.14599999999999999,0.16300000000000001,0.17899999999999999,0.19700000000000001,0.22,0.249,0.28299999999999997,0.315,0.34200000000000003,0.36399999999999999,0.38200000000000001,0.39600000000000002,0.40799999999999997,0.41799999999999998,0.42599999999999999,0.434,0.441,0.44600000000000001,0.45,2,35,4]
[20,1.46E-6,1.31E-5,8.4300000000000003E-5,1.9E-2,2.6200000000000001E-2,3.4500000000000003E-2,4.3700000000000003E-2,5.3900000000000003E-2,6.5299999999999997E-2,7.8600000000000003E-2,9.4200000000000006E-2,0.112,0.13,0.14699999999999999,0.16300000000000001,0.17799999999999999,0.192,0.20399999999999999,0.216,0.22800000000000001,0.23899999999999999,0.249,0.26,0.27100000000000002,3,50,5]
[30,2.3099999999999998E-8,4.63E-7,5.9000000000000003E-6,4.3400000000000001E-3,6.9100000000000003E-3,1.04E-2,1.49E-2,2.0500000000000001E-2,2.7099999999999999E-2,3.4599999999999999E-2,4.2999999999999997E-2,5.21E-2,6.1699999999999998E-2,7.1800000000000003E-2,8.2199999999999995E-2,9.2700000000000005E-2,0.10299999999999999,0.114,0.125,0.13500000000000001,0.14499999999999999,0.156,0.16600000000000001,0.17799999999999999,4,55,6]
[40,4.3100000000000001E-10,1.8399999999999999E-8,4.5299999999999999E-7,1.16E-3,2.1299999999999999E-3,3.6600000000000001E-3,5.8900000000000003E-3,8.9099999999999995E-3,1.2699999999999999E-2,1.7100000000000001E-2,2.18E-2,2.6700000000000002E-2,3.2099999999999997E-2,3.7999999999999999E-2,4.4600000000000001E-2,5.1900000000000002E-2,5.96E-2,6.7799999999999999E-2,7.6200000000000004E-2,8.4699999999999998E-2,9.3299999999999994E-2,0.10199999999999999,0.112,0.122,5,60,7]
[50,8.4600000000000007E-12,7.5599999999999997E-10,3.5700000000000002E-8,3.4499999999999998E-4,7.3099999999999999E-4,1.42E-3,2.5500000000000002E-3,4.2199999999999998E-3,6.43E-3,9.0299999999999998E-3,1.18E-2,1.46E-2,1.77E-2,2.1299999999999999E-2,2.5499999999999998E-2,3.0499999999999999E-2,3.5999999999999997E-2,4.2099999999999999E-2,4.8500000000000001E-2,5.5100000000000003E-2,6.1899999999999997E-2,6.9099999999999995E-2,7.6899999999999996E-2,8.5699999999999998E-2,6,65,8]
[60,1.6900000000000001E-13,3.1500000000000001E-11,2.8400000000000001E-9,1.11E-4,2.6899999999999998E-4,5.9100000000000005E-4,1.1800000000000001E-3,2.1199999999999999E-3,3.4199999999999999E-3,5.0000000000000001E-3,6.6499999999999997E-3,8.3499999999999998E-3,1.0200000000000001E-2,1.24E-2,1.52E-2,1.8499999999999999E-2,2.2499999999999999E-2,2.69E-2,3.1699999999999999E-2,3.6799999999999999E-2,4.2000000000000003E-2,4.7600000000000003E-2,5.3800000000000001E-2,6.08E-2,7,70,9]
[70,3.4E-15,1.32E-12,2.26E-10,3.7400000000000001E-5,1.05E-4,2.5999999999999998E-4,5.6999999999999998E-4,1.1100000000000001E-3,1.89E-3,2.8600000000000001E-3,3.8800000000000002E-3,4.9199999999999999E-3,6.0600000000000003E-3,7.45E-3,9.2700000000000005E-3,1.1599999999999999E-2,1.43E-2,1.7600000000000001E-2,2.1100000000000001E-2,2.4899999999999999E-2,2.8899999999999999E-2,3.32E-2,3.7999999999999999E-2,4.3499999999999997E-2,8,75,10]
[80,6.84E-17,5.51E-14,1.8100000000000001E-11,1.31E-5,4.2500000000000003E-5,1.18E-4,2.8600000000000001E-4,5.9599999999999996E-4,1.07E-3,1.6800000000000001E-3,2.32E-3,2.96E-3,3.6800000000000001E-3,4.5799999999999999E-3,5.7800000000000004E-3,7.3600000000000002E-3,9.3200000000000002E-3,1.17E-2,1.43E-2,1.7100000000000001E-2,2.01E-2,2.3400000000000001E-2,2.7E-2,3.1199999999999999E-2,9,80,11]
[90,1.38E-18,2.3100000000000001E-15,1.4399999999999999E-12,4.7600000000000002E-6,1.7799999999999999E-5,5.5699999999999999E-5,1.47E-4,3.28E-4,6.2E-4,1E-3,1.41E-3,1.82E-3,2.2799999999999999E-3,2.8600000000000001E-3,3.6700000000000001E-3,4.7600000000000003E-3,6.1399999999999996E-3,7.8200000000000006E-3,9.7400000000000004E-3,1.18E-2,1.41E-2,1.6500000000000001E-2,1.9300000000000001E-2,2.2499999999999999E-2,10,85,12]
[100,2.7800000000000002E-20,9.6699999999999999E-17,1.1499999999999999E-13,1.77E-6,7.6299999999999998E-6,2.6800000000000001E-5,7.7399999999999998E-5,1.84E-4,3.6400000000000001E-4,6.0499999999999996E-4,8.6399999999999997E-4,1.1299999999999999E-3,1.4300000000000001E-3,1.81E-3,2.3600000000000001E-3,3.1099999999999999E-3,4.0899999999999999E-3,5.3E-3,6.7000000000000002E-3,8.2299999999999995E-3,9.8799999999999999E-3,1.17E-2,1.38E-2,1.6199999999999999E-2,11,90,13]
[110,5.5999999999999999E-22,4.05E-18,9.1800000000000001E-15,6.6700000000000003E-7,3.3299999999999999E-6,1.3200000000000001E-5,4.1399999999999997E-5,1.05E-4,2.1599999999999999E-4,3.6900000000000002E-4,5.3700000000000004E-4,7.0899999999999999E-4,9.0399999999999996E-4,1.16E-3,1.5299999999999999E-3,2.0500000000000002E-3,2.7499999999999998E-3,3.6099999999999999E-3,4.6299999999999996E-3,5.7499999999999999E-3,6.9699999999999996E-3,8.3400000000000002E-3,9.8899999999999995E-3,1.17E-2,12,95,14]
[120,1.13E-23,1.7000000000000001E-19,7.3299999999999998E-16,2.5600000000000002E-7,1.48E-6,6.5599999999999999E-6,2.2399999999999999E-5,6.02E-5,1.2899999999999999E-4,2.2699999999999999E-4,3.3599999999999998E-4,4.4900000000000002E-4,5.7799999999999995E-4,7.5100000000000004E-4,1.01E-3,1.3699999999999999E-3,1.8600000000000001E-3,2.48E-3,3.2100000000000002E-3,4.0299999999999997E-3,4.9300000000000004E-3,5.94E-3,7.1000000000000004E-3,8.4600000000000005E-3,13,100,15]
[130,2.28E-25,7.0999999999999995E-21,5.8500000000000001E-17,9.9E-8,6.6599999999999996E-7,3.3100000000000001E-6,1.2300000000000001E-5,3.4900000000000001E-5,7.7899999999999996E-5,1.3999999999999999E-4,2.1100000000000001E-4,2.8600000000000001E-4,3.7300000000000001E-4,4.8899999999999996E-4,6.6399999999999999E-4,9.1500000000000001E-4,1.2600000000000001E-3,1.6999999999999999E-3,2.2399999999999998E-3,2.8400000000000001E-3,3.5000000000000001E-3,4.2399999999999998E-3,5.1000000000000004E-3,6.11E-3,14,105,16]
[140,4.5900000000000003E-27,2.9699999999999999E-22,4.6699999999999998E-18,3.8700000000000002E-8,3.0199999999999998E-7,1.6899999999999999E-6,6.7900000000000002E-6,2.0400000000000001E-5,4.7200000000000002E-5,8.7200000000000005E-5,1.34E-4,1.83E-4,2.41E-4,3.2000000000000003E-4,4.4000000000000002E-4,6.1600000000000001E-4,8.5999999999999998E-4,1.1800000000000001E-3,1.56E-3,2E-3,2.48E-3,3.0300000000000001E-3,3.6600000000000001E-3,4.4200000000000003E-3,15,110,17]
[150,9.2600000000000002E-29,1.2500000000000001E-23,3.7300000000000001E-19,1.52E-8,1.3799999999999999E-7,8.6700000000000002E-7,3.7799999999999998E-6,1.2E-5,2.87E-5,5.4400000000000001E-5,8.4800000000000001E-5,1.18E-4,1.5699999999999999E-4,2.1100000000000001E-4,2.9399999999999999E-4,4.1599999999999997E-4,5.8900000000000001E-4,8.1599999999999999E-4,1.09E-3,1.41E-3,1.7600000000000001E-3,2.16E-3,2.63E-3,3.1900000000000001E-3,16,115,18]
[160,1.87E-30,5.2099999999999999E-25,2.9800000000000002E-20,6.0300000000000001E-9,6.3800000000000002E-8,4.4799999999999999E-7,2.1100000000000001E-6,7.0500000000000003E-6,1.7499999999999998E-5,3.4E-5,5.3999999999999998E-5,7.6199999999999995E-5,1.03E-4,1.3999999999999999E-4,1.9699999999999999E-4,2.8200000000000002E-4,4.0400000000000001E-4,5.6599999999999999E-4,7.6599999999999997E-4,9.9500000000000001E-4,1.25E-3,1.5499999999999999E-3,1.89E-3,2.31E-3,17,120,19]
[170,3.7600000000000002E-32,2.1800000000000001E-26,2.3800000000000002E-21,2.4E-9,2.96E-8,2.3300000000000001E-7,1.19E-6,4.1699999999999999E-6,1.0699999999999999E-5,2.1299999999999999E-5,3.4499999999999998E-5,4.9299999999999999E-5,6.7299999999999996E-5,9.2600000000000001E-5,1.3200000000000001E-4,1.92E-4,2.7799999999999998E-4,3.9399999999999998E-4,5.3799999999999996E-4,7.0299999999999996E-4,8.9099999999999997E-4,1.1100000000000001E-3,1.3600000000000001E-3,1.67E-3,18,125,20]
[180,7.5900000000000004E-34,9.1399999999999993E-28,1.9000000000000001E-22,9.569999999999999E-10,1.3799999999999999E-8,1.2200000000000001E-7,6.7100000000000001E-7,2.48E-6,6.5899999999999996E-6,1.34E-5,2.1999999999999999E-5,3.1999999999999999E-5,4.4199999999999997E-5,6.1600000000000007E-5,8.8999999999999995E-5,1.3100000000000001E-4,1.92E-4,2.7399999999999999E-4,3.7800000000000003E-4,4.9799999999999996E-4,6.3400000000000001E-4,7.9199999999999995E-4,9.7799999999999992E-4,1.2099999999999999E-3,19,130,21]
[190,1.5300000000000001E-35,3.83E-29,1.5100000000000001E-23,3.8300000000000002E-10,6.4400000000000001E-9,6.3899999999999996E-8,3.8000000000000001E-7,1.4699999999999999E-6,4.0500000000000002E-6,8.4200000000000007E-6,1.4100000000000001E-5,2.0800000000000001E-5,2.9099999999999999E-5,4.1100000000000003E-5,6.0099999999999997E-5,8.9400000000000005E-5,1.3200000000000001E-4,1.9100000000000001E-4,2.6499999999999999E-4,3.5199999999999999E-4,4.5100000000000001E-4,5.6700000000000001E-4,7.0399999999999998E-4,8.7200000000000005E-4,20,135,22]
[200,3.0799999999999999E-37,1.6000000000000001E-30,1.2100000000000001E-24,1.5400000000000001E-10,3.0199999999999999E-9,3.3699999999999997E-8,2.16E-7,8.78E-7,2.4899999999999999E-6,5.3000000000000001E-6,9.0399999999999998E-6,1.3499999999999999E-5,1.9199999999999999E-5,2.7500000000000001E-5,4.07E-5,6.1199999999999997E-5,9.1500000000000001E-5,1.3300000000000001E-4,1.8699999999999999E-4,2.4899999999999998E-4,3.21E-4,4.0499999999999998E-4,5.0600000000000005E-4,6.3100000000000005E-4,21,140,23]
[210,6.2199999999999995E-39,6.7199999999999997E-32,9.6400000000000003E-26,6.1799999999999996E-11,1.4200000000000001E-9,1.7800000000000001E-8,1.23E-7,5.2399999999999998E-7,1.5400000000000001E-6,3.3400000000000002E-6,5.8000000000000004E-6,8.8300000000000002E-6,1.27E-5,1.84E-5,2.76E-5,4.1900000000000002E-5,6.3299999999999994E-5,9.2999999999999997E-5,1.3100000000000001E-4,1.76E-4,2.2900000000000001E-4,2.9E-4,3.6400000000000001E-4,4.5600000000000003E-4,22,145,24]
[220,1.2499999999999999E-40,2.8099999999999999E-33,7.6899999999999995E-27,2.4899999999999999E-11,6.6899999999999996E-10,9.39E-9,6.9899999999999997E-8,3.1300000000000001E-7,9.47E-7,2.1100000000000001E-6,3.7299999999999999E-6,5.7599999999999999E-6,8.4100000000000008E-6,1.2300000000000001E-5,1.8700000000000001E-5,2.87E-5,4.3900000000000003E-5,6.4999999999999994E-5,9.2299999999999994E-5,1.25E-4,1.63E-4,2.0799999999999999E-4,2.6200000000000003E-4,3.3E-4,23,150,25]
[230,2.5299999999999999E-42,1.1799999999999999E-34,6.1399999999999997E-28,9.9999999999999994E-12,3.1599999999999999E-10,4.9799999999999998E-9,3.99E-8,1.8699999999999999E-7,5.8400000000000004E-7,1.33E-6,2.39E-6,3.76E-6,5.57E-6,8.2700000000000004E-6,1.27E-5,1.9700000000000001E-5,3.04E-5,4.5399999999999999E-5,6.4999999999999994E-5,8.8499999999999996E-5,1.16E-4,1.4899999999999999E-4,1.8799999999999999E-4,2.3800000000000001E-4,24]
[240,5.1000000000000005E-44,4.9300000000000001E-36,4.8999999999999998E-29,4.0499999999999999E-12,1.49E-10,2.64E-9,2.2799999999999999E-8,1.12E-7,3.6100000000000002E-7,8.3900000000000004E-7,1.5400000000000001E-6,2.4600000000000002E-6,3.6899999999999998E-6,5.5600000000000001E-6,8.6300000000000004E-6,1.36E-5,2.1100000000000001E-5,3.1699999999999998E-5,4.5800000000000002E-5,6.2700000000000006E-5,8.25E-5,1.06E-4,1.35E-4,1.7200000000000001E-4,25]
[250,1.03E-45,2.0699999999999999E-37,3.9099999999999999E-30,1.6299999999999999E-12,7.0599999999999994E-11,1.3999999999999999E-9,1.31E-8,6.73E-8,2.23E-7,5.3000000000000001E-7,9.9000000000000005E-7,1.5999999999999999E-6,2.4499999999999998E-6,3.7400000000000002E-6,5.8699999999999997E-6,9.3200000000000006E-6,1.4600000000000001E-5,2.2200000000000001E-5,3.2199999999999997E-5,4.4400000000000002E-5,5.8799999999999999E-5,7.6100000000000007E-5,9.7299999999999993E-5,1.25E-4,26]
[260,2.0699999999999999E-47,8.6499999999999996E-39,3.1200000000000001E-31,6.6000000000000001E-13,3.3500000000000001E-11,7.4700000000000001E-10,7.4799999999999998E-9,4.0299999999999997E-8,1.3799999999999999E-7,3.3500000000000002E-7,6.37E-7,1.0499999999999999E-6,1.6300000000000001E-6,2.5100000000000001E-6,3.9999999999999998E-6,6.4099999999999996E-6,1.01E-5,1.5500000000000001E-5,2.27E-5,3.1399999999999998E-5,4.18E-5,5.4400000000000001E-5,6.9999999999999994E-5,9.0099999999999995E-5,27]
[270,4.18E-49,3.6199999999999999E-40,2.4899999999999998E-32,2.6700000000000002E-13,1.5900000000000001E-11,3.9800000000000002E-10,4.2899999999999999E-9,2.4200000000000002E-8,8.5199999999999995E-8,2.1199999999999999E-7,4.0999999999999999E-7,6.8700000000000005E-7,1.08E-6,1.6899999999999999E-6,2.7199999999999998E-6,4.4100000000000001E-6,7.0400000000000004E-6,1.0900000000000001E-5,1.5999999999999999E-5,2.23E-5,2.9799999999999999E-5,3.8999999999999999E-5,5.0399999999999999E-5,6.5099999999999997E-5,28]
[280,8.4199999999999999E-51,1.5200000000000001E-41,1.9900000000000001E-33,1.0799999999999999E-13,7.5300000000000004E-12,2.1199999999999999E-10,2.4600000000000002E-9,1.4500000000000001E-8,5.2700000000000002E-8,1.3400000000000001E-7,2.6399999999999998E-7,4.4900000000000001E-7,7.1699999999999997E-7,1.1400000000000001E-6,1.86E-6,3.0400000000000001E-6,4.8899999999999998E-6,7.6000000000000001E-6,1.13E-5,1.5800000000000001E-5,2.12E-5,2.7900000000000001E-5,3.6199999999999999E-5,4.71E-5,29]
[290,1.7000000000000001E-52,6.3500000000000003E-43,1.59E-34,4.3699999999999999E-14,3.5699999999999999E-12,1.13E-10,1.4100000000000001E-9,8.7199999999999997E-9,3.2600000000000001E-8,8.4499999999999996E-8,1.6999999999999999E-7,2.9400000000000001E-7,4.7700000000000005E-7,7.6799999999999999E-7,1.2699999999999999E-6,2.0899999999999999E-6,3.4000000000000001E-6,5.3199999999999999E-6,7.9300000000000003E-6,1.1199999999999999E-5,1.5099999999999999E-5,2.0000000000000002E-5,2.5999999999999998E-5,3.4100000000000002E-5,30]
[300,3.42E-54,2.6600000000000002E-44,1.2700000000000001E-35,1.77E-14,1.7E-12,6.0300000000000001E-11,8.0999999999999999E-10,5.2400000000000001E-9,2.0100000000000001E-8,5.3400000000000002E-8,1.09E-7,1.92E-7,3.1699999999999999E-7,5.1799999999999995E-7,8.6300000000000004E-7,1.44E-6,2.3599999999999999E-6,3.72E-6,5.5799999999999999E-6,7.9200000000000004E-6,1.08E-5,1.43E-5,1.8700000000000001E-5,2.4600000000000002E-5,31]
[350,1.1400000000000001E-62,3.4299999999999998E-51,4.1099999999999999E-41,1.9300000000000001E-16,4.1199999999999997E-14,2.6299999999999999E-12,5.0699999999999997E-11,4.0999999999999998E-10,1.8300000000000001E-9,5.3899999999999998E-9,1.2100000000000001E-8,2.3199999999999999E-8,4.1299999999999999E-8,7.2300000000000006E-8,1.2800000000000001E-7,2.2399999999999999E-7,3.8200000000000001E-7,6.2500000000000005E-7,9.6899999999999996E-7,1.4100000000000001E-6,1.9700000000000002E-6,2.6800000000000002E-6,3.5999999999999998E-6,4.87E-6,32]
[400,3.7999999999999999E-71,4.4100000000000001E-58,1.3300000000000001E-46,2.1099999999999999E-18,1.0000000000000001E-15,1.1499999999999999E-13,3.1899999999999999E-12,3.2200000000000003E-11,1.66E-10,5.4499999999999998E-10,1.3399999999999999E-9,2.7999999999999998E-9,5.3899999999999998E-9,1.0099999999999999E-8,1.9000000000000001E-8,3.4900000000000001E-8,6.1999999999999999E-8,1.05E-7,1.68E-7,2.53E-7,3.6100000000000002E-7,5.0399999999999996E-7,6.9400000000000005E-7,9.6099999999999999E-7,33]
[]
[null,"なお、コンクリートの密度は 2.35g/cm3 である。"]
[null,"コンクリートの密度の違いによる補正は、概ねコンクリートの厚さの間で比例の関係にあ"]
[null,"る。我が国の画壁等に用いられているコンクリート建材の密度は 2.10 g/cm3 であるので、こ"]
[null,"の密度におけるしゃへい体の等価厚さを計算し、その厚さにおける透過率を求める（詳細"]
[null,"は、「放射線施設のしゃへい計算実務マニュアル 2007 原子力安全技術センター発行」を参"]
[null,"照されたい。）。"]
[null,"該当する値がない場合には、安全側に設定するか又は補間法により求めることができる。"]

{"sheet":"表4(Fe)","index":13,"n_rows":38,"n_cols":28,"rows_kept":38,"cut":false,"hidden":true,"merged":[[1,1,1,24]]}
["表4　鉄におけるエックス線の空気カーマ透過率"]
["遮蔽厚","使用管電圧(kV)",null,null,null,null,null,null,null,null,null,null,null,null,null,null,null,null,null,null,null,null,null,null,null,null,"定格管電圧（ｋＶｐ）"]
["(mm)",25,30,35,50,55,60,65,70,75,80,85,90,95,100,105,110,115,120,125,130,135,140,145,150,null,25,2]
[0,1,1,1,1,1,1,1,1,1,1,1,1,1,1,1,1,1,1,1,1,1,1,1,1,1,30,3]
[1,5.0200000000000002E-7,5.6799999999999998E-6,4.4100000000000001E-5,1.8800000000000001E-2,2.8400000000000002E-2,4.1599999999999998E-2,5.8400000000000001E-2,7.7399999999999997E-2,9.7199999999999995E-2,0.11700000000000001,0.13800000000000001,0.159,0.18,0.20100000000000001,0.221,0.24099999999999999,0.26,0.27900000000000003,0.29899999999999999,0.31900000000000001,0.34,0.36099999999999999,0.38300000000000001,0.40400000000000003,2,35,4]
[2,3.8100000000000003E-11,3.0899999999999999E-9,1.3E-7,1.66E-3,3.3999999999999998E-3,6.6299999999999996E-3,1.2E-2,1.95E-2,2.8799999999999999E-2,3.9100000000000003E-2,5.0200000000000002E-2,6.1699999999999998E-2,7.3499999999999996E-2,8.5699999999999998E-2,9.8100000000000007E-2,0.111,0.124,0.13700000000000001,0.151,0.16600000000000001,0.18099999999999999,0.19700000000000001,0.214,0.23100000000000001,3,50,5]
[3,3.25E-15,1.8699999999999999E-12,4.2599999999999998E-10,2.1000000000000001E-4,5.8100000000000003E-4,1.5E-3,3.4199999999999999E-3,6.7600000000000004E-3,1.15E-2,1.72E-2,2.3699999999999999E-2,3.0599999999999999E-2,3.7900000000000003E-2,4.5499999999999999E-2,5.3699999999999998E-2,6.2399999999999997E-2,7.17E-2,8.14E-2,9.1600000000000001E-2,0.10199999999999999,0.114,0.126,0.13900000000000001,0.152,4,55,6]
[4,2.7799999999999998E-19,1.13E-15,1.4000000000000001E-12,3.0499999999999999E-5,1.1400000000000001E-4,3.8999999999999999E-4,1.1299999999999999E-3,2.7000000000000001E-3,5.2199999999999998E-3,8.6E-3,1.26E-2,1.7000000000000001E-2,2.1700000000000001E-2,2.6800000000000001E-2,3.2500000000000001E-2,3.8800000000000001E-2,4.5600000000000002E-2,5.2900000000000003E-2,6.0699999999999997E-2,6.8900000000000003E-2,7.7600000000000002E-2,8.6900000000000005E-2,9.69E-2,0.108,5,60,7]
[5,2.3899999999999999E-23,6.8800000000000002E-19,4.6200000000000001E-15,4.6999999999999999E-6,2.4000000000000001E-5,1.0900000000000001E-4,4.06E-4,1.16E-3,2.5600000000000002E-3,4.5999999999999999E-3,7.1500000000000001E-3,0.01,1.32E-2,1.6799999999999999E-2,2.0899999999999998E-2,2.5499999999999998E-2,3.0700000000000002E-2,3.6299999999999999E-2,4.24E-2,4.8899999999999999E-2,5.5800000000000002E-2,6.3200000000000006E-2,7.1199999999999999E-2,0.08,6,65,8]
[6,2.0499999999999999E-27,4.1799999999999998E-22,1.5199999999999999E-17,7.4600000000000004E-7,5.22E-6,3.1900000000000003E-5,1.5200000000000001E-4,5.2499999999999997E-4,1.32E-3,2.5699999999999998E-3,4.2300000000000003E-3,6.1799999999999997E-3,8.3800000000000003E-3,1.09E-2,1.3899999999999999E-2,1.7399999999999999E-2,2.1399999999999999E-2,2.5899999999999999E-2,3.0700000000000002E-2,3.5900000000000001E-2,4.1500000000000002E-2,4.7399999999999998E-2,5.3999999999999999E-2,6.13E-2,7,70,9]
[7,1.7499999999999999E-31,2.5400000000000002E-25,5.0100000000000002E-20,1.1999999999999999E-7,1.15E-6,9.5000000000000005E-6,5.8100000000000003E-5,2.43E-4,6.9399999999999996E-4,1.48E-3,2.5699999999999998E-3,3.8999999999999998E-3,5.4400000000000004E-3,7.26E-3,9.4699999999999993E-3,1.2200000000000001E-2,1.5299999999999999E-2,1.89E-2,2.2800000000000001E-2,2.7E-2,3.1600000000000003E-2,3.6499999999999998E-2,4.19E-2,4.8000000000000001E-2,8,75,10]
[8,1.4999999999999999E-35,1.54E-28,1.65E-22,1.9399999999999998E-8,2.5600000000000002E-7,2.8600000000000001E-6,2.26E-5,1.15E-4,3.7300000000000001E-4,8.6499999999999999E-4,1.5900000000000001E-3,2.5000000000000001E-3,3.5899999999999999E-3,4.9100000000000003E-3,6.5799999999999999E-3,8.6499999999999997E-3,1.11E-2,1.4E-2,1.72E-2,2.07E-2,2.4500000000000001E-2,2.86E-2,3.3099999999999997E-2,3.8300000000000001E-2,9,80,11]
[9,1.2900000000000001E-39,9.3799999999999996E-32,5.4300000000000002E-25,3.1399999999999999E-9,5.7299999999999997E-8,8.6899999999999996E-7,8.8899999999999996E-6,5.49E-5,2.03E-4,5.1199999999999998E-4,9.9400000000000009E-4,1.6299999999999999E-3,2.3999999999999998E-3,3.3700000000000002E-3,4.62E-3,6.2300000000000003E-3,8.2100000000000003E-3,1.06E-2,1.32E-2,1.61E-2,1.9199999999999998E-2,2.2599999999999999E-2,2.6499999999999999E-2,3.1E-2,10,85,12]
[10,1.1100000000000001E-43,5.7000000000000002E-35,1.79E-27,5.09E-10,1.28E-8,2.65E-7,3.5200000000000002E-6,2.6400000000000001E-5,1.12E-4,3.0600000000000001E-4,6.2799999999999998E-4,1.07E-3,1.6199999999999999E-3,2.33E-3,3.2799999999999999E-3,4.5399999999999998E-3,6.1199999999999996E-3,8.0300000000000007E-3,1.0200000000000001E-2,1.26E-2,1.52E-2,1.8100000000000002E-2,2.1399999999999999E-2,2.53E-2,11,90,13]
[11,9.4900000000000004E-48,3.4599999999999998E-38,5.8900000000000002E-30,8.2699999999999996E-11,2.88E-9,8.0799999999999996E-8,1.3999999999999999E-6,1.2799999999999999E-5,6.1600000000000007E-5,1.84E-4,3.9899999999999999E-4,7.0399999999999998E-4,1.1000000000000001E-3,1.6199999999999999E-3,2.3400000000000001E-3,3.32E-3,4.5900000000000003E-3,6.1500000000000001E-3,7.9799999999999992E-3,9.9799999999999993E-3,1.2200000000000001E-2,1.47E-2,1.7500000000000002E-2,2.0799999999999999E-2,12,95,14]
[12,8.1399999999999997E-52,2.1000000000000001E-41,1.94E-32,1.34E-11,6.4700000000000004E-10,2.4699999999999999E-8,5.5599999999999995E-7,6.2099999999999998E-6,3.4199999999999998E-5,1.11E-4,2.5500000000000002E-4,4.6700000000000002E-4,7.5100000000000004E-4,1.14E-3,1.6800000000000001E-3,2.4499999999999999E-3,3.47E-3,4.7499999999999999E-3,6.2599999999999999E-3,7.9500000000000005E-3,9.8200000000000006E-3,1.1900000000000001E-2,1.43E-2,1.72E-2,13,100,15]
[13,6.9800000000000003E-56,1.28E-44,6.3800000000000002E-35,2.18E-12,1.4499999999999999E-10,7.5599999999999995E-9,2.2100000000000001E-7,3.0199999999999999E-6,1.9000000000000001E-5,6.7500000000000001E-5,1.63E-4,3.1100000000000002E-4,5.1400000000000003E-4,7.9699999999999997E-4,1.2099999999999999E-3,1.81E-3,2.63E-3,3.6800000000000001E-3,4.9500000000000004E-3,6.3600000000000002E-3,7.9500000000000005E-3,9.75E-3,1.18E-2,1.44E-2,14,105,16]
[14,5.9899999999999996E-60,7.7699999999999994E-48,2.1000000000000001E-37,3.55E-13,3.2700000000000001E-11,2.3199999999999998E-9,8.8399999999999997E-8,1.4699999999999999E-6,1.06E-5,4.1E-5,1.05E-4,2.0699999999999999E-4,3.5300000000000002E-4,5.6099999999999998E-4,8.7799999999999998E-4,1.3500000000000001E-3,2E-3,2.8600000000000001E-3,3.9199999999999999E-3,5.1200000000000004E-3,6.4700000000000001E-3,8.0099999999999998E-3,9.8099999999999993E-3,1.2E-2,15,110,17]
[15,5.1300000000000002E-64,4.7200000000000002E-51,6.9200000000000002E-40,5.7699999999999996E-14,7.3400000000000006E-12,7.0900000000000003E-10,3.5299999999999998E-8,7.1999999999999999E-7,5.9200000000000001E-6,2.5000000000000001E-5,6.7600000000000003E-5,1.3899999999999999E-4,2.43E-4,3.9599999999999998E-4,6.3599999999999996E-4,1E-3,1.5299999999999999E-3,2.2399999999999998E-3,3.1199999999999999E-3,4.13E-3,5.28E-3,6.6E-3,8.1700000000000002E-3,1.01E-2,16,115,18]
[16,4.4E-68,2.8700000000000003E-54,2.28E-42,9.3700000000000004E-15,1.65E-12,2.17E-10,1.4100000000000001E-8,3.5100000000000001E-7,3.3100000000000001E-6,1.52E-5,4.3600000000000003E-5,9.2800000000000006E-5,1.6699999999999999E-4,2.7999999999999998E-4,4.6200000000000001E-4,7.4899999999999999E-4,1.17E-3,1.75E-3,2.49E-3,3.3400000000000001E-3,4.3200000000000001E-3,5.4599999999999996E-3,6.8199999999999997E-3,8.5199999999999998E-3,17,120,19]
[17,3.78E-72,1.7399999999999999E-57,7.5000000000000006E-45,1.52E-15,3.6999999999999999E-13,6.6500000000000003E-11,5.6299999999999998E-9,1.72E-7,1.8500000000000001E-6,9.2699999999999993E-6,2.8099999999999999E-5,6.2199999999999994E-5,1.15E-4,1.9799999999999999E-4,3.3599999999999998E-4,5.5900000000000004E-4,8.9700000000000001E-4,1.3699999999999999E-3,1.99E-3,2.7100000000000002E-3,3.5500000000000002E-3,4.5300000000000002E-3,5.7099999999999998E-3,7.1999999999999998E-3,18,125,20]
[18,3.24E-76,1.06E-60,2.4700000000000002E-47,2.4700000000000002E-16,8.3200000000000001E-14,2.0399999999999999E-11,2.2499999999999999E-9,8.3999999999999998E-8,1.04E-6,5.66E-6,1.8099999999999999E-5,4.1699999999999997E-5,7.9499999999999994E-5,1.3999999999999999E-4,2.4499999999999999E-4,4.1899999999999999E-4,6.8900000000000005E-4,1.08E-3,1.5900000000000001E-3,2.2000000000000001E-3,2.9199999999999999E-3,3.7599999999999999E-3,4.79E-3,6.1000000000000004E-3,19,130,21]
[19,2.7800000000000002E-80,6.4299999999999999E-64,8.14E-50,4.0199999999999999E-17,1.8699999999999999E-14,6.2400000000000001E-12,8.98E-10,4.1099999999999997E-8,5.7999999999999995E-7,3.4599999999999999E-6,1.17E-5,2.8E-5,5.49E-5,9.9599999999999995E-5,1.7799999999999999E-4,3.1399999999999999E-4,5.2999999999999998E-4,8.4800000000000001E-4,1.2800000000000001E-3,1.7899999999999999E-3,2.3999999999999998E-3,3.13E-3,4.0299999999999997E-3,5.1799999999999997E-3,20,135,22]
[20,2.3799999999999998E-84,3.9100000000000002E-67,2.6799999999999998E-52,6.5399999999999999E-18,4.1999999999999996E-15,1.9100000000000001E-12,3.59E-10,2.0100000000000001E-8,3.2500000000000001E-7,2.1100000000000001E-6,7.5700000000000004E-6,1.88E-5,3.8000000000000002E-5,7.0599999999999995E-5,1.2999999999999999E-4,2.3499999999999999E-4,4.0700000000000003E-4,6.6799999999999997E-4,1.0200000000000001E-3,1.4599999999999999E-3,1.98E-3,2.6099999999999999E-3,3.3899999999999998E-3,4.4099999999999999E-3,21,140,23]
[21,2.04E-88,2.3700000000000001E-70,8.8199999999999996E-55,1.0599999999999999E-18,9.4399999999999996E-16,5.8600000000000003E-13,1.43E-10,9.8199999999999996E-9,1.8199999999999999E-7,1.2899999999999999E-6,4.8999999999999997E-6,1.26E-5,2.62E-5,5.0099999999999998E-5,9.48E-5,1.76E-4,3.1399999999999999E-4,5.2599999999999999E-4,8.2299999999999995E-4,1.1900000000000001E-3,1.64E-3,2.1800000000000001E-3,2.8600000000000001E-3,3.7499999999999999E-3,22,145,24]
[22,1.7499999999999999E-92,1.4400000000000001E-73,2.9099999999999998E-57,1.7299999999999999E-19,2.1199999999999999E-16,1.7999999999999999E-13,5.7299999999999999E-11,4.8099999999999997E-9,1.02E-7,7.8800000000000002E-7,3.1700000000000001E-6,8.4800000000000001E-6,1.8099999999999999E-5,3.5599999999999998E-5,6.9200000000000002E-5,1.3200000000000001E-4,2.42E-4,4.15E-4,6.6200000000000005E-4,9.7400000000000004E-4,1.3500000000000001E-3,1.82E-3,2.4099999999999998E-3,3.2000000000000002E-3,23,150,25]
[23,1.5000000000000001E-96,8.7700000000000004E-77,9.5700000000000004E-60,2.81E-20,4.7699999999999997E-17,5.4999999999999999E-14,2.29E-11,2.3499999999999999E-9,5.7000000000000001E-8,4.82E-7,2.0499999999999999E-6,5.6999999999999996E-6,1.2500000000000001E-5,2.5299999999999998E-5,5.0500000000000001E-5,9.9400000000000004E-5,1.8599999999999999E-4,3.28E-4,5.3300000000000005E-4,7.9600000000000005E-4,1.1199999999999999E-3,1.5200000000000001E-3,2.0400000000000001E-3,2.7399999999999998E-3,24]
[24,"-",5.3300000000000002E-80,3.1499999999999999E-62,4.5599999999999997E-21,1.07E-17,1.6799999999999998E-14,9.1500000000000004E-12,1.15E-9,3.1900000000000001E-8,2.9400000000000001E-7,1.3200000000000001E-6,3.8299999999999998E-6,8.6799999999999999E-6,1.8E-5,3.6900000000000002E-5,7.47E-5,1.44E-4,2.5900000000000001E-4,4.2999999999999999E-4,6.5099999999999999E-4,9.2900000000000003E-4,1.2800000000000001E-3,1.72E-3,2.3400000000000001E-3,25]
[25,"-",3.2399999999999999E-83,1.04E-64,7.4099999999999997E-22,2.4099999999999999E-18,5.1600000000000002E-15,3.6600000000000002E-12,5.6300000000000002E-10,1.7900000000000001E-8,1.8E-7,8.5600000000000004E-7,2.57E-6,6.0000000000000002E-6,1.2799999999999999E-5,2.69E-5,5.6100000000000002E-5,1.11E-4,2.05E-4,3.4600000000000001E-4,5.3300000000000005E-4,7.6999999999999996E-4,1.07E-3,1.4599999999999999E-3,2E-3,26]
[26,"-",1.97E-86,3.4200000000000001E-67,1.2E-22,5.4099999999999995E-19,1.58E-15,1.46E-12,2.7499999999999998E-10,1E-8,1.1000000000000001E-7,5.5400000000000001E-7,1.73E-6,4.1500000000000001E-6,9.0599999999999997E-6,1.9700000000000001E-5,4.2200000000000003E-5,8.5599999999999994E-5,1.6200000000000001E-4,2.7900000000000001E-4,4.37E-4,6.3900000000000003E-4,8.9700000000000001E-4,1.24E-3,1.7099999999999999E-3,27]
[27,"-",1.19E-89,1.12E-69,1.96E-23,1.2200000000000001E-19,4.8399999999999998E-16,5.8400000000000004E-13,1.35E-10,5.62E-9,6.7200000000000006E-8,3.58E-7,1.1599999999999999E-6,2.8700000000000001E-6,6.4400000000000002E-6,1.4399999999999999E-5,3.1699999999999998E-5,6.6099999999999994E-5,1.2799999999999999E-4,2.2499999999999999E-4,3.5799999999999997E-4,5.2999999999999998E-4,7.5199999999999996E-4,1.0499999999999999E-3,1.47E-3,28]
[28,"-",7.2600000000000003E-93,3.6999999999999998E-72,3.1800000000000002E-24,2.7299999999999997E-20,1.4799999999999999E-16,2.3300000000000002E-13,6.59E-11,3.1500000000000001E-9,4.1099999999999997E-8,2.3200000000000001E-7,7.8199999999999999E-7,1.99E-6,4.5700000000000003E-6,1.0499999999999999E-5,2.3799999999999999E-5,5.1E-5,1.01E-4,1.8200000000000001E-4,2.9300000000000002E-4,4.4000000000000002E-4,6.3100000000000005E-4,8.8900000000000003E-4,1.2600000000000001E-3,29]
[29,"-",4.4100000000000004E-96,1.2200000000000001E-74,5.1700000000000001E-25,6.1399999999999997E-21,4.55E-17,9.3300000000000004E-14,3.2200000000000003E-11,1.7599999999999999E-9,2.51E-8,1.4999999999999999E-7,5.2499999999999995E-7,1.3799999999999999E-6,3.2499999999999998E-6,7.6799999999999993E-6,1.7900000000000001E-5,3.9400000000000002E-5,7.9900000000000004E-5,1.47E-4,2.41E-4,3.6499999999999998E-4,5.2999999999999998E-4,7.54E-4,1.08E-3,30]
[30,"-",2.6799999999999999E-99,4.0200000000000002E-77,8.4000000000000003E-26,1.3800000000000001E-21,1.3900000000000002E-17,3.7300000000000003E-14,1.58E-11,9.879999999999999E-10,1.5399999999999999E-8,9.6999999999999995E-8,3.53E-7,9.5199999999999995E-7,2.3099999999999999E-6,5.6099999999999997E-6,1.3499999999999999E-5,3.04E-5,6.3200000000000005E-5,1.18E-4,1.9699999999999999E-4,3.0400000000000002E-4,4.4499999999999997E-4,6.4000000000000005E-4,9.2599999999999996E-4,31]
[35,"-","-",1.55E-89,9.52E-30,7.8999999999999997E-25,3.7600000000000002E-20,3.8000000000000001E-16,4.4199999999999998E-13,5.4499999999999999E-11,1.31E-9,1.0999999999999999E-8,4.8499999999999998E-8,1.5099999999999999E-7,4.1899999999999998E-7,1.17E-6,3.2399999999999999E-6,8.3699999999999995E-6,1.9599999999999999E-5,4.07E-5,7.3399999999999995E-5,1.2E-4,1.8699999999999999E-4,2.8299999999999999E-4,4.3199999999999998E-4,32]
[40,"-","-","-",1.0800000000000001E-33,4.5200000000000002E-28,1.01E-22,3.8700000000000002E-18,1.24E-14,3.0099999999999999E-12,1.12E-10,1.25E-9,6.6599999999999997E-9,2.4E-8,7.5899999999999998E-8,2.4400000000000001E-7,7.7899999999999997E-7,2.3E-6,6.1E-6,1.4E-5,2.7399999999999999E-5,4.7899999999999999E-5,7.86E-5,1.26E-4,2.03E-4,33]
["なお、鉄の密度は 7.83g/cm3 である。"]
["該当する値がない場合には、安全側に設定するか又は補間法により求めることができる。"]

{"sheet":"表5(CaSO4)","index":14,"n_rows":39,"n_cols":28,"rows_kept":39,"cut":false,"hidden":true,"merged":[[1,1,1,24]]}
["表5　石膏におけるエックス線の空気カーマ透過率"]
["遮蔽厚","使用管電圧(kV)",null,null,null,null,null,null,null,null,null,null,null,null,null,null,null,null,null,null,null,null,null,null,null,null,"定格管電圧（ｋＶｐ）"]
["(mm)",25,30,35,50,55,60,65,70,75,80,85,90,95,100,105,110,115,120,125,130,135,140,145,150,null,25,2]
[0,1,1,1,1,1,1,1,1,1,1,1,1,1,1,1,1,1,1,1,1,1,1,1,1,1,30,3]
[1,0.45300000000000001,0.47899999999999998,0.501,0.88400000000000001,0.89200000000000002,0.89900000000000002,0.90500000000000003,0.91200000000000003,0.91900000000000004,0.92500000000000004,0.93100000000000005,0.93700000000000006,0.94199999999999995,0.94599999999999995,0.95,0.95299999999999996,0.95599999999999996,0.95899999999999996,0.96099999999999997,0.96299999999999997,0.96399999999999997,0.96599999999999997,0.96699999999999997,0.96899999999999997,2,35,4]
[2,0.23300000000000001,0.26200000000000001,0.28899999999999998,0.78500000000000003,0.79900000000000004,0.81100000000000005,0.82299999999999995,0.83499999999999996,0.84699999999999998,0.85899999999999999,0.87,0.88,0.88900000000000001,0.89700000000000002,0.90400000000000003,0.91,0.91500000000000004,0.92,0.92400000000000004,0.92800000000000005,0.93100000000000005,0.93300000000000005,0.93600000000000005,0.93899999999999995,3,50,5]
[3,0.13,0.156,0.182,0.70099999999999996,0.71899999999999997,0.73599999999999999,0.752,0.76800000000000002,0.78400000000000003,0.8,0.81399999999999995,0.82799999999999996,0.84099999999999997,0.85199999999999998,0.86199999999999999,0.87,0.877,0.88400000000000001,0.89,0.89500000000000002,0.89900000000000002,0.90300000000000002,0.90700000000000003,0.91,4,55,6]
[4,7.8E-2,9.9400000000000002E-2,0.122,0.628,0.65,0.67,0.68899999999999995,0.70899999999999996,0.72799999999999998,0.747,0.76500000000000001,0.78200000000000003,0.79700000000000004,0.81,0.82199999999999995,0.83299999999999996,0.84199999999999997,0.85,0.85699999999999998,0.86399999999999999,0.86899999999999999,0.874,0.879,0.88400000000000001,5,60,7]
[5,4.9000000000000002E-2,6.6299999999999998E-2,8.5599999999999996E-2,0.56499999999999995,0.58899999999999997,0.61199999999999999,0.63400000000000001,0.65600000000000003,0.67800000000000005,0.69899999999999995,0.72,0.73899999999999999,0.75600000000000001,0.77200000000000002,0.78600000000000003,0.79800000000000004,0.80900000000000005,0.81899999999999995,0.82699999999999996,0.83399999999999996,0.84099999999999997,0.84699999999999998,0.85299999999999998,0.85799999999999998,6,65,8]
[6,3.2000000000000001E-2,4.5900000000000003E-2,6.2199999999999998E-2,0.51,0.53600000000000003,0.56100000000000005,0.58499999999999996,0.60899999999999999,0.63300000000000001,0.65700000000000003,0.67900000000000005,0.7,0.71899999999999997,0.73599999999999999,0.752,0.76600000000000001,0.77800000000000002,0.78900000000000003,0.79800000000000004,0.80600000000000005,0.81399999999999995,0.82099999999999995,0.82699999999999996,0.83399999999999996,7,70,9]
[7,2.1600000000000001E-2,3.27E-2,4.65E-2,0.46200000000000002,0.48899999999999999,0.51600000000000001,0.54100000000000004,0.56699999999999995,0.59199999999999997,0.61799999999999999,0.64100000000000001,0.66400000000000003,0.68500000000000005,0.70299999999999996,0.72099999999999997,0.73599999999999999,0.749,0.76100000000000001,0.77100000000000002,0.78,0.78800000000000003,0.79600000000000004,0.80300000000000005,0.81,8,75,10]
[8,1.49E-2,2.3900000000000001E-2,3.56E-2,0.41899999999999998,0.44800000000000001,0.47499999999999998,0.502,0.52900000000000003,0.55600000000000005,0.58199999999999996,0.60699999999999998,0.63100000000000001,0.65300000000000002,0.67300000000000004,0.69099999999999995,0.70699999999999996,0.72099999999999997,0.73399999999999999,0.745,0.755,0.76400000000000001,0.77200000000000002,0.78,0.78800000000000003,9,80,11]
[9,1.06E-2,1.78E-2,2.7699999999999999E-2,0.38200000000000001,0.41099999999999998,0.439,0.46700000000000003,0.495,0.52200000000000002,0.55000000000000004,0.57599999999999996,0.6,0.624,0.64400000000000002,0.66400000000000003,0.68,0.69499999999999995,0.70899999999999996,0.72099999999999997,0.73199999999999998,0.74099999999999999,0.75,0.75900000000000001,0.76700000000000002,10,85,12]
[10,7.6099999999999996E-3,1.35E-2,2.1899999999999999E-2,0.34899999999999998,0.378,0.40699999999999997,0.435,0.46400000000000002,0.49199999999999999,0.52,0.54700000000000004,0.57199999999999995,0.59599999999999997,0.61799999999999999,0.63800000000000001,0.65500000000000003,0.67100000000000004,0.68600000000000005,0.69799999999999995,0.70899999999999996,0.71899999999999997,0.72899999999999998,0.73799999999999999,0.747,11,90,13]
[11,5.5700000000000003E-3,1.04E-2,1.7600000000000001E-2,0.31900000000000001,0.34899999999999998,0.378,0.40699999999999997,0.435,0.46400000000000002,0.49299999999999999,0.52,0.54600000000000004,0.56999999999999995,0.59299999999999997,0.61299999999999999,0.63200000000000001,0.64800000000000002,0.66300000000000003,0.67600000000000005,0.68799999999999994,0.69799999999999995,0.70799999999999996,0.71799999999999997,0.72699999999999998,12,95,14]
[12,4.13E-3,8.0800000000000004E-3,1.43E-2,0.29299999999999998,0.32200000000000001,0.35099999999999998,0.38,0.41,0.439,0.46800000000000003,0.495,0.52200000000000002,0.54700000000000004,0.56899999999999995,0.59,0.60899999999999999,0.626,0.64200000000000002,0.65500000000000003,0.66800000000000004,0.67900000000000005,0.68899999999999995,0.69899999999999995,0.70799999999999996,13,100,15]
[13,3.0999999999999999E-3,6.3600000000000002E-3,1.17E-2,0.26900000000000002,0.29799999999999999,0.32700000000000001,0.35599999999999998,0.38600000000000001,0.41499999999999998,0.44400000000000001,0.47199999999999998,0.499,0.52400000000000002,0.54700000000000004,0.56899999999999995,0.58799999999999997,0.60599999999999998,0.622,0.63600000000000001,0.64800000000000002,0.66,0.67,0.68,0.69,14,105,16]
[14,2.3500000000000001E-3,5.0600000000000003E-3,9.6699999999999998E-3,0.248,0.27600000000000002,0.30499999999999999,0.33500000000000002,0.36399999999999999,0.39400000000000002,0.42299999999999999,0.45100000000000001,0.47799999999999998,0.503,0.52700000000000002,0.54900000000000004,0.56799999999999995,0.58599999999999997,0.60299999999999998,0.61699999999999999,0.63,0.64100000000000001,0.65200000000000002,0.66300000000000003,0.67300000000000004,15,110,17]
[15,1.8E-3,4.0600000000000002E-3,8.0599999999999995E-3,0.22800000000000001,0.25700000000000001,0.28599999999999998,0.315,0.34399999999999997,0.374,0.40300000000000002,0.43099999999999999,0.45800000000000002,0.48299999999999998,0.50700000000000001,0.52900000000000003,0.54900000000000004,0.56699999999999995,0.58399999999999996,0.59899999999999998,0.61199999999999999,0.624,0.63500000000000001,0.64600000000000002,0.65700000000000003,16,115,18]
[16,1.39E-3,3.2799999999999999E-3,6.7600000000000004E-3,0.21099999999999999,0.23899999999999999,0.26700000000000002,0.29599999999999999,0.32600000000000001,0.35499999999999998,0.38400000000000001,0.41199999999999998,0.439,0.46500000000000002,0.48899999999999999,0.51100000000000001,0.53100000000000003,0.55000000000000004,0.56699999999999995,0.58199999999999996,0.59499999999999997,0.60699999999999998,0.61899999999999999,0.63,0.64100000000000001,17,120,19]
[17,1.08E-3,2.66E-3,5.7000000000000002E-3,0.19500000000000001,0.223,0.251,0.27900000000000003,0.308,0.33800000000000002,0.36699999999999999,0.39400000000000002,0.42099999999999999,0.44700000000000001,0.47099999999999997,0.49399999999999999,0.51400000000000001,0.53300000000000003,0.55000000000000004,0.56499999999999995,0.57899999999999996,0.59099999999999997,0.60299999999999998,0.61399999999999999,0.626,18,125,20]
[18,8.4900000000000004E-4,2.1800000000000001E-3,4.8399999999999997E-3,0.18099999999999999,0.20799999999999999,0.23499999999999999,0.26400000000000001,0.29299999999999998,0.32200000000000001,0.35,0.378,0.40500000000000003,0.43099999999999999,0.45500000000000002,0.47699999999999998,0.498,0.51700000000000002,0.53400000000000003,0.55000000000000004,0.56299999999999994,0.57599999999999996,0.58799999999999997,0.6,0.61099999999999999,19,130,21]
[19,6.7000000000000002E-4,1.7899999999999999E-3,4.13E-3,0.16800000000000001,0.19400000000000001,0.221,0.249,0.27800000000000002,0.307,0.33500000000000002,0.36299999999999999,0.38900000000000001,0.41499999999999998,0.439,0.46200000000000002,0.48199999999999998,0.501,0.51900000000000002,0.53400000000000003,0.54900000000000004,0.56100000000000005,0.57299999999999995,0.58499999999999996,0.59699999999999998,20,135,22]
[20,5.31E-4,1.48E-3,3.5400000000000002E-3,0.156,0.18099999999999999,0.20799999999999999,0.23599999999999999,0.26400000000000001,0.29299999999999998,0.32100000000000001,0.34799999999999998,0.375,0.4,0.42399999999999999,0.44700000000000001,0.46800000000000003,0.48699999999999999,0.505,0.52,0.53400000000000003,0.54700000000000004,0.55900000000000005,0.57099999999999995,0.58299999999999996,21,140,23]
[21,4.2299999999999998E-4,1.23E-3,3.0400000000000002E-3,0.14499999999999999,0.17,0.19600000000000001,0.223,0.251,0.27900000000000003,0.307,0.33400000000000002,0.36099999999999999,0.38600000000000001,0.41,0.433,0.45400000000000001,0.47299999999999998,0.49099999999999999,0.50600000000000001,0.52100000000000002,0.53400000000000003,0.54600000000000004,0.55800000000000005,0.56999999999999995,22,145,24]
[22,3.39E-4,1.0300000000000001E-3,2.63E-3,0.13500000000000001,0.159,0.185,0.21199999999999999,0.23899999999999999,0.26700000000000002,0.29499999999999998,0.32200000000000001,0.34799999999999998,0.373,0.39700000000000002,0.41899999999999998,0.44,0.45900000000000002,0.47699999999999998,0.49299999999999999,0.50700000000000001,0.52100000000000002,0.53300000000000003,0.54500000000000004,0.55700000000000005,23,150,25]
[23,2.72E-4,8.61E-4,2.2799999999999999E-3,0.126,0.15,0.17499999999999999,0.20100000000000001,0.22800000000000001,0.25600000000000001,0.28299999999999997,0.309,0.33500000000000002,0.36,0.38400000000000001,0.40699999999999997,0.42699999999999999,0.44600000000000001,0.46400000000000002,0.48,0.495,0.50800000000000001,0.52,0.53300000000000003,0.54500000000000004,24]
[24,2.2000000000000001E-4,7.2300000000000001E-4,1.98E-3,0.11799999999999999,0.14099999999999999,0.16500000000000001,0.191,0.218,0.245,0.27200000000000002,0.29799999999999999,0.32400000000000001,0.34799999999999998,0.372,0.39400000000000002,0.41499999999999998,0.434,0.45200000000000001,0.46800000000000003,0.48299999999999998,0.496,0.50800000000000001,0.52100000000000002,0.53300000000000003,25]
[25,1.7799999999999999E-4,6.0899999999999995E-4,1.73E-3,0.11,0.13200000000000001,0.156,0.182,0.20799999999999999,0.23499999999999999,0.26100000000000001,0.28699999999999998,0.312,0.33700000000000002,0.36,0.38300000000000001,0.40300000000000002,0.42199999999999999,0.44,0.45600000000000002,0.47099999999999997,0.48399999999999999,0.497,0.50900000000000001,0.52100000000000002,26]
[26,1.44E-4,5.1500000000000005E-4,1.5100000000000001E-3,0.10299999999999999,0.124,0.14799999999999999,0.17299999999999999,0.19900000000000001,0.22500000000000001,0.251,0.27700000000000002,0.30199999999999999,0.32600000000000001,0.34899999999999998,0.371,0.39200000000000002,0.41099999999999998,0.42899999999999999,0.44500000000000001,0.46,0.47299999999999998,0.48499999999999999,0.498,0.51,27]
[27,1.18E-4,4.37E-4,1.32E-3,9.6500000000000002E-2,0.11700000000000001,0.14000000000000001,0.16500000000000001,0.19,0.216,0.24199999999999999,0.26700000000000002,0.29199999999999998,0.316,0.33900000000000002,0.36099999999999999,0.38100000000000001,0.4,0.41799999999999998,0.434,0.44900000000000001,0.46200000000000002,0.47499999999999998,0.48699999999999999,0.5,28]
[28,9.6199999999999994E-5,3.7100000000000002E-4,1.16E-3,9.0399999999999994E-2,0.111,0.13300000000000001,0.157,0.182,0.20699999999999999,0.23300000000000001,0.25800000000000001,0.28199999999999997,0.30599999999999999,0.32900000000000001,0.35,0.371,0.39,0.40799999999999997,0.42399999999999999,0.438,0.45100000000000001,0.46400000000000002,0.47699999999999998,0.48899999999999999,29]
[29,7.8899999999999993E-5,3.1599999999999998E-4,1.0200000000000001E-3,8.48E-2,0.104,0.126,0.15,0.17399999999999999,0.19900000000000001,0.224,0.249,0.27300000000000002,0.29599999999999999,0.31900000000000001,0.34100000000000003,0.36099999999999999,0.38,0.39800000000000002,0.41299999999999998,0.42799999999999999,0.441,0.45400000000000001,0.46700000000000003,0.47899999999999998,30]
[30,6.4800000000000003E-5,2.7E-4,9.0200000000000002E-4,7.9600000000000004E-2,9.8500000000000004E-2,0.12,0.14299999999999999,0.16700000000000001,0.191,0.216,0.24,0.26400000000000001,0.28699999999999998,0.31,0.33100000000000002,0.35099999999999998,0.37,0.38800000000000001,0.40400000000000003,0.41799999999999998,0.43099999999999999,0.44400000000000001,0.45700000000000002,0.46899999999999997,31]
[35,2.5000000000000001E-5,1.26E-4,4.95E-4,5.8700000000000002E-2,7.4700000000000003E-2,9.3299999999999994E-2,0.114,0.13600000000000001,0.158,0.18099999999999999,0.20399999999999999,0.22600000000000001,0.248,0.26900000000000002,0.28899999999999998,0.308,0.32700000000000001,0.34399999999999997,0.35899999999999999,0.374,0.38700000000000001,0.4,0.41199999999999998,0.42499999999999999,32]
[40,1.0000000000000001E-5,6.1099999999999994E-5,2.81E-4,4.3900000000000002E-2,5.7599999999999998E-2,7.3800000000000004E-2,9.2200000000000004E-2,0.112,0.13300000000000001,0.153,0.17399999999999999,0.19500000000000001,0.215,0.23499999999999999,0.254,0.27300000000000002,0.28999999999999998,0.307,0.32200000000000001,0.33600000000000002,0.34899999999999998,0.36099999999999999,0.373,0.38600000000000001,33]
[]
["なお、石膏の密度は 0.75g/cm3 である。"]
["該当する値がない場合には、安全側に設定するか又は補間法により求めることができる。"]

{"sheet":"表6(SiO2)","index":15,"n_rows":39,"n_cols":28,"rows_kept":39,"cut":false,"hidden":true,"merged":[[1,1,1,24]]}
["表6　ガラスにおけるエックス線の空気カーマ透過率"]
["遮蔽厚","使用管電圧(kV)",null,null,null,null,null,null,null,null,null,null,null,null,null,null,null,null,null,null,null,null,null,null,null,null,"定格管電圧（ｋＶｐ）"]
["(mm)",25,30,35,50,55,60,65,70,75,80,85,90,95,100,105,110,115,120,125,130,135,140,145,150,null,25,2]
[0,1,1,1,1,1,1,1,1,1,1,1,1,1,1,1,1,1,1,1,1,1,1,1,1,1,30,3]
[1,0.20200000000000001,0.221,0.23799999999999999,0.76700000000000002,0.78500000000000003,0.80300000000000005,0.81699999999999995,0.83,0.84,0.84899999999999998,0.85699999999999998,0.86399999999999999,0.87,0.877,0.88400000000000001,0.89100000000000001,0.89700000000000002,0.90300000000000002,0.90800000000000003,0.91200000000000003,0.91600000000000004,0.92,0.92400000000000004,0.92700000000000005,2,35,4]
[2,6.08E-2,7.6899999999999996E-2,9.3700000000000006E-2,0.6,0.628,0.65400000000000003,0.67800000000000005,0.69799999999999995,0.71499999999999997,0.73,0.74299999999999999,0.754,0.76600000000000001,0.77700000000000002,0.78800000000000003,0.8,0.81,0.82,0.82899999999999996,0.83699999999999997,0.84299999999999997,0.85,0.85599999999999998,0.86199999999999999,3,50,5]
[3,2.2800000000000001E-2,3.3300000000000003E-2,4.5999999999999999E-2,0.47699999999999998,0.50900000000000001,0.54,0.56899999999999995,0.59399999999999997,0.61499999999999999,0.63400000000000001,0.65,0.66500000000000004,0.68,0.69399999999999995,0.70899999999999996,0.72299999999999998,0.73699999999999999,0.749,0.76100000000000001,0.77100000000000002,0.77900000000000003,0.78800000000000003,0.79700000000000004,0.80400000000000005,4,55,6]
[4,9.8200000000000006E-3,1.6400000000000001E-2,2.5499999999999998E-2,0.38400000000000001,0.41799999999999998,0.45100000000000001,0.48199999999999998,0.50900000000000001,0.53300000000000003,0.55500000000000005,0.57399999999999995,0.59099999999999997,0.60799999999999998,0.624,0.64100000000000001,0.65800000000000003,0.67300000000000004,0.68799999999999994,0.70099999999999996,0.71199999999999997,0.72199999999999998,0.73299999999999998,0.74299999999999999,0.752,5,60,7]
[5,4.6499999999999996E-3,8.8599999999999998E-3,1.5299999999999999E-2,0.313,0.34699999999999998,0.38,0.41199999999999998,0.441,0.46600000000000003,0.48899999999999999,0.51,0.52900000000000003,0.54700000000000004,0.56499999999999995,0.58299999999999996,0.60099999999999998,0.61799999999999999,0.63400000000000001,0.64800000000000002,0.66100000000000003,0.67200000000000004,0.68300000000000005,0.69499999999999995,0.70499999999999996,6,65,8]
[6,2.3500000000000001E-3,5.0699999999999999E-3,9.7300000000000008E-3,0.25800000000000001,0.28999999999999998,0.32300000000000001,0.35499999999999998,0.38400000000000001,0.41,0.434,0.45600000000000002,0.47599999999999998,0.495,0.51400000000000001,0.53300000000000003,0.55200000000000005,0.56899999999999995,0.58599999999999997,0.60099999999999998,0.61399999999999999,0.626,0.63900000000000001,0.65100000000000002,0.66200000000000003,7,70,9]
[7,1.25E-3,3.0400000000000002E-3,6.43E-3,0.214,0.245,0.27700000000000002,0.307,0.33700000000000002,0.36299999999999999,0.38800000000000001,0.41,0.43099999999999999,0.45100000000000001,0.47,0.48899999999999999,0.50800000000000001,0.52600000000000002,0.54300000000000004,0.55900000000000005,0.57299999999999995,0.58599999999999997,0.59899999999999998,0.61199999999999999,0.623,8,75,10]
[8,6.96E-4,1.8799999999999999E-3,4.3699999999999998E-3,0.17899999999999999,0.20799999999999999,0.23799999999999999,0.26800000000000002,0.29699999999999999,0.32300000000000001,0.34799999999999998,0.37,0.39100000000000001,0.41199999999999998,0.43099999999999999,0.45100000000000001,0.47,0.48799999999999999,0.505,0.52100000000000002,0.53600000000000003,0.54900000000000004,0.56200000000000006,0.57499999999999996,0.58799999999999997,9,80,11]
[9,3.9899999999999999E-4,1.1999999999999999E-3,3.0400000000000002E-3,0.151,0.17799999999999999,0.20599999999999999,0.23499999999999999,0.26300000000000001,0.28899999999999998,0.313,0.33600000000000002,0.35699999999999998,0.377,0.39700000000000002,0.41699999999999998,0.436,0.45400000000000001,0.47099999999999997,0.48699999999999999,0.502,0.51500000000000001,0.52900000000000003,0.54200000000000004,0.55500000000000005,10,85,12]
[10,2.34E-4,7.7999999999999999E-4,2.16E-3,0.128,0.153,0.18,0.20699999999999999,0.23400000000000001,0.25900000000000001,0.28299999999999997,0.30599999999999999,0.32700000000000001,0.34699999999999998,0.36699999999999999,0.38600000000000001,0.40500000000000003,0.42299999999999999,0.44,0.45600000000000002,0.47099999999999997,0.48399999999999999,0.498,0.51200000000000001,0.52500000000000002,11,90,13]
[11,1.4100000000000001E-4,5.1699999999999999E-4,1.56E-3,0.109,0.13200000000000001,0.157,0.183,0.20899999999999999,0.23400000000000001,0.25700000000000001,0.27900000000000003,0.3,0.32,0.33900000000000002,0.35899999999999999,0.377,0.39500000000000002,0.41199999999999998,0.42799999999999999,0.443,0.45600000000000002,0.47,0.48399999999999999,0.497,12,95,14]
[12,8.5799999999999998E-5,3.48E-4,1.1299999999999999E-3,9.3399999999999997E-2,0.114,0.13800000000000001,0.16200000000000001,0.187,0.21099999999999999,0.23400000000000001,0.25600000000000001,0.27600000000000002,0.29599999999999999,0.315,0.33400000000000002,0.35199999999999998,0.37,0.38700000000000001,0.40200000000000002,0.41699999999999998,0.43,0.44400000000000001,0.45800000000000002,0.47099999999999997,13,100,15]
[13,5.3199999999999999E-5,2.3699999999999999E-4,8.3600000000000005E-4,8.0299999999999996E-2,9.9599999999999994E-2,0.121,0.14499999999999999,0.16800000000000001,0.191,0.21299999999999999,0.23499999999999999,0.255,0.27400000000000002,0.29299999999999998,0.312,0.33,0.34699999999999998,0.36299999999999999,0.379,0.39300000000000002,0.40699999999999997,0.42,0.434,0.44700000000000001,14,105,16]
[14,3.3399999999999999E-5,1.63E-4,6.2100000000000002E-4,6.93E-2,8.6999999999999994E-2,0.107,0.129,0.152,0.17399999999999999,0.19500000000000001,0.216,0.23599999999999999,0.255,0.27300000000000002,0.29099999999999998,0.309,0.32600000000000001,0.34200000000000003,0.35699999999999998,0.371,0.38500000000000001,0.39800000000000002,0.41199999999999998,0.42499999999999999,15,110,17]
[15,2.12E-5,1.13E-4,4.6500000000000003E-4,0.06,7.6300000000000007E-2,9.5200000000000007E-2,0.11600000000000001,0.13700000000000001,0.158,0.17899999999999999,0.19900000000000001,0.218,0.23699999999999999,0.255,0.27300000000000002,0.28999999999999998,0.30599999999999999,0.32200000000000001,0.33700000000000002,0.35099999999999998,0.36399999999999999,0.378,0.39100000000000001,0.40400000000000003,16,115,18]
[16,1.3499999999999999E-5,7.8899999999999993E-5,3.5E-4,5.21E-2,6.7100000000000007E-2,8.4699999999999998E-2,0.104,0.124,0.14499999999999999,0.16500000000000001,0.184,0.20300000000000001,0.221,0.23899999999999999,0.25600000000000001,0.27300000000000002,0.28899999999999998,0.30399999999999999,0.318,0.33200000000000002,0.34499999999999997,0.35899999999999999,0.372,0.38500000000000001,17,120,19]
[17,8.7299999999999994E-6,5.5500000000000001E-5,2.6499999999999999E-4,4.5400000000000003E-2,5.91E-2,7.5499999999999998E-2,9.3700000000000006E-2,0.113,0.13200000000000001,0.152,0.17100000000000001,0.189,0.20599999999999999,0.224,0.24,0.25700000000000001,0.27200000000000002,0.28699999999999998,0.30099999999999999,0.315,0.32800000000000001,0.34100000000000003,0.35399999999999998,0.36699999999999999,18,125,20]
[18,5.6699999999999999E-6,3.9199999999999997E-5,2.02E-4,3.9600000000000003E-2,5.2299999999999999E-2,6.7500000000000004E-2,8.4500000000000006E-2,0.10299999999999999,0.122,0.14000000000000001,0.158,0.17599999999999999,0.193,0.21,0.22600000000000001,0.24199999999999999,0.25700000000000001,0.27100000000000002,0.28499999999999998,0.29899999999999999,0.311,0.32400000000000001,0.33700000000000002,0.35,19,130,21]
[19,3.7100000000000001E-6,2.7900000000000001E-5,1.54E-4,3.4700000000000002E-2,4.6300000000000001E-2,6.0400000000000002E-2,7.6399999999999996E-2,9.3899999999999997E-2,0.112,0.129,0.14699999999999999,0.16400000000000001,0.18099999999999999,0.19700000000000001,0.21299999999999999,0.22800000000000001,0.24299999999999999,0.25700000000000001,0.27100000000000002,0.28399999999999997,0.29599999999999999,0.309,0.32100000000000001,0.33400000000000002,20,135,22]
[20,2.43E-6,1.9899999999999999E-5,1.18E-4,3.0499999999999999E-2,4.1099999999999998E-2,5.4199999999999998E-2,6.93E-2,8.5800000000000001E-2,0.10299999999999999,0.12,0.13700000000000001,0.153,0.16900000000000001,0.185,0.20100000000000001,0.215,0.23,0.24299999999999999,0.25700000000000001,0.26900000000000002,0.28100000000000003,0.29399999999999998,0.30599999999999999,0.31900000000000001,21,140,23]
[21,1.5999999999999999E-6,1.43E-5,9.09E-5,2.6800000000000001E-2,3.6600000000000001E-2,4.8800000000000003E-2,6.2899999999999998E-2,7.85E-2,9.4700000000000006E-2,0.111,0.127,0.14299999999999999,0.159,0.17399999999999999,0.189,0.20399999999999999,0.218,0.23100000000000001,0.24399999999999999,0.25600000000000001,0.26800000000000002,0.28000000000000003,0.29199999999999998,0.30399999999999999,22,145,24]
[22,1.06E-6,1.0200000000000001E-5,7.0099999999999996E-5,2.3599999999999999E-2,3.2599999999999997E-2,4.3900000000000002E-2,5.7200000000000001E-2,7.1999999999999995E-2,8.7400000000000005E-2,0.10299999999999999,0.11899999999999999,0.13400000000000001,0.14899999999999999,0.16400000000000001,0.17899999999999999,0.193,0.20599999999999999,0.219,0.23200000000000001,0.24399999999999999,0.255,0.26700000000000002,0.27900000000000003,0.29099999999999998,23,150,25]
[23,7.06E-7,7.3799999999999996E-6,5.4200000000000003E-5,2.0799999999999999E-2,2.9100000000000001E-2,3.9600000000000003E-2,5.21E-2,6.6100000000000006E-2,8.0799999999999997E-2,9.5899999999999999E-2,0.111,0.126,0.14099999999999999,0.155,0.16900000000000001,0.183,0.19600000000000001,0.20799999999999999,0.22,0.23200000000000001,0.24299999999999999,0.255,0.26700000000000002,0.27800000000000002,24]
[24,4.7100000000000002E-7,5.3299999999999998E-6,4.1999999999999998E-5,1.84E-2,2.5999999999999999E-2,3.5799999999999998E-2,4.7500000000000001E-2,6.08E-2,7.4800000000000005E-2,8.9200000000000002E-2,0.104,0.11799999999999999,0.13200000000000001,0.14599999999999999,0.16,0.17299999999999999,0.186,0.19800000000000001,0.21,0.221,0.23200000000000001,0.24399999999999999,0.255,0.26700000000000002,25]
[25,3.15E-7,3.8600000000000003E-6,3.2499999999999997E-5,1.6299999999999999E-2,2.3300000000000001E-2,3.2399999999999998E-2,4.3400000000000001E-2,5.5899999999999998E-2,6.93E-2,8.3099999999999993E-2,9.7100000000000006E-2,0.111,0.125,0.13800000000000001,0.151,0.16400000000000001,0.17599999999999999,0.188,0.2,0.21099999999999999,0.222,0.23300000000000001,0.24399999999999999,0.255,26]
[26,2.11E-7,2.7999999999999999E-6,2.5299999999999998E-5,1.44E-2,2.0899999999999998E-2,2.93E-2,3.9600000000000003E-2,5.16E-2,6.4299999999999996E-2,7.7499999999999999E-2,9.0999999999999998E-2,0.104,0.11799999999999999,0.13100000000000001,0.14299999999999999,0.156,0.16800000000000001,0.17899999999999999,0.19,0.20100000000000001,0.21199999999999999,0.223,0.23400000000000001,0.245,27]
[27,1.42E-7,2.03E-6,1.9700000000000001E-5,1.2800000000000001E-2,1.8700000000000001E-2,2.6599999999999999E-2,3.6299999999999999E-2,4.7600000000000003E-2,5.9700000000000003E-2,7.2400000000000006E-2,8.5300000000000001E-2,9.8199999999999996E-2,0.111,0.124,0.13600000000000001,0.14799999999999999,0.159,0.17100000000000001,0.182,0.192,0.20200000000000001,0.21299999999999999,0.224,0.23400000000000001,28]
[28,9.53E-8,1.48E-6,1.5299999999999999E-5,1.14E-2,1.6799999999999999E-2,2.4199999999999999E-2,3.3300000000000003E-2,4.3900000000000002E-2,5.5500000000000001E-2,6.7599999999999993E-2,0.08,9.2499999999999999E-2,0.105,0.11700000000000001,0.129,0.14099999999999999,0.152,0.16300000000000001,0.17299999999999999,0.184,0.193,0.20399999999999999,0.214,0.22500000000000001,29]
[29,6.43E-8,1.08E-6,1.2E-5,1.01E-2,1.52E-2,2.1999999999999999E-2,3.0499999999999999E-2,4.0599999999999997E-2,5.16E-2,6.3200000000000006E-2,7.5200000000000003E-2,8.72E-2,9.9099999999999994E-2,0.111,0.122,0.13400000000000001,0.14399999999999999,0.155,0.16500000000000001,0.17499999999999999,0.185,0.19500000000000001,0.20499999999999999,0.216,30]
[30,4.3399999999999998E-8,7.8599999999999997E-7,9.3400000000000004E-6,9.0399999999999994E-3,1.37E-2,0.02,2.8000000000000001E-2,3.7600000000000001E-2,4.8099999999999997E-2,5.9200000000000003E-2,7.0699999999999999E-2,8.2199999999999995E-2,9.3799999999999994E-2,0.105,0.11600000000000001,0.127,0.13800000000000001,0.14799999999999999,0.158,0.16800000000000001,0.17699999999999999,0.187,0.19700000000000001,0.20699999999999999,31]
[35,6.1900000000000003E-9,1.6400000000000001E-7,2.74E-6,5.1399999999999996E-3,8.2100000000000003E-3,1.26E-2,1.8499999999999999E-2,2.58E-2,3.4099999999999998E-2,4.2999999999999997E-2,5.2299999999999999E-2,6.1899999999999997E-2,7.1499999999999994E-2,8.1100000000000005E-2,9.0499999999999997E-2,9.9699999999999997E-2,0.109,0.11700000000000001,0.126,0.13500000000000001,0.14299999999999999,0.152,0.16,0.16900000000000001,32]
[40,8.9999999999999999E-10,3.4900000000000001E-8,8.1399999999999996E-7,2.98E-3,5.0299999999999997E-3,8.1399999999999997E-3,1.2500000000000001E-2,1.7999999999999999E-2,2.4500000000000001E-2,3.1600000000000003E-2,3.9199999999999999E-2,4.7100000000000003E-2,5.5100000000000003E-2,6.3200000000000006E-2,7.1099999999999997E-2,7.8899999999999998E-2,8.6599999999999996E-2,9.4100000000000003E-2,0.10199999999999999,0.109,0.11600000000000001,0.124,0.13200000000000001,0.14000000000000001,33]
[]
["なお、ガラスの密度は 2.56g/cm3 である。"]
["該当する値がない場合には、安全側に設定するか又は補間法により求めることができる。"]

{"sheet":"表7(木)","index":16,"n_rows":38,"n_cols":28,"rows_kept":38,"cut":false,"hidden":true,"merged":[[1,1,1,24]]}
["表7　木材におけるエックス線の空気カーマ透過率"]
["遮蔽厚","使用管電圧(kV)",null,null,null,null,null,null,null,null,null,null,null,null,null,null,null,null,null,null,null,null,null,null,null,null,"定格管電圧（ｋＶｐ）"]
["(mm)",25,30,35,50,55,60,65,70,75,80,85,90,95,100,105,110,115,120,125,130,135,140,145,150,null,25,2]
[0,1,1,1,1,1,1,1,1,1,1,1,1,1,1,1,1,1,1,1,1,1,1,1,1,1,30,3]
[10,0.53200000000000003,0.55900000000000005,0.58299999999999996,0.88300000000000001,0.89200000000000002,0.90100000000000002,0.90800000000000003,0.91300000000000003,0.91600000000000004,0.91600000000000004,0.91700000000000004,0.91700000000000004,0.91900000000000004,0.92200000000000004,0.92600000000000005,0.93100000000000005,0.93700000000000006,0.94299999999999995,0.94699999999999995,0.95099999999999996,0.95499999999999996,0.95699999999999996,0.95799999999999996,0.95799999999999996,2,35,4]
[20,0.29599999999999999,0.33,0.36099999999999999,0.78100000000000003,0.79700000000000004,0.81299999999999994,0.82599999999999996,0.83499999999999996,0.83899999999999997,0.84,0.84099999999999997,0.84299999999999997,0.84599999999999997,0.85099999999999998,0.85899999999999999,0.86799999999999999,0.878,0.88800000000000001,0.89700000000000002,0.90400000000000003,0.91100000000000003,0.91500000000000004,0.91600000000000004,0.91600000000000004,3,50,5]
[30,0.17100000000000001,0.20300000000000001,0.23400000000000001,0.69199999999999995,0.71299999999999997,0.73399999999999999,0.751,0.76300000000000001,0.76900000000000002,0.77100000000000002,0.77200000000000002,0.77400000000000002,0.77900000000000003,0.78600000000000003,0.79700000000000004,0.80900000000000005,0.82299999999999995,0.83599999999999997,0.84799999999999998,0.85899999999999999,0.86699999999999999,0.873,0.876,0.876,4,55,6]
[40,0.10199999999999999,0.129,0.157,0.61399999999999999,0.63900000000000001,0.66300000000000003,0.68400000000000005,0.69799999999999995,0.70499999999999996,0.70799999999999996,0.71,0.71199999999999997,0.71799999999999997,0.72599999999999998,0.73899999999999999,0.754,0.77100000000000002,0.78700000000000003,0.80200000000000005,0.81499999999999995,0.82599999999999996,0.83299999999999996,0.83599999999999997,0.83599999999999997,5,60,7]
[50,6.2600000000000003E-2,8.4199999999999997E-2,0.108,0.54600000000000004,0.57299999999999995,0.6,0.623,0.63900000000000001,0.64700000000000002,0.65,0.65200000000000002,0.65600000000000003,0.66200000000000003,0.67200000000000004,0.68600000000000005,0.70299999999999996,0.72199999999999998,0.74099999999999999,0.75800000000000001,0.77300000000000002,0.78500000000000003,0.79300000000000004,0.79800000000000004,0.79700000000000004,6,65,8]
[60,3.9300000000000002E-2,5.6300000000000003E-2,7.6399999999999996E-2,0.48599999999999999,0.51500000000000001,0.54300000000000004,0.56799999999999995,0.58499999999999996,0.59399999999999997,0.59799999999999998,0.6,0.60399999999999998,0.61099999999999999,0.622,0.63700000000000001,0.65600000000000003,0.67600000000000005,0.69599999999999995,0.71499999999999997,0.73199999999999998,0.746,0.755,0.76,0.76,7,70,9]
[70,2.52E-2,3.8399999999999997E-2,5.4899999999999997E-2,0.434,0.46300000000000002,0.49199999999999999,0.51700000000000002,0.53500000000000003,0.54500000000000004,0.54900000000000004,0.55200000000000005,0.55700000000000005,0.56399999999999995,0.57599999999999996,0.59199999999999997,0.61199999999999999,0.63300000000000001,0.65500000000000003,0.67500000000000004,0.69299999999999995,0.70799999999999996,0.71799999999999997,0.72299999999999998,0.72399999999999998,8,75,10]
[80,1.6400000000000001E-2,2.6700000000000002E-2,4.0099999999999997E-2,0.38700000000000001,0.41599999999999998,0.44600000000000001,0.47199999999999998,0.49,0.5,0.505,0.50900000000000001,0.51300000000000001,0.52100000000000002,0.53300000000000003,0.55000000000000004,0.57099999999999995,0.59299999999999997,0.61499999999999999,0.63700000000000001,0.65600000000000003,0.67100000000000004,0.68200000000000005,0.68799999999999994,0.68899999999999995,9,80,11]
[90,1.09E-2,1.8800000000000001E-2,2.9700000000000001E-2,0.34499999999999997,0.374,0.40400000000000003,0.43,0.44900000000000001,0.46,0.46500000000000002,0.46899999999999997,0.47399999999999998,0.48199999999999998,0.49399999999999999,0.51100000000000001,0.53200000000000003,0.55500000000000005,0.57799999999999996,0.6,0.62,0.63600000000000001,0.64800000000000002,0.65400000000000003,0.65500000000000003,10,85,12]
[100,7.3299999999999997E-3,1.34E-2,2.23E-2,0.309,0.33700000000000002,0.36599999999999999,0.39200000000000002,0.41099999999999998,0.42199999999999999,0.42799999999999999,0.432,0.437,0.44500000000000001,0.45800000000000002,0.47499999999999998,0.497,0.52,0.54300000000000004,0.56599999999999995,0.58599999999999997,0.60199999999999998,0.61399999999999999,0.621,0.622,11,90,13]
[110,4.9899999999999996E-3,9.6399999999999993E-3,1.6799999999999999E-2,0.27600000000000002,0.30399999999999999,0.33200000000000002,0.35799999999999998,0.377,0.38800000000000001,0.39400000000000002,0.39800000000000002,0.40400000000000003,0.41199999999999998,0.42499999999999999,0.442,0.46300000000000002,0.48599999999999999,0.51,0.53300000000000003,0.55300000000000005,0.56999999999999995,0.58199999999999996,0.58899999999999997,0.59099999999999997,12,95,14]
[120,3.4399999999999999E-3,7.0099999999999997E-3,1.29E-2,0.247,0.27400000000000002,0.30199999999999999,0.32700000000000001,0.34599999999999997,0.35699999999999998,0.36299999999999999,0.36699999999999999,0.373,0.38100000000000001,0.39400000000000002,0.41099999999999998,0.432,0.45500000000000002,0.47899999999999998,0.502,0.52200000000000002,0.53900000000000003,0.55200000000000005,0.55900000000000005,0.56000000000000005,13,100,15]
[130,2.3900000000000002E-3,5.1500000000000001E-3,9.8799999999999999E-3,0.221,0.247,0.27400000000000002,0.29799999999999999,0.317,0.32800000000000001,0.33400000000000002,0.33900000000000002,0.34499999999999997,0.35299999999999998,0.36499999999999999,0.38200000000000001,0.40300000000000002,0.42599999999999999,0.44900000000000001,0.47199999999999998,0.49199999999999999,0.50900000000000001,0.52200000000000002,0.53,0.53100000000000003,14,105,16]
[140,1.6800000000000001E-3,3.81E-3,7.6499999999999997E-3,0.19800000000000001,0.222,0.248,0.27200000000000002,0.28999999999999998,0.30199999999999999,0.308,0.313,0.31900000000000001,0.32700000000000001,0.33900000000000002,0.35599999999999998,0.376,0.39900000000000002,0.42199999999999999,0.44400000000000001,0.46400000000000002,0.48099999999999998,0.49399999999999999,0.502,0.504,15,110,17]
[150,1.1900000000000001E-3,2.8400000000000001E-3,5.96E-3,0.17699999999999999,0.20100000000000001,0.22600000000000001,0.249,0.26600000000000001,0.27700000000000002,0.28399999999999997,0.28899999999999998,0.29499999999999998,0.30299999999999999,0.315,0.33100000000000002,0.35099999999999998,0.373,0.39600000000000002,0.41799999999999998,0.438,0.45400000000000001,0.46700000000000003,0.47499999999999998,0.47699999999999998,16,115,18]
[160,8.4900000000000004E-4,2.1299999999999999E-3,4.6600000000000001E-3,0.159,0.18099999999999999,0.20499999999999999,0.22700000000000001,0.24399999999999999,0.255,0.26200000000000001,0.26700000000000002,0.27200000000000002,0.28100000000000003,0.29199999999999998,0.308,0.32800000000000001,0.34899999999999998,0.371,0.39300000000000002,0.41199999999999998,0.42899999999999999,0.442,0.45,0.45200000000000001,17,120,19]
[170,6.11E-4,1.6000000000000001E-3,3.6700000000000001E-3,0.14199999999999999,0.16300000000000001,0.186,0.20699999999999999,0.224,0.23499999999999999,0.24099999999999999,0.246,0.252,0.26,0.27100000000000002,0.28699999999999998,0.30599999999999999,0.32600000000000001,0.34799999999999998,0.36899999999999999,0.38800000000000001,0.40500000000000003,0.41699999999999998,0.42499999999999999,0.42799999999999999,18,125,20]
[180,4.4200000000000001E-4,1.2099999999999999E-3,2.8999999999999998E-3,0.127,0.14699999999999999,0.16900000000000001,0.189,0.20599999999999999,0.216,0.222,0.22700000000000001,0.23300000000000001,0.24099999999999999,0.252,0.26700000000000002,0.28499999999999998,0.30499999999999999,0.32600000000000001,0.34699999999999998,0.36599999999999999,0.38200000000000001,0.39400000000000002,0.40200000000000002,0.40500000000000003,19,130,21]
[190,3.2200000000000002E-4,9.2299999999999999E-4,2.3E-3,0.114,0.13300000000000001,0.154,0.17299999999999999,0.189,0.19900000000000001,0.20499999999999999,0.21,0.216,0.223,0.23400000000000001,0.249,0.26600000000000001,0.28599999999999998,0.30599999999999999,0.32600000000000001,0.34399999999999997,0.36,0.372,0.38,0.38300000000000001,20,135,22]
[200,2.3599999999999999E-4,7.0600000000000003E-4,1.83E-3,0.10199999999999999,0.12,0.14000000000000001,0.158,0.17299999999999999,0.183,0.189,0.19400000000000001,0.2,0.20699999999999999,0.217,0.23200000000000001,0.248,0.26700000000000002,0.28699999999999998,0.30599999999999999,0.32400000000000001,0.33900000000000002,0.35099999999999998,0.35899999999999999,0.36199999999999999,21,140,23]
[210,1.73E-4,5.4100000000000003E-4,1.4599999999999999E-3,9.1899999999999996E-2,0.108,0.127,0.14399999999999999,0.159,0.16800000000000001,0.17399999999999999,0.18,0.185,0.192,0.20200000000000001,0.216,0.23200000000000001,0.25,0.26900000000000002,0.28699999999999998,0.30499999999999999,0.31900000000000001,0.33100000000000002,0.33900000000000002,0.34200000000000003,22,145,24]
[220,1.2799999999999999E-4,4.17E-4,1.17E-3,8.2400000000000001E-2,9.8000000000000004E-2,0.115,0.13200000000000001,0.14599999999999999,0.155,0.161,0.16600000000000001,0.17100000000000001,0.17799999999999999,0.188,0.20100000000000001,0.216,0.23400000000000001,0.252,0.27,0.28599999999999998,0.30099999999999999,0.312,0.32,0.32300000000000001,23,150,25]
[230,9.5199999999999997E-5,3.2200000000000002E-4,9.3700000000000001E-4,7.3999999999999996E-2,8.8499999999999995E-2,0.105,0.121,0.13400000000000001,0.14299999999999999,0.14899999999999999,0.153,0.159,0.16500000000000001,0.17499999999999999,0.187,0.20200000000000001,0.218,0.23599999999999999,0.253,0.26900000000000002,0.28299999999999997,0.29399999999999998,0.30199999999999999,0.30499999999999999,24]
[240,7.1000000000000005E-5,2.4899999999999998E-4,7.54E-4,6.6400000000000001E-2,7.9899999999999999E-2,9.5200000000000007E-2,0.11,0.123,0.13100000000000001,0.13700000000000001,0.14199999999999999,0.14699999999999999,0.153,0.16200000000000001,0.17399999999999999,0.188,0.20399999999999999,0.221,0.23799999999999999,0.253,0.26700000000000002,0.27700000000000002,0.28499999999999998,0.28799999999999998,25]
[250,5.3199999999999999E-5,1.94E-4,6.0800000000000003E-4,5.9499999999999997E-2,7.22E-2,8.6499999999999994E-2,0.10100000000000001,0.112,0.121,0.126,0.13100000000000001,0.13600000000000001,0.14199999999999999,0.151,0.16200000000000001,0.17599999999999999,0.191,0.20699999999999999,0.223,0.23799999999999999,0.251,0.26100000000000001,0.26900000000000002,0.27200000000000002,26]
[260,4.0000000000000003E-5,1.5100000000000001E-4,4.9100000000000001E-4,5.3400000000000003E-2,6.5199999999999994E-2,7.8600000000000003E-2,9.1899999999999996E-2,0.10299999999999999,0.111,0.11700000000000001,0.121,0.126,0.13200000000000001,0.14000000000000001,0.151,0.16400000000000001,0.17899999999999999,0.19400000000000001,0.20899999999999999,0.223,0.23599999999999999,0.246,0.253,0.25700000000000001,27]
[270,3.01E-5,1.18E-4,3.97E-4,4.8000000000000001E-2,5.8900000000000001E-2,7.1499999999999994E-2,8.4000000000000005E-2,9.4700000000000006E-2,0.10199999999999999,0.108,0.112,0.11700000000000001,0.123,0.13,0.14099999999999999,0.153,0.16700000000000001,0.18099999999999999,0.19600000000000001,0.21,0.222,0.23200000000000001,0.23899999999999999,0.24199999999999999,28]
[280,2.2799999999999999E-5,9.2E-5,3.2200000000000002E-4,4.2999999999999997E-2,5.3199999999999997E-2,6.5000000000000002E-2,7.6799999999999993E-2,8.6999999999999994E-2,9.4200000000000006E-2,9.9500000000000005E-2,0.104,0.108,0.114,0.121,0.13100000000000001,0.14299999999999999,0.156,0.17,0.184,0.19700000000000001,0.20899999999999999,0.219,0.22500000000000001,0.22900000000000001,29]
[290,1.73E-5,7.2100000000000004E-5,2.61E-4,3.8600000000000002E-2,4.8099999999999997E-2,5.8999999999999997E-2,7.0199999999999999E-2,7.9799999999999996E-2,8.6800000000000002E-2,9.1800000000000007E-2,9.6000000000000002E-2,0.1,0.106,0.113,0.122,0.13300000000000001,0.14599999999999999,0.159,0.17199999999999999,0.185,0.19600000000000001,0.20599999999999999,0.21199999999999999,0.216,30]
[300,1.3200000000000001E-5,5.66E-5,2.12E-4,3.4700000000000002E-2,4.3400000000000001E-2,5.3699999999999998E-2,6.4100000000000004E-2,7.3300000000000004E-2,7.9899999999999999E-2,8.48E-2,8.8800000000000004E-2,9.2999999999999999E-2,9.8100000000000007E-2,0.105,0.114,0.124,0.13600000000000001,0.14899999999999999,0.16200000000000001,0.17399999999999999,0.185,0.19400000000000001,0.2,0.20300000000000001,31]
[350,3.4699999999999998E-6,1.73E-5,7.6699999999999994E-5,2.0199999999999999E-2,2.6200000000000001E-2,3.3300000000000003E-2,4.0899999999999999E-2,4.7699999999999999E-2,5.2900000000000003E-2,5.6899999999999999E-2,6.0299999999999999E-2,6.3600000000000004E-2,6.7699999999999996E-2,7.2800000000000004E-2,7.9899999999999999E-2,8.7999999999999995E-2,9.7199999999999995E-2,0.107,0.11700000000000001,0.127,0.13600000000000001,0.14299999999999999,0.14799999999999999,0.152,32]
[400,9.6200000000000006E-7,5.4199999999999998E-6,2.83E-5,1.18E-2,1.5800000000000002E-2,2.07E-2,2.6100000000000002E-2,3.1099999999999999E-2,3.5099999999999999E-2,3.8300000000000001E-2,4.0899999999999999E-2,4.36E-2,4.6800000000000001E-2,5.0599999999999999E-2,5.6099999999999997E-2,6.2199999999999998E-2,6.9199999999999998E-2,7.6600000000000001E-2,8.4500000000000006E-2,9.1999999999999998E-2,9.9299999999999999E-2,0.105,0.11,0.113,33]
["なお、木材の密度は 0.55g/cm3 である。"]
["該当する値がない場合には、安全側に設定するか又は補間法により求めることができる。"]

{"sheet":"表8(a)","index":17,"n_rows":31,"n_cols":2,"rows_kept":31,"cut":false,"hidden":true,"merged":[]}
["表8　照射野４００平方センチメートルの組織類似ファントムから１メートルの距離による空気カーマ率の百分率"]
[]
["定格管電圧(kVp）","　９０度"]
[25,0.14000000000000001]
[30,0.15]
[35,0.15]
[50,0.16]
[55,0.16]
[60,0.17]
[65,0.17]
[70,0.17]
[75,0.18]
[80,0.18]
[85,0.18]
[90,0.18]
[95,0.19]
[100,0.19]
[105,0.19]
[110,0.2]
[115,0.2]
[120,0.2]
[125,0.21]
[130,0.21]
[135,0.21]
[140,0.22]
[145,0.22]
[150,0.22]
[]
["なお、25kV～35kV はモリブデン陽極とモリブデンフィルタを有する乳房撮影用エックス"]
["線装置に対する散乱係数である。"]
["該当する値がない場合には、安全側に設定するか又は補間法により求めることができる。"]

{"sheet":"表9(BB)","index":18,"n_rows":34,"n_cols":13,"rows_kept":34,"cut":false,"hidden":true,"merged":[[1,9,1,10],[1,11,1,12],[1,1,1,2],[1,7,1,8],[1,3,1,4],[1,5,1,6]]}
["表9　大幅に減衰したエックス線の広いビームに対する半価層及び1/10価層"]
["使用管電","鉛(mm)",null,"コンクリート(mm)",null,"鉄(mm)",null,"石膏(mm)",null,"ガラス(mm)",null,"木材(mm)"]
["圧(kV)","t1/2","t1/10","t1/2","t1/10","t1/2","t1/10","t1/2","t1/10","t1/2","t1/10","t1/2","t1/10"]
[25,1.15E-2,3.9699999999999999E-2,1.36,4.74,6.13E-2,0.21199999999999999,3.53,12.2,1.44,5,23.8,81.8]
[30,1.5299999999999999E-2,5.2600000000000001E-2,1.86,6.41,8.2900000000000001E-2,0.28399999999999997,4.84,16.7,1.96,6.74,28.5,96.8]
[35,2.0799999999999999E-2,7.1099999999999997E-2,2.5299999999999998,8.59,0.113,0.38300000000000001,6.87,23.6,2.68,9.09,34.5,116]
[50,6.6500000000000004E-2,0.22800000000000001,6.36,21.8,0.36099999999999999,1.22,17.600000000000001,58.6,7.01,23.4,64.400000000000006,214]
[55,7.9200000000000007E-2,0.26900000000000002,7.66,26.3,0.442,1.49,20,66.8,7.99,26.7,68.5,228]
[60,9.3600000000000003E-2,0.316,9.25,31.7,0.56000000000000005,1.88,23.1,76.8,9.18,30.6,72.900000000000006,242]
[65,0.11,0.36699999999999999,11,37.5,0.72699999999999998,2.44,26.4,88,10.5,35.1,77.099999999999994,256]
[70,0.127,0.42399999999999999,12.6,42.6,0.94,3.15,30,100,11.9,39.6,81.099999999999994,269]
[75,0.14699999999999999,0.49099999999999999,13.8,46.4,1.17,3.92,33.5,111,13,43.4,84.5,281]
[80,0.17100000000000001,0.56799999999999995,14.7,49.2,1.39,4.63,36.700000000000003,122,13.9,46.4,87.7,291]
[85,0.19700000000000001,0.65500000000000003,15.3,51.4,1.58,5.25,39.700000000000003,132,14.7,48.7,90.2,300]
[90,0.22500000000000001,0.749,15.9,53.3,1.73,5.77,42.4,141,15.2,50.6,92.3,307]
[95,0.253,0.84099999999999997,16.5,55.2,1.87,6.23,44.9,149,15.7,52.2,94.4,313]
[100,0.27600000000000002,0.91900000000000004,17,57.1,2.02,6.72,47.3,157,16.2,53.8,95.9,318]
[105,0.29199999999999998,0.97099999999999997,17.7,59.1,2.2000000000000002,7.33,49.6,165,16.7,55.6,98.3,327]
[110,0.3,1,18.3,61,2.42,8.06,51.9,172,17.3,57.4,100,333]
[115,0.30299999999999999,1.01,18.8,62.8,2.68,8.91,54,179,17.899999999999999,59.4,101,335]
[120,0.30399999999999999,1.02,19.3,64.3,2.96,9.84,56.1,186,18.399999999999999,61.3,103,342]
[125,0.30599999999999999,1.02,19.7,65.599999999999994,3.24,10.8,58.1,193,19,63,105,350]
[130,0.31,1.04,20.100000000000001,66.8,3.51,11.7,60,199,19.5,64.7,107,356]
[135,0.316,1.06,20.399999999999999,67.8,3.76,12.5,61.8,205,19.899999999999999,66.099999999999994,110,365]
[140,0.32400000000000001,1.0900000000000001,20.7,68.8,4.01,13.3,63.7,212,20.3,67.599999999999994,112,372]
[145,0.33400000000000002,1.1299999999999999,21,69.900000000000006,4.28,14.2,65.599999999999994,218,20.8,69,113,377]
[150,0.34499999999999997,1.18,21.4,71,4.6100000000000003,15.3,67.3,224,21.2,70.5,115,382]
["なお、コンクリートの密度は 2.35g/cm3 である。"]
["コンクリートの密度の違いによる補正は、概ねコンクリートの厚さの間で比例の関係にあ"]
["る。我が国の画壁等に用いられているコンクリート建材の密度は 2.10 g/cm3 であるので、こ"]
["の密度におけるしゃへい体の等価厚さを計算し、その厚さにおける透過率を求める（詳細"]
["は、「放射線施設のしゃへい計算実務マニュアル 2007 原子力安全技術センター発行」を参"]
["照されたい。）。"]
["該当する値がない場合には、安全側に設定するか又は補間法により求めることができる。"]

{"sheet":"表10(換算)","index":19,"n_rows":14,"n_cols":3,"rows_kept":14,"cut":false,"hidden":true,"merged":[]}
["表10　空気カーマから実効線量への換算係数"]
["光子エネルギー（ｋｅＶ）","換算係数(E／Ka)"]
[10,6.5300000000000002E-3]
[15,4.02E-2]
[20,0.122]
[30,0.41599999999999998]
[40,0.78800000000000003]
[50,1.1060000000000001]
[60,1.3080000000000001]
[70,1.407]
[80,1.4330000000000001]
[100,1.4330000000000001,1.3939999999999999]
[150,1.4330000000000001,1.256]
[200,1.4330000000000001,1.173]

{"sheet":"出力1","index":20,"n_rows":95,"n_cols":31,"rows_kept":95,"cut":false,"hidden":false,"merged":[[6,23,6,25],[6,26,6,30],[4,23,4,25],[4,26,4,30],[4,14,5,22],[4,11,5,13],[4,2,5,10],[46,12,47,12],[47,17,47,18],[47,23,47,24],[46,26,47,26],[40,29,45,29],[40,30,45,30],[41,13,41,14],[41,15,41,16],[41,17,41,18],[41,19,41,20],[41,21,41,22],[40,13,40,14],[40,23,40,24],[41,23,41,24],[42,23,42,24],[43,23,43,24],[44,23,44,24],[72,27,74,28],[76,26,77,26],[78,26,79,26],[80,26,81,26],[74,26,75,26],[64,26,65,26],[66,26,67,26],[68,26,69,26],[64,27,65,27],[64,28,65,28],[66,27,68,28],[70,27,71,27],[70,26,71,26],[72,26,73,26],[68,17,68,18],[70,28,71,28],[76,27,77,27],[76,28,77,28],[78,27,80,28],[82,27,83,27],[82,28,83,28],[58,27,59,27],[40,27,41,27],[40,28,41,28],[42,27,44,28],[46,27,47,27],[46,28,47,28],[48,27,50,28],[52,27,53,27],[52,28,53,28],[54,27,56,28],[58,28,59,28],[60,27,62,28],[68,19,68,20],[68,21,68,22],[47,21,47,22],[46,21,46,22],[46,23,46,24],[58,30,63,30],[62,26,63,26],[58,26,59,26],[60,25,61,25],[62,25,63,25],[64,25,65,25],[60,19,60,20],[60,21,60,22],[23,3,23,19],[24,7,24,8],[24,11,24,12],[24,16,24,17],[50,26,51,26],[50,25,51,25],[25,11,25,12],[25,16,25,17],[52,30,57,30],[53,19,53,20],[53,21,53,22],[55,19,55,20],[55,21,55,22],[52,26,53,26],[56,19,56,20],[56,21,56,22],[68,12,69,12],[42,19,42,20],[43,13,43,14],[43,15,43,16],[43,17,43,18],[43,19,43,20],[64,12,65,12],[66,19,66,20],[56,13,56,14],[56,15,56,16],[56,17,56,18],[56,12,57,12],[54,17,54,18],[53,17,53,18],[52,17,52,18],[57,17,57,18],[44,12,45,12],[55,17,55,18],[46,13,46,14],[46,15,46,16],[47,19,47,20],[46,17,46,18],[46,19,46,20],[47,15,47,16],[57,19,57,20],[57,21,57,22],[54,23,54,24],[55,23,55,24],[54,25,55,25],[56,25,57,25],[52,25,53,25],[54,26,55,26],[56,26,57,26],[33,22,35,30],[42,21,42,22],[43,21,43,22],[40,21,40,22],[38,29,39,29],[38,30,39,30],[38,13,39,24],[38,25,39,28],[48,26,49,26],[48,25,49,25],[45,13,45,14],[45,15,45,16],[45,17,45,18],[45,19,45,20],[45,21,45,22],[44,13,44,14],[44,15,44,16],[44,17,44,18],[44,19,44,20],[44,21,44,22],[46,29,51,29],[46,30,51,30],[47,13,47,14],[48,23,48,24],[88,29,93,29],[60,26,61,26],[58,25,59,25],[52,19,52,20],[52,21,52,22],[52,23,52,24],[53,23,53,24],[46,25,47,25],[54,19,54,20],[54,21,54,22],[52,29,57,29],[51,23,51,24],[49,23,49,24],[48,19,48,20],[48,21,48,22],[49,21,49,22],[50,23,50,24],[90,27,92,28],[66,25,67,25],[68,25,69,25],[70,25,71,25],[58,29,63,29],[88,27,89,27],[88,28,89,28],[88,26,89,26],[90,26,91,26],[92,26,93,26],[94,2,94,31],[93,13,93,14],[93,15,93,16],[93,17,93,18],[93,19,93,20],[93,21,93,22],[92,13,92,14],[92,15,92,16],[92,17,92,18],[92,19,92,20],[92,21,92,22],[92,12,93,12],[88,30,93,30],[89,13,89,14],[89,15,89,16],[89,17,89,18],[89,19,89,20],[89,21,89,22],[88,13,88,14],[88,15,88,16],[88,17,88,18],[84,21,84,22],[85,13,85,14],[85,15,85,16],[91,19,91,20],[91,21,91,22],[90,25,91,25],[92,25,93,25],[88,25,89,25],[90,17,90,18],[88,19,88,20],[88,21,88,22],[91,13,91,14],[90,19,90,20],[90,21,90,22],[90,13,90,14],[90,15,90,16],[84,13,84,14],[84,15,84,16],[91,15,91,16],[91,17,91,18],[87,21,87,22],[86,21,86,22],[88,4,93,5],[88,6,93,7],[88,8,93,9],[88,10,93,11],[82,4,87,5],[82,6,87,7],[82,8,87,9],[82,10,87,11],[84,19,84,20],[88,12,89,12],[90,12,91,12],[84,12,85,12],[87,17,87,18],[87,19,87,20],[86,13,86,14],[86,15,86,16],[86,17,86,18],[86,19,86,20],[86,12,87,12],[82,29,87,29],[82,30,87,30],[83,13,83,14],[83,15,83,16],[83,17,83,18],[83,19,83,20],[83,21,83,22],[82,13,82,14],[82,15,82,16],[82,17,82,18],[82,19,82,20],[82,21,82,22],[82,25,83,25],[84,25,85,25],[86,25,87,25],[85,17,85,18],[85,19,85,20],[85,21,85,22],[82,26,83,26],[84,26,85,26],[86,26,87,26],[84,27,86,28],[87,13,87,14],[87,15,87,16],[80,12,81,12],[84,17,84,18],[76,4,81,5],[76,6,81,7],[76,8,81,9],[76,10,81,11],[82,12,83,12],[76,12,77,12],[78,19,78,20],[79,13,79,14],[79,15,79,16],[79,17,79,18],[72,25,73,25],[74,25,75,25],[75,13,75,14],[81,13,81,14],[81,15,81,16],[81,17,81,18],[81,19,81,20],[81,21,81,22],[80,13,80,14],[80,15,80,16],[80,17,80,18],[80,19,80,20],[80,21,80,22],[78,21,78,22],[73,19,73,20],[73,21,73,22],[75,19,75,20],[75,21,75,22],[74,19,74,20],[74,21,74,22],[76,29,81,29],[76,30,81,30],[77,13,77,14],[77,15,77,16],[77,17,77,18],[77,19,77,20],[77,21,77,22],[76,13,76,14],[76,15,76,16],[76,17,76,18],[76,19,76,20],[76,21,76,22],[78,25,79,25],[80,25,81,25],[76,25,77,25],[79,19,79,20],[79,21,79,22],[70,4,75,5],[70,6,75,7],[70,8,75,9],[70,10,75,11],[78,12,79,12],[75,15,75,16],[75,17,75,18],[74,13,74,14],[74,15,74,16],[74,17,74,18],[72,12,73,12],[72,15,72,16],[72,17,72,18],[70,12,71,12],[72,13,72,14],[74,12,75,12],[78,13,78,14],[78,15,78,16],[78,17,78,18],[69,19,69,20],[69,21,69,22],[66,21,66,22],[67,13,67,14],[67,15,67,16],[68,13,68,14],[68,15,68,16],[70,29,75,29],[70,30,75,30],[71,13,71,14],[71,15,71,16],[71,17,71,18],[71,19,71,20],[71,21,71,22],[70,13,70,14],[70,15,70,16],[70,17,70,18],[70,19,70,20],[70,21,70,22],[72,19,72,20],[72,21,72,22],[73,13,73,14],[73,15,73,16],[73,17,73,18],[64,4,69,5],[64,6,69,7],[64,8,69,9],[64,10,69,11],[58,4,63,5],[58,6,63,7],[58,8,63,9],[64,29,69,29],[64,30,69,30],[65,13,65,14],[65,15,65,16],[65,17,65,18],[65,19,65,20],[65,21,65,22],[64,13,64,14],[64,15,64,16],[64,17,64,18],[64,19,64,20],[64,21,64,22],[67,19,67,20],[67,21,67,22],[69,13,69,14],[69,15,69,16],[69,17,69,18],[62,15,62,16],[62,17,62,18],[62,19,62,20],[62,21,62,22],[62,12,63,12],[66,13,66,14],[66,15,66,16],[66,17,66,18],[66,12,67,12],[67,17,67,18],[59,17,59,18],[59,19,59,20],[59,21,59,22],[58,13,58,14],[58,15,58,16],[58,17,58,18],[58,19,58,20],[58,21,58,22],[58,10,63,11],[61,13,61,14],[61,15,61,16],[61,17,61,18],[61,19,61,20],[61,21,61,22],[60,12,61,12],[60,13,60,14],[60,15,60,16],[60,17,60,18],[63,13,63,14],[63,15,63,16],[63,17,63,18],[63,19,63,20],[63,21,63,22],[62,13,62,14],[52,4,57,5],[52,6,57,7],[52,8,57,9],[52,10,57,11],[58,12,59,12],[52,12,53,12],[54,12,55,12],[54,13,54,14],[54,15,54,16],[53,13,53,14],[53,15,53,16],[52,13,52,14],[52,15,52,16],[57,13,57,14],[57,15,57,16],[55,13,55,14],[55,15,55,16],[59,13,59,14],[59,15,59,16],[50,12,51,12],[46,4,51,5],[46,6,51,7],[46,8,51,9],[46,10,51,11],[49,15,49,16],[49,17,49,18],[49,19,49,20],[48,12,49,12],[48,13,48,14],[48,15,48,16],[48,17,48,18],[49,13,49,14],[51,13,51,14],[51,15,51,16],[51,17,51,18],[51,19,51,20],[51,21,51,22],[50,13,50,14],[50,15,50,16],[50,17,50,18],[50,19,50,20],[50,21,50,22],[45,23,45,24],[42,15,42,16],[42,17,42,18],[42,13,42,14],[42,12,43,12],[40,4,45,5],[40,6,45,7],[40,8,45,9],[40,10,45,11],[40,12,41,12],[40,2,40,3],[41,2,44,3],[40,26,41,26],[42,26,43,26],[44,26,45,26],[40,25,41,25],[40,15,40,16],[40,17,40,18],[40,19,40,20],[42,25,43,25],[44,25,45,25],[29,9,29,10],[35,9,35,10],[29,18,29,19],[35,18,35,19],[38,2,39,3],[38,4,38,11],[38,12,39,12],[39,4,39,5],[39,6,39,7],[39,8,39,9],[39,10,39,11],[15,24,15,25],[27,3,27,19],[28,7,28,8],[28,11,28,12],[28,16,28,17],[16,12,16,21],[18,4,18,6],[18,11,18,12],[18,17,18,18],[19,4,19,6],[19,11,19,12],[19,17,19,18],[24,4,24,6],[25,4,25,6],[28,4,28,6],[24,9,24,10],[24,13,24,14],[25,13,25,14],[24,18,24,19],[25,18,25,19],[28,13,28,14],[22,22,30,30],[21,16,21,20],[21,6,21,11],[9,24,11,28],[10,3,10,10],[10,12,10,15],[14,3,14,10],[14,12,14,15],[14,16,14,18],[14,19,14,21],[14,24,14,26],[12,24,12,26],[13,24,13,26],[9,3,9,10],[9,12,9,15],[9,16,9,18],[9,19,9,21],[10,16,10,18],[10,19,10,21],[11,3,11,10],[11,12,11,15],[11,16,11,18],[11,19,11,21],[12,3,12,10],[12,12,12,15],[12,16,12,18],[12,19,12,21],[13,12,13,15],[13,16,13,18],[13,19,13,21],[15,3,15,10],[15,12,15,15],[15,16,15,18],[15,19,15,21],[29,7,29,8],[71,2,74,3],[29,11,29,12],[29,16,29,17],[33,3,33,19],[34,7,34,8],[34,11,34,12],[34,16,34,17],[35,7,35,8],[35,11,35,12],[29,4,29,6],[34,4,34,6],[35,4,35,6],[29,13,29,14],[34,13,34,14],[35,13,35,14],[35,16,35,17],[76,2,76,3],[77,2,80,3],[82,2,82,3],[83,2,86,3],[88,2,88,3],[89,2,92,3],[46,2,46,3],[47,2,50,3],[52,2,52,3],[53,2,56,3],[58,2,58,3],[59,2,62,3],[64,2,64,3],[65,2,68,3],[70,2,70,3]]}
[]
[null,"※入力しないでください。（このシートはデータ入力シートで登録したものが反映します。）"]
[]
[]
[null,null,"エックス線遮蔽計算出力1",null,null,null,null,null,null,null,null,"施設名：",null,null,null,null,null,null,null,null,null,null,null,"室　名："]
[]
[null,null,null,null,null,null,null,null,null,null,null,null,null,null,null,null,null,null,null,null,null,null,null,"装置名："]
[]
[null,null,"1)用途",null,null,null,null,null,null,null,null,null,"2)遮蔽材密度",null,null,null,null,null,null,null,null,null,null,"3)遮蔽体の有無"]
["　",null,null,"1:治療用ｴｯｸｽ線装置（≦50ｋV）",null,null,null,null,null,null,null,null,"遮へい材",null,null,null,"密度（g/cm3）",null,null,"基準値（g/cm3）",null,null,null,null,"有りの場合は鉛当量(mmPb)で入力"]
[null,null,"　","2:治療用ｴｯｸｽ線装置（＞50ｋV）",null,null,null,null,null,null,null,null,"鉛",null,null,null,null,null,null,11.35]
[null,null,null,"3:口内法撮影用X線装置（≦125ｋV）",null,null,null,null,null,null,null,null,"ｺﾝｸﾘｰﾄ",null,null,null,null,null,null,2.35]
[null,null,null,"4:上記以外の診断用X線装置",null,null,null,null,null,null,null,null,"鉄",null,null,null,null,null,null,7.83,null,null,null,null,"透視",null,null,null,"mmPb"]
[null,null,null,null,null,null,null,null,null,null,null,null,"石膏",null,null,null,null,null,null,0.75,null,null,null,null,"一般撮影",null,null,null,"mmPb"]
[null,null,null,"タングステン陽極orロジウム陽極：0",null,null,null,null,null,null,null,null,"ｶﾞﾗｽ",null,null,null,null,null,null,2.56,null,null,null,null,"CT",null,null,null,"mmPb"]
[null,null,null,"モリブデン  陽極：1",null,null,null,null,null,null,null,null,"木材",null,null,null,null,null,null,0.55000000000000004]
[null,null,null,null,null,null,null,null,null,null,null,null,"※しゃへい計算実務マニュアル（'07年版）推奨値"]
[null,null,"5)受像面における照射野",null,null,null,null,null,null,null,null,null,"※基準値は、医薬発188号通知による"]
[null,null,null,"F=",null,null,null,"cm2",null,null,"縦",null,null,"cm",null,null,"横",null,null,"cm","※透視・一般撮影（未入力の場合は35cm×35cm）"]
[null,null,null,"F=",null,null,null,"cm2",null,null,"縦",null,null,"cm",null,null,"横",null,null,"cm","※CT（未入力の場合は60cm2で計算）"]
[null,null,null,null,"※入力すると数値は入れ替わります。"]
[null,null,"6)撮影条件"]
[null,null,null,null,null,null,null,null,null,null,null,null,null,null,null,null,null,null,null,null,null,null,"注1)エックス線診療室の遮蔽計算は、装置毎、撮影方向毎の漏洩線量を複合計算しました。\n注2)立位方向を出力１、臥位方向を出力2に入力しています。\n注3)透視と撮影は、併せて計算しています。\n注4)ＣＴ・口腔用パノラマは、管球が回転するため、一次線のみ撮影時間を1/4にして計算した。"]
[null,null,null,"透視"]
[null,null,null,null,"撮影条件",null,null,null,null,"KV",null,null,null,"mA",null,"　",null,null,"分/件"]
[null,null,null,null,"透視件数",null,null,null,null,null,null,null,null,"人/日",null,null,null,null,"日/週"]
[]
[null,null,null,"一般撮影"]
[null,null,null,null,"撮影条件",null,null,null,null,"KV",null,null,null,"mA",null,"　",null,null,"sec"]
[null,null,null,null,"撮影件数",null,null,null,null,"回/人",null,null,null,"人/日",null,null,null,null,"日/週"]
[]
[]
[]
[null,null,null,"CT・歯科用パノラマ装置"]
[null,null,null,null,"撮影条件",null,null,null,null,"KV",null,null,null,"mA",null,"　",null,null,"sec"]
[null,null,null,null,"撮影件数",null,null,null,null,"回/件",null,null,null,"人/日",null,null,null,null,"日/週"]
[]
[]
[null,null,"ポイント",null,"距離(m)",null,null,null,null,null,null,null,"材質","遮蔽材料及び厚さ(mm)",null,null,null,null,null,null,null,null,null,null,null,"漏洩実効線量",null,null,null,"判定","判定\n参考"]
[null,null,null,null,"d1",null,"d2",null,"d3",null,"d4"]
[null,null,"A：",null,null,null,null,null,null,null,null,null,"　A",null,null,null,null,null,null,null,null,null,null,null,null,"Ep",null,null,null,{"$f":"IF(OR(AB43=0,AB46=\"\"),\"\",IF(OR(AB43<AB46,AE41>0),\"適\",\"不適\"))","v":""}]
[]
[null,null,null,null,null,null,null,null,null,null,null,null,"　A'",null,null,null,null,null,null,null,null,null,null,null,null,"Es"]
[]
[null,null,null,null,null,null,null,null,null,null,null,null,"　A\"",null,null,null,null,null,null,null,null,null,null,null,null,"EL"]
[null,null,"区分"]
[null,null,"B：",null,null,null,null,null,null,null,null,null,"　B",null,null,null,null,null,null,null,null,null,null,null,null,"Ep",null,null,null,{"$f":"IF(OR(AB49=0,AB52=\"\"),\"\",IF(OR(AB49<AB52,AE47>0),\"適\",\"不適\"))","v":""}]
[]
[null,null,null,null,null,null,null,null,null,null,null,null,"　B'",null,null,null,null,null,null,null,null,null,null,null,null,"Es"]
[]
[null,null,null,null,null,null,null,null,null,null,null,null,"　B\"",null,null,null,null,null,null,null,null,null,null,null,null,"EL"]
[null,null,"区分"]
[null,null,"C：",null,null,null,null,null,null,null,null,null,"　C",null,null,null,null,null,null,null,null,null,null,null,null,"Ep",null,null,null,{"$f":"IF(OR(AB55=0,AB58=\"\"),\"\",IF(OR(AB55<AB58,AE53>0),\"適\",\"不適\"))","v":""}]
[]
[null,null,null,null,null,null,null,null,null,null,null,null,"　C'",null,null,null,null,null,null,null,null,null,null,null,null,"Es"]
[]
[null,null,null,null,null,null,null,null,null,null,null,null,"　C\"",null,null,null,null,null,null,null,null,null,null,null,null,"EL"]
[null,null,"区分"]
[null,null,"D：",null,null,null,null,null,null,null,null,null,"　D",null,null,null,null,null,null,null,null,null,null,null,null,"Ep",null,null,null,{"$f":"IF(OR(AB61=0,AB64=\"\"),\"\",IF(OR(AB61<AB64,AE59>0),\"適\",\"不適\"))","v":""}]
[]
[null,null,null,null,null,null,null,null,null,null,null,null,"　D'",null,null,null,null,null,null,null,null,null,null,null,null,"Es"]
[]
[null,null,null,null,null,null,null,null,null,null,null,null,"　D\"",null,null,null,null,null,null,null,null,null,null,null,null,"EL"]
[null,null,"区分"]
[null,null,"E：",null,null,null,null,null,null,null,null,null,"　E",null,null,null,null,null,null,null,null,null,null,null,null,"Ep",null,null,null,{"$f":"IF(OR(AB67=0,AB70=\"\"),\"\",IF(OR(AB67<AB70,AE67>0),\"適\",\"不適\"))","v":""}]
[]
[null,null,null,null,null,null,null,null,null,null,null,null,"　E'",null,null,null,null,null,null,null,null,null,null,null,null,"Es"]
[]
[null,null,null,null,null,null,null,null,null,null,null,null,"　E\"",null,null,null,null,null,null,null,null,null,null,null,null,"EL"]
[null,null,"区分"]
[null,null,"F：",null,null,null,null,null,null,null,null,null,"　F",null,null,null,null,null,null,null,null,null,null,null,null,"Ep",null,null,null,{"$f":"IF(OR(AB73=0,AB76=\"\"),\"\",IF(OR(AB73<AB76,AE71>0),\"適\",\"不適\"))","v":""}]
[]
[null,null,null,null,null,null,null,null,null,null,null,null,"　F'",null,null,null,null,null,null,null,null,null,null,null,null,"Es"]
[]
[null,null,null,null,null,null,null,null,null,null,null,null,"　F\"",null,null,null,null,null,null,null,null,null,null,null,null,"EL"]
[null,null,"区分"]
[null,null,"G：",null,null,null,null,null,null,null,null,null,"　G",null,null,null,null,null,null,null,null,null,null,null,null,"Ep",null,null,null,{"$f":"IF(OR(AB79=0,AB82=\"\"),\"\",IF(OR(AB79<AB82,AE77>0),\"適\",\"不適\"))","v":""}]
[]
[null,null,null,null,null,null,null,null,null,null,null,null,"　G'",null,null,null,null,null,null,null,null,null,null,null,null,"Es"]
[]
[null,null,null,null,null,null,null,null,null,null,null,null,"　G\"",null,null,null,null,null,null,null,null,null,null,null,null,"EL"]
[null,null,"区分"]
[null,null,"H：",null,null,null,null,null,null,null,null,null,"　H",null,null,null,null,null,null,null,null,null,null,null,null,"Ep",null,null,null,{"$f":"IF(OR(AB85=0,AB88=\"\"),\"\",IF(OR(AB85<AB88,AE83>0),\"適\",\"不適\"))","v":""}]
[]
[null,null,null,null,null,null,null,null,null,null,null,null,"　H'",null,null,null,null,null,null,null,null,null,null,null,null,"Es"]
[]
[null,null,null,null,null,null,null,null,null,null,null,null,"　H\"",null,null,null,null,null,null,null,null,null,null,null,null,"EL"]
[null,null,"区分"]
[null,null,"I：",null,null,null,null,null,null,null,null,null,"　I",null,null,null,null,null,null,null,null,null,null,null,null,"Ep",null,null,null,{"$f":"IF(OR(AB91=0,AB94=\"\"),\"\",IF(OR(AB91<AB94,AE89>0),\"適\",\"不適\"))","v":""}]
[]
[null,null,null,null,null,null,null,null,null,null,null,null,"　I'",null,null,null,null,null,null,null,null,null,null,null,null,"Es"]
[]
[null,null,null,null,null,null,null,null,null,null,null,null,"　I\"",null,null,null,null,null,null,null,null,null,null,null,null,"EL"]
[null,null,"区分"]
[null,null,"[実効線量限度]　１）管理区域：１00μSv/W（1.3mSv/3月），　２）病室：１00μSv/W（1.3mSv/3月），　３）敷地の境界：19.23μSv/W(250μSv/3月)，　４）使用室：１000μSv/W（13mSv/3月）"]

{"sheet":"出力2","index":21,"n_rows":95,"n_cols":31,"rows_kept":95,"cut":false,"hidden":false,"merged":[[4,2,5,10],[4,11,5,13],[4,14,5,22],[4,23,4,25],[4,26,4,30],[6,23,6,25],[6,26,6,30],[79,17,79,18],[79,19,79,20],[73,19,73,20],[73,21,73,22],[65,17,65,18],[65,19,65,20],[40,28,41,28],[42,27,44,28],[46,27,47,27],[46,28,47,28],[48,27,50,28],[52,27,53,27],[52,28,53,28],[54,27,56,28],[78,27,80,28],[60,27,62,28],[64,27,65,27],[64,28,65,28],[66,27,68,28],[70,27,71,27],[70,28,71,28],[72,27,74,28],[76,27,77,27],[76,28,77,28],[90,21,90,22],[40,27,41,27],[82,27,83,27],[84,27,86,28],[88,27,89,27],[88,28,89,28],[90,27,92,28],[90,25,91,25],[86,25,87,25],[86,26,87,26],[76,25,77,25],[76,26,77,26],[78,25,79,25],[78,26,79,26],[80,25,81,25],[80,26,81,26],[70,25,71,25],[40,21,40,22],[40,25,41,25],[40,26,41,26],[65,21,65,22],[64,21,64,22],[67,21,67,22],[44,21,44,22],[82,4,87,5],[82,6,87,7],[82,8,87,9],[82,10,87,11],[82,12,83,12],[82,13,82,14],[82,25,83,25],[83,13,83,14],[84,12,85,12],[84,13,84,14],[84,25,85,25],[84,26,85,26],[85,13,85,14],[86,12,87,12],[86,13,86,14],[87,13,87,14],[85,21,85,22],[88,4,93,5],[88,6,93,7],[88,8,93,9],[90,12,91,12],[90,13,90,14],[91,13,91,14],[90,15,90,16],[90,17,90,18],[90,19,90,20],[79,13,79,14],[80,12,81,12],[80,13,80,14],[81,13,81,14],[89,15,89,16],[89,17,89,18],[89,19,89,20],[89,21,89,22],[88,15,88,16],[88,17,88,18],[88,19,88,20],[88,21,88,22],[71,2,74,3],[76,2,76,3],[77,2,80,3],[71,13,71,14],[72,12,73,12],[72,13,72,14],[73,13,73,14],[74,12,75,12],[74,13,74,14],[70,4,75,5],[70,6,75,7],[70,8,75,9],[70,10,75,11],[70,12,71,12],[70,13,70,14],[76,4,81,5],[76,6,81,7],[76,8,81,9],[76,10,81,11],[76,12,77,12],[76,13,76,14],[77,13,77,14],[78,12,79,12],[78,13,78,14],[74,26,75,26],[75,13,75,14],[75,21,75,22],[74,15,74,16],[74,17,74,18],[74,19,74,20],[64,4,69,5],[64,6,69,7],[64,8,69,9],[64,10,69,11],[64,12,65,12],[64,13,64,14],[64,25,65,25],[64,26,65,26],[65,13,65,14],[66,12,67,12],[66,13,66,14],[66,25,67,25],[66,26,67,26],[67,13,67,14],[68,12,69,12],[68,13,68,14],[68,25,69,25],[69,13,69,14],[64,17,64,18],[64,19,64,20],[69,15,69,16],[69,17,69,18],[69,19,69,20],[62,21,62,22],[58,25,59,25],[58,26,59,26],[59,13,59,14],[60,13,60,14],[60,25,61,25],[60,26,61,26],[61,13,61,14],[62,13,62,14],[62,25,63,25],[62,26,63,26],[61,21,61,22],[58,4,63,5],[58,6,63,7],[58,8,63,9],[58,10,63,11],[58,12,59,12],[58,13,58,14],[63,13,63,14],[63,21,63,22],[61,15,61,16],[61,17,61,18],[61,19,61,20],[60,15,60,16],[60,12,61,12],[62,12,63,12],[52,4,57,5],[52,6,57,7],[52,8,57,9],[52,10,57,11],[52,12,53,12],[52,13,52,14],[52,25,53,25],[52,26,53,26],[53,13,53,14],[54,12,55,12],[54,13,54,14],[54,25,55,25],[54,26,55,26],[55,13,55,14],[56,12,57,12],[56,13,56,14],[56,25,57,25],[57,13,57,14],[57,21,57,22],[55,19,55,20],[55,21,55,22],[46,25,47,25],[46,26,47,26],[47,13,47,14],[48,12,49,12],[48,13,48,14],[48,25,49,25],[48,26,49,26],[49,13,49,14],[50,12,51,12],[50,13,50,14],[50,25,51,25],[50,26,51,26],[51,13,51,14],[46,4,51,5],[46,6,51,7],[46,8,51,9],[46,10,51,11],[46,12,47,12],[46,13,46,14],[51,21,51,22],[46,21,46,22],[46,19,46,20],[40,29,45,29],[40,30,45,30],[41,13,41,14],[41,15,41,16],[41,17,41,18],[41,19,41,20],[41,21,41,22],[42,13,42,14],[42,15,42,16],[42,17,42,18],[42,19,42,20],[42,21,42,22],[42,25,43,25],[42,26,43,26],[43,13,43,14],[44,13,44,14],[44,25,45,25],[44,26,45,26],[45,13,45,14],[45,21,45,22],[43,19,43,20],[43,21,43,22],[45,19,45,20],[44,19,44,20],[40,4,45,5],[40,6,45,7],[40,8,45,9],[40,10,45,11],[40,12,41,12],[40,13,40,14],[40,15,40,16],[40,17,40,18],[42,12,43,12],[44,12,45,12],[43,17,43,18],[45,15,45,16],[45,17,45,18],[44,15,44,16],[44,17,44,18],[43,15,43,16],[40,19,40,20],[25,13,25,14],[24,18,24,19],[25,18,25,19],[34,11,34,12],[34,16,34,17],[35,7,35,8],[35,11,35,12],[35,16,35,17],[28,7,28,8],[28,11,28,12],[28,16,28,17],[27,3,27,19],[29,7,29,8],[29,11,29,12],[29,16,29,17],[33,3,33,19],[34,7,34,8],[29,18,29,19],[35,18,35,19],[28,4,28,6],[29,4,29,6],[34,4,34,6],[35,4,35,6],[24,9,24,10],[38,12,39,12],[38,29,39,29],[38,30,39,30],[39,4,39,5],[39,6,39,7],[39,8,39,9],[39,10,39,11],[38,13,39,24],[38,25,39,28],[92,26,93,26],[93,13,93,14],[93,21,93,22],[93,15,93,16],[93,17,93,18],[22,22,30,30],[25,16,25,17],[28,13,28,14],[29,13,29,14],[34,13,34,14],[35,13,35,14],[23,3,23,19],[24,7,24,8],[24,11,24,12],[24,16,24,17],[25,11,25,12],[24,4,24,6],[25,4,25,6],[33,22,35,30],[29,9,29,10],[35,9,35,10],[24,13,24,14],[38,2,39,3],[38,4,38,11],[64,2,64,3],[65,2,68,3],[70,2,70,3],[94,2,94,31],[92,15,92,16],[92,17,92,18],[92,19,92,20],[92,21,92,22],[91,15,91,16],[91,17,91,18],[91,19,91,20],[91,21,91,22],[88,10,93,11],[88,12,89,12],[92,12,93,12],[88,13,88,14],[88,25,89,25],[88,26,89,26],[89,13,89,14],[79,15,79,16],[90,26,91,26],[92,13,92,14],[66,17,66,18],[66,19,66,20],[82,29,87,29],[76,29,81,29],[79,21,79,22],[68,19,68,20],[68,21,68,22],[64,29,69,29],[68,15,68,16],[68,17,68,18],[72,25,73,25],[72,26,73,26],[86,21,86,22],[85,15,85,16],[85,17,85,18],[85,19,85,20],[87,21,87,22],[86,19,86,20],[68,26,69,26],[74,25,75,25],[69,21,69,22],[67,15,67,16],[67,17,67,18],[67,19,67,20],[66,15,66,16],[64,15,64,16],[82,30,87,30],[88,29,93,29],[88,30,93,30],[84,15,84,16],[84,17,84,18],[84,19,84,20],[84,21,84,22],[83,15,83,16],[83,17,83,18],[83,19,83,20],[83,21,83,22],[82,15,82,16],[82,17,82,18],[82,19,82,20],[82,21,82,22],[87,15,87,16],[87,17,87,18],[87,19,87,20],[82,26,83,26],[93,19,93,20],[82,28,83,28],[86,15,86,16],[86,17,86,18],[92,25,93,25],[76,30,81,30],[78,15,78,16],[78,17,78,18],[78,19,78,20],[78,21,78,22],[77,15,77,16],[77,17,77,18],[77,19,77,20],[77,21,77,22],[76,15,76,16],[76,17,76,18],[76,19,76,20],[76,21,76,22],[81,15,81,16],[81,17,81,18],[81,19,81,20],[80,15,80,16],[81,21,81,22],[80,17,80,18],[80,19,80,20],[80,21,80,22],[64,30,69,30],[66,21,66,22],[65,15,65,16],[70,29,75,29],[70,30,75,30],[72,15,72,16],[72,17,72,18],[72,19,72,20],[72,21,72,22],[71,15,71,16],[71,17,71,18],[71,19,71,20],[71,21,71,22],[70,15,70,16],[70,17,70,18],[70,19,70,20],[70,21,70,22],[75,15,75,16],[75,17,75,18],[75,19,75,20],[74,21,74,22],[73,15,73,16],[73,17,73,18],[70,26,71,26],[58,29,63,29],[58,27,59,27],[58,28,59,28],[63,15,63,16],[63,17,63,18],[63,19,63,20],[62,15,62,16],[62,17,62,18],[62,19,62,20],[60,17,60,18],[60,19,60,20],[60,21,60,22],[59,15,59,16],[59,17,59,18],[59,19,59,20],[59,21,59,22],[58,15,58,16],[58,17,58,18],[58,19,58,20],[58,21,58,22],[52,30,57,30],[54,15,54,16],[54,17,54,18],[54,19,54,20],[54,21,54,22],[53,15,53,16],[53,17,53,18],[53,19,53,20],[53,21,53,22],[52,15,52,16],[52,17,52,18],[52,19,52,20],[52,21,52,22],[57,15,57,16],[57,17,57,18],[57,19,57,20],[56,15,56,16],[56,17,56,18],[56,19,56,20],[56,21,56,22],[55,15,55,16],[55,17,55,18],[52,29,57,29],[56,26,57,26],[58,30,63,30],[46,29,51,29],[46,30,51,30],[48,15,48,16],[48,17,48,18],[48,19,48,20],[48,21,48,22],[47,15,47,16],[47,17,47,18],[47,19,47,20],[47,21,47,22],[51,15,51,16],[51,17,51,18],[51,19,51,20],[50,15,50,16],[50,17,50,18],[50,19,50,20],[50,21,50,22],[49,15,49,16],[49,17,49,18],[49,19,49,20],[49,21,49,22],[46,15,46,16],[46,17,46,18],[18,4,18,6],[18,11,18,12],[18,17,18,18],[19,4,19,6],[19,11,19,12],[19,17,19,18],[21,16,21,20],[21,6,21,11],[15,24,15,25],[15,3,15,10],[15,12,15,15],[15,16,15,18],[15,19,15,21],[16,12,16,21],[14,24,14,26],[9,19,9,21],[12,3,12,10],[12,12,12,15],[12,16,12,18],[12,19,12,21],[13,12,13,15],[13,16,13,18],[13,19,13,21],[12,24,12,26],[13,24,13,26],[14,3,14,10],[14,12,14,15],[14,16,14,18],[14,19,14,21],[82,2,82,3],[83,2,86,3],[88,2,88,3],[89,2,92,3],[9,24,11,28],[40,2,40,3],[41,2,44,3],[46,2,46,3],[47,2,50,3],[52,2,52,3],[53,2,56,3],[58,2,58,3],[59,2,62,3],[10,3,10,10],[10,12,10,15],[10,16,10,18],[10,19,10,21],[11,3,11,10],[11,12,11,15],[11,16,11,18],[11,19,11,21],[9,3,9,10],[9,12,9,15],[9,16,9,18]]}
[]
[null,"※入力しないでください。（このシートはデータ入力シートで登録したものが反映します。）"]
[]
[]
[null,null,"エックス線遮蔽計算出力2",null,null,null,null,null,null,null,null,"施設名：",null,null,null,null,null,null,null,null,null,null,null,"室　名："]
[]
[null,null,null,null,null,null,null,null,null,null,null,null,null,null,null,null,null,null,null,null,null,null,null,"装置名："]
[]
[null,null,"1)用途",null,null,null,null,null,null,null,null,null,"2)遮蔽材密度",null,null,null,null,null,null,null,null,null,null,"3)遮蔽体の有無"]
["　",null,null,"1:治療用ｴｯｸｽ線装置（≦50ｋV）",null,null,null,null,null,null,null,null,"遮へい材",null,null,null,"密度（g/cm3）",null,null,"基準値（g/cm3）",null,null,null,null,"有りの場合は鉛当量(mmPb)で入力"]
[null,null,"　","2:治療用ｴｯｸｽ線装置（＞50ｋV）",null,null,null,null,null,null,null,null,"鉛",null,null,null,null,null,null,11.35]
[null,null,null,"3:口内法撮影用X線装置（≦125ｋV）",null,null,null,null,null,null,null,null,"ｺﾝｸﾘｰﾄ",null,null,null,null,null,null,2.35]
[null,null,null,"4:上記以外の診断用X線装置",null,null,null,null,null,null,null,null,"鉄",null,null,null,null,null,null,7.83,null,null,null,null,"透視",null,null,null,"mmPb"]
[null,null,null,null,null,null,null,null,null,null,null,null,"石膏",null,null,null,null,null,null,0.75,null,null,null,null,"一般撮影",null,null,null,"mmPb"]
[null,null,null,"タングステン陽極orロジウム陽極：0",null,null,null,null,null,null,null,null,"ｶﾞﾗｽ",null,null,null,null,null,null,2.56,null,null,null,null,"CT",null,null,null,"mmPb"]
[null,null,null,"モリブデン  陽極：1",null,null,null,null,null,null,null,null,"木材",null,null,null,null,null,null,0.55000000000000004]
[null,null,null,null,null,null,null,null,null,null,null,null,"※しゃへい計算実務マニュアル（'07年版）推奨値"]
[null,null,"5)受像面における照射野",null,null,null,null,null,null,null,null,null,"※基準値は、医薬発188号通知による"]
[null,null,null,"F=",null,null,null,"cm2",null,null,"縦",null,null,"cm",null,null,"横",null,null,"cm","※透視・一般撮影（未入力の場合は35cm×35cm）"]
[null,null,null,"F=",null,null,null,"cm2",null,null,"縦",null,null,"cm",null,null,"横",null,null,"cm","※CT（未入力の場合は60cm2で計算）"]
[null,null,null,null,"※入力すると数値は入れ替わります。"]
[null,null,"6)撮影条件"]
[null,null,null,null,null,null,null,null,null,null,null,null,null,null,null,null,null,null,null,null,null,null,"注1)エックス線診療室の遮蔽計算は、装置毎、撮影方向毎の漏洩線量を複合計算しました。\n注2)立位方向を出力１、臥位方向を出力2に入力しています。\n注3)透視と撮影は、併せて計算しています。\n注4)ＣＴ・口腔用パノラマは、管球が回転するため、一次線のみ撮影時間を1/4にして計算した。"]
[null,null,null,"透視"]
[null,null,null,null,"撮影条件",null,null,null,null,"KV",null,null,null,"mA",null,"　",null,null,"分/件"]
[null,null,null,null,"透視件数",null,null,null,null,null,null,null,null,"人/日",null,null,null,null,"日/週"]
[]
[null,null,null,"一般撮影"]
[null,null,null,null,"撮影条件",null,null,null,null,"KV",null,null,null,"mA",null,"　",null,null,"sec"]
[null,null,null,null,"撮影件数",null,null,null,null,"回/人",null,null,null,"人/日",null,null,null,null,"日/週"]
[]
[]
[]
[null,null,null,"CT・歯科用パノラマ装置"]
[null,null,null,null,"撮影条件",null,null,null,null,"KV",null,null,null,"mA",null,"　",null,null,"sec"]
[null,null,null,null,"撮影件数",null,null,null,null,"回/件",null,null,null,"人/日",null,null,null,null,"日/週"]
[]
[]
[null,null,"ポイント",null,"距離(m)",null,null,null,null,null,null,null,"材質","遮蔽材料及び厚さ(mm)",null,null,null,null,null,null,null,null,null,null,null,"漏洩実効線量",null,null,null,"判定","判定\n参考"]
[null,null,null,null,"d1",null,"d2",null,"d3",null,"d4"]
[null,null,"A：",null,null,null,null,null,null,null,null,null,"　A",null,null,null,null,null,null,null,null,null,null,null,null,"Ep",null,null,null,{"$f":"IF(OR(AB43=0,AB46=\"\"),\"\",IF(OR(AB43<AB46,AE41>0),\"適\",\"不適\"))","v":""}]
[]
[null,null,null,null,null,null,null,null,null,null,null,null,"　A'",null,null,null,null,null,null,null,null,null,null,null,null,"Es"]
[]
[null,null,null,null,null,null,null,null,null,null,null,null,"　A\"",null,null,null,null,null,null,null,null,null,null,null,null,"EL"]
[null,null,"区分"]
[null,null,"B：",null,null,null,null,null,null,null,null,null,"　B",null,null,null,null,null,null,null,null,null,null,null,null,"Ep",null,null,null,{"$f":"IF(OR(AB49=0,AB52=\"\"),\"\",IF(OR(AB49<AB52,AE47>0),\"適\",\"不適\"))","v":""}]
[]
[null,null,null,null,null,null,null,null,null,null,null,null,"　B'",null,null,null,null,null,null,null,null,null,null,null,null,"Es"]
[]
[null,null,null,null,null,null,null,null,null,null,null,null,"　B\"",null,null,null,null,null,null,null,null,null,null,null,null,"EL"]
[null,null,"区分"]
[null,null,"C：",null,null,null,null,null,null,null,null,null,"　C",null,null,null,null,null,null,null,null,null,null,null,null,"Ep",null,null,null,{"$f":"IF(OR(AB55=0,AB58=\"\"),\"\",IF(OR(AB55<AB58,AE53>0),\"適\",\"不適\"))","v":""}]
[]
[null,null,null,null,null,null,null,null,null,null,null,null,"　C'",null,null,null,null,null,null,null,null,null,null,null,null,"Es"]
[]
[null,null,null,null,null,null,null,null,null,null,null,null,"　C\"",null,null,null,null,null,null,null,null,null,null,null,null,"EL"]
[null,null,"区分"]
[null,null,"D：",null,null,null,null,null,null,null,null,null,"　D",null,null,null,null,null,null,null,null,null,null,null,null,"Ep",null,null,null,{"$f":"IF(OR(AB61=0,AB64=\"\"),\"\",IF(OR(AB61<AB64,AE59>0),\"適\",\"不適\"))","v":""}]
[]
[null,null,null,null,null,null,null,null,null,null,null,null,"　D'",null,null,null,null,null,null,null,null,null,null,null,null,"Es"]
[]
[null,null,null,null,null,null,null,null,null,null,null,null,"　D\"",null,null,null,null,null,null,null,null,null,null,null,null,"EL"]
[null,null,"区分"]
[null,null,"E：",null,null,null,null,null,null,null,null,null,"　E",null,null,null,null,null,null,null,null,null,null,null,null,"Ep",null,null,null,{"$f":"IF(OR(AB67=0,AB70=\"\"),\"\",IF(OR(AB67<AB70,AE67>0),\"適\",\"不適\"))","v":""}]
[]
[null,null,null,null,null,null,null,null,null,null,null,null,"　E'",null,null,null,null,null,null,null,null,null,null,null,null,"Es"]
[]
[null,null,null,null,null,null,null,null,null,null,null,null,"　E\"",null,null,null,null,null,null,null,null,null,null,null,null,"EL"]
[null,null,"区分"]
[null,null,"F：",null,null,null,null,null,null,null,null,null,"　F",null,null,null,null,null,null,null,null,null,null,null,null,"Ep",null,null,null,{"$f":"IF(OR(AB73=0,AB76=\"\"),\"\",IF(OR(AB73<AB76,AE71>0),\"適\",\"不適\"))","v":""}]
[]
[null,null,null,null,null,null,null,null,null,null,null,null,"　F'",null,null,null,null,null,null,null,null,null,null,null,null,"Es"]
[]
[null,null,null,null,null,null,null,null,null,null,null,null,"　F\"",null,null,null,null,null,null,null,null,null,null,null,null,"EL"]
[null,null,"区分"]
[null,null,"G：",null,null,null,null,null,null,null,null,null,"　G",null,null,null,null,null,null,null,null,null,null,null,null,"Ep",null,null,null,{"$f":"IF(OR(AB79=0,AB82=\"\"),\"\",IF(OR(AB79<AB82,AE77>0),\"適\",\"不適\"))","v":""}]
[]
[null,null,null,null,null,null,null,null,null,null,null,null,"　G'",null,null,null,null,null,null,null,null,null,null,null,null,"Es"]
[]
[null,null,null,null,null,null,null,null,null,null,null,null,"　G\"",null,null,null,null,null,null,null,null,null,null,null,null,"EL"]
[null,null,"区分"]
[null,null,"H：",null,null,null,null,null,null,null,null,null,"　H",null,null,null,null,null,null,null,null,null,null,null,null,"Ep",null,null,null,{"$f":"IF(OR(AB85=0,AB88=\"\"),\"\",IF(OR(AB85<AB88,AE83>0),\"適\",\"不適\"))","v":""}]
[]
[null,null,null,null,null,null,null,null,null,null,null,null,"　H'",null,null,null,null,null,null,null,null,null,null,null,null,"Es"]
[]
[null,null,null,null,null,null,null,null,null,null,null,null,"　H\"",null,null,null,null,null,null,null,null,null,null,null,null,"EL"]
[null,null,"区分"]
[null,null,"I：",null,null,null,null,null,null,null,null,null,"　I",null,null,null,null,null,null,null,null,null,null,null,null,"Ep",null,null,null,{"$f":"IF(OR(AB91=0,AB94=\"\"),\"\",IF(OR(AB91<AB94,AE89>0),\"適\",\"不適\"))","v":""}]
[]
[null,null,null,null,null,null,null,null,null,null,null,null,"　I'",null,null,null,null,null,null,null,null,null,null,null,null,"Es"]
[]
[null,null,null,null,null,null,null,null,null,null,null,null,"　I\"",null,null,null,null,null,null,null,null,null,null,null,null,"EL"]
[null,null,"区分"]
[null,null,"[実効線量限度]　１）管理区域：１00μSv/W（1.3mSv/3月），　２）病室：１00μSv/W（1.3mSv/3月），　３）敷地の境界：19.23μSv/W(250μSv/3月)，　４）使用室：１000μSv/W（13mSv/3月）"]

{"sheet":"出力3","index":22,"n_rows":95,"n_cols":31,"rows_kept":95,"cut":false,"hidden":false,"merged":[[4,2,5,10],[4,11,5,13],[4,14,5,22],[4,23,4,25],[4,26,4,30],[6,23,6,25],[6,26,6,30],[79,17,79,18],[79,19,79,20],[73,19,73,20],[73,21,73,22],[65,17,65,18],[65,19,65,20],[40,28,41,28],[42,27,44,28],[46,27,47,27],[46,28,47,28],[48,27,50,28],[52,27,53,27],[52,28,53,28],[54,27,56,28],[78,27,80,28],[60,27,62,28],[64,27,65,27],[64,28,65,28],[66,27,68,28],[70,27,71,27],[70,28,71,28],[72,27,74,28],[76,27,77,27],[76,28,77,28],[90,21,90,22],[40,27,41,27],[82,27,83,27],[84,27,86,28],[88,27,89,27],[88,28,89,28],[90,27,92,28],[90,25,91,25],[86,25,87,25],[86,26,87,26],[76,25,77,25],[76,26,77,26],[78,25,79,25],[78,26,79,26],[80,25,81,25],[80,26,81,26],[70,25,71,25],[40,21,40,22],[40,25,41,25],[40,26,41,26],[65,21,65,22],[64,21,64,22],[67,21,67,22],[44,21,44,22],[82,4,87,5],[82,6,87,7],[82,8,87,9],[82,10,87,11],[82,12,83,12],[82,13,82,14],[82,25,83,25],[83,13,83,14],[84,12,85,12],[84,13,84,14],[84,25,85,25],[84,26,85,26],[85,13,85,14],[86,12,87,12],[86,13,86,14],[87,13,87,14],[85,21,85,22],[88,4,93,5],[88,6,93,7],[88,8,93,9],[90,12,91,12],[90,13,90,14],[91,13,91,14],[90,15,90,16],[90,17,90,18],[90,19,90,20],[79,13,79,14],[80,12,81,12],[80,13,80,14],[81,13,81,14],[89,15,89,16],[89,17,89,18],[89,19,89,20],[89,21,89,22],[88,15,88,16],[88,17,88,18],[88,19,88,20],[88,21,88,22],[71,2,74,3],[76,2,76,3],[77,2,80,3],[71,13,71,14],[72,12,73,12],[72,13,72,14],[73,13,73,14],[74,12,75,12],[74,13,74,14],[70,4,75,5],[70,6,75,7],[70,8,75,9],[70,10,75,11],[70,12,71,12],[70,13,70,14],[76,4,81,5],[76,6,81,7],[76,8,81,9],[76,10,81,11],[76,12,77,12],[76,13,76,14],[77,13,77,14],[78,12,79,12],[78,13,78,14],[74,26,75,26],[75,13,75,14],[75,21,75,22],[74,15,74,16],[74,17,74,18],[74,19,74,20],[64,4,69,5],[64,6,69,7],[64,8,69,9],[64,10,69,11],[64,12,65,12],[64,13,64,14],[64,25,65,25],[64,26,65,26],[65,13,65,14],[66,12,67,12],[66,13,66,14],[66,25,67,25],[66,26,67,26],[67,13,67,14],[68,12,69,12],[68,13,68,14],[68,25,69,25],[69,13,69,14],[64,17,64,18],[64,19,64,20],[69,15,69,16],[69,17,69,18],[69,19,69,20],[62,21,62,22],[58,25,59,25],[58,26,59,26],[59,13,59,14],[60,13,60,14],[60,25,61,25],[60,26,61,26],[61,13,61,14],[62,13,62,14],[62,25,63,25],[62,26,63,26],[61,21,61,22],[58,4,63,5],[58,6,63,7],[58,8,63,9],[58,10,63,11],[58,12,59,12],[58,13,58,14],[63,13,63,14],[63,21,63,22],[61,15,61,16],[61,17,61,18],[61,19,61,20],[60,15,60,16],[60,12,61,12],[62,12,63,12],[52,4,57,5],[52,6,57,7],[52,8,57,9],[52,10,57,11],[52,12,53,12],[52,13,52,14],[52,25,53,25],[52,26,53,26],[53,13,53,14],[54,12,55,12],[54,13,54,14],[54,25,55,25],[54,26,55,26],[55,13,55,14],[56,12,57,12],[56,13,56,14],[56,25,57,25],[57,13,57,14],[57,21,57,22],[55,19,55,20],[55,21,55,22],[46,25,47,25],[46,26,47,26],[47,13,47,14],[48,12,49,12],[48,13,48,14],[48,25,49,25],[48,26,49,26],[49,13,49,14],[50,12,51,12],[50,13,50,14],[50,25,51,25],[50,26,51,26],[51,13,51,14],[46,4,51,5],[46,6,51,7],[46,8,51,9],[46,10,51,11],[46,12,47,12],[46,13,46,14],[51,21,51,22],[46,21,46,22],[46,19,46,20],[40,29,45,29],[40,30,45,30],[41,13,41,14],[41,15,41,16],[41,17,41,18],[41,19,41,20],[41,21,41,22],[42,13,42,14],[42,15,42,16],[42,17,42,18],[42,19,42,20],[42,21,42,22],[42,25,43,25],[42,26,43,26],[43,13,43,14],[44,13,44,14],[44,25,45,25],[44,26,45,26],[45,13,45,14],[45,21,45,22],[43,19,43,20],[43,21,43,22],[45,19,45,20],[44,19,44,20],[40,4,45,5],[40,6,45,7],[40,8,45,9],[40,10,45,11],[40,12,41,12],[40,13,40,14],[40,15,40,16],[40,17,40,18],[42,12,43,12],[44,12,45,12],[43,17,43,18],[45,15,45,16],[45,17,45,18],[44,15,44,16],[44,17,44,18],[43,15,43,16],[40,19,40,20],[25,13,25,14],[24,18,24,19],[25,18,25,19],[34,11,34,12],[34,16,34,17],[35,7,35,8],[35,11,35,12],[35,16,35,17],[28,7,28,8],[28,11,28,12],[28,16,28,17],[27,3,27,19],[29,7,29,8],[29,11,29,12],[29,16,29,17],[33,3,33,19],[34,7,34,8],[29,18,29,19],[35,18,35,19],[28,4,28,6],[29,4,29,6],[34,4,34,6],[35,4,35,6],[24,9,24,10],[38,12,39,12],[38,29,39,29],[38,30,39,30],[39,4,39,5],[39,6,39,7],[39,8,39,9],[39,10,39,11],[38,13,39,24],[38,25,39,28],[92,26,93,26],[93,13,93,14],[93,21,93,22],[93,15,93,16],[93,17,93,18],[22,22,30,30],[25,16,25,17],[28,13,28,14],[29,13,29,14],[34,13,34,14],[35,13,35,14],[23,3,23,19],[24,7,24,8],[24,11,24,12],[24,16,24,17],[25,11,25,12],[24,4,24,6],[25,4,25,6],[33,22,35,30],[29,9,29,10],[35,9,35,10],[24,13,24,14],[38,2,39,3],[38,4,38,11],[64,2,64,3],[65,2,68,3],[70,2,70,3],[94,2,94,31],[92,15,92,16],[92,17,92,18],[92,19,92,20],[92,21,92,22],[91,15,91,16],[91,17,91,18],[91,19,91,20],[91,21,91,22],[88,10,93,11],[88,12,89,12],[92,12,93,12],[88,13,88,14],[88,25,89,25],[88,26,89,26],[89,13,89,14],[79,15,79,16],[90,26,91,26],[92,13,92,14],[66,17,66,18],[66,19,66,20],[82,29,87,29],[76,29,81,29],[79,21,79,22],[68,19,68,20],[68,21,68,22],[64,29,69,29],[68,15,68,16],[68,17,68,18],[72,25,73,25],[72,26,73,26],[86,21,86,22],[85,15,85,16],[85,17,85,18],[85,19,85,20],[87,21,87,22],[86,19,86,20],[68,26,69,26],[74,25,75,25],[69,21,69,22],[67,15,67,16],[67,17,67,18],[67,19,67,20],[66,15,66,16],[64,15,64,16],[82,30,87,30],[88,29,93,29],[88,30,93,30],[84,15,84,16],[84,17,84,18],[84,19,84,20],[84,21,84,22],[83,15,83,16],[83,17,83,18],[83,19,83,20],[83,21,83,22],[82,15,82,16],[82,17,82,18],[82,19,82,20],[82,21,82,22],[87,15,87,16],[87,17,87,18],[87,19,87,20],[82,26,83,26],[93,19,93,20],[82,28,83,28],[86,15,86,16],[86,17,86,18],[92,25,93,25],[76,30,81,30],[78,15,78,16],[78,17,78,18],[78,19,78,20],[78,21,78,22],[77,15,77,16],[77,17,77,18],[77,19,77,20],[77,21,77,22],[76,15,76,16],[76,17,76,18],[76,19,76,20],[76,21,76,22],[81,15,81,16],[81,17,81,18],[81,19,81,20],[80,15,80,16],[81,21,81,22],[80,17,80,18],[80,19,80,20],[80,21,80,22],[64,30,69,30],[66,21,66,22],[65,15,65,16],[70,29,75,29],[70,30,75,30],[72,15,72,16],[72,17,72,18],[72,19,72,20],[72,21,72,22],[71,15,71,16],[71,17,71,18],[71,19,71,20],[71,21,71,22],[70,15,70,16],[70,17,70,18],[70,19,70,20],[70,21,70,22],[75,15,75,16],[75,17,75,18],[75,19,75,20],[74,21,74,22],[73,15,73,16],[73,17,73,18],[70,26,71,26],[58,29,63,29],[58,27,59,27],[58,28,59,28],[63,15,63,16],[63,17,63,18],[63,19,63,20],[62,15,62,16],[62,17,62,18],[62,19,62,20],[60,17,60,18],[60,19,60,20],[60,21,60,22],[59,15,59,16],[59,17,59,18],[59,19,59,20],[59,21,59,22],[58,15,58,16],[58,17,58,18],[58,19,58,20],[58,21,58,22],[52,30,57,30],[54,15,54,16],[54,17,54,18],[54,19,54,20],[54,21,54,22],[53,15,53,16],[53,17,53,18],[53,19,53,20],[53,21,53,22],[52,15,52,16],[52,17,52,18],[52,19,52,20],[52,21,52,22],[57,15,57,16],[57,17,57,18],[57,19,57,20],[56,15,56,16],[56,17,56,18],[56,19,56,20],[56,21,56,22],[55,15,55,16],[55,17,55,18],[52,29,57,29],[56,26,57,26],[58,30,63,30],[46,29,51,29],[46,30,51,30],[48,15,48,16],[48,17,48,18],[48,19,48,20],[48,21,48,22],[47,15,47,16],[47,17,47,18],[47,19,47,20],[47,21,47,22],[51,15,51,16],[51,17,51,18],[51,19,51,20],[50,15,50,16],[50,17,50,18],[50,19,50,20],[50,21,50,22],[49,15,49,16],[49,17,49,18],[49,19,49,20],[49,21,49,22],[46,15,46,16],[46,17,46,18],[18,4,18,6],[18,11,18,12],[18,17,18,18],[19,4,19,6],[19,11,19,12],[19,17,19,18],[21,16,21,20],[21,6,21,11],[15,24,15,25],[15,3,15,10],[15,12,15,15],[15,16,15,18],[15,19,15,21],[16,12,16,21],[14,24,14,26],[9,19,9,21],[12,3,12,10],[12,12,12,15],[12,16,12,18],[12,19,12,21],[13,12,13,15],[13,16,13,18],[13,19,13,21],[12,24,12,26],[13,24,13,26],[14,3,14,10],[14,12,14,15],[14,16,14,18],[14,19,14,21],[82,2,82,3],[83,2,86,3],[88,2,88,3],[89,2,92,3],[9,24,11,28],[40,2,40,3],[41,2,44,3],[46,2,46,3],[47,2,50,3],[52,2,52,3],[53,2,56,3],[58,2,58,3],[59,2,62,3],[10,3,10,10],[10,12,10,15],[10,16,10,18],[10,19,10,21],[11,3,11,10],[11,12,11,15],[11,16,11,18],[11,19,11,21],[9,3,9,10],[9,12,9,15],[9,16,9,18]]}
[]
[null,"※入力しないでください。（このシートはデータ入力シートで登録したものが反映します。）"]
[]
[]
[null,null,"エックス線遮蔽計算出力2",null,null,null,null,null,null,null,null,"施設名：",null,null,null,null,null,null,null,null,null,null,null,"室　名："]
[]
[null,null,null,null,null,null,null,null,null,null,null,null,null,null,null,null,null,null,null,null,null,null,null,"装置名："]
[]
[null,null,"1)用途",null,null,null,null,null,null,null,null,null,"2)遮蔽材密度",null,null,null,null,null,null,null,null,null,null,"3)遮蔽体の有無"]
["　",null,null,"1:治療用ｴｯｸｽ線装置（≦50ｋV）",null,null,null,null,null,null,null,null,"遮へい材",null,null,null,"密度（g/cm3）",null,null,"基準値（g/cm3）",null,null,null,null,"有りの場合は鉛当量(mmPb)で入力"]
[null,null,"　","2:治療用ｴｯｸｽ線装置（＞50ｋV）",null,null,null,null,null,null,null,null,"鉛",null,null,null,null,null,null,11.35]
[null,null,null,"3:口内法撮影用X線装置（≦125ｋV）",null,null,null,null,null,null,null,null,"ｺﾝｸﾘｰﾄ",null,null,null,null,null,null,2.35]
[null,null,null,"4:上記以外の診断用X線装置",null,null,null,null,null,null,null,null,"鉄",null,null,null,null,null,null,7.83,null,null,null,null,"透視",null,null,null,"mmPb"]
[null,null,null,null,null,null,null,null,null,null,null,null,"石膏",null,null,null,null,null,null,0.75,null,null,null,null,"一般撮影",null,null,null,"mmPb"]
[null,null,null,"タングステン陽極orロジウム陽極：0",null,null,null,null,null,null,null,null,"ｶﾞﾗｽ",null,null,null,null,null,null,2.56,null,null,null,null,"CT",null,null,null,"mmPb"]
[null,null,null,"モリブデン  陽極：1",null,null,null,null,null,null,null,null,"木材",null,null,null,null,null,null,0.55000000000000004]
[null,null,null,null,null,null,null,null,null,null,null,null,"※しゃへい計算実務マニュアル（'07年版）推奨値"]
[null,null,"5)受像面における照射野",null,null,null,null,null,null,null,null,null,"※基準値は、医薬発188号通知による"]
[null,null,null,"F=",null,null,null,"cm2",null,null,"縦",null,null,"cm",null,null,"横",null,null,"cm","※透視・一般撮影（未入力の場合は35cm×35cm）"]
[null,null,null,"F=",null,null,null,"cm2",null,null,"縦",null,null,"cm",null,null,"横",null,null,"cm","※CT（未入力の場合は60cm2で計算）"]
[null,null,null,null,"※入力すると数値は入れ替わります。"]
[null,null,"6)撮影条件"]
[null,null,null,null,null,null,null,null,null,null,null,null,null,null,null,null,null,null,null,null,null,null,"注1)エックス線診療室の遮蔽計算は、装置毎、撮影方向毎の漏洩線量を複合計算しました。\n注2)立位方向を出力１、臥位方向を出力2に入力しています。\n注3)透視と撮影は、併せて計算しています。\n注4)ＣＴ・口腔用パノラマは、管球が回転するため、一次線のみ撮影時間を1/4にして計算した。"]
[null,null,null,"透視"]
[null,null,null,null,"撮影条件",null,null,null,null,"KV",null,null,null,"mA",null,"　",null,null,"分/件"]
[null,null,null,null,"透視件数",null,null,null,null,null,null,null,null,"人/日",null,null,null,null,"日/週"]
[]
[null,null,null,"一般撮影"]
[null,null,null,null,"撮影条件",null,null,null,null,"KV",null,null,null,"mA",null,"　",null,null,"sec"]
[null,null,null,null,"撮影件数",null,null,null,null,"回/人",null,null,null,"人/日",null,null,null,null,"日/週"]
[]
[]
[]
[null,null,null,"CT・歯科用パノラマ装置"]
[null,null,null,null,"撮影条件",null,null,null,null,"KV",null,null,null,"mA",null,"　",null,null,"sec"]
[null,null,null,null,"撮影件数",null,null,null,null,"回/件",null,null,null,"人/日",null,null,null,null,"日/週"]
[]
[]
[null,null,"ポイント",null,"距離(m)",null,null,null,null,null,null,null,"材質","遮蔽材料及び厚さ(mm)",null,null,null,null,null,null,null,null,null,null,null,"漏洩実効線量",null,null,null,"判定","判定\n参考"]
[null,null,null,null,"d1",null,"d2",null,"d3",null,"d4"]
[null,null,"A：",null,null,null,null,null,null,null,null,null,"　A",null,null,null,null,null,null,null,null,null,null,null,null,"Ep",null,null,null,{"$f":"IF(OR(AB43=0,AB46=\"\"),\"\",IF(OR(AB43<AB46,AE41>0),\"適\",\"不適\"))","v":""}]
[]
[null,null,null,null,null,null,null,null,null,null,null,null,"　A'",null,null,null,null,null,null,null,null,null,null,null,null,"Es"]
[]
[null,null,null,null,null,null,null,null,null,null,null,null,"　A\"",null,null,null,null,null,null,null,null,null,null,null,null,"EL"]
[null,null,"区分"]
[null,null,"B：",null,null,null,null,null,null,null,null,null,"　B",null,null,null,null,null,null,null,null,null,null,null,null,"Ep",null,null,null,{"$f":"IF(OR(AB49=0,AB52=\"\"),\"\",IF(OR(AB49<AB52,AE47>0),\"適\",\"不適\"))","v":""}]
[]
[null,null,null,null,null,null,null,null,null,null,null,null,"　B'",null,null,null,null,null,null,null,null,null,null,null,null,"Es"]
[]
[null,null,null,null,null,null,null,null,null,null,null,null,"　B\"",null,null,null,null,null,null,null,null,null,null,null,null,"EL"]
[null,null,"区分"]
[null,null,"C：",null,null,null,null,null,null,null,null,null,"　C",null,null,null,null,null,null,null,null,null,null,null,null,"Ep",null,null,null,{"$f":"IF(OR(AB55=0,AB58=\"\"),\"\",IF(OR(AB55<AB58,AE53>0),\"適\",\"不適\"))","v":""}]
[]
[null,null,null,null,null,null,null,null,null,null,null,null,"　C'",null,null,null,null,null,null,null,null,null,null,null,null,"Es"]
[]
[null,null,null,null,null,null,null,null,null,null,null,null,"　C\"",null,null,null,null,null,null,null,null,null,null,null,null,"EL"]
[null,null,"区分"]
[null,null,"D：",null,null,null,null,null,null,null,null,null,"　D",null,null,null,null,null,null,null,null,null,null,null,null,"Ep",null,null,null,{"$f":"IF(OR(AB61=0,AB64=\"\"),\"\",IF(OR(AB61<AB64,AE59>0),\"適\",\"不適\"))","v":""}]
[]
[null,null,null,null,null,null,null,null,null,null,null,null,"　D'",null,null,null,null,null,null,null,null,null,null,null,null,"Es"]
[]
[null,null,null,null,null,null,null,null,null,null,null,null,"　D\"",null,null,null,null,null,null,null,null,null,null,null,null,"EL"]
[null,null,"区分"]
[null,null,"E：",null,null,null,null,null,null,null,null,null,"　E",null,null,null,null,null,null,null,null,null,null,null,null,"Ep",null,null,null,{"$f":"IF(OR(AB67=0,AB70=\"\"),\"\",IF(OR(AB67<AB70,AE67>0),\"適\",\"不適\"))","v":""}]
[]
[null,null,null,null,null,null,null,null,null,null,null,null,"　E'",null,null,null,null,null,null,null,null,null,null,null,null,"Es"]
[]
[null,null,null,null,null,null,null,null,null,null,null,null,"　E\"",null,null,null,null,null,null,null,null,null,null,null,null,"EL"]
[null,null,"区分"]
[null,null,"F：",null,null,null,null,null,null,null,null,null,"　F",null,null,null,null,null,null,null,null,null,null,null,null,"Ep",null,null,null,{"$f":"IF(OR(AB73=0,AB76=\"\"),\"\",IF(OR(AB73<AB76,AE71>0),\"適\",\"不適\"))","v":""}]
[]
[null,null,null,null,null,null,null,null,null,null,null,null,"　F'",null,null,null,null,null,null,null,null,null,null,null,null,"Es"]
[]
[null,null,null,null,null,null,null,null,null,null,null,null,"　F\"",null,null,null,null,null,null,null,null,null,null,null,null,"EL"]
[null,null,"区分"]
[null,null,"G：",null,null,null,null,null,null,null,null,null,"　G",null,null,null,null,null,null,null,null,null,null,null,null,"Ep",null,null,null,{"$f":"IF(OR(AB79=0,AB82=\"\"),\"\",IF(OR(AB79<AB82,AE77>0),\"適\",\"不適\"))","v":""}]
[]
[null,null,null,null,null,null,null,null,null,null,null,null,"　G'",null,null,null,null,null,null,null,null,null,null,null,null,"Es"]
[]
[null,null,null,null,null,null,null,null,null,null,null,null,"　G\"",null,null,null,null,null,null,null,null,null,null,null,null,"EL"]
[null,null,"区分"]
[null,null,"H：",null,null,null,null,null,null,null,null,null,"　H",null,null,null,null,null,null,null,null,null,null,null,null,"Ep",null,null,null,{"$f":"IF(OR(AB85=0,AB88=\"\"),\"\",IF(OR(AB85<AB88,AE83>0),\"適\",\"不適\"))","v":""}]
[]
[null,null,null,null,null,null,null,null,null,null,null,null,"　H'",null,null,null,null,null,null,null,null,null,null,null,null,"Es"]
[]
[null,null,null,null,null,null,null,null,null,null,null,null,"　H\"",null,null,null,null,null,null,null,null,null,null,null,null,"EL"]
[null,null,"区分"]
[null,null,"I：",null,null,null,null,null,null,null,null,null,"　I",null,null,null,null,null,null,null,null,null,null,null,null,"Ep",null,null,null,{"$f":"IF(OR(AB91=0,AB94=\"\"),\"\",IF(OR(AB91<AB94,AE89>0),\"適\",\"不適\"))","v":""}]
[]
[null,null,null,null,null,null,null,null,null,null,null,null,"　I'",null,null,null,null,null,null,null,null,null,null,null,null,"Es"]
[]
[null,null,null,null,null,null,null,null,null,null,null,null,"　I\"",null,null,null,null,null,null,null,null,null,null,null,null,"EL"]
[null,null,"区分"]
[null,null,"[実効線量限度]　１）管理区域：１00μSv/W（1.3mSv/3月），　２）病室：１00μSv/W（1.3mSv/3月），　３）敷地の境界：19.23μSv/W(250μSv/3月)，　４）使用室：１000μSv/W（13mSv/3月）"]

{"sheet":"出力4","index":23,"n_rows":95,"n_cols":31,"rows_kept":95,"cut":false,"hidden":false,"merged":[[4,2,5,10],[4,11,5,13],[4,14,5,22],[4,23,4,25],[4,26,4,30],[6,23,6,25],[6,26,6,30],[79,17,79,18],[79,19,79,20],[73,19,73,20],[73,21,73,22],[65,17,65,18],[65,19,65,20],[40,28,41,28],[42,27,44,28],[46,27,47,27],[46,28,47,28],[48,27,50,28],[52,27,53,27],[52,28,53,28],[54,27,56,28],[78,27,80,28],[60,27,62,28],[64,27,65,27],[64,28,65,28],[66,27,68,28],[70,27,71,27],[70,28,71,28],[72,27,74,28],[76,27,77,27],[76,28,77,28],[90,21,90,22],[40,27,41,27],[82,27,83,27],[84,27,86,28],[88,27,89,27],[88,28,89,28],[90,27,92,28],[90,25,91,25],[86,25,87,25],[86,26,87,26],[76,25,77,25],[76,26,77,26],[78,25,79,25],[78,26,79,26],[80,25,81,25],[80,26,81,26],[70,25,71,25],[40,21,40,22],[40,25,41,25],[40,26,41,26],[65,21,65,22],[64,21,64,22],[67,21,67,22],[44,21,44,22],[82,4,87,5],[82,6,87,7],[82,8,87,9],[82,10,87,11],[82,12,83,12],[82,13,82,14],[82,25,83,25],[83,13,83,14],[84,12,85,12],[84,13,84,14],[84,25,85,25],[84,26,85,26],[85,13,85,14],[86,12,87,12],[86,13,86,14],[87,13,87,14],[85,21,85,22],[88,4,93,5],[88,6,93,7],[88,8,93,9],[90,12,91,12],[90,13,90,14],[91,13,91,14],[90,15,90,16],[90,17,90,18],[90,19,90,20],[79,13,79,14],[80,12,81,12],[80,13,80,14],[81,13,81,14],[89,15,89,16],[89,17,89,18],[89,19,89,20],[89,21,89,22],[88,15,88,16],[88,17,88,18],[88,19,88,20],[88,21,88,22],[71,2,74,3],[76,2,76,3],[77,2,80,3],[71,13,71,14],[72,12,73,12],[72,13,72,14],[73,13,73,14],[74,12,75,12],[74,13,74,14],[70,4,75,5],[70,6,75,7],[70,8,75,9],[70,10,75,11],[70,12,71,12],[70,13,70,14],[76,4,81,5],[76,6,81,7],[76,8,81,9],[76,10,81,11],[76,12,77,12],[76,13,76,14],[77,13,77,14],[78,12,79,12],[78,13,78,14],[74,26,75,26],[75,13,75,14],[75,21,75,22],[74,15,74,16],[74,17,74,18],[74,19,74,20],[64,4,69,5],[64,6,69,7],[64,8,69,9],[64,10,69,11],[64,12,65,12],[64,13,64,14],[64,25,65,25],[64,26,65,26],[65,13,65,14],[66,12,67,12],[66,13,66,14],[66,25,67,25],[66,26,67,26],[67,13,67,14],[68,12,69,12],[68,13,68,14],[68,25,69,25],[69,13,69,14],[64,17,64,18],[64,19,64,20],[69,15,69,16],[69,17,69,18],[69,19,69,20],[62,21,62,22],[58,25,59,25],[58,26,59,26],[59,13,59,14],[60,13,60,14],[60,25,61,25],[60,26,61,26],[61,13,61,14],[62,13,62,14],[62,25,63,25],[62,26,63,26],[61,21,61,22],[58,4,63,5],[58,6,63,7],[58,8,63,9],[58,10,63,11],[58,12,59,12],[58,13,58,14],[63,13,63,14],[63,21,63,22],[61,15,61,16],[61,17,61,18],[61,19,61,20],[60,15,60,16],[60,12,61,12],[62,12,63,12],[52,4,57,5],[52,6,57,7],[52,8,57,9],[52,10,57,11],[52,12,53,12],[52,13,52,14],[52,25,53,25],[52,26,53,26],[53,13,53,14],[54,12,55,12],[54,13,54,14],[54,25,55,25],[54,26,55,26],[55,13,55,14],[56,12,57,12],[56,13,56,14],[56,25,57,25],[57,13,57,14],[57,21,57,22],[55,19,55,20],[55,21,55,22],[46,25,47,25],[46,26,47,26],[47,13,47,14],[48,12,49,12],[48,13,48,14],[48,25,49,25],[48,26,49,26],[49,13,49,14],[50,12,51,12],[50,13,50,14],[50,25,51,25],[50,26,51,26],[51,13,51,14],[46,4,51,5],[46,6,51,7],[46,8,51,9],[46,10,51,11],[46,12,47,12],[46,13,46,14],[51,21,51,22],[46,21,46,22],[46,19,46,20],[40,29,45,29],[40,30,45,30],[41,13,41,14],[41,15,41,16],[41,17,41,18],[41,19,41,20],[41,21,41,22],[42,13,42,14],[42,15,42,16],[42,17,42,18],[42,19,42,20],[42,21,42,22],[42,25,43,25],[42,26,43,26],[43,13,43,14],[44,13,44,14],[44,25,45,25],[44,26,45,26],[45,13,45,14],[45,21,45,22],[43,19,43,20],[43,21,43,22],[45,19,45,20],[44,19,44,20],[40,4,45,5],[40,6,45,7],[40,8,45,9],[40,10,45,11],[40,12,41,12],[40,13,40,14],[40,15,40,16],[40,17,40,18],[42,12,43,12],[44,12,45,12],[43,17,43,18],[45,15,45,16],[45,17,45,18],[44,15,44,16],[44,17,44,18],[43,15,43,16],[40,19,40,20],[25,13,25,14],[24,18,24,19],[25,18,25,19],[34,11,34,12],[34,16,34,17],[35,7,35,8],[35,11,35,12],[35,16,35,17],[28,7,28,8],[28,11,28,12],[28,16,28,17],[27,3,27,19],[29,7,29,8],[29,11,29,12],[29,16,29,17],[33,3,33,19],[34,7,34,8],[29,18,29,19],[35,18,35,19],[28,4,28,6],[29,4,29,6],[34,4,34,6],[35,4,35,6],[24,9,24,10],[38,12,39,12],[38,29,39,29],[38,30,39,30],[39,4,39,5],[39,6,39,7],[39,8,39,9],[39,10,39,11],[38,13,39,24],[38,25,39,28],[92,26,93,26],[93,13,93,14],[93,21,93,22],[93,15,93,16],[93,17,93,18],[22,22,30,30],[25,16,25,17],[28,13,28,14],[29,13,29,14],[34,13,34,14],[35,13,35,14],[23,3,23,19],[24,7,24,8],[24,11,24,12],[24,16,24,17],[25,11,25,12],[24,4,24,6],[25,4,25,6],[33,22,35,30],[29,9,29,10],[35,9,35,10],[24,13,24,14],[38,2,39,3],[38,4,38,11],[64,2,64,3],[65,2,68,3],[70,2,70,3],[94,2,94,31],[92,15,92,16],[92,17,92,18],[92,19,92,20],[92,21,92,22],[91,15,91,16],[91,17,91,18],[91,19,91,20],[91,21,91,22],[88,10,93,11],[88,12,89,12],[92,12,93,12],[88,13,88,14],[88,25,89,25],[88,26,89,26],[89,13,89,14],[79,15,79,16],[90,26,91,26],[92,13,92,14],[66,17,66,18],[66,19,66,20],[82,29,87,29],[76,29,81,29],[79,21,79,22],[68,19,68,20],[68,21,68,22],[64,29,69,29],[68,15,68,16],[68,17,68,18],[72,25,73,25],[72,26,73,26],[86,21,86,22],[85,15,85,16],[85,17,85,18],[85,19,85,20],[87,21,87,22],[86,19,86,20],[68,26,69,26],[74,25,75,25],[69,21,69,22],[67,15,67,16],[67,17,67,18],[67,19,67,20],[66,15,66,16],[64,15,64,16],[82,30,87,30],[88,29,93,29],[88,30,93,30],[84,15,84,16],[84,17,84,18],[84,19,84,20],[84,21,84,22],[83,15,83,16],[83,17,83,18],[83,19,83,20],[83,21,83,22],[82,15,82,16],[82,17,82,18],[82,19,82,20],[82,21,82,22],[87,15,87,16],[87,17,87,18],[87,19,87,20],[82,26,83,26],[93,19,93,20],[82,28,83,28],[86,15,86,16],[86,17,86,18],[92,25,93,25],[76,30,81,30],[78,15,78,16],[78,17,78,18],[78,19,78,20],[78,21,78,22],[77,15,77,16],[77,17,77,18],[77,19,77,20],[77,21,77,22],[76,15,76,16],[76,17,76,18],[76,19,76,20],[76,21,76,22],[81,15,81,16],[81,17,81,18],[81,19,81,20],[80,15,80,16],[81,21,81,22],[80,17,80,18],[80,19,80,20],[80,21,80,22],[64,30,69,30],[66,21,66,22],[65,15,65,16],[70,29,75,29],[70,30,75,30],[72,15,72,16],[72,17,72,18],[72,19,72,20],[72,21,72,22],[71,15,71,16],[71,17,71,18],[71,19,71,20],[71,21,71,22],[70,15,70,16],[70,17,70,18],[70,19,70,20],[70,21,70,22],[75,15,75,16],[75,17,75,18],[75,19,75,20],[74,21,74,22],[73,15,73,16],[73,17,73,18],[70,26,71,26],[58,29,63,29],[58,27,59,27],[58,28,59,28],[63,15,63,16],[63,17,63,18],[63,19,63,20],[62,15,62,16],[62,17,62,18],[62,19,62,20],[60,17,60,18],[60,19,60,20],[60,21,60,22],[59,15,59,16],[59,17,59,18],[59,19,59,20],[59,21,59,22],[58,15,58,16],[58,17,58,18],[58,19,58,20],[58,21,58,22],[52,30,57,30],[54,15,54,16],[54,17,54,18],[54,19,54,20],[54,21,54,22],[53,15,53,16],[53,17,53,18],[53,19,53,20],[53,21,53,22],[52,15,52,16],[52,17,52,18],[52,19,52,20],[52,21,52,22],[57,15,57,16],[57,17,57,18],[57,19,57,20],[56,15,56,16],[56,17,56,18],[56,19,56,20],[56,21,56,22],[55,15,55,16],[55,17,55,18],[52,29,57,29],[56,26,57,26],[58,30,63,30],[46,29,51,29],[46,30,51,30],[48,15,48,16],[48,17,48,18],[48,19,48,20],[48,21,48,22],[47,15,47,16],[47,17,47,18],[47,19,47,20],[47,21,47,22],[51,15,51,16],[51,17,51,18],[51,19,51,20],[50,15,50,16],[50,17,50,18],[50,19,50,20],[50,21,50,22],[49,15,49,16],[49,17,49,18],[49,19,49,20],[49,21,49,22],[46,15,46,16],[46,17,46,18],[18,4,18,6],[18,11,18,12],[18,17,18,18],[19,4,19,6],[19,11,19,12],[19,17,19,18],[21,16,21,20],[21,6,21,11],[15,24,15,25],[15,3,15,10],[15,12,15,15],[15,16,15,18],[15,19,15,21],[16,12,16,21],[14,24,14,26],[9,19,9,21],[12,3,12,10],[12,12,12,15],[12,16,12,18],[12,19,12,21],[13,12,13,15],[13,16,13,18],[13,19,13,21],[12,24,12,26],[13,24,13,26],[14,3,14,10],[14,12,14,15],[14,16,14,18],[14,19,14,21],[82,2,82,3],[83,2,86,3],[88,2,88,3],[89,2,92,3],[9,24,11,28],[40,2,40,3],[41,2,44,3],[46,2,46,3],[47,2,50,3],[52,2,52,3],[53,2,56,3],[58,2,58,3],[59,2,62,3],[10,3,10,10],[10,12,10,15],[10,16,10,18],[10,19,10,21],[11,3,11,10],[11,12,11,15],[11,16,11,18],[11,19,11,21],[9,3,9,10],[9,12,9,15],[9,16,9,18]]}
[]
[null,"※入力しないでください。（このシートはデータ入力シートで登録したものが反映します。）"]
[]
[]
[null,null,"エックス線遮蔽計算出力2",null,null,null,null,null,null,null,null,"施設名：",null,null,null,null,null,null,null,null,null,null,null,"室　名："]
[]
[null,null,null,null,null,null,null,null,null,null,null,null,null,null,null,null,null,null,null,null,null,null,null,"装置名："]
[]
[null,null,"1)用途",null,null,null,null,null,null,null,null,null,"2)遮蔽材密度",null,null,null,null,null,null,null,null,null,null,"3)遮蔽体の有無"]
["　",null,null,"1:治療用ｴｯｸｽ線装置（≦50ｋV）",null,null,null,null,null,null,null,null,"遮へい材",null,null,null,"密度（g/cm3）",null,null,"基準値（g/cm3）",null,null,null,null,"有りの場合は鉛当量(mmPb)で入力"]
[null,null,"　","2:治療用ｴｯｸｽ線装置（＞50ｋV）",null,null,null,null,null,null,null,null,"鉛",null,null,null,null,null,null,11.35]
[null,null,null,"3:口内法撮影用X線装置（≦125ｋV）",null,null,null,null,null,null,null,null,"ｺﾝｸﾘｰﾄ",null,null,null,null,null,null,2.35]
[null,null,null,"4:上記以外の診断用X線装置",null,null,null,null,null,null,null,null,"鉄",null,null,null,null,null,null,7.83,null,null,null,null,"透視",null,null,null,"mmPb"]
[null,null,null,null,null,null,null,null,null,null,null,null,"石膏",null,null,null,null,null,null,0.75,null,null,null,null,"一般撮影",null,null,null,"mmPb"]
[null,null,null,"タングステン陽極orロジウム陽極：0",null,null,null,null,null,null,null,null,"ｶﾞﾗｽ",null,null,null,null,null,null,2.56,null,null,null,null,"CT",null,null,null,"mmPb"]
[null,null,null,"モリブデン  陽極：1",null,null,null,null,null,null,null,null,"木材",null,null,null,null,null,null,0.55000000000000004]
[null,null,null,null,null,null,null,null,null,null,null,null,"※しゃへい計算実務マニュアル（'07年版）推奨値"]
[null,null,"5)受像面における照射野",null,null,null,null,null,null,null,null,null,"※基準値は、医薬発188号通知による"]
[null,null,null,"F=",null,null,null,"cm2",null,null,"縦",null,null,"cm",null,null,"横",null,null,"cm","※透視・一般撮影（未入力の場合は35cm×35cm）"]
[null,null,null,"F=",null,null,null,"cm2",null,null,"縦",null,null,"cm",null,null,"横",null,null,"cm","※CT（未入力の場合は60cm2で計算）"]
[null,null,null,null,"※入力すると数値は入れ替わります。"]
[null,null,"6)撮影条件"]
[null,null,null,null,null,null,null,null,null,null,null,null,null,null,null,null,null,null,null,null,null,null,"注1)エックス線診療室の遮蔽計算は、装置毎、撮影方向毎の漏洩線量を複合計算しました。\n注2)立位方向を出力１、臥位方向を出力2に入力しています。\n注3)透視と撮影は、併せて計算しています。\n注4)ＣＴ・口腔用パノラマは、管球が回転するため、一次線のみ撮影時間を1/4にして計算した。"]
[null,null,null,"透視"]
[null,null,null,null,"撮影条件",null,null,null,null,"KV",null,null,null,"mA",null,"　",null,null,"分/件"]
[null,null,null,null,"透視件数",null,null,null,null,null,null,null,null,"人/日",null,null,null,null,"日/週"]
[]
[null,null,null,"一般撮影"]
[null,null,null,null,"撮影条件",null,null,null,null,"KV",null,null,null,"mA",null,"　",null,null,"sec"]
[null,null,null,null,"撮影件数",null,null,null,null,"回/人",null,null,null,"人/日",null,null,null,null,"日/週"]
[]
[]
[]
[null,null,null,"CT・歯科用パノラマ装置"]
[null,null,null,null,"撮影条件",null,null,null,null,"KV",null,null,null,"mA",null,"　",null,null,"sec"]
[null,null,null,null,"撮影件数",null,null,null,null,"回/件",null,null,null,"人/日",null,null,null,null,"日/週"]
[]
[]
[null,null,"ポイント",null,"距離(m)",null,null,null,null,null,null,null,"材質","遮蔽材料及び厚さ(mm)",null,null,null,null,null,null,null,null,null,null,null,"漏洩実効線量",null,null,null,"判定","判定\n参考"]
[null,null,null,null,"d1",null,"d2",null,"d3",null,"d4"]
[null,null,"A：",null,null,null,null,null,null,null,null,null,"　A",null,null,null,null,null,null,null,null,null,null,null,null,"Ep",null,null,null,{"$f":"IF(OR(AB43=0,AB46=\"\"),\"\",IF(OR(AB43<AB46,AE41>0),\"適\",\"不適\"))","v":""}]
[]
[null,null,null,null,null,null,null,null,null,null,null,null,"　A'",null,null,null,null,null,null,null,null,null,null,null,null,"Es"]
[]
[null,null,null,null,null,null,null,null,null,null,null,null,"　A\"",null,null,null,null,null,null,null,null,null,null,null,null,"EL"]
[null,null,"区分"]
[null,null,"B：",null,null,null,null,null,null,null,null,null,"　B",null,null,null,null,null,null,null,null,null,null,null,null,"Ep",null,null,null,{"$f":"IF(OR(AB49=0,AB52=\"\"),\"\",IF(OR(AB49<AB52,AE47>0),\"適\",\"不適\"))","v":""}]
[]
[null,null,null,null,null,null,null,null,null,null,null,null,"　B'",null,null,null,null,null,null,null,null,null,null,null,null,"Es"]
[]
[null,null,null,null,null,null,null,null,null,null,null,null,"　B\"",null,null,null,null,null,null,null,null,null,null,null,null,"EL"]
[null,null,"区分"]
[null,null,"C：",null,null,null,null,null,null,null,null,null,"　C",null,null,null,null,null,null,null,null,null,null,null,null,"Ep",null,null,null,{"$f":"IF(OR(AB55=0,AB58=\"\"),\"\",IF(OR(AB55<AB58,AE53>0),\"適\",\"不適\"))","v":""}]
[]
[null,null,null,null,null,null,null,null,null,null,null,null,"　C'",null,null,null,null,null,null,null,null,null,null,null,null,"Es"]
[]
[null,null,null,null,null,null,null,null,null,null,null,null,"　C\"",null,null,null,null,null,null,null,null,null,null,null,null,"EL"]
[null,null,"区分"]
[null,null,"D：",null,null,null,null,null,null,null,null,null,"　D",null,null,null,null,null,null,null,null,null,null,null,null,"Ep",null,null,null,{"$f":"IF(OR(AB61=0,AB64=\"\"),\"\",IF(OR(AB61<AB64,AE59>0),\"適\",\"不適\"))","v":""}]
[]
[null,null,null,null,null,null,null,null,null,null,null,null,"　D'",null,null,null,null,null,null,null,null,null,null,null,null,"Es"]
[]
[null,null,null,null,null,null,null,null,null,null,null,null,"　D\"",null,null,null,null,null,null,null,null,null,null,null,null,"EL"]
[null,null,"区分"]
[null,null,"E：",null,null,null,null,null,null,null,null,null,"　E",null,null,null,null,null,null,null,null,null,null,null,null,"Ep",null,null,null,{"$f":"IF(OR(AB67=0,AB70=\"\"),\"\",IF(OR(AB67<AB70,AE67>0),\"適\",\"不適\"))","v":""}]
[]
[null,null,null,null,null,null,null,null,null,null,null,null,"　E'",null,null,null,null,null,null,null,null,null,null,null,null,"Es"]
[]
[null,null,null,null,null,null,null,null,null,null,null,null,"　E\"",null,null,null,null,null,null,null,null,null,null,null,null,"EL"]
[null,null,"区分"]
[null,null,"F：",null,null,null,null,null,null,null,null,null,"　F",null,null,null,null,null,null,null,null,null,null,null,null,"Ep",null,null,null,{"$f":"IF(OR(AB73=0,AB76=\"\"),\"\",IF(OR(AB73<AB76,AE71>0),\"適\",\"不適\"))","v":""}]
[]
[null,null,null,null,null,null,null,null,null,null,null,null,"　F'",null,null,null,null,null,null,null,null,null,null,null,null,"Es"]
[]
[null,null,null,null,null,null,null,null,null,null,null,null,"　F\"",null,null,null,null,null,null,null,null,null,null,null,null,"EL"]
[null,null,"区分"]
[null,null,"G：",null,null,null,null,null,null,null,null,null,"　G",null,null,null,null,null,null,null,null,null,null,null,null,"Ep",null,null,null,{"$f":"IF(OR(AB79=0,AB82=\"\"),\"\",IF(OR(AB79<AB82,AE77>0),\"適\",\"不適\"))","v":""}]
[]
[null,null,null,null,null,null,null,null,null,null,null,null,"　G'",null,null,null,null,null,null,null,null,null,null,null,null,"Es"]
[]
[null,null,null,null,null,null,null,null,null,null,null,null,"　G\"",null,null,null,null,null,null,null,null,null,null,null,null,"EL"]
[null,null,"区分"]
[null,null,"H：",null,null,null,null,null,null,null,null,null,"　H",null,null,null,null,null,null,null,null,null,null,null,null,"Ep",null,null,null,{"$f":"IF(OR(AB85=0,AB88=\"\"),\"\",IF(OR(AB85<AB88,AE83>0),\"適\",\"不適\"))","v":""}]
[]
[null,null,null,null,null,null,null,null,null,null,null,null,"　H'",null,null,null,null,null,null,null,null,null,null,null,null,"Es"]
[]
[null,null,null,null,null,null,null,null,null,null,null,null,"　H\"",null,null,null,null,null,null,null,null,null,null,null,null,"EL"]
[null,null,"区分"]
[null,null,"I：",null,null,null,null,null,null,null,null,null,"　I",null,null,null,null,null,null,null,null,null,null,null,null,"Ep",null,null,null,{"$f":"IF(OR(AB91=0,AB94=\"\"),\"\",IF(OR(AB91<AB94,AE89>0),\"適\",\"不適\"))","v":""}]
[]
[null,null,null,null,null,null,null,null,null,null,null,null,"　I'",null,null,null,null,null,null,null,null,null,null,null,null,"Es"]
[]
[null,null,null,null,null,null,null,null,null,null,null,null,"　I\"",null,null,null,null,null,null,null,null,null,null,null,null,"EL"]
[null,null,"区分"]
[null,null,"[実効線量限度]　１）管理区域：１00μSv/W（1.3mSv/3月），　２）病室：１00μSv/W（1.3mSv/3月），　３）敷地の境界：19.23μSv/W(250μSv/3月)，　４）使用室：１000μSv/W（13mSv/3月）"]

{"sheet":"出力5","index":24,"n_rows":95,"n_cols":31,"rows_kept":95,"cut":false,"hidden":false,"merged":[[4,2,5,10],[4,11,5,13],[4,14,5,22],[4,23,4,25],[4,26,4,30],[6,23,6,25],[6,26,6,30],[79,17,79,18],[79,19,79,20],[73,19,73,20],[73,21,73,22],[65,17,65,18],[65,19,65,20],[40,28,41,28],[42,27,44,28],[46,27,47,27],[46,28,47,28],[48,27,50,28],[52,27,53,27],[52,28,53,28],[54,27,56,28],[78,27,80,28],[60,27,62,28],[64,27,65,27],[64,28,65,28],[66,27,68,28],[70,27,71,27],[70,28,71,28],[72,27,74,28],[76,27,77,27],[76,28,77,28],[90,21,90,22],[40,27,41,27],[82,27,83,27],[84,27,86,28],[88,27,89,27],[88,28,89,28],[90,27,92,28],[90,25,91,25],[86,25,87,25],[86,26,87,26],[76,25,77,25],[76,26,77,26],[78,25,79,25],[78,26,79,26],[80,25,81,25],[80,26,81,26],[70,25,71,25],[40,21,40,22],[40,25,41,25],[40,26,41,26],[65,21,65,22],[64,21,64,22],[67,21,67,22],[44,21,44,22],[82,4,87,5],[82,6,87,7],[82,8,87,9],[82,10,87,11],[82,12,83,12],[82,13,82,14],[82,25,83,25],[83,13,83,14],[84,12,85,12],[84,13,84,14],[84,25,85,25],[84,26,85,26],[85,13,85,14],[86,12,87,12],[86,13,86,14],[87,13,87,14],[85,21,85,22],[88,4,93,5],[88,6,93,7],[88,8,93,9],[90,12,91,12],[90,13,90,14],[91,13,91,14],[90,15,90,16],[90,17,90,18],[90,19,90,20],[79,13,79,14],[80,12,81,12],[80,13,80,14],[81,13,81,14],[89,15,89,16],[89,17,89,18],[89,19,89,20],[89,21,89,22],[88,15,88,16],[88,17,88,18],[88,19,88,20],[88,21,88,22],[71,2,74,3],[76,2,76,3],[77,2,80,3],[71,13,71,14],[72,12,73,12],[72,13,72,14],[73,13,73,14],[74,12,75,12],[74,13,74,14],[70,4,75,5],[70,6,75,7],[70,8,75,9],[70,10,75,11],[70,12,71,12],[70,13,70,14],[76,4,81,5],[76,6,81,7],[76,8,81,9],[76,10,81,11],[76,12,77,12],[76,13,76,14],[77,13,77,14],[78,12,79,12],[78,13,78,14],[74,26,75,26],[75,13,75,14],[75,21,75,22],[74,15,74,16],[74,17,74,18],[74,19,74,20],[64,4,69,5],[64,6,69,7],[64,8,69,9],[64,10,69,11],[64,12,65,12],[64,13,64,14],[64,25,65,25],[64,26,65,26],[65,13,65,14],[66,12,67,12],[66,13,66,14],[66,25,67,25],[66,26,67,26],[67,13,67,14],[68,12,69,12],[68,13,68,14],[68,25,69,25],[69,13,69,14],[64,17,64,18],[64,19,64,20],[69,15,69,16],[69,17,69,18],[69,19,69,20],[62,21,62,22],[58,25,59,25],[58,26,59,26],[59,13,59,14],[60,13,60,14],[60,25,61,25],[60,26,61,26],[61,13,61,14],[62,13,62,14],[62,25,63,25],[62,26,63,26],[61,21,61,22],[58,4,63,5],[58,6,63,7],[58,8,63,9],[58,10,63,11],[58,12,59,12],[58,13,58,14],[63,13,63,14],[63,21,63,22],[61,15,61,16],[61,17,61,18],[61,19,61,20],[60,15,60,16],[60,12,61,12],[62,12,63,12],[52,4,57,5],[52,6,57,7],[52,8,57,9],[52,10,57,11],[52,12,53,12],[52,13,52,14],[52,25,53,25],[52,26,53,26],[53,13,53,14],[54,12,55,12],[54,13,54,14],[54,25,55,25],[54,26,55,26],[55,13,55,14],[56,12,57,12],[56,13,56,14],[56,25,57,25],[57,13,57,14],[57,21,57,22],[55,19,55,20],[55,21,55,22],[46,25,47,25],[46,26,47,26],[47,13,47,14],[48,12,49,12],[48,13,48,14],[48,25,49,25],[48,26,49,26],[49,13,49,14],[50,12,51,12],[50,13,50,14],[50,25,51,25],[50,26,51,26],[51,13,51,14],[46,4,51,5],[46,6,51,7],[46,8,51,9],[46,10,51,11],[46,12,47,12],[46,13,46,14],[51,21,51,22],[46,21,46,22],[46,19,46,20],[40,29,45,29],[40,30,45,30],[41,13,41,14],[41,15,41,16],[41,17,41,18],[41,19,41,20],[41,21,41,22],[42,13,42,14],[42,15,42,16],[42,17,42,18],[42,19,42,20],[42,21,42,22],[42,25,43,25],[42,26,43,26],[43,13,43,14],[44,13,44,14],[44,25,45,25],[44,26,45,26],[45,13,45,14],[45,21,45,22],[43,19,43,20],[43,21,43,22],[45,19,45,20],[44,19,44,20],[40,4,45,5],[40,6,45,7],[40,8,45,9],[40,10,45,11],[40,12,41,12],[40,13,40,14],[40,15,40,16],[40,17,40,18],[42,12,43,12],[44,12,45,12],[43,17,43,18],[45,15,45,16],[45,17,45,18],[44,15,44,16],[44,17,44,18],[43,15,43,16],[40,19,40,20],[25,13,25,14],[24,18,24,19],[25,18,25,19],[34,11,34,12],[34,16,34,17],[35,7,35,8],[35,11,35,12],[35,16,35,17],[28,7,28,8],[28,11,28,12],[28,16,28,17],[27,3,27,19],[29,7,29,8],[29,11,29,12],[29,16,29,17],[33,3,33,19],[34,7,34,8],[29,18,29,19],[35,18,35,19],[28,4,28,6],[29,4,29,6],[34,4,34,6],[35,4,35,6],[24,9,24,10],[38,12,39,12],[38,29,39,29],[38,30,39,30],[39,4,39,5],[39,6,39,7],[39,8,39,9],[39,10,39,11],[38,13,39,24],[38,25,39,28],[92,26,93,26],[93,13,93,14],[93,21,93,22],[93,15,93,16],[93,17,93,18],[22,22,30,30],[25,16,25,17],[28,13,28,14],[29,13,29,14],[34,13,34,14],[35,13,35,14],[23,3,23,19],[24,7,24,8],[24,11,24,12],[24,16,24,17],[25,11,25,12],[24,4,24,6],[25,4,25,6],[33,22,35,30],[29,9,29,10],[35,9,35,10],[24,13,24,14],[38,2,39,3],[38,4,38,11],[64,2,64,3],[65,2,68,3],[70,2,70,3],[94,2,94,31],[92,15,92,16],[92,17,92,18],[92,19,92,20],[92,21,92,22],[91,15,91,16],[91,17,91,18],[91,19,91,20],[91,21,91,22],[88,10,93,11],[88,12,89,12],[92,12,93,12],[88,13,88,14],[88,25,89,25],[88,26,89,26],[89,13,89,14],[79,15,79,16],[90,26,91,26],[92,13,92,14],[66,17,66,18],[66,19,66,20],[82,29,87,29],[76,29,81,29],[79,21,79,22],[68,19,68,20],[68,21,68,22],[64,29,69,29],[68,15,68,16],[68,17,68,18],[72,25,73,25],[72,26,73,26],[86,21,86,22],[85,15,85,16],[85,17,85,18],[85,19,85,20],[87,21,87,22],[86,19,86,20],[68,26,69,26],[74,25,75,25],[69,21,69,22],[67,15,67,16],[67,17,67,18],[67,19,67,20],[66,15,66,16],[64,15,64,16],[82,30,87,30],[88,29,93,29],[88,30,93,30],[84,15,84,16],[84,17,84,18],[84,19,84,20],[84,21,84,22],[83,15,83,16],[83,17,83,18],[83,19,83,20],[83,21,83,22],[82,15,82,16],[82,17,82,18],[82,19,82,20],[82,21,82,22],[87,15,87,16],[87,17,87,18],[87,19,87,20],[82,26,83,26],[93,19,93,20],[82,28,83,28],[86,15,86,16],[86,17,86,18],[92,25,93,25],[76,30,81,30],[78,15,78,16],[78,17,78,18],[78,19,78,20],[78,21,78,22],[77,15,77,16],[77,17,77,18],[77,19,77,20],[77,21,77,22],[76,15,76,16],[76,17,76,18],[76,19,76,20],[76,21,76,22],[81,15,81,16],[81,17,81,18],[81,19,81,20],[80,15,80,16],[81,21,81,22],[80,17,80,18],[80,19,80,20],[80,21,80,22],[64,30,69,30],[66,21,66,22],[65,15,65,16],[70,29,75,29],[70,30,75,30],[72,15,72,16],[72,17,72,18],[72,19,72,20],[72,21,72,22],[71,15,71,16],[71,17,71,18],[71,19,71,20],[71,21,71,22],[70,15,70,16],[70,17,70,18],[70,19,70,20],[70,21,70,22],[75,15,75,16],[75,17,75,18],[75,19,75,20],[74,21,74,22],[73,15,73,16],[73,17,73,18],[70,26,71,26],[58,29,63,29],[58,27,59,27],[58,28,59,28],[63,15,63,16],[63,17,63,18],[63,19,63,20],[62,15,62,16],[62,17,62,18],[62,19,62,20],[60,17,60,18],[60,19,60,20],[60,21,60,22],[59,15,59,16],[59,17,59,18],[59,19,59,20],[59,21,59,22],[58,15,58,16],[58,17,58,18],[58,19,58,20],[58,21,58,22],[52,30,57,30],[54,15,54,16],[54,17,54,18],[54,19,54,20],[54,21,54,22],[53,15,53,16],[53,17,53,18],[53,19,53,20],[53,21,53,22],[52,15,52,16],[52,17,52,18],[52,19,52,20],[52,21,52,22],[57,15,57,16],[57,17,57,18],[57,19,57,20],[56,15,56,16],[56,17,56,18],[56,19,56,20],[56,21,56,22],[55,15,55,16],[55,17,55,18],[52,29,57,29],[56,26,57,26],[58,30,63,30],[46,29,51,29],[46,30,51,30],[48,15,48,16],[48,17,48,18],[48,19,48,20],[48,21,48,22],[47,15,47,16],[47,17,47,18],[47,19,47,20],[47,21,47,22],[51,15,51,16],[51,17,51,18],[51,19,51,20],[50,15,50,16],[50,17,50,18],[50,19,50,20],[50,21,50,22],[49,15,49,16],[49,17,49,18],[49,19,49,20],[49,21,49,22],[46,15,46,16],[46,17,46,18],[18,4,18,6],[18,11,18,12],[18,17,18,18],[19,4,19,6],[19,11,19,12],[19,17,19,18],[21,16,21,20],[21,6,21,11],[15,24,15,25],[15,3,15,10],[15,12,15,15],[15,16,15,18],[15,19,15,21],[16,12,16,21],[14,24,14,26],[9,19,9,21],[12,3,12,10],[12,12,12,15],[12,16,12,18],[12,19,12,21],[13,12,13,15],[13,16,13,18],[13,19,13,21],[12,24,12,26],[13,24,13,26],[14,3,14,10],[14,12,14,15],[14,16,14,18],[14,19,14,21],[82,2,82,3],[83,2,86,3],[88,2,88,3],[89,2,92,3],[9,24,11,28],[40,2,40,3],[41,2,44,3],[46,2,46,3],[47,2,50,3],[52,2,52,3],[53,2,56,3],[58,2,58,3],[59,2,62,3],[10,3,10,10],[10,12,10,15],[10,16,10,18],[10,19,10,21],[11,3,11,10],[11,12,11,15],[11,16,11,18],[11,19,11,21],[9,3,9,10],[9,12,9,15],[9,16,9,18]]}
[]
[null,"※入力しないでください。（このシートはデータ入力シートで登録したものが反映します。）"]
[]
[]
[null,null,"エックス線遮蔽計算出力2",null,null,null,null,null,null,null,null,"施設名：",null,null,null,null,null,null,null,null,null,null,null,"室　名："]
[]
[null,null,null,null,null,null,null,null,null,null,null,null,null,null,null,null,null,null,null,null,null,null,null,"装置名："]
[]
[null,null,"1)用途",null,null,null,null,null,null,null,null,null,"2)遮蔽材密度",null,null,null,null,null,null,null,null,null,null,"3)遮蔽体の有無"]
["　",null,null,"1:治療用ｴｯｸｽ線装置（≦50ｋV）",null,null,null,null,null,null,null,null,"遮へい材",null,null,null,"密度（g/cm3）",null,null,"基準値（g/cm3）",null,null,null,null,"有りの場合は鉛当量(mmPb)で入力"]
[null,null,"　","2:治療用ｴｯｸｽ線装置（＞50ｋV）",null,null,null,null,null,null,null,null,"鉛",null,null,null,null,null,null,11.35]
[null,null,null,"3:口内法撮影用X線装置（≦125ｋV）",null,null,null,null,null,null,null,null,"ｺﾝｸﾘｰﾄ",null,null,null,null,null,null,2.35]
[null,null,null,"4:上記以外の診断用X線装置",null,null,null,null,null,null,null,null,"鉄",null,null,null,null,null,null,7.83,null,null,null,null,"透視",null,null,null,"mmPb"]
[null,null,null,null,null,null,null,null,null,null,null,null,"石膏",null,null,null,null,null,null,0.75,null,null,null,null,"一般撮影",null,null,null,"mmPb"]
[null,null,null,"タングステン陽極orロジウム陽極：0",null,null,null,null,null,null,null,null,"ｶﾞﾗｽ",null,null,null,null,null,null,2.56,null,null,null,null,"CT",null,null,null,"mmPb"]
[null,null,null,"モリブデン  陽極：1",null,null,null,null,null,null,null,null,"木材",null,null,null,null,null,null,0.55000000000000004]
[null,null,null,null,null,null,null,null,null,null,null,null,"※しゃへい計算実務マニュアル（'07年版）推奨値"]
[null,null,"5)受像面における照射野",null,null,null,null,null,null,null,null,null,"※基準値は、医薬発188号通知による"]
[null,null,null,"F=",null,null,null,"cm2",null,null,"縦",null,null,"cm",null,null,"横",null,null,"cm","※透視・一般撮影（未入力の場合は35cm×35cm）"]
[null,null,null,"F=",null,null,null,"cm2",null,null,"縦",null,null,"cm",null,null,"横",null,null,"cm","※CT（未入力の場合は60cm2で計算）"]
[null,null,null,null,"※入力すると数値は入れ替わります。"]
[null,null,"6)撮影条件"]
[null,null,null,null,null,null,null,null,null,null,null,null,null,null,null,null,null,null,null,null,null,null,"注1)エックス線診療室の遮蔽計算は、装置毎、撮影方向毎の漏洩線量を複合計算しました。\n注2)立位方向を出力１、臥位方向を出力2に入力しています。\n注3)透視と撮影は、併せて計算しています。\n注4)ＣＴ・口腔用パノラマは、管球が回転するため、一次線のみ撮影時間を1/4にして計算した。"]
[null,null,null,"透視"]
[null,null,null,null,"撮影条件",null,null,null,null,"KV",null,null,null,"mA",null,"　",null,null,"分/件"]
[null,null,null,null,"透視件数",null,null,null,null,null,null,null,null,"人/日",null,null,null,null,"日/週"]
[]
[null,null,null,"一般撮影"]
[null,null,null,null,"撮影条件",null,null,null,null,"KV",null,null,null,"mA",null,"　",null,null,"sec"]
[null,null,null,null,"撮影件数",null,null,null,null,"回/人",null,null,null,"人/日",null,null,null,null,"日/週"]
[]
[]
[]
[null,null,null,"CT・歯科用パノラマ装置"]
[null,null,null,null,"撮影条件",null,null,null,null,"KV",null,null,null,"mA",null,"　",null,null,"sec"]
[null,null,null,null,"撮影件数",null,null,null,null,"回/件",null,null,null,"人/日",null,null,null,null,"日/週"]
[]
[]
[null,null,"ポイント",null,"距離(m)",null,null,null,null,null,null,null,"材質","遮蔽材料及び厚さ(mm)",null,null,null,null,null,null,null,null,null,null,null,"漏洩実効線量",null,null,null,"判定","判定\n参考"]
[null,null,null,null,"d1",null,"d2",null,"d3",null,"d4"]
[null,null,"A：",null,null,null,null,null,null,null,null,null,"　A",null,null,null,null,null,null,null,null,null,null,null,null,"Ep",null,null,null,{"$f":"IF(OR(AB43=0,AB46=\"\"),\"\",IF(OR(AB43<AB46,AE41>0),\"適\",\"不適\"))","v":""}]
[]
[null,null,null,null,null,null,null,null,null,null,null,null,"　A'",null,null,null,null,null,null,null,null,null,null,null,null,"Es"]
[]
[null,null,null,null,null,null,null,null,null,null,null,null,"　A\"",null,null,null,null,null,null,null,null,null,null,null,null,"EL"]
[null,null,"区分"]
[null,null,"B：",null,null,null,null,null,null,null,null,null,"　B",null,null,null,null,null,null,null,null,null,null,null,null,"Ep",null,null,null,{"$f":"IF(OR(AB49=0,AB52=\"\"),\"\",IF(OR(AB49<AB52,AE47>0),\"適\",\"不適\"))","v":""}]
[]
[null,null,null,null,null,null,null,null,null,null,null,null,"　B'",null,null,null,null,null,null,null,null,null,null,null,null,"Es"]
[]
[null,null,null,null,null,null,null,null,null,null,null,null,"　B\"",null,null,null,null,null,null,null,null,null,null,null,null,"EL"]
[null,null,"区分"]
[null,null,"C：",null,null,null,null,null,null,null,null,null,"　C",null,null,null,null,null,null,null,null,null,null,null,null,"Ep",null,null,null,{"$f":"IF(OR(AB55=0,AB58=\"\"),\"\",IF(OR(AB55<AB58,AE53>0),\"適\",\"不適\"))","v":""}]
[]
[null,null,null,null,null,null,null,null,null,null,null,null,"　C'",null,null,null,null,null,null,null,null,null,null,null,null,"Es"]
[]
[null,null,null,null,null,null,null,null,null,null,null,null,"　C\"",null,null,null,null,null,null,null,null,null,null,null,null,"EL"]
[null,null,"区分"]
[null,null,"D：",null,null,null,null,null,null,null,null,null,"　D",null,null,null,null,null,null,null,null,null,null,null,null,"Ep",null,null,null,{"$f":"IF(OR(AB61=0,AB64=\"\"),\"\",IF(OR(AB61<AB64,AE59>0),\"適\",\"不適\"))","v":""}]
[]
[null,null,null,null,null,null,null,null,null,null,null,null,"　D'",null,null,null,null,null,null,null,null,null,null,null,null,"Es"]
[]
[null,null,null,null,null,null,null,null,null,null,null,null,"　D\"",null,null,null,null,null,null,null,null,null,null,null,null,"EL"]
[null,null,"区分"]
[null,null,"E：",null,null,null,null,null,null,null,null,null,"　E",null,null,null,null,null,null,null,null,null,null,null,null,"Ep",null,null,null,{"$f":"IF(OR(AB67=0,AB70=\"\"),\"\",IF(OR(AB67<AB70,AE67>0),\"適\",\"不適\"))","v":""}]
[]
[null,null,null,null,null,null,null,null,null,null,null,null,"　E'",null,null,null,null,null,null,null,null,null,null,null,null,"Es"]
[]
[null,null,null,null,null,null,null,null,null,null,null,null,"　E\"",null,null,null,null,null,null,null,null,null,null,null,null,"EL"]
[null,null,"区分"]
[null,null,"F：",null,null,null,null,null,null,null,null,null,"　F",null,null,null,null,null,null,null,null,null,null,null,null,"Ep",null,null,null,{"$f":"IF(OR(AB73=0,AB76=\"\"),\"\",IF(OR(AB73<AB76,AE71>0),\"適\",\"不適\"))","v":""}]
[]
[null,null,null,null,null,null,null,null,null,null,null,null,"　F'",null,null,null,null,null,null,null,null,null,null,null,null,"Es"]
[]
[null,null,null,null,null,null,null,null,null,null,null,null,"　F\"",null,null,null,null,null,null,null,null,null,null,null,null,"EL"]
[null,null,"区分"]
[null,null,"G：",null,null,null,null,null,null,null,null,null,"　G",null,null,null,null,null,null,null,null,null,null,null,null,"Ep",null,null,null,{"$f":"IF(OR(AB79=0,AB82=\"\"),\"\",IF(OR(AB79<AB82,AE77>0),\"適\",\"不適\"))","v":""}]
[]
[null,null,null,null,null,null,null,null,null,null,null,null,"　G'",null,null,null,null,null,null,null,null,null,null,null,null,"Es"]
[]
[null,null,null,null,null,null,null,null,null,null,null,null,"　G\"",null,null,null,null,null,null,null,null,null,null,null,null,"EL"]
[null,null,"区分"]
[null,null,"H：",null,null,null,null,null,null,null,null,null,"　H",null,null,null,null,null,null,null,null,null,null,null,null,"Ep",null,null,null,{"$f":"IF(OR(AB85=0,AB88=\"\"),\"\",IF(OR(AB85<AB88,AE83>0),\"適\",\"不適\"))","v":""}]
[]
[null,null,null,null,null,null,null,null,null,null,null,null,"　H'",null,null,null,null,null,null,null,null,null,null,null,null,"Es"]
[]
[null,null,null,null,null,null,null,null,null,null,null,null,"　H\"",null,null,null,null,null,null,null,null,null,null,null,null,"EL"]
[null,null,"区分"]
[null,null,"I：",null,null,null,null,null,null,null,null,null,"　I",null,null,null,null,null,null,null,null,null,null,null,null,"Ep",null,null,null,{"$f":"IF(OR(AB91=0,AB94=\"\"),\"\",IF(OR(AB91<AB94,AE89>0),\"適\",\"不適\"))","v":""}]
[]
[null,null,null,null,null,null,null,null,null,null,null,null,"　I'",null,null,null,null,null,null,null,null,null,null,null,null,"Es"]
[]
[null,null,null,null,null,null,null,null,null,null,null,null,"　I\"",null,null,null,null,null,null,null,null,null,null,null,null,"EL"]
[null,null,"区分"]
[null,null,"[実効線量限度]　１）管理区域：１00μSv/W（1.3mSv/3月），　２）病室：１00μSv/W（1.3mSv/3月），　３）敷地の境界：19.23μSv/W(250μSv/3月)，　４）使用室：１000μSv/W（13mSv/3月）"]

{"sheet":"合計出力","index":25,"n_rows":37,"n_cols":13,"rows_kept":37,"cut":false,"hidden":false,"merged":[[15,2,16,3],[18,2,19,3],[24,2,25,3],[27,2,28,3],[30,2,31,3],[33,2,34,3],[21,2,22,3],[1,0,1,11],[7,9,8,9],[7,10,8,10],[7,11,8,11],[5,4,5,9],[15,0,17,0],[15,4,17,4],[15,5,17,5],[15,6,17,6],[15,7,17,7],[15,8,17,8],[12,0,14,0],[12,4,14,4],[12,5,14,5],[12,6,14,6],[12,7,14,7],[12,8,14,8],[9,0,11,0],[9,4,11,4],[9,5,11,5],[9,6,11,6],[9,7,11,7],[9,8,11,8],[9,2,10,3],[12,2,13,3],[24,0,26,0],[24,4,26,4],[24,5,26,5],[24,6,26,6],[24,7,26,7],[24,8,26,8],[18,9,20,9],[18,10,19,10],[18,11,20,11],[21,0,23,0],[21,4,23,4],[21,5,23,5],[21,6,23,6],[21,7,23,7],[21,8,23,8],[18,0,20,0],[18,4,20,4],[18,5,20,5],[18,6,20,6],[18,7,20,7],[18,8,20,8],[30,12,32,12],[33,12,35,12],[12,12,14,12],[15,12,17,12],[18,12,20,12],[21,12,23,12],[33,0,35,0],[33,4,35,4],[33,5,35,5],[33,6,35,6],[33,7,35,7],[33,8,35,8],[27,9,29,9],[27,10,28,10],[27,11,29,11],[30,0,32,0],[30,4,32,4],[30,5,32,5],[30,6,32,6],[30,7,32,7],[30,8,32,8],[27,0,29,0],[27,4,29,4],[27,5,29,5],[33,9,35,9],[33,10,34,10],[33,11,35,11],[36,2,36,11],[30,9,32,9],[30,10,31,10],[30,11,32,11],[24,9,26,9],[24,10,25,10],[24,11,26,11],[27,6,29,6],[27,7,29,7],[27,8,29,8],[2,11,2,12],[3,11,3,12],[24,12,26,12],[27,12,29,12],[12,9,14,9],[12,10,13,10],[12,11,14,11],[9,11,11,11],[7,12,8,12],[9,12,11,12],[21,9,23,9],[21,10,22,10],[21,11,23,11],[15,9,17,9],[15,10,16,10],[15,11,17,11],[9,10,10,10],[9,9,11,9],[3,4,3,9]]}
[]
["エックス線室しゃへい計算総合判定"]
[null,null,null,null,null,null,null,null,null,null,"作成日",{"$f":"TODAY()","v":"2016-03-22"}]
[null,null,null,"施設名：",{"$f":"IF(出力1!O5=\"\",\"\",出力1!O5)","v":""},null,null,null,null,null,"作成者"]
[]
[null,null,null,"室　 名：",{"$f":"IF(出力1!AA5=\"\",\"\",出力1!AA5)","v":""}]
[]
[null,null,null,"装置名",{"$f":"IF(出力1!AA7=\"\",\"\",出力1!AA7)","v":""},{"$f":"IF(出力2!AA7=\"\",\"\",出力2!AA7)","v":""},{"$f":"IF(出力3!AA7=\"\",\"\",出力3!AA7)","v":""},{"$f":"IF(出力4!AA7=\"\",\"\",出力4!AA7)","v":""},{"$f":"IF(出力5!AA7=\"\",\"\",出力5!AA7)","v":""},"漏洩線量\n合計","実効線量\n限度","判定","判定\n参考"]
[null,null,"方向","撮影条件",{"$f":"出力1!$G$22","v":0},{"$f":"出力2!$G$22","v":0},{"$f":"出力3!$G$22","v":0},{"$f":"出力4!$G$22","v":0},{"$f":"出力5!$G$22","v":0}]
[null,null,{"$f":"IF(出力1!C42=\"\",\"\",\"A：\"&出力1!C42)","v":""},null,{"$f":"IF(出力1!$AB$43>0,出力1!$AB$43,\"\")","v":""},{"$f":"IF(出力2!$AB$43>0,出力2!$AB$43,\"\")","v":""},{"$f":"IF(出力3!$AB$43>0,出力3!$AB$43,\"\")","v":""},{"$f":"IF(出力4!$AB$43>0,出力4!$AB$43,\"\")","v":""},{"$f":"IF(出力5!$AB$43>0,出力5!$AB$43,\"\")","v":""},{"$f":"SUM(E10:I12)","v":0},{"$f":"IF(D12=\"\",\"\",VLOOKUP(D12,入力用シート!$BQ$35:$BS$38,3,0))","v":""},{"$f":"IF(OR(K10=\"\",J10=\"\"),\"\",IF(OR(J10<K10,M10>0),\"適\",\"不適\"))","v":""}]
[]
[null,null,"区分：",{"$f":"IF(出力1!D46=\"\",\"\",VLOOKUP(出力1!D46,入力用シート!$BP$35:$BQ$38,2,0))","v":""},null,null,null,null,null,null,"μSv/週間"]
[null,null,{"$f":"IF(出力1!C48=\"\",\"\",\"B：\"&出力1!C48)","v":""},null,{"$f":"IF(出力1!$AB$49>0,出力1!$AB$49,\"\")","v":""},{"$f":"IF(出力2!$AB$49>0,出力2!$AB$49,\"\")","v":""},{"$f":"IF(出力3!$AB$49>0,出力3!$AB$49,\"\")","v":""},{"$f":"IF(出力4!$AB$49>0,出力4!$AB$49,\"\")","v":""},{"$f":"IF(出力5!$AB$49>0,出力5!$AB$49,\"\")","v":""},{"$f":"SUM(E13:I15)","v":0},{"$f":"IF(D15=\"\",\"\",VLOOKUP(D15,入力用シート!$BQ$35:$BS$38,3,0))","v":""},{"$f":"IF(OR(J13=\"\",K13=\"\"),\"\",IF(OR(J13<K13,M13>0),\"適\",\"不適\"))","v":""}]
[]
[null,null,"区分：",{"$f":"IF(出力1!D52=\"\",\"\",VLOOKUP(出力1!D52,入力用シート!$BP$35:$BQ$38,2,0))","v":""},null,null,null,null,null,null,"μSv/3月間"]
[null,null,{"$f":"IF(出力1!C54=\"\",\"\",\"C：\"&出力1!C54)","v":""},null,{"$f":"IF(出力1!$AB$55>0,出力1!$AB$55,\"\")","v":""},{"$f":"IF(出力2!$AB$55>0,出力2!$AB$55,\"\")","v":""},{"$f":"IF(出力3!$AB$55>0,出力3!$AB$55,\"\")","v":""},{"$f":"IF(出力4!$AB$55>0,出力4!$AB$55,\"\")","v":""},{"$f":"IF(出力5!$AB$55>0,出力5!$AB$55,\"\")","v":""},{"$f":"SUM(E16:I18)","v":0},{"$f":"IF(D18=\"\",\"\",VLOOKUP(D18,入力用シート!$BQ$35:$BS$38,3,0))","v":""},{"$f":"IF(OR(J16=\"\",K16=\"\"),\"\",IF(OR(J16<K16,M16>0),\"適\",\"不適\"))","v":""}]
[]
[null,null,"区分：",{"$f":"IF(出力1!D58=\"\",\"\",VLOOKUP(出力1!D58,入力用シート!$BP$35:$BQ$38,2,0))","v":""},null,null,null,null,null,null,"μSv/3月間"]
[null,null,{"$f":"IF(出力1!C60=\"\",\"\",\"D：\"&出力1!C60)","v":""},null,{"$f":"IF(出力1!$AB$61>0,出力1!$AB$61,\"\")","v":""},{"$f":"IF(出力2!$AB$61>0,出力2!$AB$61,\"\")","v":""},{"$f":"IF(出力3!$AB$61>0,出力3!$AB$61,\"\")","v":""},{"$f":"IF(出力4!$AB$61>0,出力4!$AB$61,\"\")","v":""},{"$f":"IF(出力5!$AB$61>0,出力5!$AB$61,\"\")","v":""},{"$f":"SUM(E19:I21)","v":0},{"$f":"IF(D21=\"\",\"\",VLOOKUP(D21,入力用シート!$BQ$35:$BS$38,3,0))","v":""},{"$f":"IF(OR(J19=\"\",K19=\"\"),\"\",IF(OR(J19<K19,M19>0),\"適\",\"不適\"))","v":""}]
[]
[null,null,"区分：",{"$f":"IF(出力1!D64=\"\",\"\",VLOOKUP(出力1!D64,入力用シート!$BP$35:$BQ$38,2,0))","v":""},null,null,null,null,null,null,"μSv/週間"]
[null,null,{"$f":"IF(出力1!C66=\"\",\"\",\"E：\"&出力1!C66)","v":""},null,{"$f":"IF(出力1!$AB$67>0,出力1!$AB$67,\"\")","v":""},{"$f":"IF(出力2!$AB$67>0,出力2!$AB$67,\"\")","v":""},{"$f":"IF(出力3!$AB$67>0,出力3!$AB$67,\"\")","v":""},{"$f":"IF(出力4!$AB$67>0,出力4!$AB$67,\"\")","v":""},{"$f":"IF(出力5!$AB$67>0,出力5!$AB$67,\"\")","v":""},{"$f":"SUM(E22:I24)","v":0},{"$f":"IF(D24=\"\",\"\",VLOOKUP(D24,入力用シート!$BQ$35:$BS$38,3,0))","v":""},{"$f":"IF(OR(J22=\"\",K22=\"\"),\"\",IF(OR(J22<K22,M22>0),\"適\",\"不適\"))","v":""}]
[]
[null,null,"区分：",{"$f":"IF(出力1!D70=\"\",\"\",VLOOKUP(出力1!D70,入力用シート!$BP$35:$BQ$38,2,0))","v":""},null,null,null,null,null,null,"μSv/3月間"]
[null,null,{"$f":"IF(出力1!C72=\"\",\"\",\"F：\"&出力1!C72)","v":""},null,{"$f":"IF(出力1!$AB$73>0,出力1!$AB$73,\"\")","v":""},{"$f":"IF(出力2!$AB$73>0,出力2!$AB$73,\"\")","v":""},{"$f":"IF(出力3!$AB$73>0,出力3!$AB$73,\"\")","v":""},{"$f":"IF(出力4!$AB$73>0,出力4!$AB$73,\"\")","v":""},{"$f":"IF(出力5!$AB$73>0,出力5!$AB$73,\"\")","v":""},{"$f":"SUM(E25:I27)","v":0},{"$f":"IF(D27=\"\",\"\",VLOOKUP(D27,入力用シート!$BQ$35:$BS$38,3,0))","v":""},{"$f":"IF(OR(J25=\"\",K25=\"\"),\"\",IF(OR(J25<K25,M25>0),\"適\",\"不適\"))","v":""}]
[]
[null,null,"区分：",{"$f":"IF(出力1!D76=\"\",\"\",VLOOKUP(出力1!D76,入力用シート!$BP$35:$BQ$38,2,0))","v":""},null,null,null,null,null,null,"μSv/3月間"]
[null,null,{"$f":"IF(出力1!C78=\"\",\"\",\"G：\"&出力1!C78)","v":""},null,{"$f":"IF(出力1!$AB$79>0,出力1!$AB$79,\"\")","v":""},{"$f":"IF(出力2!$AB$79>0,出力2!$AB$79,\"\")","v":""},{"$f":"IF(出力3!$AB$79>0,出力3!$AB$79,\"\")","v":""},{"$f":"IF(出力4!$AB$79>0,出力4!$AB$79,\"\")","v":""},{"$f":"IF(出力5!$AB$79>0,出力5!$AB$79,\"\")","v":""},{"$f":"SUM(E28:I30)","v":0},{"$f":"IF(D30=\"\",\"\",VLOOKUP(D30,入力用シート!$BQ$35:$BS$38,3,0))","v":""},{"$f":"IF(OR(J28=\"\",K28=\"\"),\"\",IF(OR(J28<K28,M28>0),\"適\",\"不適\"))","v":""}]
[]
[null,null,"区分：",{"$f":"IF(出力1!D82=\"\",\"\",VLOOKUP(出力1!D82,入力用シート!$BP$35:$BQ$38,2,0))","v":""},null,null,null,null,null,null,"μSv/3月間"]
[null,null,{"$f":"IF(出力1!C84=\"\",\"\",\"H：\"&出力1!C84)","v":""},null,{"$f":"IF(出力1!$AB$85>0,出力1!$AB$85,\"\")","v":""},{"$f":"IF(出力2!$AB$85>0,出力2!$AB$85,\"\")","v":""},{"$f":"IF(出力3!$AB$85>0,出力3!$AB$85,\"\")","v":""},{"$f":"IF(出力4!$AB$85>0,出力4!$AB$85,\"\")","v":""},{"$f":"IF(出力5!$AB$85>0,出力5!$AB$85,\"\")","v":""},{"$f":"SUM(E31:I33)","v":0},{"$f":"IF(D33=\"\",\"\",VLOOKUP(D33,入力用シート!$BQ$35:$BS$38,3,0))","v":""},{"$f":"IF(OR(J31=\"\",K31=\"\"),\"\",IF(OR(J31<K31,M31>0),\"適\",\"不適\"))","v":""}]
[]
[null,null,"区分：",{"$f":"IF(出力1!D88=\"\",\"\",VLOOKUP(出力1!D88,入力用シート!$BP$35:$BQ$38,2,0))","v":""},null,null,null,null,null,null,"μSv/3月間"]
[null,null,{"$f":"IF(出力1!C90=\"\",\"\",\"I：\"&出力1!C90)","v":""},null,{"$f":"IF(出力1!$AB$91>0,出力1!$AB$91,\"\")","v":""},{"$f":"IF(出力2!$AB$91>0,出力2!$AB$91,\"\")","v":""},{"$f":"IF(出力3!$AB$91>0,出力3!$AB$91,\"\")","v":""},{"$f":"IF(出力4!$AB$91>0,出力4!$AB$91,\"\")","v":""},{"$f":"IF(出力5!$AB$91>0,出力5!$AB$91,\"\")","v":""},{"$f":"SUM(E34:I36)","v":0},{"$f":"IF(D36=\"\",\"\",VLOOKUP(D36,入力用シート!$BQ$35:$BS$38,3,0))","v":""},{"$f":"IF(OR(J34=\"\",K34=\"\"),\"\",IF(OR(J34<K34,M34>0),\"適\",\"不適\"))","v":""}]
[]
[null,null,"区分：",{"$f":"IF(出力1!D94=\"\",\"\",VLOOKUP(出力1!D94,入力用シート!$BP$35:$BQ$38,2,0))","v":""},null,null,null,null,null,null,"μSv/3月間"]
[null,null,"   [実効線量限度]　管理区域境界、病室：1300μSv/3月間，　居住区域、敷地の境界：250μSv/3月間，　使用室：1000μSv/週間　 "]

{"sheet":"パラメータ","index":26,"n_rows":38,"n_cols":85,"rows_kept":38,"cut":false,"hidden":false,"merged":[[32,79,37,84],[37,1,37,3],[32,7,37,12],[32,16,37,21],[32,25,37,30],[32,34,37,39],[32,43,37,48],[32,52,37,57],[32,61,37,66],[32,70,37,75],[37,4,37,6],[1,4,1,6],[2,4,2,6],[3,4,3,6],[4,4,4,6],[5,4,5,6],[1,1,1,3],[2,1,2,3],[3,1,3,3],[4,1,4,3],[5,1,5,3],[1,10,1,12],[2,10,2,12],[3,10,3,12],[4,10,4,12],[5,10,5,12],[1,7,1,9],[2,7,2,9],[3,7,3,9],[4,7,4,9],[5,7,5,9],[26,1,26,3],[20,2,21,2],[22,2,23,2],[24,2,25,2],[27,1,30,2],[33,1,36,2],[37,13,37,15],[6,10,6,12],[6,13,6,15],[6,4,6,6],[6,7,6,9],[14,1,25,1],[8,2,8,3],[14,2,15,2],[16,2,17,2],[18,2,19,2],[8,1,13,1],[6,1,6,3],[7,1,7,3],[9,2,9,3],[10,2,10,3],[11,2,11,3],[12,2,12,3],[13,2,13,3],[6,16,6,18],[6,19,6,21],[6,31,6,33],[6,34,6,36],[6,37,6,39],[6,49,6,51],[6,22,6,24],[6,25,6,27],[6,28,6,30],[5,22,5,24],[5,25,5,27],[5,28,5,30],[37,49,37,51],[37,76,37,78],[37,58,37,60],[37,67,37,69],[37,22,37,24],[37,31,37,33],[37,40,37,42],[6,52,6,54],[6,55,6,57],[6,67,6,69],[6,70,6,72],[6,73,6,75],[5,40,5,42],[5,43,5,45],[5,46,5,48],[6,40,6,42],[6,43,6,45],[6,46,6,48],[6,58,6,60],[6,61,6,63],[6,64,6,66],[5,13,5,15],[5,16,5,18],[5,19,5,21],[1,13,1,15],[1,16,1,18],[1,19,1,21],[2,13,2,15],[2,16,2,18],[2,19,2,21],[3,13,3,15],[3,16,3,18],[3,19,3,21],[4,13,4,15],[4,16,4,18],[4,19,4,21],[3,22,3,24],[3,25,3,27],[3,28,3,30],[1,40,1,42],[1,43,1,45],[1,46,1,48],[2,40,2,42],[2,43,2,45],[2,46,2,48],[3,40,3,42],[3,43,3,45],[3,46,3,48],[4,22,4,24],[4,25,4,27],[4,28,4,30],[5,31,5,33],[5,34,5,36],[5,37,5,39],[1,31,1,33],[1,34,1,36],[1,37,1,39],[2,31,2,33],[2,34,2,36],[2,37,2,39],[3,31,3,33],[3,34,3,36],[3,37,3,39],[4,31,4,33],[4,34,4,36],[4,37,4,39],[1,22,1,24],[1,25,1,27],[1,28,1,30],[2,22,2,24],[2,25,2,27],[2,28,2,30],[5,49,5,51],[5,52,5,54],[5,55,5,57],[1,49,1,51],[1,52,1,54],[1,55,1,57],[2,49,2,51],[2,52,2,54],[2,55,2,57],[3,49,3,51],[3,52,3,54],[3,55,3,57],[4,49,4,51],[4,52,4,54],[4,55,4,57],[1,76,1,78],[1,79,1,81],[1,82,1,84],[2,76,2,78],[2,79,2,81],[2,82,2,84],[4,40,4,42],[4,43,4,45],[4,46,4,48],[5,58,5,60],[5,61,5,63],[5,64,5,66],[1,58,1,60],[1,61,1,63],[1,64,1,66],[2,58,2,60],[2,61,2,63],[2,64,2,66],[3,58,3,60],[3,61,3,63],[3,64,3,66],[4,58,4,60],[4,61,4,63],[4,64,4,66],[5,67,5,69],[5,70,5,72],[5,73,5,75],[1,67,1,69],[1,70,1,72],[1,73,1,75],[2,67,2,69],[2,70,2,72],[2,73,2,75],[3,67,3,69],[3,70,3,72],[3,73,3,75],[4,67,4,69],[4,70,4,72],[4,73,4,75],[5,76,5,78],[5,79,5,81],[5,82,5,84],[6,76,6,78],[6,79,6,81],[6,82,6,84],[3,76,3,78],[3,79,3,81],[3,82,3,84],[4,76,4,78],[4,79,4,81],[4,82,4,84]]}
[null,"遮蔽計算の計算結果の詳細"]
[null,null,null,null,"透視装置",null,null,"撮影",null,null,"CT・パノラマ",null,null,"透視装置",null,null,"撮影",null,null,"CT・パノラマ",null,null,"透視装置",null,null,"撮影",null,null,"CT・パノラマ",null,null,"透視装置",null,null,"撮影",null,null,"CT・パノラマ",null,null,"透視装置",null,null,"撮影",null,null,"CT・パノラマ",null,null,"透視装置",null,null,"撮影",null,null,"CT・パノラマ",null,null,"透視装置",null,null,"撮影",null,null,"CT・パノラマ",null,null,"透視装置",null,null,"撮影",null,null,"CT・パノラマ",null,null,"透視装置",null,null,"撮影",null,null,"CT・パノラマ"]
[null,"W＝",null,null,{"$f":"IF(A点!$R$1=0,\"\",(A点!$R$1))","v":""},null,null,{"$f":"IF(A点!$S$1=0,\"\",(A点!$S$1))","v":""},null,null,{"$f":"IF(A点!$T$1=0,\"\",(A点!$T$1))","v":""},null,null,{"$f":"IF(B点!$R$1=0,\"\",(B点!$R$1))","v":""},null,null,{"$f":"IF(B点!$S$1=0,\"\",(B点!$S$1))","v":""},null,null,{"$f":"IF(B点!$T$1=0,\"\",(B点!$T$1))","v":""},null,null,{"$f":"IF(C点!$R$1=0,\"\",(C点!$R$1))","v":""},null,null,{"$f":"IF(C点!$S$1=0,\"\",(C点!$S$1))","v":""},null,null,{"$f":"IF(C点!$T$1=0,\"\",(C点!$T$1))","v":""},null,null,{"$f":"IF(D点!$R$1=0,\"\",(D点!$R$1))","v":""},null,null,{"$f":"IF(D点!$S$1=0,\"\",(D点!$S$1))","v":""},null,null,{"$f":"IF(D点!$T$1=0,\"\",(D点!$T$1))","v":""},null,null,{"$f":"IF(E点!$R$1=0,\"\",(E点!$R$1))","v":""},null,null,{"$f":"IF(E点!$S$1=0,\"\",(E点!$S$1))","v":""},null,null,{"$f":"IF(E点!$T$1=0,\"\",(E点!$T$1))","v":""},null,null,{"$f":"IF(F点!$R$1=0,\"\",(F点!$R$1))","v":""},null,null,{"$f":"IF(F点!$S$1=0,\"\",(F点!$S$1))","v":""},null,null,{"$f":"IF(F点!$T$1=0,\"\",(F点!$T$1))","v":""},null,null,{"$f":"IF(G点!$R$1=0,\"\",(G点!$R$1))","v":""},null,null,{"$f":"IF(G点!$S$1=0,\"\",(G点!$S$1))","v":""},null,null,{"$f":"IF(G点!$T$1=0,\"\",(G点!$T$1))","v":""},null,null,{"$f":"IF(H点!$R$1=0,\"\",(H点!$R$1))","v":""},null,null,{"$f":"IF(H点!$S$1=0,\"\",(H点!$S$1))","v":""},null,null,{"$f":"IF(H点!$T$1=0,\"\",(H点!$T$1))","v":""},null,null,{"$f":"IF(Ｉ点!$R$1=0,\"\",(Ｉ点!$R$1))","v":""},null,null,{"$f":"IF(Ｉ点!$S$1=0,\"\",(Ｉ点!$S$1))","v":""},null,null,{"$f":"IF(Ｉ点!$T$1=0,\"\",(Ｉ点!$T$1))","v":""}]
[null,"空気ｶｰﾏ(表1)",null,null,{"$f":"IF(A点!$R$2=0,\"\",(A点!$R$2))","v":""},null,null,{"$f":"IF(A点!$S$2=0,\"\",(A点!$S$2))","v":""},null,null,{"$f":"IF(A点!$T$2=0,\"\",(A点!$T$2))","v":""},null,null,{"$f":"IF(B点!$R$2=0,\"\",(B点!$R$2))","v":""},null,null,{"$f":"IF(B点!$S$2=0,\"\",(B点!$S$2))","v":""},null,null,{"$f":"IF(B点!$T$2=0,\"\",(B点!$T$2))","v":""},null,null,{"$f":"IF(C点!$R$2=0,\"\",(C点!$R$2))","v":""},null,null,{"$f":"IF(C点!$S$2=0,\"\",(C点!$S$2))","v":""},null,null,{"$f":"IF(C点!$T$2=0,\"\",(C点!$T$2))","v":""},null,null,{"$f":"IF(D点!$R$2=0,\"\",(D点!$R$2))","v":""},null,null,{"$f":"IF(D点!$S$2=0,\"\",(D点!$S$2))","v":""},null,null,{"$f":"IF(D点!$T$2=0,\"\",(D点!$T$2))","v":""},null,null,{"$f":"IF(E点!$R$2=0,\"\",(E点!$R$2))","v":""},null,null,{"$f":"IF(E点!$S$2=0,\"\",(E点!$S$2))","v":""},null,null,{"$f":"IF(E点!$T$2=0,\"\",(E点!$T$2))","v":""},null,null,{"$f":"IF(F点!$R$2=0,\"\",(F点!$R$2))","v":""},null,null,{"$f":"IF(F点!$S$2=0,\"\",(F点!$S$2))","v":""},null,null,{"$f":"IF(F点!$T$2=0,\"\",(F点!$T$2))","v":""},null,null,{"$f":"IF(G点!$R$2=0,\"\",(G点!$R$2))","v":""},null,null,{"$f":"IF(G点!$S$2=0,\"\",(G点!$S$2))","v":""},null,null,{"$f":"IF(G点!$T$2=0,\"\",(G点!$T$2))","v":""},null,null,{"$f":"IF(H点!$R$2=0,\"\",(H点!$R$2))","v":""},null,null,{"$f":"IF(H点!$S$2=0,\"\",(H点!$S$2))","v":""},null,null,{"$f":"IF(H点!$T$2=0,\"\",(H点!$T$2))","v":""},null,null,{"$f":"IF(Ｉ点!$R$2=0,\"\",(Ｉ点!$R$2))","v":""},null,null,{"$f":"IF(Ｉ点!$S$2=0,\"\",(Ｉ点!$S$2))","v":""},null,null,{"$f":"IF(Ｉ点!$T$2=0,\"\",(Ｉ点!$T$2))","v":""}]
[null,"空気ｶｰﾏ率(表8)",null,null,{"$f":"IF(A点!$R$3=0,\"\",(A点!$R$3))","v":""},null,null,{"$f":"IF(A点!$S$3=0,\"\",(A点!$S$3))","v":""},null,null,{"$f":"IF(A点!$T$3=0,\"\",(A点!$T$3))","v":""},null,null,{"$f":"IF(B点!$R$3=0,\"\",(B点!$R$3))","v":""},null,null,{"$f":"IF(B点!$S$3=0,\"\",(B点!$S$3))","v":""},null,null,{"$f":"IF(B点!$T$3=0,\"\",(B点!$T$3))","v":""},null,null,{"$f":"IF(C点!$R$3=0,\"\",(C点!$R$3))","v":""},null,null,{"$f":"IF(C点!$S$3=0,\"\",(C点!$S$3))","v":""},null,null,{"$f":"IF(C点!$T$3=0,\"\",(C点!$T$3))","v":""},null,null,{"$f":"IF(D点!$R$3=0,\"\",(D点!$R$3))","v":""},null,null,{"$f":"IF(D点!$S$3=0,\"\",(D点!$S$3))","v":""},null,null,{"$f":"IF(D点!$T$3=0,\"\",(D点!$T$3))","v":""},null,null,{"$f":"IF(E点!$R$3=0,\"\",(E点!$R$3))","v":""},null,null,{"$f":"IF(E点!$S$3=0,\"\",(E点!$S$3))","v":""},null,null,{"$f":"IF(E点!$T$3=0,\"\",(E点!$T$3))","v":""},null,null,{"$f":"IF(F点!$R$3=0,\"\",(F点!$R$3))","v":""},null,null,{"$f":"IF(F点!$S$3=0,\"\",(F点!$S$3))","v":""},null,null,{"$f":"IF(F点!$T$3=0,\"\",(F点!$T$3))","v":""},null,null,{"$f":"IF(G点!$R$3=0,\"\",(G点!$R$3))","v":""},null,null,{"$f":"IF(G点!$S$3=0,\"\",(G点!$S$3))","v":""},null,null,{"$f":"IF(G点!$T$3=0,\"\",(G点!$T$3))","v":""},null,null,{"$f":"IF(H点!$R$3=0,\"\",(H点!$R$3))","v":""},null,null,{"$f":"IF(H点!$S$3=0,\"\",(H点!$S$3))","v":""},null,null,{"$f":"IF(H点!$T$3=0,\"\",(H点!$T$3))","v":""},null,null,{"$f":"IF(Ｉ点!$R$3=0,\"\",(Ｉ点!$R$3))","v":""},null,null,{"$f":"IF(Ｉ点!$S$3=0,\"\",(Ｉ点!$S$3))","v":""},null,null,{"$f":"IF(Ｉ点!$T$3=0,\"\",(Ｉ点!$T$3))","v":""}]
[null,"E/Ka（表10）",null,null,{"$f":"IF(A点!$R$4=0,\"\",(A点!$R$4))","v":""},null,null,{"$f":"IF(A点!$S$4=0,\"\",(A点!$S$4))","v":""},null,null,{"$f":"IF(A点!$T$4=0,\"\",(A点!$T$4))","v":""},null,null,{"$f":"IF(B点!$R$4=0,\"\",(B点!$R$4))","v":""},null,null,{"$f":"IF(B点!$S$4=0,\"\",(B点!$S$4))","v":""},null,null,{"$f":"IF(B点!$T$4=0,\"\",(B点!$T$4))","v":""},null,null,{"$f":"IF(C点!$R$4=0,\"\",(C点!$R$4))","v":""},null,null,{"$f":"IF(C点!$S$4=0,\"\",(C点!$S$4))","v":""},null,null,{"$f":"IF(C点!$T$4=0,\"\",(C点!$T$4))","v":""},null,null,{"$f":"IF(D点!$R$4=0,\"\",(D点!$R$4))","v":""},null,null,{"$f":"IF(D点!$S$4=0,\"\",(D点!$S$4))","v":""},null,null,{"$f":"IF(D点!$T$4=0,\"\",(D点!$T$4))","v":""},null,null,{"$f":"IF(E点!$R$4=0,\"\",(E点!$R$4))","v":""},null,null,{"$f":"IF(E点!$S$4=0,\"\",(E点!$S$4))","v":""},null,null,{"$f":"IF(E点!$T$4=0,\"\",(E点!$T$4))","v":""},null,null,{"$f":"IF(F点!$R$4=0,\"\",(F点!$R$4))","v":""},null,null,{"$f":"IF(F点!$S$4=0,\"\",(F点!$S$4))","v":""},null,null,{"$f":"IF(F点!$T$4=0,\"\",(F点!$T$4))","v":""},null,null,{"$f":"IF(G点!$R$4=0,\"\",(G点!$R$4))","v":""},null,null,{"$f":"IF(G点!$S$4=0,\"\",(G点!$S$4))","v":""},null,null,{"$f":"IF(G点!$T$4=0,\"\",(G点!$T$4))","v":""},null,null,{"$f":"IF(H点!$R$4=0,\"\",(H点!$R$4))","v":""},null,null,{"$f":"IF(H点!$S$4=0,\"\",(H点!$S$4))","v":""},null,null,{"$f":"IF(H点!$T$4=0,\"\",(H点!$T$4))","v":""},null,null,{"$f":"IF(Ｉ点!$R$4=0,\"\",(Ｉ点!$R$4))","v":""},null,null,{"$f":"IF(Ｉ点!$S$4=0,\"\",(Ｉ点!$S$4))","v":""},null,null,{"$f":"IF(Ｉ点!$T$4=0,\"\",(Ｉ点!$T$4))","v":""}]
[null,"対向板Dt",null,null,{"$f":"IF(A点!$R$5=0,\"\",(A点!$R$5))","v":""},null,null,{"$f":"IF(A点!$S$5=0,\"\",(A点!$S$5))","v":""},null,null,{"$f":"IF(A点!$T$5=0,\"\",(A点!$T$5))","v":""},null,null,{"$f":"IF(B点!$R$5=0,\"\",(B点!$R$5))","v":""},null,null,{"$f":"IF(B点!$S$5=0,\"\",(B点!$S$5))","v":""},null,null,{"$f":"IF(B点!$T$5=0,\"\",(B点!$T$5))","v":""},null,null,{"$f":"IF(C点!$R$5=0,\"\",(C点!$R$5))","v":""},null,null,{"$f":"IF(C点!$S$5=0,\"\",(C点!$S$5))","v":""},null,null,{"$f":"IF(C点!$T$5=0,\"\",(C点!$T$5))","v":""},null,null,{"$f":"IF(D点!$R$5=0,\"\",(D点!$R$5))","v":""},null,null,{"$f":"IF(D点!$S$5=0,\"\",(D点!$S$5))","v":""},null,null,{"$f":"IF(D点!$T$5=0,\"\",(D点!$T$5))","v":""},null,null,{"$f":"IF(E点!$R$5=0,\"\",(E点!$R$5))","v":""},null,null,{"$f":"IF(E点!$S$5=0,\"\",(E点!$S$5))","v":""},null,null,{"$f":"IF(E点!$T$5=0,\"\",(E点!$T$5))","v":""},null,null,{"$f":"IF(F点!$R$5=0,\"\",(F点!$R$5))","v":""},null,null,{"$f":"IF(F点!$S$5=0,\"\",(F点!$S$5))","v":""},null,null,{"$f":"IF(F点!$T$5=0,\"\",(F点!$T$5))","v":""},null,null,{"$f":"IF(G点!$R$5=0,\"\",(G点!$R$5))","v":""},null,null,{"$f":"IF(G点!$S$5=0,\"\",(G点!$S$5))","v":""},null,null,{"$f":"IF(G点!$T$5=0,\"\",(G点!$T$5))","v":""},null,null,{"$f":"IF(H点!$R$5=0,\"\",(H点!$R$5))","v":""},null,null,{"$f":"IF(H点!$S$5=0,\"\",(H点!$S$5))","v":""},null,null,{"$f":"IF(H点!$T$5=0,\"\",(H点!$T$5))","v":""},null,null,{"$f":"IF(Ｉ点!$R$5=0,\"\",(Ｉ点!$R$5))","v":""},null,null,{"$f":"IF(Ｉ点!$S$5=0,\"\",(Ｉ点!$S$5))","v":""},null,null,{"$f":"IF(Ｉ点!$T$5=0,\"\",(Ｉ点!$T$5))","v":""}]
[null,"素材別",null,null,"A","A'","A\"","A","A'","A\"","A","A'","A\"","B","B'","B\"","B","B'","B\"","B","B'","B\"","C","C'","C\"","C","C'","C\"","C","C'","C\"","D","D'","D\"","D","D'","D\"","D","D'","D\"","E","E'","E\"","E","E'","E\"","E","E'","E\"","F","F'","F\"","F","F'","F\"","F","F'","F\"","G","G'","G\"","G","G'","G\"","G","G'","G\"","H","H'","H\"","H","H'","H\"","H","H'","H\"","I","I'","I\"","I","I'","I\"","I","I'","I\""]
[null,"Dt","a)　鉛(表2)",null,{"$f":"IF(OR($E$3=\"\",AND(A点!$M$9>0,A点!$S$8>0),A点!$G28*A点!$H28=1),\"\",IF(A点!$M$9>0,A点!$G28,A点!$H28))","v":""},{"$f":"IF(OR($E$3=\"\",AND(A点!$M$9>0,A点!$S$8>0),A点!$M28*A点!$N28=1),\"\",IF(A点!$M$9>0,A点!$M28,A点!$N28))","v":""},{"$f":"IF(OR($E$3=\"\",AND(A点!$M$9>0,A点!$S$8>0),A点!$S28*A点!$T28=1),\"\",IF(A点!$M$9>0,A点!$S28,A点!$T28))","v":""},{"$f":"IF(OR($H$3=\"\",AND(A点!$M$9>0,A点!$S$68>0),A点!$G88*A点!$H88=1),\"\",IF(A点!$M$9>0,A点!$G88,A点!$H88))","v":""},{"$f":"IF(OR($H$3=\"\",AND(A点!$M$9>0,A点!$S$68>0),A点!$M88*A点!$N88=1),\"\",IF(A点!$M$9>0,A点!$M88,A点!$N88))","v":""},{"$f":"IF(OR($H$3=\"\",AND(A点!$M$9>0,A点!$S$68>0),A点!$S88*A点!$T88=1),\"\",IF(A点!$M$9>0,A点!$S88,A点!$T88))","v":""},{"$f":"IF(OR($K$3=\"\",AND(A点!$M$9>0,A点!$S$128>0),A点!$G148*A点!$H148=1),\"\",IF(A点!$M$9>0,A点!$G148,A点!$H148))","v":""},{"$f":"IF(OR($K$3=\"\",AND(A点!$M$9>0,A点!$S$128>0),A点!$M148*A点!$N148=1),\"\",IF(A点!$M$9>0,A点!$M148,A点!$N148))","v":""},{"$f":"IF(OR($K$3=\"\",AND(A点!$M$9>0,A点!$S$128>0),A点!$S148*A点!$T148=1),\"\",IF(A点!$M$9>0,A点!$S148,A点!$T148))","v":""},{"$f":"IF(OR($N$3=\"\",AND(B点!$M$9>0,B点!$S$8>0),B点!$G28*B点!$H28=1),\"\",IF(B点!$M$9>0,B点!$G28,B点!$H28))","v":""},{"$f":"IF(OR($N$3=\"\",AND(B点!$M$9>0,B点!$S$8>0),B点!$M28*B点!$N28=1),\"\",IF(B点!$M$9>0,B点!$M28,B点!$N28))","v":""},{"$f":"IF(OR($N$3=\"\",AND(B点!$M$9>0,B点!$S$8>0),B点!$S28*B点!$T28=1),\"\",IF(B点!$M$9>0,B点!$S28,B点!$T28))","v":""},{"$f":"IF(OR($Q$3=\"\",AND(B点!$M$9>0,B点!$S$68>0),B点!$G88*B点!$H88=1),\"\",IF(B点!$M$9>0,B点!$G88,B点!$H88))","v":""},{"$f":"IF(OR($Q$3=\"\",AND(B点!$M$9>0,B点!$S$68>0),B点!$M88*B点!$N88=1),\"\",IF(B点!$M$9>0,B点!$M88,B点!$N88))","v":""},{"$f":"IF(OR($Q$3=\"\",AND(B点!$M$9>0,B点!$S$68>0),B点!$S88*B点!$T88=1),\"\",IF(B点!$M$9>0,B点!$S88,B点!$T88))","v":""},{"$f":"IF(OR($T$3=\"\",AND(B点!$M$9>0,B点!$S$128>0),B点!$G148*B点!$H148=1),\"\",IF(B点!$M$9>0,B点!$G148,B点!$H148))","v":""},{"$f":"IF(OR($T$3=\"\",AND(B点!$M$9>0,B点!$S$128>0),B点!$M148*B点!$N148=1),\"\",IF(B点!$M$9>0,B点!$M148,B点!$N148))","v":""},{"$f":"IF(OR($T$3=\"\",AND(B点!$M$9>0,B点!$S$128>0),B点!$S148*B点!$T148=1),\"\",IF(B点!$M$9>0,B点!$S148,B点!$T148))","v":""},{"$f":"IF(OR($W$3=\"\",AND(C点!$M$9>0,C点!$S$8>0),C点!$G28*C点!$H28=1),\"\",IF(C点!$M$9>0,C点!$G28,C点!$H28))","v":""},{"$f":"IF(OR($W$3=\"\",AND(C点!$M$9>0,C点!$S$8>0),C点!$M28*C点!$N28=1),\"\",IF(C点!$M$9>0,C点!$M28,C点!$N28))","v":""},{"$f":"IF(OR($W$3=\"\",AND(C点!$M$9>0,C点!$S$8>0),C点!$S28*C点!$T28=1),\"\",IF(C点!$M$9>0,C点!$S28,C点!$T28))","v":""},{"$f":"IF(OR($Z$3=\"\",AND(C点!$M$9>0,C点!$S$68>0),C点!$G88*C点!$H88=1),\"\",IF(C点!$M$9>0,C点!$G88,C点!$H88))","v":""},{"$f":"IF(OR($Z$3=\"\",AND(C点!$M$9>0,C点!$S$68>0),C点!$M88*C点!$N88=1),\"\",IF(C点!$M$9>0,C点!$M88,C点!$N88))","v":""},{"$f":"IF(OR($Z$3=\"\",AND(C点!$M$9>0,C点!$S$68>0),C点!$S88*C点!$T88=1),\"\",IF(C点!$M$9>0,C点!$S88,C点!$T88))","v":""},{"$f":"IF(OR($AC$3=\"\",AND(C点!$M$9>0,C点!$S$128>0),C点!$G148*C点!$H148=1),\"\",IF(C点!$M$9>0,C点!$G148,C点!$H148))","v":""},{"$f":"IF(OR($AC$3=\"\",AND(C点!$M$9>0,C点!$S$128>0),C点!$M148*C点!$N148=1),\"\",IF(C点!$M$9>0,C点!$M148,C点!$N148))","v":""},{"$f":"IF(OR($AC$3=\"\",AND(C点!$M$9>0,C点!$S$128>0),C点!$S148*C点!$T148=1),\"\",IF(C点!$M$9>0,C点!$S148,C点!$T148))","v":""},{"$f":"IF(OR($AF$3=\"\",AND(D点!$M$9>0,D点!$S$8>0),D点!$G28*D点!$H28=1),\"\",IF(D点!$M$9>0,D点!$G28,D点!$H28))","v":""},{"$f":"IF(OR($AF$3=\"\",AND(D点!$M$9>0,D点!$S$8>0),D点!$M28*D点!$N28=1),\"\",IF(D点!$M$9>0,D点!$M28,D点!$N28))","v":""},{"$f":"IF(OR($AF$3=\"\",AND(D点!$M$9>0,D点!$S$8>0),D点!$S28*D点!$T28=1),\"\",IF(D点!$M$9>0,D点!$S28,D点!$T28))","v":""},{"$f":"IF(OR($AI$3=\"\",AND(D点!$M$9>0,D点!$S$68>0),D点!$G88*D点!$H88=1),\"\",IF(D点!$M$9>0,D点!$G88,D点!$H88))","v":""},{"$f":"IF(OR($AI$3=\"\",AND(D点!$M$9>0,D点!$S$68>0),D点!$M88*D点!$N88=1),\"\",IF(D点!$M$9>0,D点!$M88,D点!$N88))","v":""},{"$f":"IF(OR($AI$3=\"\",AND(D点!$M$9>0,D点!$S$68>0),D点!$S88*D点!$T88=1),\"\",IF(D点!$M$9>0,D点!$S88,D点!$T88))","v":""},{"$f":"IF(OR($AL$3=\"\",AND(D点!$M$9>0,D点!$S$128>0),D点!$G148*D点!$H148=1),\"\",IF(D点!$M$9>0,D点!$G148,D点!$H148))","v":""},{"$f":"IF(OR($AL$3=\"\",AND(D点!$M$9>0,D点!$S$128>0),D点!$M148*D点!$N148=1),\"\",IF(D点!$M$9>0,D点!$M148,D点!$N148))","v":""},{"$f":"IF(OR($AL$3=\"\",AND(D点!$M$9>0,D点!$S$128>0),D点!$S148*D点!$T148=1),\"\",IF(D点!$M$9>0,D点!$S148,D点!$T148))","v":""},{"$f":"IF(OR($AO$3=\"\",AND(E点!$M$9>0,E点!$S$8>0),E点!$G28*E点!$H28=1),\"\",IF(E点!$M$9>0,E点!$G28,E点!$H28))","v":""},{"$f":"IF(OR($AO$3=\"\",AND(E点!$M$9>0,E点!$S$8>0),E点!$M28*E点!$N28=1),\"\",IF(E点!$M$9>0,E点!$M28,E点!$N28))","v":""},{"$f":"IF(OR($AO$3=\"\",AND(E点!$M$9>0,E点!$S$8>0),E点!$S28*E点!$T28=1),\"\",IF(E点!$M$9>0,E点!$S28,E点!$T28))","v":""},{"$f":"IF(OR($AR$3=\"\",AND(E点!$M$9>0,E点!$S$68>0),E点!$G88*E点!$H88=1),\"\",IF(E点!$M$9>0,E点!$G88,E点!$H88))","v":""},{"$f":"IF(OR($AR$3=\"\",AND(E点!$M$9>0,E点!$S$68>0),E点!$M88*E点!$N88=1),\"\",IF(E点!$M$9>0,E点!$M88,E点!$N88))","v":""},{"$f":"IF(OR($AR$3=\"\",AND(E点!$M$9>0,E点!$S$68>0),E点!$S88*E点!$T88=1),\"\",IF(E点!$M$9>0,E点!$S88,E点!$T88))","v":""},{"$f":"IF(OR($AU$3=\"\",AND(E点!$M$9>0,E点!$S$128>0),E点!$G148*E点!$H148=1),\"\",IF(E点!$M$9>0,E点!$G148,E点!$H148))","v":""},{"$f":"IF(OR($AU$3=\"\",AND(E点!$M$9>0,E点!$S$128>0),E点!$M148*E点!$N148=1),\"\",IF(E点!$M$9>0,E点!$M148,E点!$N148))","v":""},{"$f":"IF(OR($AU$3=\"\",AND(E点!$M$9>0,E点!$S$128>0),E点!$S148*E点!$T148=1),\"\",IF(E点!$M$9>0,E点!$S148,E点!$T148))","v":""},{"$f":"IF(OR($AX$3=\"\",AND(F点!$M$9>0,F点!$S$8>0),F点!$G28*F点!$H28=1),\"\",IF(F点!$M$9>0,F点!$G28,F点!$H28))","v":""},{"$f":"IF(OR($AX$3=\"\",AND(F点!$M$9>0,F点!$S$8>0),F点!$M28*F点!$N28=1),\"\",IF(F点!$M$9>0,F点!$M28,F点!$N28))","v":""},{"$f":"IF(OR($AX$3=\"\",AND(F点!$M$9>0,F点!$S$8>0),F点!$S28*F点!$T28=1),\"\",IF(F点!$M$9>0,F点!$S28,F点!$T28))","v":""},{"$f":"IF(OR($BA$3=\"\",AND(F点!$M$9>0,F点!$S$68>0),F点!$G88*F点!$H88=1),\"\",IF(F点!$M$9>0,F点!$G88,F点!$H88))","v":""},{"$f":"IF(OR($BA$3=\"\",AND(F点!$M$9>0,F点!$S$68>0),F点!$M88*F点!$N88=1),\"\",IF(F点!$M$9>0,F点!$M88,F点!$N88))","v":""},{"$f":"IF(OR($BA$3=\"\",AND(F点!$M$9>0,F点!$S$68>0),F点!$S88*F点!$T88=1),\"\",IF(F点!$M$9>0,F点!$S88,F点!$T88))","v":""},{"$f":"IF(OR($BD$3=\"\",AND(F点!$M$9>0,F点!$S$128>0),F点!$G148*F点!$H148=1),\"\",IF(F点!$M$9>0,F点!$G148,F点!$H148))","v":""},{"$f":"IF(OR($BD$3=\"\",AND(F点!$M$9>0,F点!$S$128>0),F点!$M148*F点!$N148=1),\"\",IF(F点!$M$9>0,F点!$M148,F点!$N148))","v":""},{"$f":"IF(OR($BD$3=\"\",AND(F点!$M$9>0,F点!$S$128>0),F点!$S148*F点!$T148=1),\"\",IF(F点!$M$9>0,F点!$S148,F点!$T148))","v":""},{"$f":"IF(OR($BG$3=\"\",AND(G点!$M$9>0,G点!$S$8>0),G点!$G28*G点!$H28=1),\"\",IF(G点!$M$9>0,G点!$G28,G点!$H28))","v":""},{"$f":"IF(OR($BG$3=\"\",AND(G点!$M$9>0,G点!$S$8>0),G点!$M28*G点!$N28=1),\"\",IF(G点!$M$9>0,G点!$M28,G点!$N28))","v":""},{"$f":"IF(OR($BG$3=\"\",AND(G点!$M$9>0,G点!$S$8>0),G点!$S28*G点!$T28=1),\"\",IF(G点!$M$9>0,G点!$S28,G点!$T28))","v":""},{"$f":"IF(OR($BJ$3=\"\",AND(G点!$M$9>0,G点!$S$68>0),G点!$G88*G点!$H88=1),\"\",IF(G点!$M$9>0,G点!$G88,G点!$H88))","v":""},{"$f":"IF(OR($BJ$3=\"\",AND(G点!$M$9>0,G点!$S$68>0),G点!$M88*G点!$N88=1),\"\",IF(G点!$M$9>0,G点!$M88,G点!$N88))","v":""},{"$f":"IF(OR($BJ$3=\"\",AND(G点!$M$9>0,G点!$S$68>0),G点!$S88*G点!$T88=1),\"\",IF(G点!$M$9>0,G点!$S88,G点!$T88))","v":""},{"$f":"IF(OR($BM$3=\"\",AND(G点!$M$9>0,G点!$S$128>0),G点!$G148*G点!$H148=1),\"\",IF(G点!$M$9>0,G点!$G148,G点!$H148))","v":""},{"$f":"IF(OR($BM$3=\"\",AND(G点!$M$9>0,G点!$S$128>0),G点!$M148*G点!$N148=1),\"\",IF(G点!$M$9>0,G点!$M148,G点!$N148))","v":""},{"$f":"IF(OR($BM$3=\"\",AND(G点!$M$9>0,G点!$S$128>0),G点!$S148*G点!$T148=1),\"\",IF(G点!$M$9>0,G点!$S148,G点!$T148))","v":""},{"$f":"IF(OR($BP$3=\"\",AND(H点!$M$9>0,H点!$S$8>0),H点!$G28*H点!$H28=1),\"\",IF(H点!$M$9>0,H点!$G28,H点!$H28))","v":""},{"$f":"IF(OR($BP$3=\"\",AND(H点!$M$9>0,H点!$S$8>0),H点!$M28*H点!$N28=1),\"\",IF(H点!$M$9>0,H点!$M28,H点!$N28))","v":""},{"$f":"IF(OR($BP$3=\"\",AND(H点!$M$9>0,H点!$S$8>0),H点!$S28*H点!$T28=1),\"\",IF(H点!$M$9>0,H点!$S28,H点!$T28))","v":""},{"$f":"IF(OR($BS$3=\"\",AND(H点!$M$9>0,H点!$S$68>0),H点!$G88*H点!$H88=1),\"\",IF(H点!$M$9>0,H点!$G88,H点!$H88))","v":""},{"$f":"IF(OR($BS$3=\"\",AND(H点!$M$9>0,H点!$S$68>0),H点!$M88*H点!$N88=1),\"\",IF(H点!$M$9>0,H点!$M88,H点!$N88))","v":""},{"$f":"IF(OR($BS$3=\"\",AND(H点!$M$9>0,H点!$S$68>0),H点!$S88*H点!$T88=1),\"\",IF(H点!$M$9>0,H点!$S88,H点!$T88))","v":""},{"$f":"IF(OR($BV$3=\"\",AND(H点!$M$9>0,H点!$S$128>0),H点!$G148*H点!$H148=1),\"\",IF(H点!$M$9>0,H点!$G148,H点!$H148))","v":""},{"$f":"IF(OR($BV$3=\"\",AND(H点!$M$9>0,H点!$S$128>0),H点!$M148*H点!$N148=1),\"\",IF(H点!$M$9>0,H点!$M148,H点!$N148))","v":""},{"$f":"IF(OR($BV$3=\"\",AND(H点!$M$9>0,H点!$S$128>0),H点!$S148*H点!$T148=1),\"\",IF(H点!$M$9>0,H点!$S148,H点!$T148))","v":""},{"$f":"IF(OR($BY$3=\"\",AND(Ｉ点!$M$9>0,Ｉ点!$S$8>0),Ｉ点!$G28*Ｉ点!$H28=1),\"\",IF(Ｉ点!$M$9>0,Ｉ点!$G28,Ｉ点!$H28))","v":""},{"$f":"IF(OR($BY$3=\"\",AND(Ｉ点!$M$9>0,Ｉ点!$S$8>0),Ｉ点!$M28*Ｉ点!$N28=1),\"\",IF(Ｉ点!$M$9>0,Ｉ点!$M28,Ｉ点!$N28))","v":""},{"$f":"IF(OR($BY$3=\"\",AND(Ｉ点!$M$9>0,Ｉ点!$S$8>0),Ｉ点!$S28*Ｉ点!$T28=1),\"\",IF(Ｉ点!$M$9>0,Ｉ点!$S28,Ｉ点!$T28))","v":""},{"$f":"IF(OR($CB$3=\"\",AND(Ｉ点!$M$9>0,Ｉ点!$S$68>0),Ｉ点!$G88*Ｉ点!$H88=1),\"\",IF(Ｉ点!$M$9>0,Ｉ点!$G88,Ｉ点!$H88))","v":""},{"$f":"IF(OR($CB$3=\"\",AND(Ｉ点!$M$9>0,Ｉ点!$S$68>0),Ｉ点!$M88*Ｉ点!$N88=1),\"\",IF(Ｉ点!$M$9>0,Ｉ点!$M88,Ｉ点!$N88))","v":""},{"$f":"IF(OR($CB$3=\"\",AND(Ｉ点!$M$9>0,Ｉ点!$S$68>0),Ｉ点!$S88*Ｉ点!$T88=1),\"\",IF(Ｉ点!$M$9>0,Ｉ点!$S88,Ｉ点!$T88))","v":""},{"$f":"IF(OR($CE$3=\"\",AND(Ｉ点!$M$9>0,Ｉ点!$S$128>0),Ｉ点!$G148*Ｉ点!$H148=1),\"\",IF(Ｉ点!$M$9>0,Ｉ点!$G148,Ｉ点!$H148))","v":""},{"$f":"IF(OR($CE$3=\"\",AND(Ｉ点!$M$9>0,Ｉ点!$S$128>0),Ｉ点!$M148*Ｉ点!$N148=1),\"\",IF(Ｉ点!$M$9>0,Ｉ点!$M148,Ｉ点!$N148))","v":""},{"$f":"IF(OR($CE$3=\"\",AND(Ｉ点!$M$9>0,Ｉ点!$S$128>0),Ｉ点!$S148*Ｉ点!$T148=1),\"\",IF(Ｉ点!$M$9>0,Ｉ点!$S148,Ｉ点!$T148))","v":""}]
[null,null,"b)　コンクリート(表3)",null,{"$f":"IF(OR($E$3=\"\",AND(A点!$M$9>0,A点!$S$8>0),A点!$G30*A点!$H30=1),\"\",IF(A点!$M$9>0,A点!$G30,A点!$H30))","v":""},{"$f":"IF(OR($E$3=\"\",AND(A点!$M$9>0,A点!$S$8>0),A点!$M30*A点!$N30=1),\"\",IF(A点!$M$9>0,A点!$M30,A点!$N30))","v":""},{"$f":"IF(OR($E$3=\"\",AND(A点!$M$9>0,A点!$S$8>0),A点!$S30*A点!$T30=1),\"\",IF(A点!$M$9>0,A点!$S30,A点!$T30))","v":""},{"$f":"IF(OR($H$3=\"\",AND(A点!$M$9>0,A点!$S$68>0),A点!$G90*A点!$H90=1),\"\",IF(A点!$M$9>0,A点!$G90,A点!$H90))","v":""},{"$f":"IF(OR($H$3=\"\",AND(A点!$M$9>0,A点!$S$68>0),A点!$M90*A点!$N90=1),\"\",IF(A点!$M$9>0,A点!$M90,A点!$N90))","v":""},{"$f":"IF(OR($H$3=\"\",AND(A点!$M$9>0,A点!$S$68>0),A点!$S90*A点!$T90=1),\"\",IF(A点!$M$9>0,A点!$S90,A点!$T90))","v":""},{"$f":"IF(OR($K$3=\"\",AND(A点!$M$9>0,A点!$S$128>0),A点!$G150*A点!$H150=1),\"\",IF(A点!$M$9>0,A点!$G150,A点!$H150))","v":""},{"$f":"IF(OR($K$3=\"\",AND(A点!$M$9>0,A点!$S$128>0),A点!$M150*A点!$N150=1),\"\",IF(A点!$M$9>0,A点!$M150,A点!$N150))","v":""},{"$f":"IF(OR($K$3=\"\",AND(A点!$M$9>0,A点!$S$128>0),A点!$S150*A点!$T150=1),\"\",IF(A点!$M$9>0,A点!$S150,A点!$T150))","v":""},{"$f":"IF(OR($N$3=\"\",AND(B点!$M$9>0,B点!$S$8>0),B点!$G30*B点!$H30=1),\"\",IF(B点!$M$9>0,B点!$G30,B点!$H30))","v":""},{"$f":"IF(OR($E$3=\"\",AND(B点!$M$9>0,B点!$S$8>0),B点!$M30*B点!$N30=1),\"\",IF(B点!$M$9>0,B点!$M30,B点!$N30))","v":""},{"$f":"IF(OR($E$3=\"\",AND(B点!$M$9>0,B点!$S$8>0),B点!$S30*B点!$T30=1),\"\",IF(B点!$M$9>0,B点!$S30,B点!$T30))","v":""},{"$f":"IF(OR($Q$3=\"\",AND(B点!$M$9>0,B点!$S$68>0),B点!$G90*B点!$H90=1),\"\",IF(B点!$M$9>0,B点!$G90,B点!$H90))","v":""},{"$f":"IF(OR($Q$3=\"\",AND(B点!$M$9>0,B点!$S$68>0),B点!$M90*B点!$N90=1),\"\",IF(B点!$M$9>0,B点!$M90,B点!$N90))","v":""},{"$f":"IF(OR($Q$3=\"\",AND(B点!$M$9>0,B点!$S$68>0),B点!$S90*B点!$T90=1),\"\",IF(B点!$M$9>0,B点!$S90,B点!$T90))","v":""},{"$f":"IF(OR($T$3=\"\",AND(B点!$M$9>0,B点!$S$128>0),B点!$G150*B点!$H150=1),\"\",IF(B点!$M$9>0,B点!$G150,B点!$H150))","v":""},{"$f":"IF(OR($K$3=\"\",AND(B点!$M$9>0,B点!$S$128>0),B点!$M150*B点!$N150=1),\"\",IF(B点!$M$9>0,B点!$M150,B点!$N150))","v":""},{"$f":"IF(OR($K$3=\"\",AND(B点!$M$9>0,B点!$S$128>0),B点!$S150*B点!$T150=1),\"\",IF(B点!$M$9>0,B点!$S150,B点!$T150))","v":""},{"$f":"IF(OR($W$3=\"\",AND(C点!$M$9>0,C点!$S$8>0),C点!$G30*C点!$H30=1),\"\",IF(C点!$M$9>0,C点!$G30,C点!$H30))","v":""},{"$f":"IF(OR($W$3=\"\",AND(C点!$M$9>0,C点!$S$8>0),C点!$M30*C点!$N30=1),\"\",IF(C点!$M$9>0,C点!$M30,C点!$N30))","v":""},{"$f":"IF(OR($W$3=\"\",AND(C点!$M$9>0,C点!$S$8>0),C点!$S30*C点!$T30=1),\"\",IF(C点!$M$9>0,C点!$S30,C点!$T30))","v":""},{"$f":"IF(OR($Z$3=\"\",AND(C点!$M$9>0,C点!$S$68>0),C点!$G90*C点!$H90=1),\"\",IF(C点!$M$9>0,C点!$G90,C点!$H90))","v":""},{"$f":"IF(OR($Z$3=\"\",AND(C点!$M$9>0,C点!$S$68>0),C点!$M90*C点!$N90=1),\"\",IF(C点!$M$9>0,C点!$M90,C点!$N90))","v":""},{"$f":"IF(OR($Z$3=\"\",AND(C点!$M$9>0,C点!$S$68>0),C点!$S90*C点!$T90=1),\"\",IF(C点!$M$9>0,C点!$S90,C点!$T90))","v":""},{"$f":"IF(OR($AC$3=\"\",AND(C点!$M$9>0,C点!$S$128>0),C点!$G150*C点!$H150=1),\"\",IF(C点!$M$9>0,C点!$G150,C点!$H150))","v":""},{"$f":"IF(OR($AC$3=\"\",AND(C点!$M$9>0,C点!$S$128>0),C点!$M150*C点!$N150=1),\"\",IF(C点!$M$9>0,C点!$M150,C点!$N150))","v":""},{"$f":"IF(OR($AC$3=\"\",AND(C点!$M$9>0,C点!$S$128>0),C点!$S150*C点!$T150=1),\"\",IF(C点!$M$9>0,C点!$S150,C点!$T150))","v":""},{"$f":"IF(OR($AF$3=\"\",AND(D点!$M$9>0,D点!$S$8>0),D点!$G30*D点!$H30=1),\"\",IF(D点!$M$9>0,D点!$G30,D点!$H30))","v":""},{"$f":"IF(OR($AF$3=\"\",AND(D点!$M$9>0,D点!$S$8>0),D点!$M30*D点!$N30=1),\"\",IF(D点!$M$9>0,D点!$M30,D点!$N30))","v":""},{"$f":"IF(OR($AF$3=\"\",AND(D点!$M$9>0,D点!$S$8>0),D点!$S30*D点!$T30=1),\"\",IF(D点!$M$9>0,D点!$S30,D点!$T30))","v":""},{"$f":"IF(OR($AI$3=\"\",AND(D点!$M$9>0,D点!$S$68>0),D点!$G90*D点!$H90=1),\"\",IF(D点!$M$9>0,D点!$G90,D点!$H90))","v":""},{"$f":"IF(OR($AI$3=\"\",AND(D点!$M$9>0,D点!$S$68>0),D点!$M90*D点!$N90=1),\"\",IF(D点!$M$9>0,D点!$M90,D点!$N90))","v":""},{"$f":"IF(OR($AI$3=\"\",AND(D点!$M$9>0,D点!$S$68>0),D点!$S90*D点!$T90=1),\"\",IF(D点!$M$9>0,D点!$S90,D点!$T90))","v":""},{"$f":"IF(OR($AL$3=\"\",AND(D点!$M$9>0,D点!$S$128>0),D点!$G150*D点!$H150=1),\"\",IF(D点!$M$9>0,D点!$G150,D点!$H150))","v":""},{"$f":"IF(OR($AL$3=\"\",AND(D点!$M$9>0,D点!$S$128>0),D点!$M150*D点!$N150=1),\"\",IF(D点!$M$9>0,D点!$M150,D点!$N150))","v":""},{"$f":"IF(OR($AL$3=\"\",AND(D点!$M$9>0,D点!$S$128>0),D点!$S150*D点!$T150=1),\"\",IF(D点!$M$9>0,D点!$S150,D点!$T150))","v":""},{"$f":"IF(OR($AO$3=\"\",AND(E点!$M$9>0,E点!$S$8>0),E点!$G30*E点!$H30=1),\"\",IF(E点!$M$9>0,E点!$G30,E点!$H30))","v":""},{"$f":"IF(OR($AO$3=\"\",AND(E点!$M$9>0,E点!$S$8>0),E点!$M30*E点!$N30=1),\"\",IF(E点!$M$9>0,E点!$M30,E点!$N30))","v":""},{"$f":"IF(OR($AO$3=\"\",AND(E点!$M$9>0,E点!$S$8>0),E点!$S30*E点!$T30=1),\"\",IF(E点!$M$9>0,E点!$S30,E点!$T30))","v":""},{"$f":"IF(OR($AR$3=\"\",AND(E点!$M$9>0,E点!$S$68>0),E点!$G90*E点!$H90=1),\"\",IF(E点!$M$9>0,E点!$G90,E点!$H90))","v":""},{"$f":"IF(OR($AR$3=\"\",AND(E点!$M$9>0,E点!$S$68>0),E点!$M90*E点!$N90=1),\"\",IF(E点!$M$9>0,E点!$M90,E点!$N90))","v":""},{"$f":"IF(OR($AR$3=\"\",AND(E点!$M$9>0,E点!$S$68>0),E点!$S90*E点!$T90=1),\"\",IF(E点!$M$9>0,E点!$S90,E点!$T90))","v":""},{"$f":"IF(OR($AU$3=\"\",AND(E点!$M$9>0,E点!$S$128>0),E点!$G150*E点!$H150=1),\"\",IF(E点!$M$9>0,E点!$G150,E点!$H150))","v":""},{"$f":"IF(OR($AU$3=\"\",AND(E点!$M$9>0,E点!$S$128>0),E点!$M150*E点!$N150=1),\"\",IF(E点!$M$9>0,E点!$M150,E点!$N150))","v":""},{"$f":"IF(OR($AU$3=\"\",AND(E点!$M$9>0,E点!$S$128>0),E点!$S150*E点!$T150=1),\"\",IF(E点!$M$9>0,E点!$S150,E点!$T150))","v":""},{"$f":"IF(OR($AX$3=\"\",AND(F点!$M$9>0,F点!$S$8>0),F点!$G30*F点!$H30=1),\"\",IF(F点!$M$9>0,F点!$G30,F点!$H30))","v":""},{"$f":"IF(OR($AX$3=\"\",AND(F点!$M$9>0,F点!$S$8>0),F点!$M30*F点!$N30=1),\"\",IF(F点!$M$9>0,F点!$M30,F点!$N30))","v":""},{"$f":"IF(OR($AX$3=\"\",AND(F点!$M$9>0,F点!$S$8>0),F点!$S30*F点!$T30=1),\"\",IF(F点!$M$9>0,F点!$S30,F点!$T30))","v":""},{"$f":"IF(OR($BA$3=\"\",AND(F点!$M$9>0,F点!$S$68>0),F点!$G90*F点!$H90=1),\"\",IF(F点!$M$9>0,F点!$G90,F点!$H90))","v":""},{"$f":"IF(OR($BA$3=\"\",AND(F点!$M$9>0,F点!$S$68>0),F点!$M90*F点!$N90=1),\"\",IF(F点!$M$9>0,F点!$M90,F点!$N90))","v":""},{"$f":"IF(OR($BA$3=\"\",AND(F点!$M$9>0,F点!$S$68>0),F点!$S90*F点!$T90=1),\"\",IF(F点!$M$9>0,F点!$S90,F点!$T90))","v":""},{"$f":"IF(OR($BD$3=\"\",AND(F点!$M$9>0,F点!$S$128>0),F点!$G150*F点!$H150=1),\"\",IF(F点!$M$9>0,F点!$G150,F点!$H150))","v":""},{"$f":"IF(OR($BD$3=\"\",AND(F点!$M$9>0,F点!$S$128>0),F点!$M150*F点!$N150=1),\"\",IF(F点!$M$9>0,F点!$M150,F点!$N150))","v":""},{"$f":"IF(OR($BD$3=\"\",AND(F点!$M$9>0,F点!$S$128>0),F点!$S150*F点!$T150=1),\"\",IF(F点!$M$9>0,F点!$S150,F点!$T150))","v":""},{"$f":"IF(OR($BG$3=\"\",AND(G点!$M$9>0,G点!$S$8>0),G点!$G30*G点!$H30=1),\"\",IF(G点!$M$9>0,G点!$G30,G点!$H30))","v":""},{"$f":"IF(OR($BG$3=\"\",AND(G点!$M$9>0,G点!$S$8>0),G点!$M30*G点!$N30=1),\"\",IF(G点!$M$9>0,G点!$M30,G点!$N30))","v":""},{"$f":"IF(OR($BG$3=\"\",AND(G点!$M$9>0,G点!$S$8>0),G点!$S30*G点!$T30=1),\"\",IF(G点!$M$9>0,G点!$S30,G点!$T30))","v":""},{"$f":"IF(OR($BJ$3=\"\",AND(G点!$M$9>0,G点!$S$68>0),G点!$G90*G点!$H90=1),\"\",IF(G点!$M$9>0,G点!$G90,G点!$H90))","v":""},{"$f":"IF(OR($BJ$3=\"\",AND(G点!$M$9>0,G点!$S$68>0),G点!$M90*G点!$N90=1),\"\",IF(G点!$M$9>0,G点!$M90,G点!$N90))","v":""},{"$f":"IF(OR($BJ$3=\"\",AND(G点!$M$9>0,G点!$S$68>0),G点!$S90*G点!$T90=1),\"\",IF(G点!$M$9>0,G点!$S90,G点!$T90))","v":""},{"$f":"IF(OR($BM$3=\"\",AND(G点!$M$9>0,G点!$S$128>0),G点!$G150*G点!$H150=1),\"\",IF(G点!$M$9>0,G点!$G150,G点!$H150))","v":""},{"$f":"IF(OR($BM$3=\"\",AND(G点!$M$9>0,G点!$S$128>0),G点!$M150*G点!$N150=1),\"\",IF(G点!$M$9>0,G点!$M150,G点!$N150))","v":""},{"$f":"IF(OR($BM$3=\"\",AND(G点!$M$9>0,G点!$S$128>0),G点!$S150*G点!$T150=1),\"\",IF(G点!$M$9>0,G点!$S150,G点!$T150))","v":""},{"$f":"IF(OR($BP$3=\"\",AND(H点!$M$9>0,H点!$S$8>0),H点!$G30*H点!$H30=1),\"\",IF(H点!$M$9>0,H点!$G30,H点!$H30))","v":""},{"$f":"IF(OR($BP$3=\"\",AND(H点!$M$9>0,H点!$S$8>0),H点!$M30*H点!$N30=1),\"\",IF(H点!$M$9>0,H点!$M30,H点!$N30))","v":""},{"$f":"IF(OR($BP$3=\"\",AND(H点!$M$9>0,H点!$S$8>0),H点!$S30*H点!$T30=1),\"\",IF(H点!$M$9>0,H点!$S30,H点!$T30))","v":""},{"$f":"IF(OR($BS$3=\"\",AND(H点!$M$9>0,H点!$S$68>0),H点!$G90*H点!$H90=1),\"\",IF(H点!$M$9>0,H点!$G90,H点!$H90))","v":""},{"$f":"IF(OR($BS$3=\"\",AND(H点!$M$9>0,H点!$S$68>0),H点!$M90*H点!$N90=1),\"\",IF(H点!$M$9>0,H点!$M90,H点!$N90))","v":""},{"$f":"IF(OR($BS$3=\"\",AND(H点!$M$9>0,H点!$S$68>0),H点!$S90*H点!$T90=1),\"\",IF(H点!$M$9>0,H点!$S90,H点!$T90))","v":""},{"$f":"IF(OR($BV$3=\"\",AND(H点!$M$9>0,H点!$S$128>0),H点!$G150*H点!$H150=1),\"\",IF(H点!$M$9>0,H点!$G150,H点!$H150))","v":""},{"$f":"IF(OR($BV$3=\"\",AND(H点!$M$9>0,H点!$S$128>0),H点!$M150*H点!$N150=1),\"\",IF(H点!$M$9>0,H点!$M150,H点!$N150))","v":""},{"$f":"IF(OR($BV$3=\"\",AND(H点!$M$9>0,H点!$S$128>0),H点!$S150*H点!$T150=1),\"\",IF(H点!$M$9>0,H点!$S150,H点!$T150))","v":""},{"$f":"IF(OR($BY$3=\"\",AND(Ｉ点!$M$9>0,Ｉ点!$S$8>0),Ｉ点!$G30*Ｉ点!$H30=1),\"\",IF(Ｉ点!$M$9>0,Ｉ点!$G30,Ｉ点!$H30))","v":""},{"$f":"IF(OR($BY$3=\"\",AND(Ｉ点!$M$9>0,Ｉ点!$S$8>0),Ｉ点!$M30*Ｉ点!$N30=1),\"\",IF(Ｉ点!$M$9>0,Ｉ点!$M30,Ｉ点!$N30))","v":""},{"$f":"IF(OR($BY$3=\"\",AND(Ｉ点!$M$9>0,Ｉ点!$S$8>0),Ｉ点!$S30*Ｉ点!$T30=1),\"\",IF(Ｉ点!$M$9>0,Ｉ点!$S30,Ｉ点!$T30))","v":""},{"$f":"IF(OR($CB$3=\"\",AND(Ｉ点!$M$9>0,Ｉ点!$S$68>0),Ｉ点!$G90*Ｉ点!$H90=1),\"\",IF(Ｉ点!$M$9>0,Ｉ点!$G90,Ｉ点!$H90))","v":""},{"$f":"IF(OR($CB$3=\"\",AND(Ｉ点!$M$9>0,Ｉ点!$S$68>0),Ｉ点!$M90*Ｉ点!$N90=1),\"\",IF(Ｉ点!$M$9>0,Ｉ点!$M90,Ｉ点!$N90))","v":""},{"$f":"IF(OR($CB$3=\"\",AND(Ｉ点!$M$9>0,Ｉ点!$S$68>0),Ｉ点!$S90*Ｉ点!$T90=1),\"\",IF(Ｉ点!$M$9>0,Ｉ点!$S90,Ｉ点!$T90))","v":""},{"$f":"IF(OR($CE$3=\"\",AND(Ｉ点!$M$9>0,Ｉ点!$S$128>0),Ｉ点!$G150*Ｉ点!$H150=1),\"\",IF(Ｉ点!$M$9>0,Ｉ点!$G150,Ｉ点!$H150))","v":""},{"$f":"IF(OR($CE$3=\"\",AND(Ｉ点!$M$9>0,Ｉ点!$S$128>0),Ｉ点!$M150*Ｉ点!$N150=1),\"\",IF(Ｉ点!$M$9>0,Ｉ点!$M150,Ｉ点!$N150))","v":""},{"$f":"IF(OR($CE$3=\"\",AND(Ｉ点!$M$9>0,Ｉ点!$S$128>0),Ｉ点!$S150*Ｉ点!$T150=1),\"\",IF(Ｉ点!$M$9>0,Ｉ点!$S150,Ｉ点!$T150))","v":""}]
[null,null,"c)　鉄(表4)",null,{"$f":"IF(OR($E$3=\"\",AND(A点!$M$9>0,A点!$S$8>0),A点!$G32*A点!$H32=1),\"\",IF(A点!$M$9>0,A点!$G32,A点!$H32))","v":""},{"$f":"IF(OR($E$3=\"\",AND(A点!$M$9>0,A点!$S$8>0),A点!$M32*A点!$N32=1),\"\",IF(A点!$M$9>0,A点!$M32,A点!$N32))","v":""},{"$f":"IF(OR($E$3=\"\",AND(A点!$M$9>0,A点!$S$8>0),A点!$S32*A点!$T32=1),\"\",IF(A点!$M$9>0,A点!$S32,A点!$T32))","v":""},{"$f":"IF(OR($H$3=\"\",AND(A点!$M$9>0,A点!$S$68>0),A点!$G92*A点!$H92=1),\"\",IF(A点!$M$9>0,A点!$G92,A点!$H92))","v":""},{"$f":"IF(OR($H$3=\"\",AND(A点!$M$9>0,A点!$S$68>0),A点!$M92*A点!$N92=1),\"\",IF(A点!$M$9>0,A点!$M92,A点!$N92))","v":""},{"$f":"IF(OR($H$3=\"\",AND(A点!$M$9>0,A点!$S$68>0),A点!$S92*A点!$T92=1),\"\",IF(A点!$M$9>0,A点!$S92,A点!$T92))","v":""},{"$f":"IF(OR($K$3=\"\",AND(A点!$M$9>0,A点!$S$128>0),A点!$G152*A点!$H152=1),\"\",IF(A点!$M$9>0,A点!$G152,A点!$H152))","v":""},{"$f":"IF(OR($K$3=\"\",AND(A点!$M$9>0,A点!$S$128>0),A点!$M152*A点!$N152=1),\"\",IF(A点!$M$9>0,A点!$M152,A点!$N152))","v":""},{"$f":"IF(OR($K$3=\"\",AND(A点!$M$9>0,A点!$S$128>0),A点!$S152*A点!$T152=1),\"\",IF(A点!$M$9>0,A点!$S152,A点!$T152))","v":""},{"$f":"IF(OR($N$3=\"\",AND(B点!$M$9>0,B点!$S$8>0),B点!$G32*B点!$H32=1),\"\",IF(B点!$M$9>0,B点!$G32,B点!$H32))","v":""},{"$f":"IF(OR($E$3=\"\",AND(B点!$M$9>0,B点!$S$8>0),B点!$M32*B点!$N32=1),\"\",IF(B点!$M$9>0,B点!$M32,B点!$N32))","v":""},{"$f":"IF(OR($E$3=\"\",AND(B点!$M$9>0,B点!$S$8>0),B点!$S32*B点!$T32=1),\"\",IF(B点!$M$9>0,B点!$S32,B点!$T32))","v":""},{"$f":"IF(OR($Q$3=\"\",AND(B点!$M$9>0,B点!$S$68>0),B点!$G92*B点!$H92=1),\"\",IF(B点!$M$9>0,B点!$G92,B点!$H92))","v":""},{"$f":"IF(OR($Q$3=\"\",AND(B点!$M$9>0,B点!$S$68>0),B点!$M92*B点!$N92=1),\"\",IF(B点!$M$9>0,B点!$M92,B点!$N92))","v":""},{"$f":"IF(OR($Q$3=\"\",AND(B点!$M$9>0,B点!$S$68>0),B点!$S92*B点!$T92=1),\"\",IF(B点!$M$9>0,B点!$S92,B点!$T92))","v":""},{"$f":"IF(OR($T$3=\"\",AND(B点!$M$9>0,B点!$S$128>0),B点!$G152*B点!$H152=1),\"\",IF(B点!$M$9>0,B点!$G152,B点!$H152))","v":""},{"$f":"IF(OR($K$3=\"\",AND(B点!$M$9>0,B点!$S$128>0),B点!$M152*B点!$N152=1),\"\",IF(B点!$M$9>0,B点!$M152,B点!$N152))","v":""},{"$f":"IF(OR($K$3=\"\",AND(B点!$M$9>0,B点!$S$128>0),B点!$S152*B点!$T152=1),\"\",IF(B点!$M$9>0,B点!$S152,B点!$T152))","v":""},{"$f":"IF(OR($W$3=\"\",AND(C点!$M$9>0,C点!$S$8>0),C点!$G32*C点!$H32=1),\"\",IF(C点!$M$9>0,C点!$G32,C点!$H32))","v":""},{"$f":"IF(OR($W$3=\"\",AND(C点!$M$9>0,C点!$S$8>0),C点!$M32*C点!$N32=1),\"\",IF(C点!$M$9>0,C点!$M32,C点!$N32))","v":""},{"$f":"IF(OR($W$3=\"\",AND(C点!$M$9>0,C点!$S$8>0),C点!$S32*C点!$T32=1),\"\",IF(C点!$M$9>0,C点!$S32,C点!$T32))","v":""},{"$f":"IF(OR($Z$3=\"\",AND(C点!$M$9>0,C点!$S$68>0),C点!$G92*C点!$H92=1),\"\",IF(C点!$M$9>0,C点!$G92,C点!$H92))","v":""},{"$f":"IF(OR($Z$3=\"\",AND(C点!$M$9>0,C点!$S$68>0),C点!$M92*C点!$N92=1),\"\",IF(C点!$M$9>0,C点!$M92,C点!$N92))","v":""},{"$f":"IF(OR($Z$3=\"\",AND(C点!$M$9>0,C点!$S$68>0),C点!$S92*C点!$T92=1),\"\",IF(C点!$M$9>0,C点!$S92,C点!$T92))","v":""},{"$f":"IF(OR($AC$3=\"\",AND(C点!$M$9>0,C点!$S$128>0),C点!$G152*C点!$H152=1),\"\",IF(C点!$M$9>0,C点!$G152,C点!$H152))","v":""},{"$f":"IF(OR($AC$3=\"\",AND(C点!$M$9>0,C点!$S$128>0),C点!$M152*C点!$N152=1),\"\",IF(C点!$M$9>0,C点!$M152,C点!$N152))","v":""},{"$f":"IF(OR($AC$3=\"\",AND(C点!$M$9>0,C点!$S$128>0),C点!$S152*C点!$T152=1),\"\",IF(C点!$M$9>0,C点!$S152,C点!$T152))","v":""},{"$f":"IF(OR($AF$3=\"\",AND(D点!$M$9>0,D点!$S$8>0),D点!$G32*D点!$H32=1),\"\",IF(D点!$M$9>0,D点!$G32,D点!$H32))","v":""},{"$f":"IF(OR($AF$3=\"\",AND(D点!$M$9>0,D点!$S$8>0),D点!$M32*D点!$N32=1),\"\",IF(D点!$M$9>0,D点!$M32,D点!$N32))","v":""},{"$f":"IF(OR($AF$3=\"\",AND(D点!$M$9>0,D点!$S$8>0),D点!$S32*D点!$T32=1),\"\",IF(D点!$M$9>0,D点!$S32,D点!$T32))","v":""},{"$f":"IF(OR($AI$3=\"\",AND(D点!$M$9>0,D点!$S$68>0),D点!$G92*D点!$H92=1),\"\",IF(D点!$M$9>0,D点!$G92,D点!$H92))","v":""},{"$f":"IF(OR($AI$3=\"\",AND(D点!$M$9>0,D点!$S$68>0),D点!$M92*D点!$N92=1),\"\",IF(D点!$M$9>0,D点!$M92,D点!$N92))","v":""},{"$f":"IF(OR($AI$3=\"\",AND(D点!$M$9>0,D点!$S$68>0),D点!$S92*D点!$T92=1),\"\",IF(D点!$M$9>0,D点!$S92,D点!$T92))","v":""},{"$f":"IF(OR($AL$3=\"\",AND(D点!$M$9>0,D点!$S$128>0),D点!$G152*D点!$H152=1),\"\",IF(D点!$M$9>0,D点!$G152,D点!$H152))","v":""},{"$f":"IF(OR($AL$3=\"\",AND(D点!$M$9>0,D点!$S$128>0),D点!$M152*D点!$N152=1),\"\",IF(D点!$M$9>0,D点!$M152,D点!$N152))","v":""},{"$f":"IF(OR($AL$3=\"\",AND(D点!$M$9>0,D点!$S$128>0),D点!$S152*D点!$T152=1),\"\",IF(D点!$M$9>0,D点!$S152,D点!$T152))","v":""},{"$f":"IF(OR($AO$3=\"\",AND(E点!$M$9>0,E点!$S$8>0),E点!$G32*E点!$H32=1),\"\",IF(E点!$M$9>0,E点!$G32,E点!$H32))","v":""},{"$f":"IF(OR($AO$3=\"\",AND(E点!$M$9>0,E点!$S$8>0),E点!$M32*E点!$N32=1),\"\",IF(E点!$M$9>0,E点!$M32,E点!$N32))","v":""},{"$f":"IF(OR($AO$3=\"\",AND(E点!$M$9>0,E点!$S$8>0),E点!$S32*E点!$T32=1),\"\",IF(E点!$M$9>0,E点!$S32,E点!$T32))","v":""},{"$f":"IF(OR($AR$3=\"\",AND(E点!$M$9>0,E点!$S$68>0),E点!$G92*E点!$H92=1),\"\",IF(E点!$M$9>0,E点!$G92,E点!$H92))","v":""},{"$f":"IF(OR($AR$3=\"\",AND(E点!$M$9>0,E点!$S$68>0),E点!$M92*E点!$N92=1),\"\",IF(E点!$M$9>0,E点!$M92,E点!$N92))","v":""},{"$f":"IF(OR($AR$3=\"\",AND(E点!$M$9>0,E点!$S$68>0),E点!$S92*E点!$T92=1),\"\",IF(E点!$M$9>0,E点!$S92,E点!$T92))","v":""},{"$f":"IF(OR($AU$3=\"\",AND(E点!$M$9>0,E点!$S$128>0),E点!$G152*E点!$H152=1),\"\",IF(E点!$M$9>0,E点!$G152,E点!$H152))","v":""},{"$f":"IF(OR($AU$3=\"\",AND(E点!$M$9>0,E点!$S$128>0),E点!$M152*E点!$N152=1),\"\",IF(E点!$M$9>0,E点!$M152,E点!$N152))","v":""},{"$f":"IF(OR($AU$3=\"\",AND(E点!$M$9>0,E点!$S$128>0),E点!$S152*E点!$T152=1),\"\",IF(E点!$M$9>0,E点!$S152,E点!$T152))","v":""},{"$f":"IF(OR($AX$3=\"\",AND(F点!$M$9>0,F点!$S$8>0),F点!$G32*F点!$H32=1),\"\",IF(F点!$M$9>0,F点!$G32,F点!$H32))","v":""},{"$f":"IF(OR($AX$3=\"\",AND(F点!$M$9>0,F点!$S$8>0),F点!$M32*F点!$N32=1),\"\",IF(F点!$M$9>0,F点!$M32,F点!$N32))","v":""},{"$f":"IF(OR($AX$3=\"\",AND(F点!$M$9>0,F点!$S$8>0),F点!$S32*F点!$T32=1),\"\",IF(F点!$M$9>0,F点!$S32,F点!$T32))","v":""},{"$f":"IF(OR($BA$3=\"\",AND(F点!$M$9>0,F点!$S$68>0),F点!$G92*F点!$H92=1),\"\",IF(F点!$M$9>0,F点!$G92,F点!$H92))","v":""},{"$f":"IF(OR($BA$3=\"\",AND(F点!$M$9>0,F点!$S$68>0),F点!$M92*F点!$N92=1),\"\",IF(F点!$M$9>0,F点!$M92,F点!$N92))","v":""},{"$f":"IF(OR($BA$3=\"\",AND(F点!$M$9>0,F点!$S$68>0),F点!$S92*F点!$T92=1),\"\",IF(F点!$M$9>0,F点!$S92,F点!$T92))","v":""},{"$f":"IF(OR($BD$3=\"\",AND(F点!$M$9>0,F点!$S$128>0),F点!$G152*F点!$H152=1),\"\",IF(F点!$M$9>0,F点!$G152,F点!$H152))","v":""},{"$f":"IF(OR($BD$3=\"\",AND(F点!$M$9>0,F点!$S$128>0),F点!$M152*F点!$N152=1),\"\",IF(F点!$M$9>0,F点!$M152,F点!$N152))","v":""},{"$f":"IF(OR($BD$3=\"\",AND(F点!$M$9>0,F点!$S$128>0),F点!$S152*F点!$T152=1),\"\",IF(F点!$M$9>0,F点!$S152,F点!$T152))","v":""},{"$f":"IF(OR($BG$3=\"\",AND(G点!$M$9>0,G点!$S$8>0),G点!$G32*G点!$H32=1),\"\",IF(G点!$M$9>0,G点!$G32,G点!$H32))","v":""},{"$f":"IF(OR($BG$3=\"\",AND(G点!$M$9>0,G点!$S$8>0),G点!$M32*G点!$N32=1),\"\",IF(G点!$M$9>0,G点!$M32,G点!$N32))","v":""},{"$f":"IF(OR($BG$3=\"\",AND(G点!$M$9>0,G点!$S$8>0),G点!$S32*G点!$T32=1),\"\",IF(G点!$M$9>0,G点!$S32,G点!$T32))","v":""},{"$f":"IF(OR($BJ$3=\"\",AND(G点!$M$9>0,G点!$S$68>0),G点!$G92*G点!$H92=1),\"\",IF(G点!$M$9>0,G点!$G92,G点!$H92))","v":""},{"$f":"IF(OR($BJ$3=\"\",AND(G点!$M$9>0,G点!$S$68>0),G点!$M92*G点!$N92=1),\"\",IF(G点!$M$9>0,G点!$M92,G点!$N92))","v":""},{"$f":"IF(OR($BJ$3=\"\",AND(G点!$M$9>0,G点!$S$68>0),G点!$S92*G点!$T92=1),\"\",IF(G点!$M$9>0,G点!$S92,G点!$T92))","v":""},{"$f":"IF(OR($BM$3=\"\",AND(G点!$M$9>0,G点!$S$128>0),G点!$G152*G点!$H152=1),\"\",IF(G点!$M$9>0,G点!$G152,G点!$H152))","v":""},{"$f":"IF(OR($BM$3=\"\",AND(G点!$M$9>0,G点!$S$128>0),G点!$M152*G点!$N152=1),\"\",IF(G点!$M$9>0,G点!$M152,G点!$N152))","v":""},{"$f":"IF(OR($BM$3=\"\",AND(G点!$M$9>0,G点!$S$128>0),G点!$S152*G点!$T152=1),\"\",IF(G点!$M$9>0,G点!$S152,G点!$T152))","v":""},{"$f":"IF(OR($BP$3=\"\",AND(H点!$M$9>0,H点!$S$8>0),H点!$G32*H点!$H32=1),\"\",IF(H点!$M$9>0,H点!$G32,H点!$H32))","v":""},{"$f":"IF(OR($BP$3=\"\",AND(H点!$M$9>0,H点!$S$8>0),H点!$M32*H点!$N32=1),\"\",IF(H点!$M$9>0,H点!$M32,H点!$N32))","v":""},{"$f":"IF(OR($BP$3=\"\",AND(H点!$M$9>0,H点!$S$8>0),H点!$S32*H点!$T32=1),\"\",IF(H点!$M$9>0,H点!$S32,H点!$T32))","v":""},{"$f":"IF(OR($BS$3=\"\",AND(H点!$M$9>0,H点!$S$68>0),H点!$G92*H点!$H92=1),\"\",IF(H点!$M$9>0,H点!$G92,H点!$H92))","v":""},{"$f":"IF(OR($BS$3=\"\",AND(H点!$M$9>0,H点!$S$68>0),H点!$M92*H点!$N92=1),\"\",IF(H点!$M$9>0,H点!$M92,H点!$N92))","v":""},{"$f":"IF(OR($BS$3=\"\",AND(H点!$M$9>0,H点!$S$68>0),H点!$S92*H点!$T92=1),\"\",IF(H点!$M$9>0,H点!$S92,H点!$T92))","v":""},{"$f":"IF(OR($BV$3=\"\",AND(H点!$M$9>0,H点!$S$128>0),H点!$G152*H点!$H152=1),\"\",IF(H点!$M$9>0,H点!$G152,H点!$H152))","v":""},{"$f":"IF(OR($BV$3=\"\",AND(H点!$M$9>0,H点!$S$128>0),H点!$M152*H点!$N152=1),\"\",IF(H点!$M$9>0,H点!$M152,H点!$N152))","v":""},{"$f":"IF(OR($BV$3=\"\",AND(H点!$M$9>0,H点!$S$128>0),H点!$S152*H点!$T152=1),\"\",IF(H点!$M$9>0,H点!$S152,H点!$T152))","v":""},{"$f":"IF(OR($BY$3=\"\",AND(Ｉ点!$M$9>0,Ｉ点!$S$8>0),Ｉ点!$G32*Ｉ点!$H32=1),\"\",IF(Ｉ点!$M$9>0,Ｉ点!$G32,Ｉ点!$H32))","v":""},{"$f":"IF(OR($BY$3=\"\",AND(Ｉ点!$M$9>0,Ｉ点!$S$8>0),Ｉ点!$M32*Ｉ点!$N32=1),\"\",IF(Ｉ点!$M$9>0,Ｉ点!$M32,Ｉ点!$N32))","v":""},{"$f":"IF(OR($BY$3=\"\",AND(Ｉ点!$M$9>0,Ｉ点!$S$8>0),Ｉ点!$S32*Ｉ点!$T32=1),\"\",IF(Ｉ点!$M$9>0,Ｉ点!$S32,Ｉ点!$T32))","v":""},{"$f":"IF(OR($CB$3=\"\",AND(Ｉ点!$M$9>0,Ｉ点!$S$68>0),Ｉ点!$G92*Ｉ点!$H92=1),\"\",IF(Ｉ点!$M$9>0,Ｉ点!$G92,Ｉ点!$H92))","v":""},{"$f":"IF(OR($CB$3=\"\",AND(Ｉ点!$M$9>0,Ｉ点!$S$68>0),Ｉ点!$M92*Ｉ点!$N92=1),\"\",IF(Ｉ点!$M$9>0,Ｉ点!$M92,Ｉ点!$N92))","v":""},{"$f":"IF(OR($CB$3=\"\",AND(Ｉ点!$M$9>0,Ｉ点!$S$68>0),Ｉ点!$S92*Ｉ点!$T92=1),\"\",IF(Ｉ点!$M$9>0,Ｉ点!$S92,Ｉ点!$T92))","v":""},{"$f":"IF(OR($CE$3=\"\",AND(Ｉ点!$M$9>0,Ｉ点!$S$128>0),Ｉ点!$G152*Ｉ点!$H152=1),\"\",IF(Ｉ点!$M$9>0,Ｉ点!$G152,Ｉ点!$H152))","v":""},{"$f":"IF(OR($CE$3=\"\",AND(Ｉ点!$M$9>0,Ｉ点!$S$128>0),Ｉ点!$M152*Ｉ点!$N152=1),\"\",IF(Ｉ点!$M$9>0,Ｉ点!$M152,Ｉ点!$N152))","v":""},{"$f":"IF(OR($CE$3=\"\",AND(Ｉ点!$M$9>0,Ｉ点!$S$128>0),Ｉ点!$S152*Ｉ点!$T152=1),\"\",IF(Ｉ点!$M$9>0,Ｉ点!$S152,Ｉ点!$T152))","v":""}]
[null,null,"d)　石膏(表5)",null,{"$f":"IF(OR($E$3=\"\",AND(A点!$M$9>0,A点!$S$8>0),A点!$G34*A点!$H34=1),\"\",IF(A点!$M$9>0,A点!$G34,A点!$H34))","v":""},{"$f":"IF(OR($E$3=\"\",AND(A点!$M$9>0,A点!$S$8>0),A点!$M34*A点!$N34=1),\"\",IF(A点!$M$9>0,A点!$M34,A点!$N34))","v":""},{"$f":"IF(OR($E$3=\"\",AND(A点!$M$9>0,A点!$S$8>0),A点!$S34*A点!$T34=1),\"\",IF(A点!$M$9>0,A点!$S34,A点!$T34))","v":""},{"$f":"IF(OR($H$3=\"\",AND(A点!$M$9>0,A点!$S$68>0),A点!$G94*A点!$H94=1),\"\",IF(A点!$M$9>0,A点!$G94,A点!$H94))","v":""},{"$f":"IF(OR($H$3=\"\",AND(A点!$M$9>0,A点!$S$68>0),A点!$M94*A点!$N94=1),\"\",IF(A点!$M$9>0,A点!$M94,A点!$N94))","v":""},{"$f":"IF(OR($H$3=\"\",AND(A点!$M$9>0,A点!$S$68>0),A点!$S94*A点!$T94=1),\"\",IF(A点!$M$9>0,A点!$S94,A点!$T94))","v":""},{"$f":"IF(OR($K$3=\"\",AND(A点!$M$9>0,A点!$S$128>0),A点!$G154*A点!$H154=1),\"\",IF(A点!$M$9>0,A点!$G154,A点!$H154))","v":""},{"$f":"IF(OR($K$3=\"\",AND(A点!$M$9>0,A点!$S$128>0),A点!$M154*A点!$N154=1),\"\",IF(A点!$M$9>0,A点!$M154,A点!$N154))","v":""},{"$f":"IF(OR($K$3=\"\",AND(A点!$M$9>0,A点!$S$128>0),A点!$S154*A点!$T154=1),\"\",IF(A点!$M$9>0,A点!$S154,A点!$T154))","v":""},{"$f":"IF(OR($N$3=\"\",AND(B点!$M$9>0,B点!$S$8>0),B点!$G34*B点!$H34=1),\"\",IF(B点!$M$9>0,B点!$G34,B点!$H34))","v":""},{"$f":"IF(OR($E$3=\"\",AND(B点!$M$9>0,B点!$S$8>0),B点!$M34*B点!$N34=1),\"\",IF(B点!$M$9>0,B点!$M34,B点!$N34))","v":""},{"$f":"IF(OR($E$3=\"\",AND(B点!$M$9>0,B点!$S$8>0),B点!$S34*B点!$T34=1),\"\",IF(B点!$M$9>0,B点!$S34,B点!$T34))","v":""},{"$f":"IF(OR($Q$3=\"\",AND(B点!$M$9>0,B点!$S$68>0),B点!$G94*B点!$H94=1),\"\",IF(B点!$M$9>0,B点!$G94,B点!$H94))","v":""},{"$f":"IF(OR($Q$3=\"\",AND(B点!$M$9>0,B点!$S$68>0),B点!$M94*B点!$N94=1),\"\",IF(B点!$M$9>0,B点!$M94,B点!$N94))","v":""},{"$f":"IF(OR($Q$3=\"\",AND(B点!$M$9>0,B点!$S$68>0),B点!$S94*B点!$T94=1),\"\",IF(B点!$M$9>0,B点!$S94,B点!$T94))","v":""},{"$f":"IF(OR($T$3=\"\",AND(B点!$M$9>0,B点!$S$128>0),B点!$G154*B点!$H154=1),\"\",IF(B点!$M$9>0,B点!$G154,B点!$H154))","v":""},{"$f":"IF(OR($K$3=\"\",AND(B点!$M$9>0,B点!$S$128>0),B点!$M154*B点!$N154=1),\"\",IF(B点!$M$9>0,B点!$M154,B点!$N154))","v":""},{"$f":"IF(OR($K$3=\"\",AND(B点!$M$9>0,B点!$S$128>0),B点!$S154*B点!$T154=1),\"\",IF(B点!$M$9>0,B点!$S154,B点!$T154))","v":""},{"$f":"IF(OR($W$3=\"\",AND(C点!$M$9>0,C点!$S$8>0),C点!$G34*C点!$H34=1),\"\",IF(C点!$M$9>0,C点!$G34,C点!$H34))","v":""},{"$f":"IF(OR($W$3=\"\",AND(C点!$M$9>0,C点!$S$8>0),C点!$M34*C点!$N34=1),\"\",IF(C点!$M$9>0,C点!$M34,C点!$N34))","v":""},{"$f":"IF(OR($W$3=\"\",AND(C点!$M$9>0,C点!$S$8>0),C点!$S34*C点!$T34=1),\"\",IF(C点!$M$9>0,C点!$S34,C点!$T34))","v":""},{"$f":"IF(OR($Z$3=\"\",AND(C点!$M$9>0,C点!$S$68>0),C点!$G94*C点!$H94=1),\"\",IF(C点!$M$9>0,C点!$G94,C点!$H94))","v":""},{"$f":"IF(OR($Z$3=\"\",AND(C点!$M$9>0,C点!$S$68>0),C点!$M94*C点!$N94=1),\"\",IF(C点!$M$9>0,C点!$M94,C点!$N94))","v":""},{"$f":"IF(OR($Z$3=\"\",AND(C点!$M$9>0,C点!$S$68>0),C点!$S94*C点!$T94=1),\"\",IF(C点!$M$9>0,C点!$S94,C点!$T94))","v":""},{"$f":"IF(OR($AC$3=\"\",AND(C点!$M$9>0,C点!$S$128>0),C点!$G154*C点!$H154=1),\"\",IF(C点!$M$9>0,C点!$G154,C点!$H154))","v":""},{"$f":"IF(OR($AC$3=\"\",AND(C点!$M$9>0,C点!$S$128>0),C点!$M154*C点!$N154=1),\"\",IF(C点!$M$9>0,C点!$M154,C点!$N154))","v":""},{"$f":"IF(OR($AC$3=\"\",AND(C点!$M$9>0,C点!$S$128>0),C点!$S154*C点!$T154=1),\"\",IF(C点!$M$9>0,C点!$S154,C点!$T154))","v":""},{"$f":"IF(OR($AF$3=\"\",AND(D点!$M$9>0,D点!$S$8>0),D点!$G34*D点!$H34=1),\"\",IF(D点!$M$9>0,D点!$G34,D点!$H34))","v":""},{"$f":"IF(OR($AF$3=\"\",AND(D点!$M$9>0,D点!$S$8>0),D点!$M34*D点!$N34=1),\"\",IF(D点!$M$9>0,D点!$M34,D点!$N34))","v":""},{"$f":"IF(OR($AF$3=\"\",AND(D点!$M$9>0,D点!$S$8>0),D点!$S34*D点!$T34=1),\"\",IF(D点!$M$9>0,D点!$S34,D点!$T34))","v":""},{"$f":"IF(OR($AI$3=\"\",AND(D点!$M$9>0,D点!$S$68>0),D点!$G94*D点!$H94=1),\"\",IF(D点!$M$9>0,D点!$G94,D点!$H94))","v":""},{"$f":"IF(OR($AI$3=\"\",AND(D点!$M$9>0,D点!$S$68>0),D点!$M94*D点!$N94=1),\"\",IF(D点!$M$9>0,D点!$M94,D点!$N94))","v":""},{"$f":"IF(OR($AI$3=\"\",AND(D点!$M$9>0,D点!$S$68>0),D点!$S94*D点!$T94=1),\"\",IF(D点!$M$9>0,D点!$S94,D点!$T94))","v":""},{"$f":"IF(OR($AL$3=\"\",AND(D点!$M$9>0,D点!$S$128>0),D点!$G154*D点!$H154=1),\"\",IF(D点!$M$9>0,D点!$G154,D点!$H154))","v":""},{"$f":"IF(OR($AL$3=\"\",AND(D点!$M$9>0,D点!$S$128>0),D点!$M154*D点!$N154=1),\"\",IF(D点!$M$9>0,D点!$M154,D点!$N154))","v":""},{"$f":"IF(OR($AL$3=\"\",AND(D点!$M$9>0,D点!$S$128>0),D点!$S154*D点!$T154=1),\"\",IF(D点!$M$9>0,D点!$S154,D点!$T154))","v":""},{"$f":"IF(OR($AO$3=\"\",AND(E点!$M$9>0,E点!$S$8>0),E点!$G34*E点!$H34=1),\"\",IF(E点!$M$9>0,E点!$G34,E点!$H34))","v":""},{"$f":"IF(OR($AO$3=\"\",AND(E点!$M$9>0,E点!$S$8>0),E点!$M34*E点!$N34=1),\"\",IF(E点!$M$9>0,E点!$M34,E点!$N34))","v":""},{"$f":"IF(OR($AO$3=\"\",AND(E点!$M$9>0,E点!$S$8>0),E点!$S34*E点!$T34=1),\"\",IF(E点!$M$9>0,E点!$S34,E点!$T34))","v":""},{"$f":"IF(OR($AR$3=\"\",AND(E点!$M$9>0,E点!$S$68>0),E点!$G94*E点!$H94=1),\"\",IF(E点!$M$9>0,E点!$G94,E点!$H94))","v":""},{"$f":"IF(OR($AR$3=\"\",AND(E点!$M$9>0,E点!$S$68>0),E点!$M94*E点!$N94=1),\"\",IF(E点!$M$9>0,E点!$M94,E点!$N94))","v":""},{"$f":"IF(OR($AR$3=\"\",AND(E点!$M$9>0,E点!$S$68>0),E点!$S94*E点!$T94=1),\"\",IF(E点!$M$9>0,E点!$S94,E点!$T94))","v":""},{"$f":"IF(OR($AU$3=\"\",AND(E点!$M$9>0,E点!$S$128>0),E点!$G154*E点!$H154=1),\"\",IF(E点!$M$9>0,E点!$G154,E点!$H154))","v":""},{"$f":"IF(OR($AU$3=\"\",AND(E点!$M$9>0,E点!$S$128>0),E点!$M154*E点!$N154=1),\"\",IF(E点!$M$9>0,E点!$M154,E点!$N154))","v":""},{"$f":"IF(OR($AU$3=\"\",AND(E点!$M$9>0,E点!$S$128>0),E点!$S154*E点!$T154=1),\"\",IF(E点!$M$9>0,E点!$S154,E点!$T154))","v":""},{"$f":"IF(OR($AX$3=\"\",AND(F点!$M$9>0,F点!$S$8>0),F点!$G34*F点!$H34=1),\"\",IF(F点!$M$9>0,F点!$G34,F点!$H34))","v":""},{"$f":"IF(OR($AX$3=\"\",AND(F点!$M$9>0,F点!$S$8>0),F点!$M34*F点!$N34=1),\"\",IF(F点!$M$9>0,F点!$M34,F点!$N34))","v":""},{"$f":"IF(OR($AX$3=\"\",AND(F点!$M$9>0,F点!$S$8>0),F点!$S34*F点!$T34=1),\"\",IF(F点!$M$9>0,F点!$S34,F点!$T34))","v":""},{"$f":"IF(OR($BA$3=\"\",AND(F点!$M$9>0,F点!$S$68>0),F点!$G94*F点!$H94=1),\"\",IF(F点!$M$9>0,F点!$G94,F点!$H94))","v":""},{"$f":"IF(OR($BA$3=\"\",AND(F点!$M$9>0,F点!$S$68>0),F点!$M94*F点!$N94=1),\"\",IF(F点!$M$9>0,F点!$M94,F点!$N94))","v":""},{"$f":"IF(OR($BA$3=\"\",AND(F点!$M$9>0,F点!$S$68>0),F点!$S94*F点!$T94=1),\"\",IF(F点!$M$9>0,F点!$S94,F点!$T94))","v":""},{"$f":"IF(OR($BD$3=\"\",AND(F点!$M$9>0,F点!$S$128>0),F点!$G154*F点!$H154=1),\"\",IF(F点!$M$9>0,F点!$G154,F点!$H154))","v":""},{"$f":"IF(OR($BD$3=\"\",AND(F点!$M$9>0,F点!$S$128>0),F点!$M154*F点!$N154=1),\"\",IF(F点!$M$9>0,F点!$M154,F点!$N154))","v":""},{"$f":"IF(OR($BD$3=\"\",AND(F点!$M$9>0,F点!$S$128>0),F点!$S154*F点!$T154=1),\"\",IF(F点!$M$9>0,F点!$S154,F点!$T154))","v":""},{"$f":"IF(OR($BG$3=\"\",AND(G点!$M$9>0,G点!$S$8>0),G点!$G34*G点!$H34=1),\"\",IF(G点!$M$9>0,G点!$G34,G点!$H34))","v":""},{"$f":"IF(OR($BG$3=\"\",AND(G点!$M$9>0,G点!$S$8>0),G点!$M34*G点!$N34=1),\"\",IF(G点!$M$9>0,G点!$M34,G点!$N34))","v":""},{"$f":"IF(OR($BG$3=\"\",AND(G点!$M$9>0,G点!$S$8>0),G点!$S34*G点!$T34=1),\"\",IF(G点!$M$9>0,G点!$S34,G点!$T34))","v":""},{"$f":"IF(OR($BJ$3=\"\",AND(G点!$M$9>0,G点!$S$68>0),G点!$G94*G点!$H94=1),\"\",IF(G点!$M$9>0,G点!$G94,G点!$H94))","v":""},{"$f":"IF(OR($BJ$3=\"\",AND(G点!$M$9>0,G点!$S$68>0),G点!$M94*G点!$N94=1),\"\",IF(G点!$M$9>0,G点!$M94,G点!$N94))","v":""},{"$f":"IF(OR($BJ$3=\"\",AND(G点!$M$9>0,G点!$S$68>0),G点!$S94*G点!$T94=1),\"\",IF(G点!$M$9>0,G点!$S94,G点!$T94))","v":""},{"$f":"IF(OR($BM$3=\"\",AND(G点!$M$9>0,G点!$S$128>0),G点!$G154*G点!$H154=1),\"\",IF(G点!$M$9>0,G点!$G154,G点!$H154))","v":""},{"$f":"IF(OR($BM$3=\"\",AND(G点!$M$9>0,G点!$S$128>0),G点!$M154*G点!$N154=1),\"\",IF(G点!$M$9>0,G点!$M154,G点!$N154))","v":""},{"$f":"IF(OR($BM$3=\"\",AND(G点!$M$9>0,G点!$S$128>0),G点!$S154*G点!$T154=1),\"\",IF(G点!$M$9>0,G点!$S154,G点!$T154))","v":""},{"$f":"IF(OR($BP$3=\"\",AND(H点!$M$9>0,H点!$S$8>0),H点!$G34*H点!$H34=1),\"\",IF(H点!$M$9>0,H点!$G34,H点!$H34))","v":""},{"$f":"IF(OR($BP$3=\"\",AND(H点!$M$9>0,H点!$S$8>0),H点!$M34*H点!$N34=1),\"\",IF(H点!$M$9>0,H点!$M34,H点!$N34))","v":""},{"$f":"IF(OR($BP$3=\"\",AND(H点!$M$9>0,H点!$S$8>0),H点!$S34*H点!$T34=1),\"\",IF(H点!$M$9>0,H点!$S34,H点!$T34))","v":""},{"$f":"IF(OR($BS$3=\"\",AND(H点!$M$9>0,H点!$S$68>0),H点!$G94*H点!$H94=1),\"\",IF(H点!$M$9>0,H点!$G94,H点!$H94))","v":""},{"$f":"IF(OR($BS$3=\"\",AND(H点!$M$9>0,H点!$S$68>0),H点!$M94*H点!$N94=1),\"\",IF(H点!$M$9>0,H点!$M94,H点!$N94))","v":""},{"$f":"IF(OR($BS$3=\"\",AND(H点!$M$9>0,H点!$S$68>0),H点!$S94*H点!$T94=1),\"\",IF(H点!$M$9>0,H点!$S94,H点!$T94))","v":""},{"$f":"IF(OR($BV$3=\"\",AND(H点!$M$9>0,H点!$S$128>0),H点!$G154*H点!$H154=1),\"\",IF(H点!$M$9>0,H点!$G154,H点!$H154))","v":""},{"$f":"IF(OR($BV$3=\"\",AND(H点!$M$9>0,H点!$S$128>0),H点!$M154*H点!$N154=1),\"\",IF(H点!$M$9>0,H点!$M154,H点!$N154))","v":""},{"$f":"IF(OR($BV$3=\"\",AND(H点!$M$9>0,H点!$S$128>0),H点!$S154*H点!$T154=1),\"\",IF(H点!$M$9>0,H点!$S154,H点!$T154))","v":""},{"$f":"IF(OR($BY$3=\"\",AND(Ｉ点!$M$9>0,Ｉ点!$S$8>0),Ｉ点!$G34*Ｉ点!$H34=1),\"\",IF(Ｉ点!$M$9>0,Ｉ点!$G34,Ｉ点!$H34))","v":""},{"$f":"IF(OR($BY$3=\"\",AND(Ｉ点!$M$9>0,Ｉ点!$S$8>0),Ｉ点!$M34*Ｉ点!$N34=1),\"\",IF(Ｉ点!$M$9>0,Ｉ点!$M34,Ｉ点!$N34))","v":""},{"$f":"IF(OR($BY$3=\"\",AND(Ｉ点!$M$9>0,Ｉ点!$S$8>0),Ｉ点!$S34*Ｉ点!$T34=1),\"\",IF(Ｉ点!$M$9>0,Ｉ点!$S34,Ｉ点!$T34))","v":""},{"$f":"IF(OR($CB$3=\"\",AND(Ｉ点!$M$9>0,Ｉ点!$S$68>0),Ｉ点!$G94*Ｉ点!$H94=1),\"\",IF(Ｉ点!$M$9>0,Ｉ点!$G94,Ｉ点!$H94))","v":""},{"$f":"IF(OR($CB$3=\"\",AND(Ｉ点!$M$9>0,Ｉ点!$S$68>0),Ｉ点!$M94*Ｉ点!$N94=1),\"\",IF(Ｉ点!$M$9>0,Ｉ点!$M94,Ｉ点!$N94))","v":""},{"$f":"IF(OR($CB$3=\"\",AND(Ｉ点!$M$9>0,Ｉ点!$S$68>0),Ｉ点!$S94*Ｉ点!$T94=1),\"\",IF(Ｉ点!$M$9>0,Ｉ点!$S94,Ｉ点!$T94))","v":""},{"$f":"IF(OR($CE$3=\"\",AND(Ｉ点!$M$9>0,Ｉ点!$S$128>0),Ｉ点!$G154*Ｉ点!$H154=1),\"\",IF(Ｉ点!$M$9>0,Ｉ点!$G154,Ｉ点!$H154))","v":""},{"$f":"IF(OR($CE$3=\"\",AND(Ｉ点!$M$9>0,Ｉ点!$S$128>0),Ｉ点!$M154*Ｉ点!$N154=1),\"\",IF(Ｉ点!$M$9>0,Ｉ点!$M154,Ｉ点!$N154))","v":""},{"$f":"IF(OR($CE$3=\"\",AND(Ｉ点!$M$9>0,Ｉ点!$S$128>0),Ｉ点!$S154*Ｉ点!$T154=1),\"\",IF(Ｉ点!$M$9>0,Ｉ点!$S154,Ｉ点!$T154))","v":""}]
[null,null,"e）　ガラス(表6)",null,{"$f":"IF(OR($E$3=\"\",AND(A点!$M$9>0,A点!$S$8>0),A点!$G36*A点!$H36=1),\"\",IF(A点!$M$9>0,A点!$G36,A点!$H36))","v":""},{"$f":"IF(OR($E$3=\"\",AND(A点!$M$9>0,A点!$S$8>0),A点!$M36*A点!$N36=1),\"\",IF(A点!$M$9>0,A点!$M36,A点!$N36))","v":""},{"$f":"IF(OR($E$3=\"\",AND(A点!$M$9>0,A点!$S$8>0),A点!$S36*A点!$T36=1),\"\",IF(A点!$M$9>0,A点!$S36,A点!$T36))","v":""},{"$f":"IF(OR($H$3=\"\",AND(A点!$M$9>0,A点!$S$68>0),A点!$G96*A点!$H96=1),\"\",IF(A点!$M$9>0,A点!$G96,A点!$H96))","v":""},{"$f":"IF(OR($H$3=\"\",AND(A点!$M$9>0,A点!$S$68>0),A点!$M96*A点!$N96=1),\"\",IF(A点!$M$9>0,A点!$M96,A点!$N96))","v":""},{"$f":"IF(OR($H$3=\"\",AND(A点!$M$9>0,A点!$S$68>0),A点!$S96*A点!$T96=1),\"\",IF(A点!$M$9>0,A点!$S96,A点!$T96))","v":""},{"$f":"IF(OR($K$3=\"\",AND(A点!$M$9>0,A点!$S$128>0),A点!$G156*A点!$H156=1),\"\",IF(A点!$M$9>0,A点!$G156,A点!$H156))","v":""},{"$f":"IF(OR($K$3=\"\",AND(A点!$M$9>0,A点!$S$128>0),A点!$M156*A点!$N156=1),\"\",IF(A点!$M$9>0,A点!$M156,A点!$N156))","v":""},{"$f":"IF(OR($K$3=\"\",AND(A点!$M$9>0,A点!$S$128>0),A点!$S156*A点!$T156=1),\"\",IF(A点!$M$9>0,A点!$S156,A点!$T156))","v":""},{"$f":"IF(OR($N$3=\"\",AND(B点!$M$9>0,B点!$S$8>0),B点!$G36*B点!$H36=1),\"\",IF(B点!$M$9>0,B点!$G36,B点!$H36))","v":""},{"$f":"IF(OR($E$3=\"\",AND(B点!$M$9>0,B点!$S$8>0),B点!$M36*B点!$N36=1),\"\",IF(B点!$M$9>0,B点!$M36,B点!$N36))","v":""},{"$f":"IF(OR($E$3=\"\",AND(B点!$M$9>0,B点!$S$8>0),B点!$S36*B点!$T36=1),\"\",IF(B点!$M$9>0,B点!$S36,B点!$T36))","v":""},{"$f":"IF(OR($Q$3=\"\",AND(B点!$M$9>0,B点!$S$68>0),B点!$G96*B点!$H96=1),\"\",IF(B点!$M$9>0,B点!$G96,B点!$H96))","v":""},{"$f":"IF(OR($Q$3=\"\",AND(B点!$M$9>0,B点!$S$68>0),B点!$M96*B点!$N96=1),\"\",IF(B点!$M$9>0,B点!$M96,B点!$N96))","v":""},{"$f":"IF(OR($Q$3=\"\",AND(B点!$M$9>0,B点!$S$68>0),B点!$S96*B点!$T96=1),\"\",IF(B点!$M$9>0,B点!$S96,B点!$T96))","v":""},{"$f":"IF(OR($T$3=\"\",AND(B点!$M$9>0,B点!$S$128>0),B点!$G156*B点!$H156=1),\"\",IF(B点!$M$9>0,B点!$G156,B点!$H156))","v":""},{"$f":"IF(OR($K$3=\"\",AND(B点!$M$9>0,B点!$S$128>0),B点!$M156*B点!$N156=1),\"\",IF(B点!$M$9>0,B点!$M156,B点!$N156))","v":""},{"$f":"IF(OR($K$3=\"\",AND(B点!$M$9>0,B点!$S$128>0),B点!$S156*B点!$T156=1),\"\",IF(B点!$M$9>0,B点!$S156,B点!$T156))","v":""},{"$f":"IF(OR($W$3=\"\",AND(C点!$M$9>0,C点!$S$8>0),C点!$G36*C点!$H36=1),\"\",IF(C点!$M$9>0,C点!$G36,C点!$H36))","v":""},{"$f":"IF(OR($W$3=\"\",AND(C点!$M$9>0,C点!$S$8>0),C点!$M36*C点!$N36=1),\"\",IF(C点!$M$9>0,C点!$M36,C点!$N36))","v":""},{"$f":"IF(OR($W$3=\"\",AND(C点!$M$9>0,C点!$S$8>0),C点!$S36*C点!$T36=1),\"\",IF(C点!$M$9>0,C点!$S36,C点!$T36))","v":""},{"$f":"IF(OR($Z$3=\"\",AND(C点!$M$9>0,C点!$S$68>0),C点!$G96*C点!$H96=1),\"\",IF(C点!$M$9>0,C点!$G96,C点!$H96))","v":""},{"$f":"IF(OR($Z$3=\"\",AND(C点!$M$9>0,C点!$S$68>0),C点!$M96*C点!$N96=1),\"\",IF(C点!$M$9>0,C点!$M96,C点!$N96))","v":""},{"$f":"IF(OR($Z$3=\"\",AND(C点!$M$9>0,C点!$S$68>0),C点!$S96*C点!$T96=1),\"\",IF(C点!$M$9>0,C点!$S96,C点!$T96))","v":""},{"$f":"IF(OR($AC$3=\"\",AND(C点!$M$9>0,C点!$S$128>0),C点!$G156*C点!$H156=1),\"\",IF(C点!$M$9>0,C点!$G156,C点!$H156))","v":""},{"$f":"IF(OR($AC$3=\"\",AND(C点!$M$9>0,C点!$S$128>0),C点!$M156*C点!$N156=1),\"\",IF(C点!$M$9>0,C点!$M156,C点!$N156))","v":""},{"$f":"IF(OR($AC$3=\"\",AND(C点!$M$9>0,C点!$S$128>0),C点!$S156*C点!$T156=1),\"\",IF(C点!$M$9>0,C点!$S156,C点!$T156))","v":""},{"$f":"IF(OR($AF$3=\"\",AND(D点!$M$9>0,D点!$S$8>0),D点!$G36*D点!$H36=1),\"\",IF(D点!$M$9>0,D点!$G36,D点!$H36))","v":""},{"$f":"IF(OR($AF$3=\"\",AND(D点!$M$9>0,D点!$S$8>0),D点!$M36*D点!$N36=1),\"\",IF(D点!$M$9>0,D点!$M36,D点!$N36))","v":""},{"$f":"IF(OR($AF$3=\"\",AND(D点!$M$9>0,D点!$S$8>0),D点!$S36*D点!$T36=1),\"\",IF(D点!$M$9>0,D点!$S36,D点!$T36))","v":""},{"$f":"IF(OR($AI$3=\"\",AND(D点!$M$9>0,D点!$S$68>0),D点!$G96*D点!$H96=1),\"\",IF(D点!$M$9>0,D点!$G96,D点!$H96))","v":""},{"$f":"IF(OR($AI$3=\"\",AND(D点!$M$9>0,D点!$S$68>0),D点!$M96*D点!$N96=1),\"\",IF(D点!$M$9>0,D点!$M96,D点!$N96))","v":""},{"$f":"IF(OR($AI$3=\"\",AND(D点!$M$9>0,D点!$S$68>0),D点!$S96*D点!$T96=1),\"\",IF(D点!$M$9>0,D点!$S96,D点!$T96))","v":""},{"$f":"IF(OR($AL$3=\"\",AND(D点!$M$9>0,D点!$S$128>0),D点!$G156*D点!$H156=1),\"\",IF(D点!$M$9>0,D点!$G156,D点!$H156))","v":""},{"$f":"IF(OR($AL$3=\"\",AND(D点!$M$9>0,D点!$S$128>0),D点!$M156*D点!$N156=1),\"\",IF(D点!$M$9>0,D点!$M156,D点!$N156))","v":""},{"$f":"IF(OR($AL$3=\"\",AND(D点!$M$9>0,D点!$S$128>0),D点!$S156*D点!$T156=1),\"\",IF(D点!$M$9>0,D点!$S156,D点!$T156))","v":""},{"$f":"IF(OR($AO$3=\"\",AND(E点!$M$9>0,E点!$S$8>0),E点!$G36*E点!$H36=1),\"\",IF(E点!$M$9>0,E点!$G36,E点!$H36))","v":""},{"$f":"IF(OR($AO$3=\"\",AND(E点!$M$9>0,E点!$S$8>0),E点!$M36*E点!$N36=1),\"\",IF(E点!$M$9>0,E点!$M36,E点!$N36))","v":""},{"$f":"IF(OR($AO$3=\"\",AND(E点!$M$9>0,E点!$S$8>0),E点!$S36*E点!$T36=1),\"\",IF(E点!$M$9>0,E点!$S36,E点!$T36))","v":""},{"$f":"IF(OR($AR$3=\"\",AND(E点!$M$9>0,E点!$S$68>0),E点!$G96*E点!$H96=1),\"\",IF(E点!$M$9>0,E点!$G96,E点!$H96))","v":""},{"$f":"IF(OR($AR$3=\"\",AND(E点!$M$9>0,E点!$S$68>0),E点!$M96*E点!$N96=1),\"\",IF(E点!$M$9>0,E点!$M96,E点!$N96))","v":""},{"$f":"IF(OR($AR$3=\"\",AND(E点!$M$9>0,E点!$S$68>0),E点!$S96*E点!$T96=1),\"\",IF(E点!$M$9>0,E点!$S96,E点!$T96))","v":""},{"$f":"IF(OR($AU$3=\"\",AND(E点!$M$9>0,E点!$S$128>0),E点!$G156*E点!$H156=1),\"\",IF(E点!$M$9>0,E点!$G156,E点!$H156))","v":""},{"$f":"IF(OR($AU$3=\"\",AND(E点!$M$9>0,E点!$S$128>0),E点!$M156*E点!$N156=1),\"\",IF(E点!$M$9>0,E点!$M156,E点!$N156))","v":""},{"$f":"IF(OR($AU$3=\"\",AND(E点!$M$9>0,E点!$S$128>0),E点!$S156*E点!$T156=1),\"\",IF(E点!$M$9>0,E点!$S156,E点!$T156))","v":""},{"$f":"IF(OR($AX$3=\"\",AND(F点!$M$9>0,F点!$S$8>0),F点!$G36*F点!$H36=1),\"\",IF(F点!$M$9>0,F点!$G36,F点!$H36))","v":""},{"$f":"IF(OR($AX$3=\"\",AND(F点!$M$9>0,F点!$S$8>0),F点!$M36*F点!$N36=1),\"\",IF(F点!$M$9>0,F点!$M36,F点!$N36))","v":""},{"$f":"IF(OR($AX$3=\"\",AND(F点!$M$9>0,F点!$S$8>0),F点!$S36*F点!$T36=1),\"\",IF(F点!$M$9>0,F点!$S36,F点!$T36))","v":""},{"$f":"IF(OR($BA$3=\"\",AND(F点!$M$9>0,F点!$S$68>0),F点!$G96*F点!$H96=1),\"\",IF(F点!$M$9>0,F点!$G96,F点!$H96))","v":""},{"$f":"IF(OR($BA$3=\"\",AND(F点!$M$9>0,F点!$S$68>0),F点!$M96*F点!$N96=1),\"\",IF(F点!$M$9>0,F点!$M96,F点!$N96))","v":""},{"$f":"IF(OR($BA$3=\"\",AND(F点!$M$9>0,F点!$S$68>0),F点!$S96*F点!$T96=1),\"\",IF(F点!$M$9>0,F点!$S96,F点!$T96))","v":""},{"$f":"IF(OR($BD$3=\"\",AND(F点!$M$9>0,F点!$S$128>0),F点!$G156*F点!$H156=1),\"\",IF(F点!$M$9>0,F点!$G156,F点!$H156))","v":""},{"$f":"IF(OR($BD$3=\"\",AND(F点!$M$9>0,F点!$S$128>0),F点!$M156*F点!$N156=1),\"\",IF(F点!$M$9>0,F点!$M156,F点!$N156))","v":""},{"$f":"IF(OR($BD$3=\"\",AND(F点!$M$9>0,F点!$S$128>0),F点!$S156*F点!$T156=1),\"\",IF(F点!$M$9>0,F点!$S156,F点!$T156))","v":""},{"$f":"IF(OR($BG$3=\"\",AND(G点!$M$9>0,G点!$S$8>0),G点!$G36*G点!$H36=1),\"\",IF(G点!$M$9>0,G点!$G36,G点!$H36))","v":""},{"$f":"IF(OR($BG$3=\"\",AND(G点!$M$9>0,G点!$S$8>0),G点!$M36*G点!$N36=1),\"\",IF(G点!$M$9>0,G点!$M36,G点!$N36))","v":""},{"$f":"IF(OR($BG$3=\"\",AND(G点!$M$9>0,G点!$S$8>0),G点!$S36*G点!$T36=1),\"\",IF(G点!$M$9>0,G点!$S36,G点!$T36))","v":""},{"$f":"IF(OR($BJ$3=\"\",AND(G点!$M$9>0,G点!$S$68>0),G点!$G96*G点!$H96=1),\"\",IF(G点!$M$9>0,G点!$G96,G点!$H96))","v":""},{"$f":"IF(OR($BJ$3=\"\",AND(G点!$M$9>0,G点!$S$68>0),G点!$M96*G点!$N96=1),\"\",IF(G点!$M$9>0,G点!$M96,G点!$N96))","v":""},{"$f":"IF(OR($BJ$3=\"\",AND(G点!$M$9>0,G点!$S$68>0),G点!$S96*G点!$T96=1),\"\",IF(G点!$M$9>0,G点!$S96,G点!$T96))","v":""},{"$f":"IF(OR($BM$3=\"\",AND(G点!$M$9>0,G点!$S$128>0),G点!$G156*G点!$H156=1),\"\",IF(G点!$M$9>0,G点!$G156,G点!$H156))","v":""},{"$f":"IF(OR($BM$3=\"\",AND(G点!$M$9>0,G点!$S$128>0),G点!$M156*G点!$N156=1),\"\",IF(G点!$M$9>0,G点!$M156,G点!$N156))","v":""},{"$f":"IF(OR($BM$3=\"\",AND(G点!$M$9>0,G点!$S$128>0),G点!$S156*G点!$T156=1),\"\",IF(G点!$M$9>0,G点!$S156,G点!$T156))","v":""},{"$f":"IF(OR($BP$3=\"\",AND(H点!$M$9>0,H点!$S$8>0),H点!$G36*H点!$H36=1),\"\",IF(H点!$M$9>0,H点!$G36,H点!$H36))","v":""},{"$f":"IF(OR($BP$3=\"\",AND(H点!$M$9>0,H点!$S$8>0),H点!$M36*H点!$N36=1),\"\",IF(H点!$M$9>0,H点!$M36,H点!$N36))","v":""},{"$f":"IF(OR($BP$3=\"\",AND(H点!$M$9>0,H点!$S$8>0),H点!$S36*H点!$T36=1),\"\",IF(H点!$M$9>0,H点!$S36,H点!$T36))","v":""},{"$f":"IF(OR($BS$3=\"\",AND(H点!$M$9>0,H点!$S$68>0),H点!$G96*H点!$H96=1),\"\",IF(H点!$M$9>0,H点!$G96,H点!$H96))","v":""},{"$f":"IF(OR($BS$3=\"\",AND(H点!$M$9>0,H点!$S$68>0),H点!$M96*H点!$N96=1),\"\",IF(H点!$M$9>0,H点!$M96,H点!$N96))","v":""},{"$f":"IF(OR($BS$3=\"\",AND(H点!$M$9>0,H点!$S$68>0),H点!$S96*H点!$T96=1),\"\",IF(H点!$M$9>0,H点!$S96,H点!$T96))","v":""},{"$f":"IF(OR($BV$3=\"\",AND(H点!$M$9>0,H点!$S$128>0),H点!$G156*H点!$H156=1),\"\",IF(H点!$M$9>0,H点!$G156,H点!$H156))","v":""},{"$f":"IF(OR($BV$3=\"\",AND(H点!$M$9>0,H点!$S$128>0),H点!$M156*H点!$N156=1),\"\",IF(H点!$M$9>0,H点!$M156,H点!$N156))","v":""},{"$f":"IF(OR($BV$3=\"\",AND(H点!$M$9>0,H点!$S$128>0),H点!$S156*H点!$T156=1),\"\",IF(H点!$M$9>0,H点!$S156,H点!$T156))","v":""},{"$f":"IF(OR($BY$3=\"\",AND(Ｉ点!$M$9>0,Ｉ点!$S$8>0),Ｉ点!$G36*Ｉ点!$H36=1),\"\",IF(Ｉ点!$M$9>0,Ｉ点!$G36,Ｉ点!$H36))","v":""},{"$f":"IF(OR($BY$3=\"\",AND(Ｉ点!$M$9>0,Ｉ点!$S$8>0),Ｉ点!$M36*Ｉ点!$N36=1),\"\",IF(Ｉ点!$M$9>0,Ｉ点!$M36,Ｉ点!$N36))","v":""},{"$f":"IF(OR($BY$3=\"\",AND(Ｉ点!$M$9>0,Ｉ点!$S$8>0),Ｉ点!$S36*Ｉ点!$T36=1),\"\",IF(Ｉ点!$M$9>0,Ｉ点!$S36,Ｉ点!$T36))","v":""},{"$f":"IF(OR($CB$3=\"\",AND(Ｉ点!$M$9>0,Ｉ点!$S$68>0),Ｉ点!$G96*Ｉ点!$H96=1),\"\",IF(Ｉ点!$M$9>0,Ｉ点!$G96,Ｉ点!$H96))","v":""},{"$f":"IF(OR($CB$3=\"\",AND(Ｉ点!$M$9>0,Ｉ点!$S$68>0),Ｉ点!$M96*Ｉ点!$N96=1),\"\",IF(Ｉ点!$M$9>0,Ｉ点!$M96,Ｉ点!$N96))","v":""},{"$f":"IF(OR($CB$3=\"\",AND(Ｉ点!$M$9>0,Ｉ点!$S$68>0),Ｉ点!$S96*Ｉ点!$T96=1),\"\",IF(Ｉ点!$M$9>0,Ｉ点!$S96,Ｉ点!$T96))","v":""},{"$f":"IF(OR($CE$3=\"\",AND(Ｉ点!$M$9>0,Ｉ点!$S$128>0),Ｉ点!$G156*Ｉ点!$H156=1),\"\",IF(Ｉ点!$M$9>0,Ｉ点!$G156,Ｉ点!$H156))","v":""},{"$f":"IF(OR($CE$3=\"\",AND(Ｉ点!$M$9>0,Ｉ点!$S$128>0),Ｉ点!$M156*Ｉ点!$N156=1),\"\",IF(Ｉ点!$M$9>0,Ｉ点!$M156,Ｉ点!$N156))","v":""},{"$f":"IF(OR($CE$3=\"\",AND(Ｉ点!$M$9>0,Ｉ点!$S$128>0),Ｉ点!$S156*Ｉ点!$T156=1),\"\",IF(Ｉ点!$M$9>0,Ｉ点!$S156,Ｉ点!$T156))","v":""}]
[null,null,"f)　木材(表7)",null,{"$f":"IF(OR($E$3=\"\",AND(A点!$M$9>0,A点!$S$8>0),A点!$G38*A点!$H38=1),\"\",IF(A点!$M$9>0,A点!$G38,A点!$H38))","v":""},{"$f":"IF(OR($E$3=\"\",AND(A点!$M$9>0,A点!$S$8>0),A点!$M38*A点!$N38=1),\"\",IF(A点!$M$9>0,A点!$M38,A点!$N38))","v":""},{"$f":"IF(OR($E$3=\"\",AND(A点!$M$9>0,A点!$S$8>0),A点!$S38*A点!$T38=1),\"\",IF(A点!$M$9>0,A点!$S38,A点!$T38))","v":""},{"$f":"IF(OR($H$3=\"\",AND(A点!$M$9>0,A点!$S$68>0),A点!$G98*A点!$H98=1),\"\",IF(A点!$M$9>0,A点!$G98,A点!$H98))","v":""},{"$f":"IF(OR($H$3=\"\",AND(A点!$M$9>0,A点!$S$68>0),A点!$M98*A点!$N98=1),\"\",IF(A点!$M$9>0,A点!$M98,A点!$N98))","v":""},{"$f":"IF(OR($H$3=\"\",AND(A点!$M$9>0,A点!$S$68>0),A点!$S98*A点!$T98=1),\"\",IF(A点!$M$9>0,A点!$S98,A点!$T98))","v":""},{"$f":"IF(OR($K$3=\"\",AND(A点!$M$9>0,A点!$S$128>0),A点!$G158*A点!$H158=1),\"\",IF(A点!$M$9>0,A点!$G158,A点!$H158))","v":""},{"$f":"IF(OR($K$3=\"\",AND(A点!$M$9>0,A点!$S$128>0),A点!$M158*A点!$N158=1),\"\",IF(A点!$M$9>0,A点!$M158,A点!$N158))","v":""},{"$f":"IF(OR($K$3=\"\",AND(A点!$M$9>0,A点!$S$128>0),A点!$S158*A点!$T158=1),\"\",IF(A点!$M$9>0,A点!$S158,A点!$T158))","v":""},{"$f":"IF(OR($N$3=\"\",AND(B点!$M$9>0,B点!$S$8>0),B点!$G38*B点!$H38=1),\"\",IF(B点!$M$9>0,B点!$G38,B点!$H38))","v":""},{"$f":"IF(OR($E$3=\"\",AND(B点!$M$9>0,B点!$S$8>0),B点!$M38*B点!$N38=1),\"\",IF(B点!$M$9>0,B点!$M38,B点!$N38))","v":""},{"$f":"IF(OR($E$3=\"\",AND(B点!$M$9>0,B点!$S$8>0),B点!$S38*B点!$T38=1),\"\",IF(B点!$M$9>0,B点!$S38,B点!$T38))","v":""},{"$f":"IF(OR($Q$3=\"\",AND(B点!$M$9>0,B点!$S$68>0),B点!$G98*B点!$H98=1),\"\",IF(B点!$M$9>0,B点!$G98,B点!$H98))","v":""},{"$f":"IF(OR($Q$3=\"\",AND(B点!$M$9>0,B点!$S$68>0),B点!$M98*B点!$N98=1),\"\",IF(B点!$M$9>0,B点!$M98,B点!$N98))","v":""},{"$f":"IF(OR($Q$3=\"\",AND(B点!$M$9>0,B点!$S$68>0),B点!$S98*B点!$T98=1),\"\",IF(B点!$M$9>0,B点!$S98,B点!$T98))","v":""},{"$f":"IF(OR($T$3=\"\",AND(B点!$M$9>0,B点!$S$128>0),B点!$G158*B点!$H158=1),\"\",IF(B点!$M$9>0,B点!$G158,B点!$H158))","v":""},{"$f":"IF(OR($K$3=\"\",AND(B点!$M$9>0,B点!$S$128>0),B点!$M158*B点!$N158=1),\"\",IF(B点!$M$9>0,B点!$M158,B点!$N158))","v":""},{"$f":"IF(OR($K$3=\"\",AND(B点!$M$9>0,B点!$S$128>0),B点!$S158*B点!$T158=1),\"\",IF(B点!$M$9>0,B点!$S158,B点!$T158))","v":""},{"$f":"IF(OR($W$3=\"\",AND(C点!$M$9>0,C点!$S$8>0),C点!$G38*C点!$H38=1),\"\",IF(C点!$M$9>0,C点!$G38,C点!$H38))","v":""},{"$f":"IF(OR($W$3=\"\",AND(C点!$M$9>0,C点!$S$8>0),C点!$M38*C点!$N38=1),\"\",IF(C点!$M$9>0,C点!$M38,C点!$N38))","v":""},{"$f":"IF(OR($W$3=\"\",AND(C点!$M$9>0,C点!$S$8>0),C点!$S38*C点!$T38=1),\"\",IF(C点!$M$9>0,C点!$S38,C点!$T38))","v":""},{"$f":"IF(OR($Z$3=\"\",AND(C点!$M$9>0,C点!$S$68>0),C点!$G98*C点!$H98=1),\"\",IF(C点!$M$9>0,C点!$G98,C点!$H98))","v":""},{"$f":"IF(OR($Z$3=\"\",AND(C点!$M$9>0,C点!$S$68>0),C点!$M98*C点!$N98=1),\"\",IF(C点!$M$9>0,C点!$M98,C点!$N98))","v":""},{"$f":"IF(OR($Z$3=\"\",AND(C点!$M$9>0,C点!$S$68>0),C点!$S98*C点!$T98=1),\"\",IF(C点!$M$9>0,C点!$S98,C点!$T98))","v":""},{"$f":"IF(OR($AC$3=\"\",AND(C点!$M$9>0,C点!$S$128>0),C点!$G158*C点!$H158=1),\"\",IF(C点!$M$9>0,C点!$G158,C点!$H158))","v":""},{"$f":"IF(OR($AC$3=\"\",AND(C点!$M$9>0,C点!$S$128>0),C点!$M158*C点!$N158=1),\"\",IF(C点!$M$9>0,C点!$M158,C点!$N158))","v":""},{"$f":"IF(OR($AC$3=\"\",AND(C点!$M$9>0,C点!$S$128>0),C点!$S158*C点!$T158=1),\"\",IF(C点!$M$9>0,C点!$S158,C点!$T158))","v":""},{"$f":"IF(OR($AF$3=\"\",AND(D点!$M$9>0,D点!$S$8>0),D点!$G38*D点!$H38=1),\"\",IF(D点!$M$9>0,D点!$G38,D点!$H38))","v":""},{"$f":"IF(OR($AF$3=\"\",AND(D点!$M$9>0,D点!$S$8>0),D点!$M38*D点!$N38=1),\"\",IF(D点!$M$9>0,D点!$M38,D点!$N38))","v":""},{"$f":"IF(OR($AF$3=\"\",AND(D点!$M$9>0,D点!$S$8>0),D点!$S38*D点!$T38=1),\"\",IF(D点!$M$9>0,D点!$S38,D点!$T38))","v":""},{"$f":"IF(OR($AI$3=\"\",AND(D点!$M$9>0,D点!$S$68>0),D点!$G98*D点!$H98=1),\"\",IF(D点!$M$9>0,D点!$G98,D点!$H98))","v":""},{"$f":"IF(OR($AI$3=\"\",AND(D点!$M$9>0,D点!$S$68>0),D点!$M98*D点!$N98=1),\"\",IF(D点!$M$9>0,D点!$M98,D点!$N98))","v":""},{"$f":"IF(OR($AI$3=\"\",AND(D点!$M$9>0,D点!$S$68>0),D点!$S98*D点!$T98=1),\"\",IF(D点!$M$9>0,D点!$S98,D点!$T98))","v":""},{"$f":"IF(OR($AL$3=\"\",AND(D点!$M$9>0,D点!$S$128>0),D点!$G158*D点!$H158=1),\"\",IF(D点!$M$9>0,D点!$G158,D点!$H158))","v":""},{"$f":"IF(OR($AL$3=\"\",AND(D点!$M$9>0,D点!$S$128>0),D点!$M158*D点!$N158=1),\"\",IF(D点!$M$9>0,D点!$M158,D点!$N158))","v":""},{"$f":"IF(OR($AL$3=\"\",AND(D点!$M$9>0,D点!$S$128>0),D点!$S158*D点!$T158=1),\"\",IF(D点!$M$9>0,D点!$S158,D点!$T158))","v":""},{"$f":"IF(OR($AO$3=\"\",AND(E点!$M$9>0,E点!$S$8>0),E点!$G38*E点!$H38=1),\"\",IF(E点!$M$9>0,E点!$G38,E点!$H38))","v":""},{"$f":"IF(OR($AO$3=\"\",AND(E点!$M$9>0,E点!$S$8>0),E点!$M38*E点!$N38=1),\"\",IF(E点!$M$9>0,E点!$M38,E点!$N38))","v":""},{"$f":"IF(OR($AO$3=\"\",AND(E点!$M$9>0,E点!$S$8>0),E点!$S38*E点!$T38=1),\"\",IF(E点!$M$9>0,E点!$S38,E点!$T38))","v":""},{"$f":"IF(OR($AR$3=\"\",AND(E点!$M$9>0,E点!$S$68>0),E点!$G98*E点!$H98=1),\"\",IF(E点!$M$9>0,E点!$G98,E点!$H98))","v":""},{"$f":"IF(OR($AR$3=\"\",AND(E点!$M$9>0,E点!$S$68>0),E点!$M98*E点!$N98=1),\"\",IF(E点!$M$9>0,E点!$M98,E点!$N98))","v":""},{"$f":"IF(OR($AR$3=\"\",AND(E点!$M$9>0,E点!$S$68>0),E点!$S98*E点!$T98=1),\"\",IF(E点!$M$9>0,E点!$S98,E点!$T98))","v":""},{"$f":"IF(OR($AU$3=\"\",AND(E点!$M$9>0,E点!$S$128>0),E点!$G158*E点!$H158=1),\"\",IF(E点!$M$9>0,E点!$G158,E点!$H158))","v":""},{"$f":"IF(OR($AU$3=\"\",AND(E点!$M$9>0,E点!$S$128>0),E点!$M158*E点!$N158=1),\"\",IF(E点!$M$9>0,E点!$M158,E点!$N158))","v":""},{"$f":"IF(OR($AU$3=\"\",AND(E点!$M$9>0,E点!$S$128>0),E点!$S158*E点!$T158=1),\"\",IF(E点!$M$9>0,E点!$S158,E点!$T158))","v":""},{"$f":"IF(OR($AX$3=\"\",AND(F点!$M$9>0,F点!$S$8>0),F点!$G38*F点!$H38=1),\"\",IF(F点!$M$9>0,F点!$G38,F点!$H38))","v":""},{"$f":"IF(OR($AX$3=\"\",AND(F点!$M$9>0,F点!$S$8>0),F点!$M38*F点!$N38=1),\"\",IF(F点!$M$9>0,F点!$M38,F点!$N38))","v":""},{"$f":"IF(OR($AX$3=\"\",AND(F点!$M$9>0,F点!$S$8>0),F点!$S38*F点!$T38=1),\"\",IF(F点!$M$9>0,F点!$S38,F点!$T38))","v":""},{"$f":"IF(OR($BA$3=\"\",AND(F点!$M$9>0,F点!$S$68>0),F点!$G98*F点!$H98=1),\"\",IF(F点!$M$9>0,F点!$G98,F点!$H98))","v":""},{"$f":"IF(OR($BA$3=\"\",AND(F点!$M$9>0,F点!$S$68>0),F点!$M98*F点!$N98=1),\"\",IF(F点!$M$9>0,F点!$M98,F点!$N98))","v":""},{"$f":"IF(OR($BA$3=\"\",AND(F点!$M$9>0,F点!$S$68>0),F点!$S98*F点!$T98=1),\"\",IF(F点!$M$9>0,F点!$S98,F点!$T98))","v":""},{"$f":"IF(OR($BD$3=\"\",AND(F点!$M$9>0,F点!$S$128>0),F点!$G158*F点!$H158=1),\"\",IF(F点!$M$9>0,F点!$G158,F点!$H158))","v":""},{"$f":"IF(OR($BD$3=\"\",AND(F点!$M$9>0,F点!$S$128>0),F点!$M158*F点!$N158=1),\"\",IF(F点!$M$9>0,F点!$M158,F点!$N158))","v":""},{"$f":"IF(OR($BD$3=\"\",AND(F点!$M$9>0,F点!$S$128>0),F点!$S158*F点!$T158=1),\"\",IF(F点!$M$9>0,F点!$S158,F点!$T158))","v":""},{"$f":"IF(OR($BG$3=\"\",AND(G点!$M$9>0,G点!$S$8>0),G点!$G38*G点!$H38=1),\"\",IF(G点!$M$9>0,G点!$G38,G点!$H38))","v":""},{"$f":"IF(OR($BG$3=\"\",AND(G点!$M$9>0,G点!$S$8>0),G点!$M38*G点!$N38=1),\"\",IF(G点!$M$9>0,G点!$M38,G点!$N38))","v":""},{"$f":"IF(OR($BG$3=\"\",AND(G点!$M$9>0,G点!$S$8>0),G点!$S38*G点!$T38=1),\"\",IF(G点!$M$9>0,G点!$S38,G点!$T38))","v":""},{"$f":"IF(OR($BJ$3=\"\",AND(G点!$M$9>0,G点!$S$68>0),G点!$G98*G点!$H98=1),\"\",IF(G点!$M$9>0,G点!$G98,G点!$H98))","v":""},{"$f":"IF(OR($BJ$3=\"\",AND(G点!$M$9>0,G点!$S$68>0),G点!$M98*G点!$N98=1),\"\",IF(G点!$M$9>0,G点!$M98,G点!$N98))","v":""},{"$f":"IF(OR($BJ$3=\"\",AND(G点!$M$9>0,G点!$S$68>0),G点!$S98*G点!$T98=1),\"\",IF(G点!$M$9>0,G点!$S98,G点!$T98))","v":""},{"$f":"IF(OR($BM$3=\"\",AND(G点!$M$9>0,G点!$S$128>0),G点!$G158*G点!$H158=1),\"\",IF(G点!$M$9>0,G点!$G158,G点!$H158))","v":""},{"$f":"IF(OR($BM$3=\"\",AND(G点!$M$9>0,G点!$S$128>0),G点!$M158*G点!$N158=1),\"\",IF(G点!$M$9>0,G点!$M158,G点!$N158))","v":""},{"$f":"IF(OR($BM$3=\"\",AND(G点!$M$9>0,G点!$S$128>0),G点!$S158*G点!$T158=1),\"\",IF(G点!$M$9>0,G点!$S158,G点!$T158))","v":""},{"$f":"IF(OR($BP$3=\"\",AND(H点!$M$9>0,H点!$S$8>0),H点!$G38*H点!$H38=1),\"\",IF(H点!$M$9>0,H点!$G38,H点!$H38))","v":""},{"$f":"IF(OR($BP$3=\"\",AND(H点!$M$9>0,H点!$S$8>0),H点!$M38*H点!$N38=1),\"\",IF(H点!$M$9>0,H点!$M38,H点!$N38))","v":""},{"$f":"IF(OR($BP$3=\"\",AND(H点!$M$9>0,H点!$S$8>0),H点!$S38*H点!$T38=1),\"\",IF(H点!$M$9>0,H点!$S38,H点!$T38))","v":""},{"$f":"IF(OR($BS$3=\"\",AND(H点!$M$9>0,H点!$S$68>0),H点!$G98*H点!$H98=1),\"\",IF(H点!$M$9>0,H点!$G98,H点!$H98))","v":""},{"$f":"IF(OR($BS$3=\"\",AND(H点!$M$9>0,H点!$S$68>0),H点!$M98*H点!$N98=1),\"\",IF(H点!$M$9>0,H点!$M98,H点!$N98))","v":""},{"$f":"IF(OR($BS$3=\"\",AND(H点!$M$9>0,H点!$S$68>0),H点!$S98*H点!$T98=1),\"\",IF(H点!$M$9>0,H点!$S98,H点!$T98))","v":""},{"$f":"IF(OR($BV$3=\"\",AND(H点!$M$9>0,H点!$S$128>0),H点!$G158*H点!$H158=1),\"\",IF(H点!$M$9>0,H点!$G158,H点!$H158))","v":""},{"$f":"IF(OR($BV$3=\"\",AND(H点!$M$9>0,H点!$S$128>0),H点!$M158*H点!$N158=1),\"\",IF(H点!$M$9>0,H点!$M158,H点!$N158))","v":""},{"$f":"IF(OR($BV$3=\"\",AND(H点!$M$9>0,H点!$S$128>0),H点!$S158*H点!$T158=1),\"\",IF(H点!$M$9>0,H点!$S158,H点!$T158))","v":""},{"$f":"IF(OR($BY$3=\"\",AND(Ｉ点!$M$9>0,Ｉ点!$S$8>0),Ｉ点!$G38*Ｉ点!$H38=1),\"\",IF(Ｉ点!$M$9>0,Ｉ点!$G38,Ｉ点!$H38))","v":""},{"$f":"IF(OR($BY$3=\"\",AND(Ｉ点!$M$9>0,Ｉ点!$S$8>0),Ｉ点!$M38*Ｉ点!$N38=1),\"\",IF(Ｉ点!$M$9>0,Ｉ点!$M38,Ｉ点!$N38))","v":""},{"$f":"IF(OR($BY$3=\"\",AND(Ｉ点!$M$9>0,Ｉ点!$S$8>0),Ｉ点!$S38*Ｉ点!$T38=1),\"\",IF(Ｉ点!$M$9>0,Ｉ点!$S38,Ｉ点!$T38))","v":""},{"$f":"IF(OR($CB$3=\"\",AND(Ｉ点!$M$9>0,Ｉ点!$S$68>0),Ｉ点!$G98*Ｉ点!$H98=1),\"\",IF(Ｉ点!$M$9>0,Ｉ点!$G98,Ｉ点!$H98))","v":""},{"$f":"IF(OR($CB$3=\"\",AND(Ｉ点!$M$9>0,Ｉ点!$S$68>0),Ｉ点!$M98*Ｉ点!$N98=1),\"\",IF(Ｉ点!$M$9>0,Ｉ点!$M98,Ｉ点!$N98))","v":""},{"$f":"IF(OR($CB$3=\"\",AND(Ｉ点!$M$9>0,Ｉ点!$S$68>0),Ｉ点!$S98*Ｉ点!$T98=1),\"\",IF(Ｉ点!$M$9>0,Ｉ点!$S98,Ｉ点!$T98))","v":""},{"$f":"IF(OR($CE$3=\"\",AND(Ｉ点!$M$9>0,Ｉ点!$S$128>0),Ｉ点!$G158*Ｉ点!$H158=1),\"\",IF(Ｉ点!$M$9>0,Ｉ点!$G158,Ｉ点!$H158))","v":""},{"$f":"IF(OR($CE$3=\"\",AND(Ｉ点!$M$9>0,Ｉ点!$S$128>0),Ｉ点!$M158*Ｉ点!$N158=1),\"\",IF(Ｉ点!$M$9>0,Ｉ点!$M158,Ｉ点!$N158))","v":""},{"$f":"IF(OR($CE$3=\"\",AND(Ｉ点!$M$9>0,Ｉ点!$S$128>0),Ｉ点!$S158*Ｉ点!$T158=1),\"\",IF(Ｉ点!$M$9>0,Ｉ点!$S158,Ｉ点!$T158))","v":""}]
[null,"t1/2","a)　鉛(表9)","半価層(mm)",{"$f":"IF(OR($E$3=\"\",A点!$H44=1),\"\",A点!$F43)","v":""},{"$f":"IF(OR($E$3=\"\",A点!$N44=1),\"\",A点!$L43)","v":""},{"$f":"IF(OR($E$3=\"\",A点!$T44=1),\"\",A点!$R43)","v":""},{"$f":"IF(OR($H$3=\"\",A点!$H104=1),\"\",A点!$F103)","v":""},{"$f":"IF(OR($H$3=\"\",A点!$N104=1),\"\",A点!$L103)","v":""},{"$f":"IF(OR($H$3=\"\",A点!$T104=1),\"\",A点!$R103)","v":""},{"$f":"IF(OR($K$3=\"\",A点!$H164=1),\"\",A点!$F163)","v":""},{"$f":"IF(OR($K$3=\"\",A点!$N164=1),\"\",A点!$L163)","v":""},{"$f":"IF(OR($K$3=\"\",A点!$T164=1),\"\",A点!$R163)","v":""},{"$f":"IF(OR($E$3=\"\",B点!$H44=1),\"\",B点!$F43)","v":""},{"$f":"IF(OR($E$3=\"\",B点!$N44=1),\"\",B点!$L43)","v":""},{"$f":"IF(OR($E$3=\"\",B点!$T44=1),\"\",B点!$R43)","v":""},{"$f":"IF(OR($H$3=\"\",B点!$H104=1),\"\",B点!$F103)","v":""},{"$f":"IF(OR($H$3=\"\",B点!$N104=1),\"\",B点!$L103)","v":""},{"$f":"IF(OR($H$3=\"\",B点!$T104=1),\"\",B点!$R103)","v":""},{"$f":"IF(OR($K$3=\"\",B点!$H164=1),\"\",B点!$F163)","v":""},{"$f":"IF(OR($K$3=\"\",B点!$N164=1),\"\",B点!$L163)","v":""},{"$f":"IF(OR($K$3=\"\",B点!$T164=1),\"\",B点!$R163)","v":""},{"$f":"IF(OR($E$3=\"\",C点!$H44=1),\"\",C点!$F43)","v":""},{"$f":"IF(OR($E$3=\"\",C点!$N44=1),\"\",C点!$L43)","v":""},{"$f":"IF(OR($E$3=\"\",C点!$T44=1),\"\",C点!$R43)","v":""},{"$f":"IF(OR($H$3=\"\",C点!$H104=1),\"\",C点!$F103)","v":""},{"$f":"IF(OR($H$3=\"\",C点!$N104=1),\"\",C点!$L103)","v":""},{"$f":"IF(OR($H$3=\"\",C点!$T104=1),\"\",C点!$R103)","v":""},{"$f":"IF(OR($K$3=\"\",C点!$H164=1),\"\",C点!$F163)","v":""},{"$f":"IF(OR($K$3=\"\",C点!$N164=1),\"\",C点!$L163)","v":""},{"$f":"IF(OR($K$3=\"\",C点!$T164=1),\"\",C点!$R163)","v":""},{"$f":"IF(OR($E$3=\"\",D点!$H44=1),\"\",D点!$F43)","v":""},{"$f":"IF(OR($E$3=\"\",D点!$N44=1),\"\",D点!$L43)","v":""},{"$f":"IF(OR($E$3=\"\",D点!$T44=1),\"\",D点!$R43)","v":""},{"$f":"IF(OR($H$3=\"\",D点!$H104=1),\"\",D点!$F103)","v":""},{"$f":"IF(OR($H$3=\"\",D点!$N104=1),\"\",D点!$L103)","v":""},{"$f":"IF(OR($H$3=\"\",D点!$T104=1),\"\",D点!$R103)","v":""},{"$f":"IF(OR($K$3=\"\",D点!$H164=1),\"\",D点!$F163)","v":""},{"$f":"IF(OR($K$3=\"\",D点!$N164=1),\"\",D点!$L163)","v":""},{"$f":"IF(OR($K$3=\"\",D点!$T164=1),\"\",D点!$R163)","v":""},{"$f":"IF(OR($E$3=\"\",E点!$H44=1),\"\",E点!$F43)","v":""},{"$f":"IF(OR($E$3=\"\",E点!$N44=1),\"\",E点!$L43)","v":""},{"$f":"IF(OR($E$3=\"\",E点!$T44=1),\"\",E点!$R43)","v":""},{"$f":"IF(OR($H$3=\"\",E点!$H104=1),\"\",E点!$F103)","v":""},{"$f":"IF(OR($H$3=\"\",E点!$N104=1),\"\",E点!$L103)","v":""},{"$f":"IF(OR($H$3=\"\",E点!$T104=1),\"\",E点!$R103)","v":""},{"$f":"IF(OR($K$3=\"\",E点!$H164=1),\"\",E点!$F163)","v":""},{"$f":"IF(OR($K$3=\"\",E点!$N164=1),\"\",E点!$L163)","v":""},{"$f":"IF(OR($K$3=\"\",E点!$T164=1),\"\",E点!$R163)","v":""},{"$f":"IF(OR($E$3=\"\",F点!$H44=1),\"\",F点!$F43)","v":""},{"$f":"IF(OR($E$3=\"\",F点!$N44=1),\"\",F点!$L43)","v":""},{"$f":"IF(OR($E$3=\"\",F点!$T44=1),\"\",F点!$R43)","v":""},{"$f":"IF(OR($H$3=\"\",F点!$H104=1),\"\",F点!$F103)","v":""},{"$f":"IF(OR($H$3=\"\",F点!$N104=1),\"\",F点!$L103)","v":""},{"$f":"IF(OR($H$3=\"\",F点!$T104=1),\"\",F点!$R103)","v":""},{"$f":"IF(OR($K$3=\"\",F点!$H164=1),\"\",F点!$F163)","v":""},{"$f":"IF(OR($K$3=\"\",F点!$N164=1),\"\",F点!$L163)","v":""},{"$f":"IF(OR($K$3=\"\",F点!$T164=1),\"\",F点!$R163)","v":""},{"$f":"IF(OR($E$3=\"\",G点!$H44=1),\"\",G点!$F43)","v":""},{"$f":"IF(OR($E$3=\"\",G点!$N44=1),\"\",G点!$L43)","v":""},{"$f":"IF(OR($E$3=\"\",G点!$T44=1),\"\",G点!$R43)","v":""},{"$f":"IF(OR($H$3=\"\",G点!$H104=1),\"\",G点!$F103)","v":""},{"$f":"IF(OR($H$3=\"\",G点!$N104=1),\"\",G点!$L103)","v":""},{"$f":"IF(OR($H$3=\"\",G点!$T104=1),\"\",G点!$R103)","v":""},{"$f":"IF(OR($K$3=\"\",G点!$H164=1),\"\",G点!$F163)","v":""},{"$f":"IF(OR($K$3=\"\",G点!$N164=1),\"\",G点!$L163)","v":""},{"$f":"IF(OR($K$3=\"\",G点!$T164=1),\"\",G点!$R163)","v":""},{"$f":"IF(OR($E$3=\"\",H点!$H44=1),\"\",H点!$F43)","v":""},{"$f":"IF(OR($E$3=\"\",H点!$N44=1),\"\",H点!$L43)","v":""},{"$f":"IF(OR($E$3=\"\",H点!$T44=1),\"\",H点!$R43)","v":""},{"$f":"IF(OR($H$3=\"\",H点!$H104=1),\"\",H点!$F103)","v":""},{"$f":"IF(OR($H$3=\"\",H点!$N104=1),\"\",H点!$L103)","v":""},{"$f":"IF(OR($H$3=\"\",H点!$T104=1),\"\",H点!$R103)","v":""},{"$f":"IF(OR($K$3=\"\",H点!$H164=1),\"\",H点!$F163)","v":""},{"$f":"IF(OR($K$3=\"\",H点!$N164=1),\"\",H点!$L163)","v":""},{"$f":"IF(OR($K$3=\"\",H点!$T164=1),\"\",H点!$R163)","v":""},{"$f":"IF(OR($E$3=\"\",Ｉ点!$H44=1),\"\",Ｉ点!$F43)","v":""},{"$f":"IF(OR($E$3=\"\",Ｉ点!$N44=1),\"\",Ｉ点!$L43)","v":""},{"$f":"IF(OR($E$3=\"\",Ｉ点!$T44=1),\"\",Ｉ点!$R43)","v":""},{"$f":"IF(OR($H$3=\"\",Ｉ点!$H104=1),\"\",Ｉ点!$F103)","v":""},{"$f":"IF(OR($H$3=\"\",Ｉ点!$N104=1),\"\",Ｉ点!$L103)","v":""},{"$f":"IF(OR($H$3=\"\",Ｉ点!$T104=1),\"\",Ｉ点!$R103)","v":""},{"$f":"IF(OR($K$3=\"\",Ｉ点!$H164=1),\"\",Ｉ点!$F163)","v":""},{"$f":"IF(OR($K$3=\"\",Ｉ点!$N164=1),\"\",Ｉ点!$L163)","v":""},{"$f":"IF(OR($K$3=\"\",Ｉ点!$T164=1),\"\",Ｉ点!$R163)","v":""}]
[null,null,null,"透過率",{"$f":"IF(OR($E$3=\"\",A点!$H44=1),\"\",A点!$H44)","v":""},{"$f":"IF(OR($E$3=\"\",A点!$N44=1),\"\",A点!$N44)","v":""},{"$f":"IF(OR($E$3=\"\",A点!$T44=1),\"\",A点!$T44)","v":""},{"$f":"IF(OR($H$3=\"\",A点!$H104=1),\"\",A点!$H104)","v":""},{"$f":"IF(OR($H$3=\"\",A点!$N104=1),\"\",A点!$N104)","v":""},{"$f":"IF(OR($H$3=\"\",A点!$T104=1),\"\",A点!$T104)","v":""},{"$f":"IF(OR($K$3=\"\",A点!$H164=1),\"\",A点!$H164)","v":""},{"$f":"IF(OR($K$3=\"\",A点!$N164=1),\"\",A点!$N164)","v":""},{"$f":"IF(OR($K$3=\"\",A点!$T164=1),\"\",A点!$T164)","v":""},{"$f":"IF(OR($E$3=\"\",B点!$H44=1),\"\",B点!$H44)","v":""},{"$f":"IF(OR($E$3=\"\",B点!$N44=1),\"\",B点!$N44)","v":""},{"$f":"IF(OR($E$3=\"\",B点!$T44=1),\"\",B点!$T44)","v":""},{"$f":"IF(OR($H$3=\"\",B点!$H104=1),\"\",B点!$H104)","v":""},{"$f":"IF(OR($H$3=\"\",B点!$N104=1),\"\",B点!$N104)","v":""},{"$f":"IF(OR($H$3=\"\",B点!$T104=1),\"\",B点!$T104)","v":""},{"$f":"IF(OR($K$3=\"\",B点!$H164=1),\"\",B点!$H164)","v":""},{"$f":"IF(OR($K$3=\"\",B点!$N164=1),\"\",B点!$N164)","v":""},{"$f":"IF(OR($K$3=\"\",B点!$T164=1),\"\",B点!$T164)","v":""},{"$f":"IF(OR($E$3=\"\",C点!$H44=1),\"\",C点!$H44)","v":""},{"$f":"IF(OR($E$3=\"\",C点!$N44=1),\"\",C点!$N44)","v":""},{"$f":"IF(OR($E$3=\"\",C点!$T44=1),\"\",C点!$T44)","v":""},{"$f":"IF(OR($H$3=\"\",C点!$H104=1),\"\",C点!$H104)","v":""},{"$f":"IF(OR($H$3=\"\",C点!$N104=1),\"\",C点!$N104)","v":""},{"$f":"IF(OR($H$3=\"\",C点!$T104=1),\"\",C点!$T104)","v":""},{"$f":"IF(OR($K$3=\"\",C点!$H164=1),\"\",C点!$H164)","v":""},{"$f":"IF(OR($K$3=\"\",C点!$N164=1),\"\",C点!$N164)","v":""},{"$f":"IF(OR($K$3=\"\",C点!$T164=1),\"\",C点!$T164)","v":""},{"$f":"IF(OR($E$3=\"\",D点!$H44=1),\"\",D点!$H44)","v":""},{"$f":"IF(OR($E$3=\"\",D点!$N44=1),\"\",D点!$N44)","v":""},{"$f":"IF(OR($E$3=\"\",D点!$T44=1),\"\",D点!$T44)","v":""},{"$f":"IF(OR($H$3=\"\",D点!$H104=1),\"\",D点!$H104)","v":""},{"$f":"IF(OR($H$3=\"\",D点!$N104=1),\"\",D点!$N104)","v":""},{"$f":"IF(OR($H$3=\"\",D点!$T104=1),\"\",D点!$T104)","v":""},{"$f":"IF(OR($K$3=\"\",D点!$H164=1),\"\",D点!$H164)","v":""},{"$f":"IF(OR($K$3=\"\",D点!$N164=1),\"\",D点!$N164)","v":""},{"$f":"IF(OR($K$3=\"\",D点!$T164=1),\"\",D点!$T164)","v":""},{"$f":"IF(OR($E$3=\"\",E点!$H44=1),\"\",E点!$H44)","v":""},{"$f":"IF(OR($E$3=\"\",E点!$N44=1),\"\",E点!$N44)","v":""},{"$f":"IF(OR($E$3=\"\",E点!$T44=1),\"\",E点!$T44)","v":""},{"$f":"IF(OR($H$3=\"\",E点!$H104=1),\"\",E点!$H104)","v":""},{"$f":"IF(OR($H$3=\"\",E点!$N104=1),\"\",E点!$N104)","v":""},{"$f":"IF(OR($H$3=\"\",E点!$T104=1),\"\",E点!$T104)","v":""},{"$f":"IF(OR($K$3=\"\",E点!$H164=1),\"\",E点!$H164)","v":""},{"$f":"IF(OR($K$3=\"\",E点!$N164=1),\"\",E点!$N164)","v":""},{"$f":"IF(OR($K$3=\"\",E点!$T164=1),\"\",E点!$T164)","v":""},{"$f":"IF(OR($E$3=\"\",F点!$H44=1),\"\",F点!$H44)","v":""},{"$f":"IF(OR($E$3=\"\",F点!$N44=1),\"\",F点!$N44)","v":""},{"$f":"IF(OR($E$3=\"\",F点!$T44=1),\"\",F点!$T44)","v":""},{"$f":"IF(OR($H$3=\"\",F点!$H104=1),\"\",F点!$H104)","v":""},{"$f":"IF(OR($H$3=\"\",F点!$N104=1),\"\",F点!$N104)","v":""},{"$f":"IF(OR($H$3=\"\",F点!$T104=1),\"\",F点!$T104)","v":""},{"$f":"IF(OR($K$3=\"\",F点!$H164=1),\"\",F点!$H164)","v":""},{"$f":"IF(OR($K$3=\"\",F点!$N164=1),\"\",F点!$N164)","v":""},{"$f":"IF(OR($K$3=\"\",F点!$T164=1),\"\",F点!$T164)","v":""},{"$f":"IF(OR($E$3=\"\",G点!$H44=1),\"\",G点!$H44)","v":""},{"$f":"IF(OR($E$3=\"\",G点!$N44=1),\"\",G点!$N44)","v":""},{"$f":"IF(OR($E$3=\"\",G点!$T44=1),\"\",G点!$T44)","v":""},{"$f":"IF(OR($H$3=\"\",G点!$H104=1),\"\",G点!$H104)","v":""},{"$f":"IF(OR($H$3=\"\",G点!$N104=1),\"\",G点!$N104)","v":""},{"$f":"IF(OR($H$3=\"\",G点!$T104=1),\"\",G点!$T104)","v":""},{"$f":"IF(OR($K$3=\"\",G点!$H164=1),\"\",G点!$H164)","v":""},{"$f":"IF(OR($K$3=\"\",G点!$N164=1),\"\",G点!$H164)","v":""},{"$f":"IF(OR($K$3=\"\",G点!$T164=1),\"\",G点!$T164)","v":""},{"$f":"IF(OR($E$3=\"\",H点!$H44=1),\"\",H点!$H44)","v":""},{"$f":"IF(OR($E$3=\"\",H点!$N44=1),\"\",H点!$N44)","v":""},{"$f":"IF(OR($E$3=\"\",H点!$T44=1),\"\",H点!$T44)","v":""},{"$f":"IF(OR($H$3=\"\",H点!$H104=1),\"\",H点!$H104)","v":""},{"$f":"IF(OR($H$3=\"\",H点!$N104=1),\"\",H点!$N104)","v":""},{"$f":"IF(OR($H$3=\"\",H点!$T104=1),\"\",H点!$T104)","v":""},{"$f":"IF(OR($K$3=\"\",H点!$H164=1),\"\",H点!$H164)","v":""},{"$f":"IF(OR($K$3=\"\",H点!$N164=1),\"\",H点!$N164)","v":""},{"$f":"IF(OR($K$3=\"\",H点!$T164=1),\"\",H点!$T164)","v":""},{"$f":"IF(OR($E$3=\"\",Ｉ点!$H44=1),\"\",Ｉ点!$H44)","v":""},{"$f":"IF(OR($E$3=\"\",Ｉ点!$N44=1),\"\",Ｉ点!$N44)","v":""},{"$f":"IF(OR($E$3=\"\",Ｉ点!$T44=1),\"\",Ｉ点!$T44)","v":""},{"$f":"IF(OR($H$3=\"\",Ｉ点!$H104=1),\"\",Ｉ点!$H104)","v":""},{"$f":"IF(OR($H$3=\"\",Ｉ点!$N104=1),\"\",Ｉ点!$N104)","v":""},{"$f":"IF(OR($H$3=\"\",Ｉ点!$T104=1),\"\",Ｉ点!$T104)","v":""},{"$f":"IF(OR($K$3=\"\",Ｉ点!$H164=1),\"\",Ｉ点!$H164)","v":""},{"$f":"IF(OR($K$3=\"\",Ｉ点!$N164=1),\"\",Ｉ点!$N164)","v":""},{"$f":"IF(OR($K$3=\"\",Ｉ点!$T164=1),\"\",Ｉ点!$T164)","v":""}]
[null,null,"b)　ｺﾝｸﾘｰﾄ(表9)","半価層(mm)",{"$f":"IF(OR($E$3=\"\",A点!$H46=1),\"\",A点!$F45)","v":""},{"$f":"IF(OR($E$3=\"\",A点!$N46=1),\"\",A点!$L45)","v":""},{"$f":"IF(OR($E$3=\"\",A点!$T46=1),\"\",A点!$R45)","v":""},{"$f":"IF(OR($H$3=\"\",A点!$H106=1),\"\",A点!$F105)","v":""},{"$f":"IF(OR($H$3=\"\",A点!$N106=1),\"\",A点!$L105)","v":""},{"$f":"IF(OR($H$3=\"\",A点!$T106=1),\"\",A点!$R105)","v":""},{"$f":"IF(OR($K$3=\"\",A点!$H166=1),\"\",A点!$F165)","v":""},{"$f":"IF(OR($K$3=\"\",A点!$N166=1),\"\",A点!$L165)","v":""},{"$f":"IF(OR($K$3=\"\",A点!$T166=1),\"\",A点!$R165)","v":""},{"$f":"IF(OR($E$3=\"\",B点!$H46=1),\"\",B点!$F45)","v":""},{"$f":"IF(OR($E$3=\"\",B点!$N46=1),\"\",B点!$L45)","v":""},{"$f":"IF(OR($E$3=\"\",B点!$T46=1),\"\",B点!$R45)","v":""},{"$f":"IF(OR($H$3=\"\",B点!$H106=1),\"\",B点!$F105)","v":""},{"$f":"IF(OR($H$3=\"\",B点!$N106=1),\"\",B点!$L105)","v":""},{"$f":"IF(OR($H$3=\"\",B点!$T106=1),\"\",B点!$R105)","v":""},{"$f":"IF(OR($K$3=\"\",B点!$H166=1),\"\",B点!$F165)","v":""},{"$f":"IF(OR($K$3=\"\",B点!$N166=1),\"\",B点!$L165)","v":""},{"$f":"IF(OR($K$3=\"\",B点!$T166=1),\"\",B点!$R165)","v":""},{"$f":"IF(OR($E$3=\"\",C点!$H46=1),\"\",C点!$F45)","v":""},{"$f":"IF(OR($E$3=\"\",C点!$N46=1),\"\",C点!$L45)","v":""},{"$f":"IF(OR($E$3=\"\",C点!$T46=1),\"\",C点!$R45)","v":""},{"$f":"IF(OR($H$3=\"\",C点!$H106=1),\"\",C点!$F105)","v":""},{"$f":"IF(OR($H$3=\"\",C点!$N106=1),\"\",C点!$L105)","v":""},{"$f":"IF(OR($H$3=\"\",C点!$T106=1),\"\",C点!$R105)","v":""},{"$f":"IF(OR($K$3=\"\",C点!$H166=1),\"\",C点!$F165)","v":""},{"$f":"IF(OR($K$3=\"\",C点!$N166=1),\"\",C点!$L165)","v":""},{"$f":"IF(OR($K$3=\"\",C点!$T166=1),\"\",C点!$R165)","v":""},{"$f":"IF(OR($E$3=\"\",D点!$H46=1),\"\",D点!$F45)","v":""},{"$f":"IF(OR($E$3=\"\",D点!$N46=1),\"\",D点!$L45)","v":""},{"$f":"IF(OR($E$3=\"\",D点!$T46=1),\"\",D点!$R45)","v":""},{"$f":"IF(OR($H$3=\"\",D点!$H106=1),\"\",D点!$F105)","v":""},{"$f":"IF(OR($H$3=\"\",D点!$N106=1),\"\",D点!$L105)","v":""},{"$f":"IF(OR($H$3=\"\",D点!$T106=1),\"\",D点!$R105)","v":""},{"$f":"IF(OR($K$3=\"\",D点!$H166=1),\"\",D点!$F165)","v":""},{"$f":"IF(OR($K$3=\"\",D点!$N166=1),\"\",D点!$L165)","v":""},{"$f":"IF(OR($K$3=\"\",D点!$T166=1),\"\",D点!$R165)","v":""},{"$f":"IF(OR($E$3=\"\",E点!$H46=1),\"\",E点!$F45)","v":""},{"$f":"IF(OR($E$3=\"\",E点!$N46=1),\"\",E点!$L45)","v":""},{"$f":"IF(OR($E$3=\"\",E点!$T46=1),\"\",E点!$R45)","v":""},{"$f":"IF(OR($H$3=\"\",E点!$H106=1),\"\",E点!$F105)","v":""},{"$f":"IF(OR($H$3=\"\",E点!$N106=1),\"\",E点!$L105)","v":""},{"$f":"IF(OR($H$3=\"\",E点!$T106=1),\"\",E点!$R105)","v":""},{"$f":"IF(OR($K$3=\"\",E点!$H166=1),\"\",E点!$F165)","v":""},{"$f":"IF(OR($K$3=\"\",E点!$N166=1),\"\",E点!$L165)","v":""},{"$f":"IF(OR($K$3=\"\",E点!$T166=1),\"\",E点!$R165)","v":""},{"$f":"IF(OR($E$3=\"\",F点!$H46=1),\"\",F点!$F45)","v":""},{"$f":"IF(OR($E$3=\"\",F点!$N46=1),\"\",F点!$L45)","v":""},{"$f":"IF(OR($E$3=\"\",F点!$T46=1),\"\",F点!$R45)","v":""},{"$f":"IF(OR($H$3=\"\",F点!$H106=1),\"\",F点!$F105)","v":""},{"$f":"IF(OR($H$3=\"\",F点!$N106=1),\"\",F点!$L105)","v":""},{"$f":"IF(OR($H$3=\"\",F点!$T106=1),\"\",F点!$R105)","v":""},{"$f":"IF(OR($K$3=\"\",F点!$H166=1),\"\",F点!$F165)","v":""},{"$f":"IF(OR($K$3=\"\",F点!$N166=1),\"\",F点!$L165)","v":""},{"$f":"IF(OR($K$3=\"\",F点!$T166=1),\"\",F点!$R165)","v":""},{"$f":"IF(OR($E$3=\"\",G点!$H46=1),\"\",G点!$F45)","v":""},{"$f":"IF(OR($E$3=\"\",G点!$N46=1),\"\",G点!$L45)","v":""},{"$f":"IF(OR($E$3=\"\",G点!$T46=1),\"\",G点!$R45)","v":""},{"$f":"IF(OR($H$3=\"\",G点!$H106=1),\"\",G点!$F105)","v":""},{"$f":"IF(OR($H$3=\"\",G点!$N106=1),\"\",G点!$N105)","v":""},{"$f":"IF(OR($H$3=\"\",G点!$T106=1),\"\",G点!$T105)","v":""},{"$f":"IF(OR($K$3=\"\",G点!$H166=1),\"\",G点!$F165)","v":""},{"$f":"IF(OR($K$3=\"\",G点!$N166=1),\"\",G点!$L165)","v":""},{"$f":"IF(OR($K$3=\"\",G点!$T166=1),\"\",G点!$R165)","v":""},{"$f":"IF(OR($E$3=\"\",H点!$H46=1),\"\",H点!$F45)","v":""},{"$f":"IF(OR($E$3=\"\",H点!$N46=1),\"\",H点!$L45)","v":""},{"$f":"IF(OR($E$3=\"\",H点!$T46=1),\"\",H点!$R45)","v":""},{"$f":"IF(OR($H$3=\"\",H点!$H106=1),\"\",H点!$F105)","v":""},{"$f":"IF(OR($H$3=\"\",H点!$N106=1),\"\",H点!$L105)","v":""},{"$f":"IF(OR($H$3=\"\",H点!$T106=1),\"\",H点!$R105)","v":""},{"$f":"IF(OR($K$3=\"\",H点!$H166=1),\"\",H点!$F165)","v":""},{"$f":"IF(OR($K$3=\"\",H点!$N166=1),\"\",H点!$L165)","v":""},{"$f":"IF(OR($K$3=\"\",H点!$T166=1),\"\",H点!$R165)","v":""},{"$f":"IF(OR($E$3=\"\",Ｉ点!$H46=1),\"\",Ｉ点!$F45)","v":""},{"$f":"IF(OR($E$3=\"\",Ｉ点!$N46=1),\"\",Ｉ点!$L45)","v":""},{"$f":"IF(OR($E$3=\"\",Ｉ点!$T46=1),\"\",Ｉ点!$R45)","v":""},{"$f":"IF(OR($H$3=\"\",Ｉ点!$H106=1),\"\",Ｉ点!$F105)","v":""},{"$f":"IF(OR($H$3=\"\",Ｉ点!$N106=1),\"\",Ｉ点!$L105)","v":""},{"$f":"IF(OR($H$3=\"\",Ｉ点!$T106=1),\"\",Ｉ点!$R105)","v":""},{"$f":"IF(OR($K$3=\"\",Ｉ点!$H166=1),\"\",Ｉ点!$F165)","v":""},{"$f":"IF(OR($K$3=\"\",Ｉ点!$N166=1),\"\",Ｉ点!$L165)","v":""},{"$f":"IF(OR($K$3=\"\",Ｉ点!$T166=1),\"\",Ｉ点!$R165)","v":""}]
[null,null,null,"透過率",{"$f":"IF(OR($E$3=\"\",A点!$H46=1),\"\",A点!$H46)","v":""},{"$f":"IF(OR($E$3=\"\",A点!$N46=1),\"\",A点!$N46)","v":""},{"$f":"IF(OR($E$3=\"\",A点!$T46=1),\"\",A点!$T46)","v":""},{"$f":"IF(OR($H$3=\"\",A点!$H106=1),\"\",A点!$H106)","v":""},{"$f":"IF(OR($H$3=\"\",A点!$N106=1),\"\",A点!$N106)","v":""},{"$f":"IF(OR($H$3=\"\",A点!$T106=1),\"\",A点!$T106)","v":""},{"$f":"IF(OR($K$3=\"\",A点!$H166=1),\"\",A点!$H166)","v":""},{"$f":"IF(OR($K$3=\"\",A点!$N166=1),\"\",A点!$N166)","v":""},{"$f":"IF(OR($K$3=\"\",A点!$T166=1),\"\",A点!$T166)","v":""},{"$f":"IF(OR($E$3=\"\",B点!$H46=1),\"\",B点!$H46)","v":""},{"$f":"IF(OR($E$3=\"\",B点!$N46=1),\"\",B点!$N46)","v":""},{"$f":"IF(OR($E$3=\"\",B点!$T46=1),\"\",B点!$T46)","v":""},{"$f":"IF(OR($H$3=\"\",B点!$H106=1),\"\",B点!$H106)","v":""},{"$f":"IF(OR($H$3=\"\",B点!$N106=1),\"\",B点!$N106)","v":""},{"$f":"IF(OR($H$3=\"\",B点!$T106=1),\"\",B点!$T106)","v":""},{"$f":"IF(OR($K$3=\"\",B点!$H166=1),\"\",B点!$H166)","v":""},{"$f":"IF(OR($K$3=\"\",B点!$N166=1),\"\",B点!$N166)","v":""},{"$f":"IF(OR($K$3=\"\",B点!$T166=1),\"\",B点!$T166)","v":""},{"$f":"IF(OR($E$3=\"\",C点!$H46=1),\"\",C点!$H46)","v":""},{"$f":"IF(OR($E$3=\"\",C点!$N46=1),\"\",C点!$N46)","v":""},{"$f":"IF(OR($E$3=\"\",C点!$T46=1),\"\",C点!$T46)","v":""},{"$f":"IF(OR($H$3=\"\",C点!$H106=1),\"\",C点!$H106)","v":""},{"$f":"IF(OR($H$3=\"\",C点!$N106=1),\"\",C点!$N106)","v":""},{"$f":"IF(OR($H$3=\"\",C点!$T106=1),\"\",C点!$T106)","v":""},{"$f":"IF(OR($K$3=\"\",C点!$H166=1),\"\",C点!$H166)","v":""},{"$f":"IF(OR($K$3=\"\",C点!$N166=1),\"\",C点!$N166)","v":""},{"$f":"IF(OR($K$3=\"\",C点!$T166=1),\"\",C点!$T166)","v":""},{"$f":"IF(OR($E$3=\"\",D点!$H46=1),\"\",D点!$H46)","v":""},{"$f":"IF(OR($E$3=\"\",D点!$N46=1),\"\",D点!$N46)","v":""},{"$f":"IF(OR($E$3=\"\",D点!$T46=1),\"\",D点!$T46)","v":""},{"$f":"IF(OR($H$3=\"\",D点!$H106=1),\"\",D点!$H106)","v":""},{"$f":"IF(OR($H$3=\"\",D点!$N106=1),\"\",D点!$N106)","v":""},{"$f":"IF(OR($H$3=\"\",D点!$T106=1),\"\",D点!$T106)","v":""},{"$f":"IF(OR($K$3=\"\",D点!$H166=1),\"\",D点!$H166)","v":""},{"$f":"IF(OR($K$3=\"\",D点!$N166=1),\"\",D点!$N166)","v":""},{"$f":"IF(OR($K$3=\"\",D点!$T166=1),\"\",D点!$T166)","v":""},{"$f":"IF(OR($E$3=\"\",E点!$H46=1),\"\",E点!$H46)","v":""},{"$f":"IF(OR($E$3=\"\",E点!$N46=1),\"\",E点!$N46)","v":""},{"$f":"IF(OR($E$3=\"\",E点!$T46=1),\"\",E点!$T46)","v":""},{"$f":"IF(OR($H$3=\"\",E点!$H106=1),\"\",E点!$H106)","v":""},{"$f":"IF(OR($H$3=\"\",E点!$N106=1),\"\",E点!$N106)","v":""},{"$f":"IF(OR($H$3=\"\",E点!$T106=1),\"\",E点!$T106)","v":""},{"$f":"IF(OR($K$3=\"\",E点!$H166=1),\"\",E点!$H166)","v":""},{"$f":"IF(OR($K$3=\"\",E点!$N166=1),\"\",E点!$N166)","v":""},{"$f":"IF(OR($K$3=\"\",E点!$T166=1),\"\",E点!$T166)","v":""},{"$f":"IF(OR($E$3=\"\",F点!$H46=1),\"\",F点!$H46)","v":""},{"$f":"IF(OR($E$3=\"\",F点!$N46=1),\"\",F点!$N46)","v":""},{"$f":"IF(OR($E$3=\"\",F点!$T46=1),\"\",F点!$T46)","v":""},{"$f":"IF(OR($H$3=\"\",F点!$H106=1),\"\",F点!$H106)","v":""},{"$f":"IF(OR($H$3=\"\",F点!$N106=1),\"\",F点!$N106)","v":""},{"$f":"IF(OR($H$3=\"\",F点!$T106=1),\"\",F点!$T106)","v":""},{"$f":"IF(OR($K$3=\"\",F点!$H166=1),\"\",F点!$H166)","v":""},{"$f":"IF(OR($K$3=\"\",F点!$N166=1),\"\",F点!$N166)","v":""},{"$f":"IF(OR($K$3=\"\",F点!$T166=1),\"\",F点!$T166)","v":""},{"$f":"IF(OR($E$3=\"\",G点!$H46=1),\"\",G点!$H46)","v":""},{"$f":"IF(OR($E$3=\"\",G点!$N46=1),\"\",G点!$N46)","v":""},{"$f":"IF(OR($E$3=\"\",G点!$T46=1),\"\",G点!$T46)","v":""},{"$f":"IF(OR($H$3=\"\",G点!$H106=1),\"\",G点!$H106)","v":""},{"$f":"IF(OR($H$3=\"\",G点!$N106=1),\"\",G点!$N106)","v":""},{"$f":"IF(OR($H$3=\"\",G点!$T106=1),\"\",G点!$T106)","v":""},{"$f":"IF(OR($K$3=\"\",G点!$H166=1),\"\",G点!$H166)","v":""},{"$f":"IF(OR($K$3=\"\",G点!$N166=1),\"\",G点!$H166)","v":""},{"$f":"IF(OR($K$3=\"\",G点!$T166=1),\"\",G点!$T166)","v":""},{"$f":"IF(OR($E$3=\"\",H点!$H46=1),\"\",H点!$H46)","v":""},{"$f":"IF(OR($E$3=\"\",H点!$N46=1),\"\",H点!$N46)","v":""},{"$f":"IF(OR($E$3=\"\",H点!$T46=1),\"\",H点!$T46)","v":""},{"$f":"IF(OR($H$3=\"\",H点!$H106=1),\"\",H点!$H106)","v":""},{"$f":"IF(OR($H$3=\"\",H点!$N106=1),\"\",H点!$N106)","v":""},{"$f":"IF(OR($H$3=\"\",H点!$T106=1),\"\",H点!$T106)","v":""},{"$f":"IF(OR($K$3=\"\",H点!$H166=1),\"\",H点!$H166)","v":""},{"$f":"IF(OR($K$3=\"\",H点!$N166=1),\"\",H点!$N166)","v":""},{"$f":"IF(OR($K$3=\"\",H点!$T166=1),\"\",H点!$T166)","v":""},{"$f":"IF(OR($E$3=\"\",Ｉ点!$H46=1),\"\",Ｉ点!$H46)","v":""},{"$f":"IF(OR($E$3=\"\",Ｉ点!$N46=1),\"\",Ｉ点!$N46)","v":""},{"$f":"IF(OR($E$3=\"\",Ｉ点!$T46=1),\"\",Ｉ点!$T46)","v":""},{"$f":"IF(OR($H$3=\"\",Ｉ点!$H106=1),\"\",Ｉ点!$H106)","v":""},{"$f":"IF(OR($H$3=\"\",Ｉ点!$N106=1),\"\",Ｉ点!$N106)","v":""},{"$f":"IF(OR($H$3=\"\",Ｉ点!$T106=1),\"\",Ｉ点!$T106)","v":""},{"$f":"IF(OR($K$3=\"\",Ｉ点!$H166=1),\"\",Ｉ点!$H166)","v":""},{"$f":"IF(OR($K$3=\"\",Ｉ点!$N166=1),\"\",Ｉ点!$N166)","v":""},{"$f":"IF(OR($K$3=\"\",Ｉ点!$T166=1),\"\",Ｉ点!$T166)","v":""}]
[null,null,"c)　鉄(表9)","半価層(mm)",{"$f":"IF(OR($E$3=\"\",A点!$H48=1),\"\",A点!$F47)","v":""},{"$f":"IF(OR($E$3=\"\",A点!$N48=1),\"\",A点!$L47)","v":""},{"$f":"IF(OR($E$3=\"\",A点!$T48=1),\"\",A点!$R47)","v":""},{"$f":"IF(OR($H$3=\"\",A点!$H108=1),\"\",A点!$F107)","v":""},{"$f":"IF(OR($H$3=\"\",A点!$N108=1),\"\",A点!$L107)","v":""},{"$f":"IF(OR($H$3=\"\",A点!$T108=1),\"\",A点!$R107)","v":""},{"$f":"IF(OR($K$3=\"\",A点!$H168=1),\"\",A点!$F167)","v":""},{"$f":"IF(OR($K$3=\"\",A点!$N168=1),\"\",A点!$L167)","v":""},{"$f":"IF(OR($K$3=\"\",A点!$T168=1),\"\",A点!$R167)","v":""},{"$f":"IF(OR($E$3=\"\",B点!$H48=1),\"\",B点!$F47)","v":""},{"$f":"IF(OR($E$3=\"\",B点!$N48=1),\"\",B点!$L47)","v":""},{"$f":"IF(OR($E$3=\"\",B点!$T48=1),\"\",B点!$R47)","v":""},{"$f":"IF(OR($H$3=\"\",B点!$H108=1),\"\",B点!$F107)","v":""},{"$f":"IF(OR($H$3=\"\",B点!$N108=1),\"\",B点!$L107)","v":""},{"$f":"IF(OR($H$3=\"\",B点!$T108=1),\"\",B点!$R107)","v":""},{"$f":"IF(OR($K$3=\"\",B点!$H168=1),\"\",B点!$F167)","v":""},{"$f":"IF(OR($K$3=\"\",B点!$N168=1),\"\",B点!$L167)","v":""},{"$f":"IF(OR($K$3=\"\",B点!$T168=1),\"\",B点!$R167)","v":""},{"$f":"IF(OR($E$3=\"\",C点!$H48=1),\"\",C点!$F47)","v":""},{"$f":"IF(OR($E$3=\"\",C点!$N48=1),\"\",C点!$L47)","v":""},{"$f":"IF(OR($E$3=\"\",C点!$T48=1),\"\",C点!$R47)","v":""},{"$f":"IF(OR($H$3=\"\",C点!$H108=1),\"\",C点!$F107)","v":""},{"$f":"IF(OR($H$3=\"\",C点!$N108=1),\"\",C点!$L107)","v":""},{"$f":"IF(OR($H$3=\"\",C点!$T108=1),\"\",C点!$R107)","v":""},{"$f":"IF(OR($K$3=\"\",C点!$H168=1),\"\",C点!$F167)","v":""},{"$f":"IF(OR($K$3=\"\",C点!$N168=1),\"\",C点!$L167)","v":""},{"$f":"IF(OR($K$3=\"\",C点!$T168=1),\"\",C点!$R167)","v":""},{"$f":"IF(OR($E$3=\"\",D点!$H48=1),\"\",D点!$F47)","v":""},{"$f":"IF(OR($E$3=\"\",D点!$N48=1),\"\",D点!$L47)","v":""},{"$f":"IF(OR($E$3=\"\",D点!$T48=1),\"\",D点!$R47)","v":""},{"$f":"IF(OR($H$3=\"\",D点!$H108=1),\"\",D点!$F107)","v":""},{"$f":"IF(OR($H$3=\"\",D点!$N108=1),\"\",D点!$L107)","v":""},{"$f":"IF(OR($H$3=\"\",D点!$T108=1),\"\",D点!$R107)","v":""},{"$f":"IF(OR($K$3=\"\",D点!$H168=1),\"\",D点!$F167)","v":""},{"$f":"IF(OR($K$3=\"\",D点!$N168=1),\"\",D点!$L167)","v":""},{"$f":"IF(OR($K$3=\"\",D点!$T168=1),\"\",D点!$R167)","v":""},{"$f":"IF(OR($E$3=\"\",E点!$H48=1),\"\",E点!$F47)","v":""},{"$f":"IF(OR($E$3=\"\",E点!$N48=1),\"\",E点!$L47)","v":""},{"$f":"IF(OR($E$3=\"\",E点!$T48=1),\"\",E点!$R47)","v":""},{"$f":"IF(OR($H$3=\"\",E点!$H108=1),\"\",E点!$F107)","v":""},{"$f":"IF(OR($H$3=\"\",E点!$N108=1),\"\",E点!$L107)","v":""},{"$f":"IF(OR($H$3=\"\",E点!$T108=1),\"\",E点!$R107)","v":""},{"$f":"IF(OR($K$3=\"\",E点!$H168=1),\"\",E点!$F167)","v":""},{"$f":"IF(OR($K$3=\"\",E点!$N168=1),\"\",E点!$L167)","v":""},{"$f":"IF(OR($K$3=\"\",E点!$T168=1),\"\",E点!$R167)","v":""},{"$f":"IF(OR($E$3=\"\",F点!$H48=1),\"\",F点!$F47)","v":""},{"$f":"IF(OR($E$3=\"\",F点!$N48=1),\"\",F点!$L47)","v":""},{"$f":"IF(OR($E$3=\"\",F点!$T48=1),\"\",F点!$R47)","v":""},{"$f":"IF(OR($H$3=\"\",F点!$H108=1),\"\",F点!$F107)","v":""},{"$f":"IF(OR($H$3=\"\",F点!$N108=1),\"\",F点!$L107)","v":""},{"$f":"IF(OR($H$3=\"\",F点!$T108=1),\"\",F点!$R107)","v":""},{"$f":"IF(OR($K$3=\"\",F点!$H168=1),\"\",F点!$F167)","v":""},{"$f":"IF(OR($K$3=\"\",F点!$N168=1),\"\",F点!$L167)","v":""},{"$f":"IF(OR($K$3=\"\",F点!$T168=1),\"\",F点!$R167)","v":""},{"$f":"IF(OR($E$3=\"\",G点!$H48=1),\"\",G点!$F47)","v":""},{"$f":"IF(OR($E$3=\"\",G点!$N48=1),\"\",G点!$L47)","v":""},{"$f":"IF(OR($E$3=\"\",G点!$T48=1),\"\",G点!$R47)","v":""},{"$f":"IF(OR($H$3=\"\",G点!$H108=1),\"\",G点!$F107)","v":""},{"$f":"IF(OR($H$3=\"\",G点!$N108=1),\"\",G点!$N107)","v":""},{"$f":"IF(OR($H$3=\"\",G点!$T108=1),\"\",G点!$T107)","v":""},{"$f":"IF(OR($K$3=\"\",G点!$H168=1),\"\",G点!$F167)","v":""},{"$f":"IF(OR($K$3=\"\",G点!$N168=1),\"\",G点!$L167)","v":""},{"$f":"IF(OR($K$3=\"\",G点!$T168=1),\"\",G点!$R167)","v":""},{"$f":"IF(OR($E$3=\"\",H点!$H48=1),\"\",H点!$F47)","v":""},{"$f":"IF(OR($E$3=\"\",H点!$N48=1),\"\",H点!$L47)","v":""},{"$f":"IF(OR($E$3=\"\",H点!$T48=1),\"\",H点!$R47)","v":""},{"$f":"IF(OR($H$3=\"\",H点!$H108=1),\"\",H点!$F107)","v":""},{"$f":"IF(OR($H$3=\"\",H点!$N108=1),\"\",H点!$L107)","v":""},{"$f":"IF(OR($H$3=\"\",H点!$T108=1),\"\",H点!$R107)","v":""},{"$f":"IF(OR($K$3=\"\",H点!$H168=1),\"\",H点!$F167)","v":""},{"$f":"IF(OR($K$3=\"\",H点!$N168=1),\"\",H点!$L167)","v":""},{"$f":"IF(OR($K$3=\"\",H点!$T168=1),\"\",H点!$R167)","v":""},{"$f":"IF(OR($E$3=\"\",Ｉ点!$H48=1),\"\",Ｉ点!$F47)","v":""},{"$f":"IF(OR($E$3=\"\",Ｉ点!$N48=1),\"\",Ｉ点!$L47)","v":""},{"$f":"IF(OR($E$3=\"\",Ｉ点!$T48=1),\"\",Ｉ点!$R47)","v":""},{"$f":"IF(OR($H$3=\"\",Ｉ点!$H108=1),\"\",Ｉ点!$F107)","v":""},{"$f":"IF(OR($H$3=\"\",Ｉ点!$N108=1),\"\",Ｉ点!$L107)","v":""},{"$f":"IF(OR($H$3=\"\",Ｉ点!$T108=1),\"\",Ｉ点!$R107)","v":""},{"$f":"IF(OR($K$3=\"\",Ｉ点!$H168=1),\"\",Ｉ点!$F167)","v":""},{"$f":"IF(OR($K$3=\"\",Ｉ点!$N168=1),\"\",Ｉ点!$L167)","v":""},{"$f":"IF(OR($K$3=\"\",Ｉ点!$T168=1),\"\",Ｉ点!$R167)","v":""}]
[null,null,null,"透過率",{"$f":"IF(OR($E$3=\"\",A点!$H48=1),\"\",A点!$H48)","v":""},{"$f":"IF(OR($E$3=\"\",A点!$N48=1),\"\",A点!$N48)","v":""},{"$f":"IF(OR($E$3=\"\",A点!$T48=1),\"\",A点!$T48)","v":""},{"$f":"IF(OR($H$3=\"\",A点!$H108=1),\"\",A点!$H108)","v":""},{"$f":"IF(OR($H$3=\"\",A点!$N108=1),\"\",A点!$N108)","v":""},{"$f":"IF(OR($H$3=\"\",A点!$T108=1),\"\",A点!$T108)","v":""},{"$f":"IF(OR($K$3=\"\",A点!$H168=1),\"\",A点!$H168)","v":""},{"$f":"IF(OR($K$3=\"\",A点!$N168=1),\"\",A点!$N168)","v":""},{"$f":"IF(OR($K$3=\"\",A点!$T168=1),\"\",A点!$T168)","v":""},{"$f":"IF(OR($E$3=\"\",B点!$H48=1),\"\",B点!$H48)","v":""},{"$f":"IF(OR($E$3=\"\",B点!$N48=1),\"\",B点!$N48)","v":""},{"$f":"IF(OR($E$3=\"\",B点!$T48=1),\"\",B点!$T48)","v":""},{"$f":"IF(OR($H$3=\"\",B点!$H108=1),\"\",B点!$H108)","v":""},{"$f":"IF(OR($H$3=\"\",B点!$N108=1),\"\",B点!$N108)","v":""},{"$f":"IF(OR($H$3=\"\",B点!$T108=1),\"\",B点!$T108)","v":""},{"$f":"IF(OR($K$3=\"\",B点!$H168=1),\"\",B点!$H168)","v":""},{"$f":"IF(OR($K$3=\"\",B点!$N168=1),\"\",B点!$N168)","v":""},{"$f":"IF(OR($K$3=\"\",B点!$T168=1),\"\",B点!$T168)","v":""},{"$f":"IF(OR($E$3=\"\",C点!$H48=1),\"\",C点!$H48)","v":""},{"$f":"IF(OR($E$3=\"\",C点!$N48=1),\"\",C点!$N48)","v":""},{"$f":"IF(OR($E$3=\"\",C点!$T48=1),\"\",C点!$T48)","v":""},{"$f":"IF(OR($H$3=\"\",C点!$H108=1),\"\",C点!$H108)","v":""},{"$f":"IF(OR($H$3=\"\",C点!$N108=1),\"\",C点!$N108)","v":""},{"$f":"IF(OR($H$3=\"\",C点!$T108=1),\"\",C点!$T108)","v":""},{"$f":"IF(OR($K$3=\"\",C点!$H168=1),\"\",C点!$H168)","v":""},{"$f":"IF(OR($K$3=\"\",C点!$N168=1),\"\",C点!$N168)","v":""},{"$f":"IF(OR($K$3=\"\",C点!$T168=1),\"\",C点!$T168)","v":""},{"$f":"IF(OR($E$3=\"\",D点!$H48=1),\"\",D点!$H48)","v":""},{"$f":"IF(OR($E$3=\"\",D点!$N48=1),\"\",D点!$N48)","v":""},{"$f":"IF(OR($E$3=\"\",D点!$T48=1),\"\",D点!$T48)","v":""},{"$f":"IF(OR($H$3=\"\",D点!$H108=1),\"\",D点!$H108)","v":""},{"$f":"IF(OR($H$3=\"\",D点!$N108=1),\"\",D点!$N108)","v":""},{"$f":"IF(OR($H$3=\"\",D点!$T108=1),\"\",D点!$T108)","v":""},{"$f":"IF(OR($K$3=\"\",D点!$H168=1),\"\",D点!$H168)","v":""},{"$f":"IF(OR($K$3=\"\",D点!$N168=1),\"\",D点!$N168)","v":""},{"$f":"IF(OR($K$3=\"\",D点!$T168=1),\"\",D点!$T168)","v":""},{"$f":"IF(OR($E$3=\"\",E点!$H48=1),\"\",E点!$H48)","v":""},{"$f":"IF(OR($E$3=\"\",E点!$N48=1),\"\",E点!$N48)","v":""},{"$f":"IF(OR($E$3=\"\",E点!$T48=1),\"\",E点!$T48)","v":""},{"$f":"IF(OR($H$3=\"\",E点!$H108=1),\"\",E点!$H108)","v":""},{"$f":"IF(OR($H$3=\"\",E点!$N108=1),\"\",E点!$N108)","v":""},{"$f":"IF(OR($H$3=\"\",E点!$T108=1),\"\",E点!$T108)","v":""},{"$f":"IF(OR($K$3=\"\",E点!$H168=1),\"\",E点!$H168)","v":""},{"$f":"IF(OR($K$3=\"\",E点!$N168=1),\"\",E点!$N168)","v":""},{"$f":"IF(OR($K$3=\"\",E点!$T168=1),\"\",E点!$T168)","v":""},{"$f":"IF(OR($E$3=\"\",F点!$H48=1),\"\",F点!$H48)","v":""},{"$f":"IF(OR($E$3=\"\",F点!$N48=1),\"\",F点!$N48)","v":""},{"$f":"IF(OR($E$3=\"\",F点!$T48=1),\"\",F点!$T48)","v":""},{"$f":"IF(OR($H$3=\"\",F点!$H108=1),\"\",F点!$H108)","v":""},{"$f":"IF(OR($H$3=\"\",F点!$N108=1),\"\",F点!$N108)","v":""},{"$f":"IF(OR($H$3=\"\",F点!$T108=1),\"\",F点!$T108)","v":""},{"$f":"IF(OR($K$3=\"\",F点!$H168=1),\"\",F点!$H168)","v":""},{"$f":"IF(OR($K$3=\"\",F点!$N168=1),\"\",F点!$N168)","v":""},{"$f":"IF(OR($K$3=\"\",F点!$T168=1),\"\",F点!$T168)","v":""},{"$f":"IF(OR($E$3=\"\",G点!$H48=1),\"\",G点!$H48)","v":""},{"$f":"IF(OR($E$3=\"\",G点!$N48=1),\"\",G点!$N48)","v":""},{"$f":"IF(OR($E$3=\"\",G点!$T48=1),\"\",G点!$T48)","v":""},{"$f":"IF(OR($H$3=\"\",G点!$H108=1),\"\",G点!$H108)","v":""},{"$f":"IF(OR($H$3=\"\",G点!$N108=1),\"\",G点!$N108)","v":""},{"$f":"IF(OR($H$3=\"\",G点!$T108=1),\"\",G点!$T108)","v":""},{"$f":"IF(OR($K$3=\"\",G点!$H168=1),\"\",G点!$H168)","v":""},{"$f":"IF(OR($K$3=\"\",G点!$N168=1),\"\",G点!$H168)","v":""},{"$f":"IF(OR($K$3=\"\",G点!$T168=1),\"\",G点!$T168)","v":""},{"$f":"IF(OR($E$3=\"\",H点!$H48=1),\"\",H点!$H48)","v":""},{"$f":"IF(OR($E$3=\"\",H点!$N48=1),\"\",H点!$N48)","v":""},{"$f":"IF(OR($E$3=\"\",H点!$T48=1),\"\",H点!$T48)","v":""},{"$f":"IF(OR($H$3=\"\",H点!$H108=1),\"\",H点!$H108)","v":""},{"$f":"IF(OR($H$3=\"\",H点!$N108=1),\"\",H点!$N108)","v":""},{"$f":"IF(OR($H$3=\"\",H点!$T108=1),\"\",H点!$T108)","v":""},{"$f":"IF(OR($K$3=\"\",H点!$H168=1),\"\",H点!$H168)","v":""},{"$f":"IF(OR($K$3=\"\",H点!$N168=1),\"\",H点!$N168)","v":""},{"$f":"IF(OR($K$3=\"\",H点!$T168=1),\"\",H点!$T168)","v":""},{"$f":"IF(OR($E$3=\"\",Ｉ点!$H48=1),\"\",Ｉ点!$H48)","v":""},{"$f":"IF(OR($E$3=\"\",Ｉ点!$N48=1),\"\",Ｉ点!$N48)","v":""},{"$f":"IF(OR($E$3=\"\",Ｉ点!$T48=1),\"\",Ｉ点!$T48)","v":""},{"$f":"IF(OR($H$3=\"\",Ｉ点!$H108=1),\"\",Ｉ点!$H108)","v":""},{"$f":"IF(OR($H$3=\"\",Ｉ点!$N108=1),\"\",Ｉ点!$N108)","v":""},{"$f":"IF(OR($H$3=\"\",Ｉ点!$T108=1),\"\",Ｉ点!$T108)","v":""},{"$f":"IF(OR($K$3=\"\",Ｉ点!$H168=1),\"\",Ｉ点!$H168)","v":""},{"$f":"IF(OR($K$3=\"\",Ｉ点!$N168=1),\"\",Ｉ点!$N168)","v":""},{"$f":"IF(OR($K$3=\"\",Ｉ点!$T168=1),\"\",Ｉ点!$T168)","v":""}]
[null,null,"d)　石膏(表9)","半価層(mm)",{"$f":"IF(OR($E$3=\"\",A点!$H50=1),\"\",A点!$F49)","v":""},{"$f":"IF(OR($E$3=\"\",A点!$N50=1),\"\",A点!$L49)","v":""},{"$f":"IF(OR($E$3=\"\",A点!$T50=1),\"\",A点!$R49)","v":""},{"$f":"IF(OR($H$3=\"\",A点!$H110=1),\"\",A点!$F109)","v":""},{"$f":"IF(OR($H$3=\"\",A点!$N110=1),\"\",A点!$L109)","v":""},{"$f":"IF(OR($H$3=\"\",A点!$T110=1),\"\",A点!$R109)","v":""},{"$f":"IF(OR($K$3=\"\",A点!$H170=1),\"\",A点!$F169)","v":""},{"$f":"IF(OR($K$3=\"\",A点!$N170=1),\"\",A点!$L169)","v":""},{"$f":"IF(OR($K$3=\"\",A点!$T170=1),\"\",A点!$R169)","v":""},{"$f":"IF(OR($E$3=\"\",B点!$H50=1),\"\",B点!$F49)","v":""},{"$f":"IF(OR($E$3=\"\",B点!$N50=1),\"\",B点!$L49)","v":""},{"$f":"IF(OR($E$3=\"\",B点!$T50=1),\"\",B点!$R49)","v":""},{"$f":"IF(OR($H$3=\"\",B点!$H110=1),\"\",B点!$F109)","v":""},{"$f":"IF(OR($H$3=\"\",B点!$N110=1),\"\",B点!$L109)","v":""},{"$f":"IF(OR($H$3=\"\",B点!$T110=1),\"\",B点!$R109)","v":""},{"$f":"IF(OR($K$3=\"\",B点!$H170=1),\"\",B点!$F169)","v":""},{"$f":"IF(OR($K$3=\"\",B点!$N170=1),\"\",B点!$L169)","v":""},{"$f":"IF(OR($K$3=\"\",B点!$T170=1),\"\",B点!$R169)","v":""},{"$f":"IF(OR($E$3=\"\",C点!$H50=1),\"\",C点!$F49)","v":""},{"$f":"IF(OR($E$3=\"\",C点!$N50=1),\"\",C点!$L49)","v":""},{"$f":"IF(OR($E$3=\"\",C点!$T50=1),\"\",C点!$R49)","v":""},{"$f":"IF(OR($H$3=\"\",C点!$H110=1),\"\",C点!$F109)","v":""},{"$f":"IF(OR($H$3=\"\",C点!$N110=1),\"\",C点!$L109)","v":""},{"$f":"IF(OR($H$3=\"\",C点!$T110=1),\"\",C点!$R109)","v":""},{"$f":"IF(OR($K$3=\"\",C点!$H170=1),\"\",C点!$F169)","v":""},{"$f":"IF(OR($K$3=\"\",C点!$N170=1),\"\",C点!$L169)","v":""},{"$f":"IF(OR($K$3=\"\",C点!$T170=1),\"\",C点!$R169)","v":""},{"$f":"IF(OR($E$3=\"\",D点!$H50=1),\"\",D点!$F49)","v":""},{"$f":"IF(OR($E$3=\"\",D点!$N50=1),\"\",D点!$L49)","v":""},{"$f":"IF(OR($E$3=\"\",D点!$T50=1),\"\",D点!$R49)","v":""},{"$f":"IF(OR($H$3=\"\",D点!$H110=1),\"\",D点!$F109)","v":""},{"$f":"IF(OR($H$3=\"\",D点!$N110=1),\"\",D点!$L109)","v":""},{"$f":"IF(OR($H$3=\"\",D点!$T110=1),\"\",D点!$R109)","v":""},{"$f":"IF(OR($K$3=\"\",D点!$H170=1),\"\",D点!$F169)","v":""},{"$f":"IF(OR($K$3=\"\",D点!$N170=1),\"\",D点!$L169)","v":""},{"$f":"IF(OR($K$3=\"\",D点!$T170=1),\"\",D点!$R169)","v":""},{"$f":"IF(OR($E$3=\"\",E点!$H50=1),\"\",E点!$F49)","v":""},{"$f":"IF(OR($E$3=\"\",E点!$N50=1),\"\",E点!$L49)","v":""},{"$f":"IF(OR($E$3=\"\",E点!$T50=1),\"\",E点!$R49)","v":""},{"$f":"IF(OR($H$3=\"\",E点!$H110=1),\"\",E点!$F109)","v":""},{"$f":"IF(OR($H$3=\"\",E点!$N110=1),\"\",E点!$L109)","v":""},{"$f":"IF(OR($H$3=\"\",E点!$T110=1),\"\",E点!$R109)","v":""},{"$f":"IF(OR($K$3=\"\",E点!$H170=1),\"\",E点!$F169)","v":""},{"$f":"IF(OR($K$3=\"\",E点!$N170=1),\"\",E点!$L169)","v":""},{"$f":"IF(OR($K$3=\"\",E点!$T170=1),\"\",E点!$R169)","v":""},{"$f":"IF(OR($E$3=\"\",F点!$H50=1),\"\",F点!$F49)","v":""},{"$f":"IF(OR($E$3=\"\",F点!$N50=1),\"\",F点!$L49)","v":""},{"$f":"IF(OR($E$3=\"\",F点!$T50=1),\"\",F点!$R49)","v":""},{"$f":"IF(OR($H$3=\"\",F点!$H110=1),\"\",F点!$F109)","v":""},{"$f":"IF(OR($H$3=\"\",F点!$N110=1),\"\",F点!$L109)","v":""},{"$f":"IF(OR($H$3=\"\",F点!$T110=1),\"\",F点!$R109)","v":""},{"$f":"IF(OR($K$3=\"\",F点!$H170=1),\"\",F点!$F169)","v":""},{"$f":"IF(OR($K$3=\"\",F点!$N170=1),\"\",F点!$L169)","v":""},{"$f":"IF(OR($K$3=\"\",F点!$T170=1),\"\",F点!$R169)","v":""},{"$f":"IF(OR($E$3=\"\",G点!$H50=1),\"\",G点!$F49)","v":""},{"$f":"IF(OR($E$3=\"\",G点!$N50=1),\"\",G点!$L49)","v":""},{"$f":"IF(OR($E$3=\"\",G点!$T50=1),\"\",G点!$R49)","v":""},{"$f":"IF(OR($H$3=\"\",G点!$H110=1),\"\",G点!$F109)","v":""},{"$f":"IF(OR($H$3=\"\",G点!$N110=1),\"\",G点!$N109)","v":""},{"$f":"IF(OR($H$3=\"\",G点!$T110=1),\"\",G点!$T109)","v":""},{"$f":"IF(OR($K$3=\"\",G点!$H170=1),\"\",G点!$F169)","v":""},{"$f":"IF(OR($K$3=\"\",G点!$N170=1),\"\",G点!$L169)","v":""},{"$f":"IF(OR($K$3=\"\",G点!$T170=1),\"\",G点!$R169)","v":""},{"$f":"IF(OR($E$3=\"\",H点!$H50=1),\"\",H点!$F49)","v":""},{"$f":"IF(OR($E$3=\"\",H点!$N50=1),\"\",H点!$L49)","v":""},{"$f":"IF(OR($E$3=\"\",H点!$T50=1),\"\",H点!$R49)","v":""},{"$f":"IF(OR($H$3=\"\",H点!$H110=1),\"\",H点!$F109)","v":""},{"$f":"IF(OR($H$3=\"\",H点!$N110=1),\"\",H点!$L109)","v":""},{"$f":"IF(OR($H$3=\"\",H点!$T110=1),\"\",H点!$R109)","v":""},{"$f":"IF(OR($K$3=\"\",H点!$H170=1),\"\",H点!$F169)","v":""},{"$f":"IF(OR($K$3=\"\",H点!$N170=1),\"\",H点!$L169)","v":""},{"$f":"IF(OR($K$3=\"\",H点!$T170=1),\"\",H点!$R169)","v":""},{"$f":"IF(OR($E$3=\"\",Ｉ点!$H50=1),\"\",Ｉ点!$F49)","v":""},{"$f":"IF(OR($E$3=\"\",Ｉ点!$N50=1),\"\",Ｉ点!$L49)","v":""},{"$f":"IF(OR($E$3=\"\",Ｉ点!$T50=1),\"\",Ｉ点!$R49)","v":""},{"$f":"IF(OR($H$3=\"\",Ｉ点!$H110=1),\"\",Ｉ点!$F109)","v":""},{"$f":"IF(OR($H$3=\"\",Ｉ点!$N110=1),\"\",Ｉ点!$L109)","v":""},{"$f":"IF(OR($H$3=\"\",Ｉ点!$T110=1),\"\",Ｉ点!$R109)","v":""},{"$f":"IF(OR($K$3=\"\",Ｉ点!$H170=1),\"\",Ｉ点!$F169)","v":""},{"$f":"IF(OR($K$3=\"\",Ｉ点!$N170=1),\"\",Ｉ点!$L169)","v":""},{"$f":"IF(OR($K$3=\"\",Ｉ点!$T170=1),\"\",Ｉ点!$R169)","v":""}]
[null,null,null,"透過率",{"$f":"IF(OR($E$3=\"\",A点!$H50=1),\"\",A点!$H50)","v":""},{"$f":"IF(OR($E$3=\"\",A点!$N50=1),\"\",A点!$N50)","v":""},{"$f":"IF(OR($E$3=\"\",A点!$T50=1),\"\",A点!$T50)","v":""},{"$f":"IF(OR($H$3=\"\",A点!$H110=1),\"\",A点!$H110)","v":""},{"$f":"IF(OR($H$3=\"\",A点!$N110=1),\"\",A点!$N110)","v":""},{"$f":"IF(OR($H$3=\"\",A点!$T110=1),\"\",A点!$T110)","v":""},{"$f":"IF(OR($K$3=\"\",A点!$H170=1),\"\",A点!$H170)","v":""},{"$f":"IF(OR($K$3=\"\",A点!$N170=1),\"\",A点!$N170)","v":""},{"$f":"IF(OR($K$3=\"\",A点!$T170=1),\"\",A点!$T170)","v":""},{"$f":"IF(OR($E$3=\"\",B点!$H50=1),\"\",B点!$H50)","v":""},{"$f":"IF(OR($E$3=\"\",B点!$N50=1),\"\",B点!$N50)","v":""},{"$f":"IF(OR($E$3=\"\",B点!$T50=1),\"\",B点!$T50)","v":""},{"$f":"IF(OR($H$3=\"\",B点!$H110=1),\"\",B点!$H110)","v":""},{"$f":"IF(OR($H$3=\"\",B点!$N110=1),\"\",B点!$N110)","v":""},{"$f":"IF(OR($H$3=\"\",B点!$T110=1),\"\",B点!$T110)","v":""},{"$f":"IF(OR($K$3=\"\",B点!$H170=1),\"\",B点!$H170)","v":""},{"$f":"IF(OR($K$3=\"\",B点!$N170=1),\"\",B点!$N170)","v":""},{"$f":"IF(OR($K$3=\"\",B点!$T170=1),\"\",B点!$T170)","v":""},{"$f":"IF(OR($E$3=\"\",C点!$H50=1),\"\",C点!$H50)","v":""},{"$f":"IF(OR($E$3=\"\",C点!$N50=1),\"\",C点!$N50)","v":""},{"$f":"IF(OR($E$3=\"\",C点!$T50=1),\"\",C点!$T50)","v":""},{"$f":"IF(OR($H$3=\"\",C点!$H110=1),\"\",C点!$H110)","v":""},{"$f":"IF(OR($H$3=\"\",C点!$N110=1),\"\",C点!$N110)","v":""},{"$f":"IF(OR($H$3=\"\",C点!$T110=1),\"\",C点!$T110)","v":""},{"$f":"IF(OR($K$3=\"\",C点!$H170=1),\"\",C点!$H170)","v":""},{"$f":"IF(OR($K$3=\"\",C点!$N170=1),\"\",C点!$N170)","v":""},{"$f":"IF(OR($K$3=\"\",C点!$T170=1),\"\",C点!$T170)","v":""},{"$f":"IF(OR($E$3=\"\",D点!$H50=1),\"\",D点!$H50)","v":""},{"$f":"IF(OR($E$3=\"\",D点!$N50=1),\"\",D点!$N50)","v":""},{"$f":"IF(OR($E$3=\"\",D点!$T50=1),\"\",D点!$T50)","v":""},{"$f":"IF(OR($H$3=\"\",D点!$H110=1),\"\",D点!$H110)","v":""},{"$f":"IF(OR($H$3=\"\",D点!$N110=1),\"\",D点!$N110)","v":""},{"$f":"IF(OR($H$3=\"\",D点!$T110=1),\"\",D点!$T110)","v":""},{"$f":"IF(OR($K$3=\"\",D点!$H170=1),\"\",D点!$H170)","v":""},{"$f":"IF(OR($K$3=\"\",D点!$N170=1),\"\",D点!$N170)","v":""},{"$f":"IF(OR($K$3=\"\",D点!$T170=1),\"\",D点!$T170)","v":""},{"$f":"IF(OR($E$3=\"\",E点!$H50=1),\"\",E点!$H50)","v":""},{"$f":"IF(OR($E$3=\"\",E点!$N50=1),\"\",E点!$N50)","v":""},{"$f":"IF(OR($E$3=\"\",E点!$T50=1),\"\",E点!$T50)","v":""},{"$f":"IF(OR($H$3=\"\",E点!$H110=1),\"\",E点!$H110)","v":""},{"$f":"IF(OR($H$3=\"\",E点!$N110=1),\"\",E点!$N110)","v":""},{"$f":"IF(OR($H$3=\"\",E点!$T110=1),\"\",E点!$T110)","v":""},{"$f":"IF(OR($K$3=\"\",E点!$H170=1),\"\",E点!$H170)","v":""},{"$f":"IF(OR($K$3=\"\",E点!$N170=1),\"\",E点!$N170)","v":""},{"$f":"IF(OR($K$3=\"\",E点!$T170=1),\"\",E点!$T170)","v":""},{"$f":"IF(OR($E$3=\"\",F点!$H50=1),\"\",F点!$H50)","v":""},{"$f":"IF(OR($E$3=\"\",F点!$N50=1),\"\",F点!$N50)","v":""},{"$f":"IF(OR($E$3=\"\",F点!$T50=1),\"\",F点!$T50)","v":""},{"$f":"IF(OR($H$3=\"\",F点!$H110=1),\"\",F点!$H110)","v":""},{"$f":"IF(OR($H$3=\"\",F点!$N110=1),\"\",F点!$N110)","v":""},{"$f":"IF(OR($H$3=\"\",F点!$T110=1),\"\",F点!$T110)","v":""},{"$f":"IF(OR($K$3=\"\",F点!$H170=1),\"\",F点!$H170)","v":""},{"$f":"IF(OR($K$3=\"\",F点!$N170=1),\"\",F点!$N170)","v":""},{"$f":"IF(OR($K$3=\"\",F点!$T170=1),\"\",F点!$T170)","v":""},{"$f":"IF(OR($E$3=\"\",G点!$H50=1),\"\",G点!$H50)","v":""},{"$f":"IF(OR($E$3=\"\",G点!$N50=1),\"\",G点!$N50)","v":""},{"$f":"IF(OR($E$3=\"\",G点!$T50=1),\"\",G点!$T50)","v":""},{"$f":"IF(OR($H$3=\"\",G点!$H110=1),\"\",G点!$H110)","v":""},{"$f":"IF(OR($H$3=\"\",G点!$N110=1),\"\",G点!$N110)","v":""},{"$f":"IF(OR($H$3=\"\",G点!$T110=1),\"\",G点!$T110)","v":""},{"$f":"IF(OR($K$3=\"\",G点!$H170=1),\"\",G点!$H170)","v":""},{"$f":"IF(OR($K$3=\"\",G点!$N170=1),\"\",G点!$H170)","v":""},{"$f":"IF(OR($K$3=\"\",G点!$T170=1),\"\",G点!$T170)","v":""},{"$f":"IF(OR($E$3=\"\",H点!$H50=1),\"\",H点!$H50)","v":""},{"$f":"IF(OR($E$3=\"\",H点!$N50=1),\"\",H点!$N50)","v":""},{"$f":"IF(OR($E$3=\"\",H点!$T50=1),\"\",H点!$T50)","v":""},{"$f":"IF(OR($H$3=\"\",H点!$H110=1),\"\",H点!$H110)","v":""},{"$f":"IF(OR($H$3=\"\",H点!$N110=1),\"\",H点!$N110)","v":""},{"$f":"IF(OR($H$3=\"\",H点!$T110=1),\"\",H点!$T110)","v":""},{"$f":"IF(OR($K$3=\"\",H点!$H170=1),\"\",H点!$H170)","v":""},{"$f":"IF(OR($K$3=\"\",H点!$N170=1),\"\",H点!$N170)","v":""},{"$f":"IF(OR($K$3=\"\",H点!$T170=1),\"\",H点!$T170)","v":""},{"$f":"IF(OR($E$3=\"\",Ｉ点!$H50=1),\"\",Ｉ点!$H50)","v":""},{"$f":"IF(OR($E$3=\"\",Ｉ点!$N50=1),\"\",Ｉ点!$N50)","v":""},{"$f":"IF(OR($E$3=\"\",Ｉ点!$T50=1),\"\",Ｉ点!$T50)","v":""},{"$f":"IF(OR($H$3=\"\",Ｉ点!$H110=1),\"\",Ｉ点!$H110)","v":""},{"$f":"IF(OR($H$3=\"\",Ｉ点!$N110=1),\"\",Ｉ点!$N110)","v":""},{"$f":"IF(OR($H$3=\"\",Ｉ点!$T110=1),\"\",Ｉ点!$T110)","v":""},{"$f":"IF(OR($K$3=\"\",Ｉ点!$H170=1),\"\",Ｉ点!$H170)","v":""},{"$f":"IF(OR($K$3=\"\",Ｉ点!$N170=1),\"\",Ｉ点!$N170)","v":""},{"$f":"IF(OR($K$3=\"\",Ｉ点!$T170=1),\"\",Ｉ点!$T170)","v":""}]
[null,null,"e）　ガラス(表9)","半価層(mm)",{"$f":"IF(OR($E$3=\"\",A点!$H52=1),\"\",A点!$F51)","v":""},{"$f":"IF(OR($E$3=\"\",A点!$N52=1),\"\",A点!$L51)","v":""},{"$f":"IF(OR($E$3=\"\",A点!$T52=1),\"\",A点!$R51)","v":""},{"$f":"IF(OR($H$3=\"\",A点!$H112=1),\"\",A点!$F111)","v":""},{"$f":"IF(OR($H$3=\"\",A点!$N112=1),\"\",A点!$L111)","v":""},{"$f":"IF(OR($H$3=\"\",A点!$T112=1),\"\",A点!$R111)","v":""},{"$f":"IF(OR($K$3=\"\",A点!$H172=1),\"\",A点!$F171)","v":""},{"$f":"IF(OR($K$3=\"\",A点!$N172=1),\"\",A点!$L171)","v":""},{"$f":"IF(OR($K$3=\"\",A点!$T172=1),\"\",A点!$R171)","v":""},{"$f":"IF(OR($E$3=\"\",B点!$H52=1),\"\",B点!$F51)","v":""},{"$f":"IF(OR($E$3=\"\",B点!$N52=1),\"\",B点!$L51)","v":""},{"$f":"IF(OR($E$3=\"\",B点!$T52=1),\"\",B点!$R51)","v":""},{"$f":"IF(OR($H$3=\"\",B点!$H112=1),\"\",B点!$F111)","v":""},{"$f":"IF(OR($H$3=\"\",B点!$N112=1),\"\",B点!$L111)","v":""},{"$f":"IF(OR($H$3=\"\",B点!$T112=1),\"\",B点!$R111)","v":""},{"$f":"IF(OR($K$3=\"\",B点!$H172=1),\"\",B点!$F171)","v":""},{"$f":"IF(OR($K$3=\"\",B点!$N172=1),\"\",B点!$L171)","v":""},{"$f":"IF(OR($K$3=\"\",B点!$T172=1),\"\",B点!$R171)","v":""},{"$f":"IF(OR($E$3=\"\",C点!$H52=1),\"\",C点!$F51)","v":""},{"$f":"IF(OR($E$3=\"\",C点!$N52=1),\"\",C点!$L51)","v":""},{"$f":"IF(OR($E$3=\"\",C点!$T52=1),\"\",C点!$R51)","v":""},{"$f":"IF(OR($H$3=\"\",C点!$H112=1),\"\",C点!$F111)","v":""},{"$f":"IF(OR($H$3=\"\",C点!$N112=1),\"\",C点!$L111)","v":""},{"$f":"IF(OR($H$3=\"\",C点!$T112=1),\"\",C点!$R111)","v":""},{"$f":"IF(OR($K$3=\"\",C点!$H172=1),\"\",C点!$F171)","v":""},{"$f":"IF(OR($K$3=\"\",C点!$N172=1),\"\",C点!$L171)","v":""},{"$f":"IF(OR($K$3=\"\",C点!$T172=1),\"\",C点!$R171)","v":""},{"$f":"IF(OR($E$3=\"\",D点!$H52=1),\"\",D点!$F51)","v":""},{"$f":"IF(OR($E$3=\"\",D点!$N52=1),\"\",D点!$L51)","v":""},{"$f":"IF(OR($E$3=\"\",D点!$T52=1),\"\",D点!$R51)","v":""},{"$f":"IF(OR($H$3=\"\",D点!$H112=1),\"\",D点!$F111)","v":""},{"$f":"IF(OR($H$3=\"\",D点!$N112=1),\"\",D点!$L111)","v":""},{"$f":"IF(OR($H$3=\"\",D点!$T112=1),\"\",D点!$R111)","v":""},{"$f":"IF(OR($K$3=\"\",D点!$H172=1),\"\",D点!$F171)","v":""},{"$f":"IF(OR($K$3=\"\",D点!$N172=1),\"\",D点!$L171)","v":""},{"$f":"IF(OR($K$3=\"\",D点!$T172=1),\"\",D点!$R171)","v":""},{"$f":"IF(OR($E$3=\"\",E点!$H52=1),\"\",E点!$F51)","v":""},{"$f":"IF(OR($E$3=\"\",E点!$N52=1),\"\",E点!$L51)","v":""},{"$f":"IF(OR($E$3=\"\",E点!$T52=1),\"\",E点!$R51)","v":""},{"$f":"IF(OR($H$3=\"\",E点!$H112=1),\"\",E点!$F111)","v":""},{"$f":"IF(OR($H$3=\"\",E点!$N112=1),\"\",E点!$L111)","v":""},{"$f":"IF(OR($H$3=\"\",E点!$T112=1),\"\",E点!$R111)","v":""},{"$f":"IF(OR($K$3=\"\",E点!$H172=1),\"\",E点!$F171)","v":""},{"$f":"IF(OR($K$3=\"\",E点!$N172=1),\"\",E点!$L171)","v":""},{"$f":"IF(OR($K$3=\"\",E点!$T172=1),\"\",E点!$R171)","v":""},{"$f":"IF(OR($E$3=\"\",F点!$H52=1),\"\",F点!$F51)","v":""},{"$f":"IF(OR($E$3=\"\",F点!$N52=1),\"\",F点!$L51)","v":""},{"$f":"IF(OR($E$3=\"\",F点!$T52=1),\"\",F点!$R51)","v":""},{"$f":"IF(OR($H$3=\"\",F点!$H112=1),\"\",F点!$F111)","v":""},{"$f":"IF(OR($H$3=\"\",F点!$N112=1),\"\",F点!$L111)","v":""},{"$f":"IF(OR($H$3=\"\",F点!$T112=1),\"\",F点!$R111)","v":""},{"$f":"IF(OR($K$3=\"\",F点!$H172=1),\"\",F点!$F171)","v":""},{"$f":"IF(OR($K$3=\"\",F点!$N172=1),\"\",F点!$L171)","v":""},{"$f":"IF(OR($K$3=\"\",F点!$T172=1),\"\",F点!$R171)","v":""},{"$f":"IF(OR($E$3=\"\",G点!$H52=1),\"\",G点!$F51)","v":""},{"$f":"IF(OR($E$3=\"\",G点!$N52=1),\"\",G点!$L51)","v":""},{"$f":"IF(OR($E$3=\"\",G点!$T52=1),\"\",G点!$R51)","v":""},{"$f":"IF(OR($H$3=\"\",G点!$H112=1),\"\",G点!$F111)","v":""},{"$f":"IF(OR($H$3=\"\",G点!$N112=1),\"\",G点!$N111)","v":""},{"$f":"IF(OR($H$3=\"\",G点!$T112=1),\"\",G点!$T111)","v":""},{"$f":"IF(OR($K$3=\"\",G点!$H172=1),\"\",G点!$F171)","v":""},{"$f":"IF(OR($K$3=\"\",G点!$N172=1),\"\",G点!$L171)","v":""},{"$f":"IF(OR($K$3=\"\",G点!$T172=1),\"\",G点!$R171)","v":""},{"$f":"IF(OR($E$3=\"\",H点!$H52=1),\"\",H点!$F51)","v":""},{"$f":"IF(OR($E$3=\"\",H点!$N52=1),\"\",H点!$L51)","v":""},{"$f":"IF(OR($E$3=\"\",H点!$T52=1),\"\",H点!$R51)","v":""},{"$f":"IF(OR($H$3=\"\",H点!$H112=1),\"\",H点!$F111)","v":""},{"$f":"IF(OR($H$3=\"\",H点!$N112=1),\"\",H点!$L111)","v":""},{"$f":"IF(OR($H$3=\"\",H点!$T112=1),\"\",H点!$R111)","v":""},{"$f":"IF(OR($K$3=\"\",H点!$H172=1),\"\",H点!$F171)","v":""},{"$f":"IF(OR($K$3=\"\",H点!$N172=1),\"\",H点!$L171)","v":""},{"$f":"IF(OR($K$3=\"\",H点!$T172=1),\"\",H点!$R171)","v":""},{"$f":"IF(OR($E$3=\"\",Ｉ点!$H52=1),\"\",Ｉ点!$F51)","v":""},{"$f":"IF(OR($E$3=\"\",Ｉ点!$N52=1),\"\",Ｉ点!$L51)","v":""},{"$f":"IF(OR($E$3=\"\",Ｉ点!$T52=1),\"\",Ｉ点!$R51)","v":""},{"$f":"IF(OR($H$3=\"\",Ｉ点!$H112=1),\"\",Ｉ点!$F111)","v":""},{"$f":"IF(OR($H$3=\"\",Ｉ点!$N112=1),\"\",Ｉ点!$L111)","v":""},{"$f":"IF(OR($H$3=\"\",Ｉ点!$T112=1),\"\",Ｉ点!$R111)","v":""},{"$f":"IF(OR($K$3=\"\",Ｉ点!$H172=1),\"\",Ｉ点!$F171)","v":""},{"$f":"IF(OR($K$3=\"\",Ｉ点!$N172=1),\"\",Ｉ点!$L171)","v":""},{"$f":"IF(OR($K$3=\"\",Ｉ点!$T172=1),\"\",Ｉ点!$R171)","v":""}]
[null,null,null,"透過率",{"$f":"IF(OR($E$3=\"\",A点!$H52=1),\"\",A点!$H52)","v":""},{"$f":"IF(OR($E$3=\"\",A点!$N52=1),\"\",A点!$N52)","v":""},{"$f":"IF(OR($E$3=\"\",A点!$T52=1),\"\",A点!$T52)","v":""},{"$f":"IF(OR($H$3=\"\",A点!$H112=1),\"\",A点!$H112)","v":""},{"$f":"IF(OR($H$3=\"\",A点!$N112=1),\"\",A点!$N112)","v":""},{"$f":"IF(OR($H$3=\"\",A点!$T112=1),\"\",A点!$T112)","v":""},{"$f":"IF(OR($K$3=\"\",A点!$H172=1),\"\",A点!$H172)","v":""},{"$f":"IF(OR($K$3=\"\",A点!$N172=1),\"\",A点!$N172)","v":""},{"$f":"IF(OR($K$3=\"\",A点!$T172=1),\"\",A点!$T172)","v":""},{"$f":"IF(OR($E$3=\"\",B点!$H52=1),\"\",B点!$H52)","v":""},{"$f":"IF(OR($E$3=\"\",B点!$N52=1),\"\",B点!$N52)","v":""},{"$f":"IF(OR($E$3=\"\",B点!$T52=1),\"\",B点!$T52)","v":""},{"$f":"IF(OR($H$3=\"\",B点!$H112=1),\"\",B点!$H112)","v":""},{"$f":"IF(OR($H$3=\"\",B点!$N112=1),\"\",B点!$N112)","v":""},{"$f":"IF(OR($H$3=\"\",B点!$T112=1),\"\",B点!$T112)","v":""},{"$f":"IF(OR($K$3=\"\",B点!$H172=1),\"\",B点!$H172)","v":""},{"$f":"IF(OR($K$3=\"\",B点!$N172=1),\"\",B点!$N172)","v":""},{"$f":"IF(OR($K$3=\"\",B点!$T172=1),\"\",B点!$T172)","v":""},{"$f":"IF(OR($E$3=\"\",C点!$H52=1),\"\",C点!$H52)","v":""},{"$f":"IF(OR($E$3=\"\",C点!$N52=1),\"\",C点!$N52)","v":""},{"$f":"IF(OR($E$3=\"\",C点!$T52=1),\"\",C点!$T52)","v":""},{"$f":"IF(OR($H$3=\"\",C点!$H112=1),\"\",C点!$H112)","v":""},{"$f":"IF(OR($H$3=\"\",C点!$N112=1),\"\",C点!$N112)","v":""},{"$f":"IF(OR($H$3=\"\",C点!$T112=1),\"\",C点!$T112)","v":""},{"$f":"IF(OR($K$3=\"\",C点!$H172=1),\"\",C点!$H172)","v":""},{"$f":"IF(OR($K$3=\"\",C点!$N172=1),\"\",C点!$N172)","v":""},{"$f":"IF(OR($K$3=\"\",C点!$T172=1),\"\",C点!$T172)","v":""},{"$f":"IF(OR($E$3=\"\",D点!$H52=1),\"\",D点!$H52)","v":""},{"$f":"IF(OR($E$3=\"\",D点!$N52=1),\"\",D点!$N52)","v":""},{"$f":"IF(OR($E$3=\"\",D点!$T52=1),\"\",D点!$T52)","v":""},{"$f":"IF(OR($H$3=\"\",D点!$H112=1),\"\",D点!$H112)","v":""},{"$f":"IF(OR($H$3=\"\",D点!$N112=1),\"\",D点!$N112)","v":""},{"$f":"IF(OR($H$3=\"\",D点!$T112=1),\"\",D点!$T112)","v":""},{"$f":"IF(OR($K$3=\"\",D点!$H172=1),\"\",D点!$H172)","v":""},{"$f":"IF(OR($K$3=\"\",D点!$N172=1),\"\",D点!$N172)","v":""},{"$f":"IF(OR($K$3=\"\",D点!$T172=1),\"\",D点!$T172)","v":""},{"$f":"IF(OR($E$3=\"\",E点!$H52=1),\"\",E点!$H52)","v":""},{"$f":"IF(OR($E$3=\"\",E点!$N52=1),\"\",E点!$N52)","v":""},{"$f":"IF(OR($E$3=\"\",E点!$T52=1),\"\",E点!$T52)","v":""},{"$f":"IF(OR($H$3=\"\",E点!$H112=1),\"\",E点!$H112)","v":""},{"$f":"IF(OR($H$3=\"\",E点!$N112=1),\"\",E点!$N112)","v":""},{"$f":"IF(OR($H$3=\"\",E点!$T112=1),\"\",E点!$T112)","v":""},{"$f":"IF(OR($K$3=\"\",E点!$H172=1),\"\",E点!$H172)","v":""},{"$f":"IF(OR($K$3=\"\",E点!$N172=1),\"\",E点!$N172)","v":""},{"$f":"IF(OR($K$3=\"\",E点!$T172=1),\"\",E点!$T172)","v":""},{"$f":"IF(OR($E$3=\"\",F点!$H52=1),\"\",F点!$H52)","v":""},{"$f":"IF(OR($E$3=\"\",F点!$N52=1),\"\",F点!$N52)","v":""},{"$f":"IF(OR($E$3=\"\",F点!$T52=1),\"\",F点!$T52)","v":""},{"$f":"IF(OR($H$3=\"\",F点!$H112=1),\"\",F点!$H112)","v":""},{"$f":"IF(OR($H$3=\"\",F点!$N112=1),\"\",F点!$N112)","v":""},{"$f":"IF(OR($H$3=\"\",F点!$T112=1),\"\",F点!$T112)","v":""},{"$f":"IF(OR($K$3=\"\",F点!$H172=1),\"\",F点!$H172)","v":""},{"$f":"IF(OR($K$3=\"\",F点!$N172=1),\"\",F点!$N172)","v":""},{"$f":"IF(OR($K$3=\"\",F点!$T172=1),\"\",F点!$T172)","v":""},{"$f":"IF(OR($E$3=\"\",G点!$H52=1),\"\",G点!$H52)","v":""},{"$f":"IF(OR($E$3=\"\",G点!$N52=1),\"\",G点!$N52)","v":""},{"$f":"IF(OR($E$3=\"\",G点!$T52=1),\"\",G点!$T52)","v":""},{"$f":"IF(OR($H$3=\"\",G点!$H112=1),\"\",G点!$H112)","v":""},{"$f":"IF(OR($H$3=\"\",G点!$N112=1),\"\",G点!$N112)","v":""},{"$f":"IF(OR($H$3=\"\",G点!$T112=1),\"\",G点!$T112)","v":""},{"$f":"IF(OR($K$3=\"\",G点!$H172=1),\"\",G点!$H172)","v":""},{"$f":"IF(OR($K$3=\"\",G点!$N172=1),\"\",G点!$H172)","v":""},{"$f":"IF(OR($K$3=\"\",G点!$T172=1),\"\",G点!$T172)","v":""},{"$f":"IF(OR($E$3=\"\",H点!$H52=1),\"\",H点!$H52)","v":""},{"$f":"IF(OR($E$3=\"\",H点!$N52=1),\"\",H点!$N52)","v":""},{"$f":"IF(OR($E$3=\"\",H点!$T52=1),\"\",H点!$T52)","v":""},{"$f":"IF(OR($H$3=\"\",H点!$H112=1),\"\",H点!$H112)","v":""},{"$f":"IF(OR($H$3=\"\",H点!$N112=1),\"\",H点!$N112)","v":""},{"$f":"IF(OR($H$3=\"\",H点!$T112=1),\"\",H点!$T112)","v":""},{"$f":"IF(OR($K$3=\"\",H点!$H172=1),\"\",H点!$H172)","v":""},{"$f":"IF(OR($K$3=\"\",H点!$N172=1),\"\",H点!$N172)","v":""},{"$f":"IF(OR($K$3=\"\",H点!$T172=1),\"\",H点!$T172)","v":""},{"$f":"IF(OR($E$3=\"\",Ｉ点!$H52=1),\"\",Ｉ点!$H52)","v":""},{"$f":"IF(OR($E$3=\"\",Ｉ点!$N52=1),\"\",Ｉ点!$N52)","v":""},{"$f":"IF(OR($E$3=\"\",Ｉ点!$T52=1),\"\",Ｉ点!$T52)","v":""},{"$f":"IF(OR($H$3=\"\",Ｉ点!$H112=1),\"\",Ｉ点!$H112)","v":""},{"$f":"IF(OR($H$3=\"\",Ｉ点!$N112=1),\"\",Ｉ点!$N112)","v":""},{"$f":"IF(OR($H$3=\"\",Ｉ点!$T112=1),\"\",Ｉ点!$T112)","v":""},{"$f":"IF(OR($K$3=\"\",Ｉ点!$H172=1),\"\",Ｉ点!$H172)","v":""},{"$f":"IF(OR($K$3=\"\",Ｉ点!$N172=1),\"\",Ｉ点!$N172)","v":""},{"$f":"IF(OR($K$3=\"\",Ｉ点!$T172=1),\"\",Ｉ点!$T172)","v":""}]
[null,null,"f)　木材(表9)","半価層(mm)",{"$f":"IF(OR($E$3=\"\",A点!$H54=1),\"\",A点!$F53)","v":""},{"$f":"IF(OR($E$3=\"\",A点!$N54=1),\"\",A点!$L53)","v":""},{"$f":"IF(OR($E$3=\"\",A点!$T54=1),\"\",A点!$R53)","v":""},{"$f":"IF(OR($H$3=\"\",A点!$H114=1),\"\",A点!$F113)","v":""},{"$f":"IF(OR($H$3=\"\",A点!$N114=1),\"\",A点!$L113)","v":""},{"$f":"IF(OR($H$3=\"\",A点!$T114=1),\"\",A点!$R113)","v":""},{"$f":"IF(OR($K$3=\"\",A点!$H174=1),\"\",A点!$F173)","v":""},{"$f":"IF(OR($K$3=\"\",A点!$N174=1),\"\",A点!$L173)","v":""},{"$f":"IF(OR($K$3=\"\",A点!$T174=1),\"\",A点!$R173)","v":""},{"$f":"IF(OR($E$3=\"\",B点!$H54=1),\"\",B点!$F53)","v":""},{"$f":"IF(OR($E$3=\"\",B点!$N54=1),\"\",B点!$L53)","v":""},{"$f":"IF(OR($E$3=\"\",B点!$T54=1),\"\",B点!$R53)","v":""},{"$f":"IF(OR($H$3=\"\",B点!$H114=1),\"\",B点!$F113)","v":""},{"$f":"IF(OR($H$3=\"\",B点!$N114=1),\"\",B点!$L113)","v":""},{"$f":"IF(OR($H$3=\"\",B点!$T114=1),\"\",B点!$R113)","v":""},{"$f":"IF(OR($K$3=\"\",B点!$H174=1),\"\",B点!$F173)","v":""},{"$f":"IF(OR($K$3=\"\",B点!$N174=1),\"\",B点!$L173)","v":""},{"$f":"IF(OR($K$3=\"\",B点!$T174=1),\"\",B点!$R173)","v":""},{"$f":"IF(OR($E$3=\"\",C点!$H54=1),\"\",C点!$F53)","v":""},{"$f":"IF(OR($E$3=\"\",C点!$N54=1),\"\",C点!$L53)","v":""},{"$f":"IF(OR($E$3=\"\",C点!$T54=1),\"\",C点!$R53)","v":""},{"$f":"IF(OR($H$3=\"\",C点!$H114=1),\"\",C点!$F113)","v":""},{"$f":"IF(OR($H$3=\"\",C点!$N114=1),\"\",C点!$L113)","v":""},{"$f":"IF(OR($H$3=\"\",C点!$T114=1),\"\",C点!$R113)","v":""},{"$f":"IF(OR($K$3=\"\",C点!$H174=1),\"\",C点!$F173)","v":""},{"$f":"IF(OR($K$3=\"\",C点!$N174=1),\"\",C点!$L173)","v":""},{"$f":"IF(OR($K$3=\"\",C点!$T174=1),\"\",C点!$R173)","v":""},{"$f":"IF(OR($E$3=\"\",D点!$H54=1),\"\",D点!$F53)","v":""},{"$f":"IF(OR($E$3=\"\",D点!$N54=1),\"\",D点!$L53)","v":""},{"$f":"IF(OR($E$3=\"\",D点!$T54=1),\"\",D点!$R53)","v":""},{"$f":"IF(OR($H$3=\"\",D点!$H114=1),\"\",D点!$F113)","v":""},{"$f":"IF(OR($H$3=\"\",D点!$N114=1),\"\",D点!$L113)","v":""},{"$f":"IF(OR($H$3=\"\",D点!$T114=1),\"\",D点!$R113)","v":""},{"$f":"IF(OR($K$3=\"\",D点!$H174=1),\"\",D点!$F173)","v":""},{"$f":"IF(OR($K$3=\"\",D点!$N174=1),\"\",D点!$L173)","v":""},{"$f":"IF(OR($K$3=\"\",D点!$T174=1),\"\",D点!$R173)","v":""},{"$f":"IF(OR($E$3=\"\",E点!$H54=1),\"\",E点!$F53)","v":""},{"$f":"IF(OR($E$3=\"\",E点!$N54=1),\"\",E点!$L53)","v":""},{"$f":"IF(OR($E$3=\"\",E点!$T54=1),\"\",E点!$R53)","v":""},{"$f":"IF(OR($H$3=\"\",E点!$H114=1),\"\",E点!$F113)","v":""},{"$f":"IF(OR($H$3=\"\",E点!$N114=1),\"\",E点!$L113)","v":""},{"$f":"IF(OR($H$3=\"\",E点!$T114=1),\"\",E点!$R113)","v":""},{"$f":"IF(OR($K$3=\"\",E点!$H174=1),\"\",E点!$F173)","v":""},{"$f":"IF(OR($K$3=\"\",E点!$N174=1),\"\",E点!$L173)","v":""},{"$f":"IF(OR($K$3=\"\",E点!$T174=1),\"\",E点!$R173)","v":""},{"$f":"IF(OR($E$3=\"\",F点!$H54=1),\"\",F点!$F53)","v":""},{"$f":"IF(OR($E$3=\"\",F点!$N54=1),\"\",F点!$L53)","v":""},{"$f":"IF(OR($E$3=\"\",F点!$T54=1),\"\",F点!$R53)","v":""},{"$f":"IF(OR($H$3=\"\",F点!$H114=1),\"\",F点!$F113)","v":""},{"$f":"IF(OR($H$3=\"\",F点!$N114=1),\"\",F点!$L113)","v":""},{"$f":"IF(OR($H$3=\"\",F点!$T114=1),\"\",F点!$R113)","v":""},{"$f":"IF(OR($K$3=\"\",F点!$H174=1),\"\",F点!$F173)","v":""},{"$f":"IF(OR($K$3=\"\",F点!$N174=1),\"\",F点!$L173)","v":""},{"$f":"IF(OR($K$3=\"\",F点!$T174=1),\"\",F点!$R173)","v":""},{"$f":"IF(OR($E$3=\"\",G点!$H54=1),\"\",G点!$F53)","v":""},{"$f":"IF(OR($E$3=\"\",G点!$N54=1),\"\",G点!$L53)","v":""},{"$f":"IF(OR($E$3=\"\",G点!$T54=1),\"\",G点!$R53)","v":""},{"$f":"IF(OR($H$3=\"\",G点!$H114=1),\"\",G点!$F113)","v":""},{"$f":"IF(OR($H$3=\"\",G点!$N114=1),\"\",G点!$N113)","v":""},{"$f":"IF(OR($H$3=\"\",G点!$T114=1),\"\",G点!$T113)","v":""},{"$f":"IF(OR($K$3=\"\",G点!$H174=1),\"\",G点!$F173)","v":""},{"$f":"IF(OR($K$3=\"\",G点!$N174=1),\"\",G点!$L173)","v":""},{"$f":"IF(OR($K$3=\"\",G点!$T174=1),\"\",G点!$R173)","v":""},{"$f":"IF(OR($E$3=\"\",H点!$H54=1),\"\",H点!$F53)","v":""},{"$f":"IF(OR($E$3=\"\",H点!$N54=1),\"\",H点!$L53)","v":""},{"$f":"IF(OR($E$3=\"\",H点!$T54=1),\"\",H点!$R53)","v":""},{"$f":"IF(OR($H$3=\"\",H点!$H114=1),\"\",H点!$F113)","v":""},{"$f":"IF(OR($H$3=\"\",H点!$N114=1),\"\",H点!$L113)","v":""},{"$f":"IF(OR($H$3=\"\",H点!$T114=1),\"\",H点!$R113)","v":""},{"$f":"IF(OR($K$3=\"\",H点!$H174=1),\"\",H点!$F173)","v":""},{"$f":"IF(OR($K$3=\"\",H点!$N174=1),\"\",H点!$L173)","v":""},{"$f":"IF(OR($K$3=\"\",H点!$T174=1),\"\",H点!$R173)","v":""},{"$f":"IF(OR($E$3=\"\",Ｉ点!$H54=1),\"\",Ｉ点!$F53)","v":""},{"$f":"IF(OR($E$3=\"\",Ｉ点!$N54=1),\"\",Ｉ点!$L53)","v":""},{"$f":"IF(OR($E$3=\"\",Ｉ点!$T54=1),\"\",Ｉ点!$R53)","v":""},{"$f":"IF(OR($H$3=\"\",Ｉ点!$H114=1),\"\",Ｉ点!$F113)","v":""},{"$f":"IF(OR($H$3=\"\",Ｉ点!$N114=1),\"\",Ｉ点!$L113)","v":""},{"$f":"IF(OR($H$3=\"\",Ｉ点!$T114=1),\"\",Ｉ点!$R113)","v":""},{"$f":"IF(OR($K$3=\"\",Ｉ点!$H174=1),\"\",Ｉ点!$F173)","v":""},{"$f":"IF(OR($K$3=\"\",Ｉ点!$N174=1),\"\",Ｉ点!$L173)","v":""},{"$f":"IF(OR($K$3=\"\",Ｉ点!$T174=1),\"\",Ｉ点!$R173)","v":""}]
[null,null,null,"透過率",{"$f":"IF(OR($E$3=\"\",A点!$H54=1),\"\",A点!$H54)","v":""},{"$f":"IF(OR($E$3=\"\",A点!$N54=1),\"\",A点!$N54)","v":""},{"$f":"IF(OR($E$3=\"\",A点!$T54=1),\"\",A点!$T54)","v":""},{"$f":"IF(OR($H$3=\"\",A点!$H114=1),\"\",A点!$H114)","v":""},{"$f":"IF(OR($H$3=\"\",A点!$N114=1),\"\",A点!$N114)","v":""},{"$f":"IF(OR($H$3=\"\",A点!$T114=1),\"\",A点!$T114)","v":""},{"$f":"IF(OR($K$3=\"\",A点!$H174=1),\"\",A点!$H174)","v":""},{"$f":"IF(OR($K$3=\"\",A点!$N174=1),\"\",A点!$N174)","v":""},{"$f":"IF(OR($K$3=\"\",A点!$T174=1),\"\",A点!$T174)","v":""},{"$f":"IF(OR($E$3=\"\",B点!$H54=1),\"\",B点!$H54)","v":""},{"$f":"IF(OR($E$3=\"\",B点!$N54=1),\"\",B点!$N54)","v":""},{"$f":"IF(OR($E$3=\"\",B点!$T54=1),\"\",B点!$T54)","v":""},{"$f":"IF(OR($H$3=\"\",B点!$H114=1),\"\",B点!$H114)","v":""},{"$f":"IF(OR($H$3=\"\",B点!$N114=1),\"\",B点!$N114)","v":""},{"$f":"IF(OR($H$3=\"\",B点!$T114=1),\"\",B点!$T114)","v":""},{"$f":"IF(OR($K$3=\"\",B点!$H174=1),\"\",B点!$H174)","v":""},{"$f":"IF(OR($K$3=\"\",B点!$N174=1),\"\",B点!$N174)","v":""},{"$f":"IF(OR($K$3=\"\",B点!$T174=1),\"\",B点!$T174)","v":""},{"$f":"IF(OR($E$3=\"\",C点!$H54=1),\"\",C点!$H54)","v":""},{"$f":"IF(OR($E$3=\"\",C点!$N54=1),\"\",C点!$N54)","v":""},{"$f":"IF(OR($E$3=\"\",C点!$T54=1),\"\",C点!$T54)","v":""},{"$f":"IF(OR($H$3=\"\",C点!$H114=1),\"\",C点!$H114)","v":""},{"$f":"IF(OR($H$3=\"\",C点!$N114=1),\"\",C点!$N114)","v":""},{"$f":"IF(OR($H$3=\"\",C点!$T114=1),\"\",C点!$T114)","v":""},{"$f":"IF(OR($K$3=\"\",C点!$H174=1),\"\",C点!$H174)","v":""},{"$f":"IF(OR($K$3=\"\",C点!$N174=1),\"\",C点!$N174)","v":""},{"$f":"IF(OR($K$3=\"\",C点!$T174=1),\"\",C点!$T174)","v":""},{"$f":"IF(OR($E$3=\"\",D点!$H54=1),\"\",D点!$H54)","v":""},{"$f":"IF(OR($E$3=\"\",D点!$N54=1),\"\",D点!$N54)","v":""},{"$f":"IF(OR($E$3=\"\",D点!$T54=1),\"\",D点!$T54)","v":""},{"$f":"IF(OR($H$3=\"\",D点!$H114=1),\"\",D点!$H114)","v":""},{"$f":"IF(OR($H$3=\"\",D点!$N114=1),\"\",D点!$N114)","v":""},{"$f":"IF(OR($H$3=\"\",D点!$T114=1),\"\",D点!$T114)","v":""},{"$f":"IF(OR($K$3=\"\",D点!$H174=1),\"\",D点!$H174)","v":""},{"$f":"IF(OR($K$3=\"\",D点!$N174=1),\"\",D点!$N174)","v":""},{"$f":"IF(OR($K$3=\"\",D点!$T174=1),\"\",D点!$T174)","v":""},{"$f":"IF(OR($E$3=\"\",E点!$H54=1),\"\",E点!$H54)","v":""},{"$f":"IF(OR($E$3=\"\",E点!$N54=1),\"\",E点!$N54)","v":""},{"$f":"IF(OR($E$3=\"\",E点!$T54=1),\"\",E点!$T54)","v":""},{"$f":"IF(OR($H$3=\"\",E点!$H114=1),\"\",E点!$H114)","v":""},{"$f":"IF(OR($H$3=\"\",E点!$N114=1),\"\",E点!$N114)","v":""},{"$f":"IF(OR($H$3=\"\",E点!$T114=1),\"\",E点!$T114)","v":""},{"$f":"IF(OR($K$3=\"\",E点!$H174=1),\"\",E点!$H174)","v":""},{"$f":"IF(OR($K$3=\"\",E点!$N174=1),\"\",E点!$N174)","v":""},{"$f":"IF(OR($K$3=\"\",E点!$T174=1),\"\",E点!$T174)","v":""},{"$f":"IF(OR($E$3=\"\",F点!$H54=1),\"\",F点!$H54)","v":""},{"$f":"IF(OR($E$3=\"\",F点!$N54=1),\"\",F点!$N54)","v":""},{"$f":"IF(OR($E$3=\"\",F点!$T54=1),\"\",F点!$T54)","v":""},{"$f":"IF(OR($H$3=\"\",F点!$H114=1),\"\",F点!$H114)","v":""},{"$f":"IF(OR($H$3=\"\",F点!$N114=1),\"\",F点!$N114)","v":""},{"$f":"IF(OR($H$3=\"\",F点!$T114=1),\"\",F点!$T114)","v":""},{"$f":"IF(OR($K$3=\"\",F点!$H174=1),\"\",F点!$H174)","v":""},{"$f":"IF(OR($K$3=\"\",F点!$N174=1),\"\",F点!$N174)","v":""},{"$f":"IF(OR($K$3=\"\",F点!$T174=1),\"\",F点!$T174)","v":""},{"$f":"IF(OR($E$3=\"\",G点!$H54=1),\"\",G点!$H54)","v":""},{"$f":"IF(OR($E$3=\"\",G点!$N54=1),\"\",G点!$N54)","v":""},{"$f":"IF(OR($E$3=\"\",G点!$T54=1),\"\",G点!$T54)","v":""},{"$f":"IF(OR($H$3=\"\",G点!$H114=1),\"\",G点!$H114)","v":""},{"$f":"IF(OR($H$3=\"\",G点!$N114=1),\"\",G点!$N114)","v":""},{"$f":"IF(OR($H$3=\"\",G点!$T114=1),\"\",G点!$T114)","v":""},{"$f":"IF(OR($K$3=\"\",G点!$H174=1),\"\",G点!$H174)","v":""},{"$f":"IF(OR($K$3=\"\",G点!$N174=1),\"\",G点!$H174)","v":""},{"$f":"IF(OR($K$3=\"\",G点!$T174=1),\"\",G点!$T174)","v":""},{"$f":"IF(OR($E$3=\"\",H点!$H54=1),\"\",H点!$H54)","v":""},{"$f":"IF(OR($E$3=\"\",H点!$N54=1),\"\",H点!$N54)","v":""},{"$f":"IF(OR($E$3=\"\",H点!$T54=1),\"\",H点!$T54)","v":""},{"$f":"IF(OR($H$3=\"\",H点!$H114=1),\"\",H点!$H114)","v":""},{"$f":"IF(OR($H$3=\"\",H点!$N114=1),\"\",H点!$N114)","v":""},{"$f":"IF(OR($H$3=\"\",H点!$T114=1),\"\",H点!$T114)","v":""},{"$f":"IF(OR($K$3=\"\",H点!$H174=1),\"\",H点!$H174)","v":""},{"$f":"IF(OR($K$3=\"\",H点!$N174=1),\"\",H点!$N174)","v":""},{"$f":"IF(OR($K$3=\"\",H点!$T174=1),\"\",H点!$T174)","v":""},{"$f":"IF(OR($E$3=\"\",Ｉ点!$H54=1),\"\",Ｉ点!$H54)","v":""},{"$f":"IF(OR($E$3=\"\",Ｉ点!$N54=1),\"\",Ｉ点!$N54)","v":""},{"$f":"IF(OR($E$3=\"\",Ｉ点!$T54=1),\"\",Ｉ点!$T54)","v":""},{"$f":"IF(OR($H$3=\"\",Ｉ点!$H114=1),\"\",Ｉ点!$H114)","v":""},{"$f":"IF(OR($H$3=\"\",Ｉ点!$N114=1),\"\",Ｉ点!$N114)","v":""},{"$f":"IF(OR($H$3=\"\",Ｉ点!$T114=1),\"\",Ｉ点!$T114)","v":""},{"$f":"IF(OR($K$3=\"\",Ｉ点!$H174=1),\"\",Ｉ点!$H174)","v":""},{"$f":"IF(OR($K$3=\"\",Ｉ点!$N174=1),\"\",Ｉ点!$N174)","v":""},{"$f":"IF(OR($K$3=\"\",Ｉ点!$T174=1),\"\",Ｉ点!$T174)","v":""}]
[null,"装置別",null,null,"A","A'","A\"","A","A'","A\"","A","A'","A\"","B","B'","B\"","B","B'","B\"","B","B'","B\"","C","C'","C\"","C","C'","C\"","C","C'","C\"","D","D'","D\"","D","D'","D\"","D","D'","D\"","E","E'","E\"","E","E'","E\"","E","E'","E\"","F","F'","F\"","F","F'","F\"","F","F'","F\"","G","G'","G\"","G","G'","G\"","G","G'","G\"","H","H'","H\"","H","H'","H\"","H","H'","H\"","I","I'","I\"","I","I'","I\"","I","I'","I\""]
[null,"漏洩実効線量",null,"Ep",{"$f":"A点!$F$21","v":0},{"$f":"A点!$L$21","v":0},{"$f":"A点!$R$21","v":0},{"$f":"A点!$F$81","v":0},{"$f":"A点!$L$81","v":0},{"$f":"A点!$R$81","v":0},{"$f":"A点!$F$141","v":0},{"$f":"A点!$L$141","v":0},{"$f":"A点!$R$141","v":0},{"$f":"B点!$F$21","v":0},{"$f":"B点!$L$21","v":0},{"$f":"B点!$R$21","v":0},{"$f":"B点!$F$81","v":0},{"$f":"B点!$L$81","v":0},{"$f":"B点!$R$81","v":0},{"$f":"B点!$F$141","v":0},{"$f":"B点!$L$141","v":0},{"$f":"B点!$R$141","v":0},{"$f":"C点!$F$21","v":0},{"$f":"C点!$L$21","v":0},{"$f":"C点!$R$21","v":0},{"$f":"C点!$F$81","v":0},{"$f":"C点!$L$81","v":0},{"$f":"C点!$R$81","v":0},{"$f":"C点!$F$141","v":0},{"$f":"C点!$L$141","v":0},{"$f":"C点!$R$141","v":0},{"$f":"D点!$F$21","v":0},{"$f":"D点!$L$21","v":0},{"$f":"D点!$R$21","v":0},{"$f":"D点!$F$81","v":0},{"$f":"D点!$L$81","v":0},{"$f":"D点!$R$81","v":0},{"$f":"D点!$F$141","v":0},{"$f":"D点!$L$141","v":0},{"$f":"D点!$R$141","v":0},{"$f":"E点!$F$21","v":0},{"$f":"E点!$L$21","v":0},{"$f":"E点!$R$21","v":0},{"$f":"E点!$F$81","v":0},{"$f":"E点!$L$81","v":0},{"$f":"E点!$R$81","v":0},{"$f":"E点!$F$141","v":0},{"$f":"E点!$L$141","v":0},{"$f":"E点!$R$141","v":0},{"$f":"F点!$F$21","v":0},{"$f":"F点!$L$21","v":0},{"$f":"F点!$R$21","v":0},{"$f":"F点!$F$81","v":0},{"$f":"F点!$L$81","v":0},{"$f":"F点!$R$81","v":0},{"$f":"F点!$F$141","v":0},{"$f":"F点!$L$141","v":0},{"$f":"F点!$R$141","v":0},{"$f":"G点!$F$21","v":0},{"$f":"G点!$L$21","v":0},{"$f":"G点!$R$21","v":0},{"$f":"G点!$F$81","v":0},{"$f":"G点!$L$81","v":0},{"$f":"G点!$R$81","v":0},{"$f":"G点!$F$141","v":0},{"$f":"G点!$L$141","v":0},{"$f":"G点!$R$141","v":0},{"$f":"H点!$F$21","v":0},{"$f":"H点!$L$21","v":0},{"$f":"H点!$R$21","v":0},{"$f":"H点!$F$81","v":0},{"$f":"H点!$L$81","v":0},{"$f":"H点!$R$81","v":0},{"$f":"H点!$F$141","v":0},{"$f":"H点!$L$141","v":0},{"$f":"H点!$R$141","v":0},{"$f":"Ｉ点!$F$21","v":0},{"$f":"Ｉ点!$L$21","v":0},{"$f":"Ｉ点!$R$21","v":0},{"$f":"Ｉ点!$F$81","v":0},{"$f":"Ｉ点!$L$81","v":0},{"$f":"Ｉ点!$R$81","v":0},{"$f":"Ｉ点!$F$141","v":0},{"$f":"Ｉ点!$L$141","v":0},{"$f":"Ｉ点!$R$141","v":0}]
[null,null,null,"Es",{"$f":"A点!$F$59","v":0},{"$f":"A点!$L$59","v":0},{"$f":"A点!$R$59","v":0},{"$f":"A点!$F$119","v":0},{"$f":"A点!$L$119","v":0},{"$f":"A点!$R$119","v":0},{"$f":"A点!$F$179","v":0},{"$f":"A点!$L$179","v":0},{"$f":"A点!$R$179","v":0},{"$f":"B点!$F$59","v":0},{"$f":"B点!$L$59","v":0},{"$f":"B点!$R$59","v":0},{"$f":"B点!$F$119","v":0},{"$f":"B点!$L$119","v":0},{"$f":"B点!$R$119","v":0},{"$f":"B点!$F$179","v":0},{"$f":"B点!$L$179","v":0},{"$f":"B点!$R$179","v":0},{"$f":"C点!$F$59","v":0},{"$f":"C点!$L$59","v":0},{"$f":"C点!$R$59","v":0},{"$f":"C点!$F$119","v":0},{"$f":"C点!$L$119","v":0},{"$f":"C点!$R$119","v":0},{"$f":"C点!$F$179","v":0},{"$f":"C点!$L$179","v":0},{"$f":"C点!$R$179","v":0},{"$f":"D点!$F$59","v":0},{"$f":"D点!$L$59","v":0},{"$f":"D点!$R$59","v":0},{"$f":"D点!$F$119","v":0},{"$f":"D点!$L$119","v":0},{"$f":"D点!$R$119","v":0},{"$f":"D点!$F$179","v":0},{"$f":"D点!$L$179","v":0},{"$f":"D点!$R$179","v":0},{"$f":"E点!$F$59","v":0},{"$f":"E点!$L$59","v":0},{"$f":"E点!$R$59","v":0},{"$f":"E点!$F$119","v":0},{"$f":"E点!$L$119","v":0},{"$f":"E点!$R$119","v":0},{"$f":"E点!$F$179","v":0},{"$f":"E点!$L$179","v":0},{"$f":"E点!$R$179","v":0},{"$f":"F点!$F$59","v":0},{"$f":"F点!$L$59","v":0},{"$f":"F点!$R$59","v":0},{"$f":"F点!$F$119","v":0},{"$f":"F点!$L$119","v":0},{"$f":"F点!$R$119","v":0},{"$f":"F点!$F$179","v":0},{"$f":"F点!$L$179","v":0},{"$f":"F点!$R$179","v":0},{"$f":"G点!$F$59","v":0},{"$f":"G点!$L$59","v":0},{"$f":"G点!$R$59","v":0},{"$f":"G点!$F$119","v":0},{"$f":"G点!$L$119","v":0},{"$f":"G点!$R$119","v":0},{"$f":"G点!$F$179","v":0},{"$f":"G点!$L$179","v":0},{"$f":"G点!$R$179","v":0},{"$f":"H点!$F$59","v":0},{"$f":"H点!$L$59","v":0},{"$f":"H点!$R$59","v":0},{"$f":"H点!$F$119","v":0},{"$f":"H点!$L$119","v":0},{"$f":"H点!$R$119","v":0},{"$f":"H点!$F$179","v":0},{"$f":"H点!$L$179","v":0},{"$f":"H点!$R$179","v":0},{"$f":"Ｉ点!$F$59","v":0},{"$f":"Ｉ点!$L$59","v":0},{"$f":"Ｉ点!$R$59","v":0},{"$f":"Ｉ点!$F$119","v":0},{"$f":"Ｉ点!$L$119","v":0},{"$f":"Ｉ点!$R$119","v":0},{"$f":"Ｉ点!$F$179","v":0},{"$f":"Ｉ点!$L$179","v":0},{"$f":"Ｉ点!$R$179","v":0}]
[null,null,null,"EL",{"$f":"A点!$F$64","v":0},{"$f":"A点!$L$64","v":0},{"$f":"A点!$R$64","v":0},{"$f":"A点!$F$124","v":0},{"$f":"A点!$L$124","v":0},{"$f":"A点!$R$124","v":0},{"$f":"A点!$F$184","v":0},{"$f":"A点!$L$184","v":0},{"$f":"A点!$R$184","v":0},{"$f":"B点!$F$64","v":0},{"$f":"B点!$L$64","v":0},{"$f":"B点!$R$64","v":0},{"$f":"B点!$F$124","v":0},{"$f":"B点!$L$124","v":0},{"$f":"B点!$R$124","v":0},{"$f":"B点!$F$184","v":0},{"$f":"B点!$L$184","v":0},{"$f":"B点!$R$184","v":0},{"$f":"C点!$F$64","v":0},{"$f":"C点!$L$64","v":0},{"$f":"C点!$R$64","v":0},{"$f":"C点!$F$124","v":0},{"$f":"C点!$L$124","v":0},{"$f":"C点!$R$124","v":0},{"$f":"C点!$F$184","v":0},{"$f":"C点!$L$184","v":0},{"$f":"C点!$R$184","v":0},{"$f":"D点!$F$64","v":0},{"$f":"D点!$L$64","v":0},{"$f":"D点!$R$64","v":0},{"$f":"D点!$F$124","v":0},{"$f":"D点!$L$124","v":0},{"$f":"D点!$R$124","v":0},{"$f":"D点!$F$184","v":0},{"$f":"D点!$L$184","v":0},{"$f":"D点!$R$184","v":0},{"$f":"E点!$F$64","v":0},{"$f":"E点!$L$64","v":0},{"$f":"E点!$R$64","v":0},{"$f":"E点!$F$124","v":0},{"$f":"E点!$L$124","v":0},{"$f":"E点!$R$124","v":0},{"$f":"E点!$F$184","v":0},{"$f":"E点!$L$184","v":0},{"$f":"E点!$R$184","v":0},{"$f":"F点!$F$64","v":0},{"$f":"F点!$L$64","v":0},{"$f":"F点!$R$64","v":0},{"$f":"F点!$F$124","v":0},{"$f":"F点!$L$124","v":0},{"$f":"F点!$R$124","v":0},{"$f":"F点!$F$184","v":0},{"$f":"F点!$L$184","v":0},{"$f":"F点!$R$184","v":0},{"$f":"G点!$F$64","v":0},{"$f":"G点!$L$64","v":0},{"$f":"G点!$R$64","v":0},{"$f":"G点!$F$124","v":0},{"$f":"G点!$L$124","v":0},{"$f":"G点!$R$124","v":0},{"$f":"G点!$F$184","v":0},{"$f":"G点!$L$184","v":0},{"$f":"G点!$R$184","v":0},{"$f":"H点!$F$64","v":0},{"$f":"H点!$L$64","v":0},{"$f":"H点!$R$64","v":0},{"$f":"H点!$F$124","v":0},{"$f":"H点!$L$124","v":0},{"$f":"H点!$R$124","v":0},{"$f":"H点!$F$184","v":0},{"$f":"H点!$L$184","v":0},{"$f":"H点!$R$184","v":0},{"$f":"Ｉ点!$F$64","v":0},{"$f":"Ｉ点!$L$64","v":0},{"$f":"Ｉ点!$R$64","v":0},{"$f":"Ｉ点!$F$124","v":0},{"$f":"Ｉ点!$L$124","v":0},{"$f":"Ｉ点!$R$124","v":0},{"$f":"Ｉ点!$F$184","v":0},{"$f":"Ｉ点!$L$184","v":0},{"$f":"Ｉ点!$R$184","v":0}]
[null,null,null,"合計",{"$f":"SUM(E28:E30)","v":0},{"$f":"SUM(F28:F30)","v":0},0,0,0,0,0,0,0,{"$f":"SUM(N28:N30)","v":0},{"$f":"SUM(O28:O30)","v":0},0,0,0,0,0,0,0,{"$f":"SUM(W28:W30)","v":0},{"$f":"SUM(X28:X30)","v":0},0,0,0,0,0,0,0,{"$f":"SUM(AF28:AF30)","v":0},{"$f":"SUM(AG28:AG30)","v":0},0,0,0,0,0,0,0,{"$f":"SUM(AO28:AO30)","v":0},{"$f":"SUM(AP28:AP30)","v":0},0,0,0,0,0,0,0,{"$f":"SUM(AX28:AX30)","v":0},{"$f":"SUM(AY28:AY30)","v":0},0,0,0,0,0,0,0,{"$f":"SUM(BG28:BG30)","v":0},{"$f":"SUM(BH28:BH30)","v":0},0,0,0,0,0,0,0,{"$f":"SUM(BP28:BP30)","v":0},{"$f":"SUM(BQ28:BQ30)","v":0},0,0,0,0,0,0,0,{"$f":"SUM(BY28:BY30)","v":0},0,0,0,0,0,0,0,0]
[null,"選択遮蔽材判定"]
[null,"壁材別合計",null,null,"A","A'","A\"",null,null,null,null,null,null,"B","B'","B\"",null,null,null,null,null,null,"C","C'","C\"",null,null,null,null,null,null,"D","D'","D\"",null,null,null,null,null,null,"E","E'","E\"",null,null,null,null,null,null,"F","F'","F\"",null,null,null,null,null,null,"G","G'","G\"",null,null,null,null,null,null,"H","H'","H\"",null,null,null,null,null,null,"I","I'","I\""]
[null,"漏洩実効線量",null,"Ep",{"$f":"E28+H28+K28","v":0},{"$f":"F28+I28+L28","v":0},0,null,null,null,null,null,null,{"$f":"N28+Q28+T28","v":0},{"$f":"O28+R28+U28","v":0},{"$f":"P28+S28+V28","v":0},null,null,null,null,null,null,{"$f":"W28+Z28+AC28","v":0},{"$f":"X28+AA28+AD28","v":0},{"$f":"Y28+AB28+AE28","v":0},null,null,null,null,null,null,{"$f":"AF28+AI28+AL28","v":0},{"$f":"AG28+AJ28+AM28","v":0},{"$f":"AH28+AK28+AN28","v":0},null,null,null,null,null,null,{"$f":"AO28+AR28+AU28","v":0},{"$f":"AP28+AS28+AV28","v":0},{"$f":"AQ28+AT28+AW28","v":0},null,null,null,null,null,null,{"$f":"AX28+BA28+BD28","v":0},{"$f":"AY28+BB28+BE28","v":0},{"$f":"AZ28+BC28+BF28","v":0},null,null,null,null,null,null,{"$f":"BG28+BJ28+BM28","v":0},{"$f":"BH28+BK28+BN28","v":0},{"$f":"BI28+BL28+BO28","v":0},null,null,null,null,null,null,{"$f":"BP28+BS28+BV28","v":0},{"$f":"BQ28+BT28+BW28","v":0},{"$f":"BR28+BU28+BX28","v":0},null,null,null,null,null,null,{"$f":"BY28+CB28+CE28","v":0},{"$f":"BZ28+CC28+CF28","v":0},{"$f":"CA28+CD28+CG28","v":0}]
[null,null,null,"Es",{"$f":"E29+H29+K29","v":0},0,0,null,null,null,null,null,null,{"$f":"N29+Q29+T29","v":0},0,0,null,null,null,null,null,null,{"$f":"W29+Z29+AC29","v":0},0,0,null,null,null,null,null,null,{"$f":"AF29+AI29+AL29","v":0},0,0,null,null,null,null,null,null,{"$f":"AO29+AR29+AU29","v":0},0,0,null,null,null,null,null,null,{"$f":"AX29+BA29+BD29","v":0},0,0,null,null,null,null,null,null,{"$f":"BG29+BJ29+BM29","v":0},0,0,null,null,null,null,null,null,{"$f":"BP29+BS29+BV29","v":0},0,0,null,null,null,null,null,null,{"$f":"BY29+CB29+CE29","v":0},0,0]
[null,null,null,"EL",0,0,0,null,null,null,null,null,null,0,0,0,null,null,null,null,null,null,0,0,0,null,null,null,null,null,null,0,0,0,null,null,null,null,null,null,0,0,0,null,null,null,null,null,null,0,0,0,null,null,null,null,null,null,0,0,0,null,null,null,null,null,null,0,0,0,null,null,null,null,null,null,0,0,0]
[null,null,null,"合計",0,0,0,null,null,null,null,null,null,0,0,0,null,null,null,null,null,null,0,0,0,null,null,null,null,null,null,0,0,0,null,null,null,null,null,null,0,0,0,null,null,null,null,null,null,0,0,0,null,null,null,null,null,null,0,0,0,null,null,null,null,null,null,0,0,0,null,null,null,null,null,null,0,0,0]
[null,"選択遮蔽材",null,null,{"$f":"IF(MAX(E37:G37)=0,\"\",(INDEX(E33:G37,1,MATCH(MAX(E37:G37),E37:G37,0))))","v":""},null,null,null,null,null,null,null,null,{"$f":"IF(MAX(N37:P37)=0,\"\",(INDEX(N33:P37,1,MATCH(MAX(N37:P37),N37:P37,0))))","v":""},null,null,null,null,null,null,null,null,{"$f":"IF(MAX(W37:Y37)=0,\"\",(INDEX(W33:Y37,1,MATCH(MAX(W37:Y37),W37:Y37,0))))","v":""},null,null,null,null,null,null,null,null,{"$f":"IF(MAX(AF37:AH37)=0,\"\",(INDEX(AF33:AH37,1,MATCH(MAX(AF37:AH37),AF37:AH37,0))))","v":""},null,null,null,null,null,null,null,null,{"$f":"IF(MAX(AO37:AQ37)=0,\"\",(INDEX(AO33:AQ37,1,MATCH(MAX(AO37:AQ37),AO37:AQ37,0))))","v":""},null,null,null,null,null,null,null,null,{"$f":"IF(MAX(AX37:AZ37)=0,\"\",(INDEX(AX33:AZ37,1,MATCH(MAX(AX37:AZ37),AX37:AZ37,0))))","v":""},null,null,null,null,null,null,null,null,{"$f":"IF(MAX(BG37:BI37)=0,\"\",(INDEX(BG33:BI37,1,MATCH(MAX(BG37:BI37),BG37:BI37,0))))","v":""},null,null,null,null,null,null,null,null,{"$f":"IF(MAX(BP37:BR37)=0,\"\",(INDEX(BP33:BR37,1,MATCH(MAX(BP37:BR37),BP37:BR37,0))))","v":""},null,null,null,null,null,null,null,null,{"$f":"IF(MAX(BY37:CA37)=0,\"\",(INDEX(BY33:CA37,1,MATCH(MAX(BY37:CA37),BY37:CA37,0))))","v":""}]

{"sheet":"入力方法","index":27,"n_rows":38,"n_cols":4,"rows_kept":38,"cut":false,"hidden":false,"merged":[]}
["基本入力"]
["1. 入力用シート「白抜きセル」に入力"]
[null,"1)室名、施設名は装置1のみでもかまいません。(合計出力の測定点は装置1から取得しています)"]
[null,"2)基本的には装置ごとに入力してください。合計計算で積算値がでます。"]
[null,null,"１部屋に２装置ある場合で、個別に線量評価不要である場合は、同時入力可能です。"]
[null,null,"　　その場合、構造配置を同一にしてください。"]
[null,"3)照射野は、面積のみ関係しますので、縦横不明の場合は、縦1cm×横(照射野)cmの入力でもかまいません。"]
[null,"4)画壁は1番目(左)から入力して下さい。3パターン入力(A点の場合A,A'A'')できますが、上下はどこに入力しても計算できます。"]
[null,null,"○：A点1番目のみ、A''点1番目のみ、A'点1,2,3番目"]
[null,null,"×：A点2番目のみ、A'点2番目のみ、A\"点3～5番目"]
["2. 「装置1登録」ボタンを押す。（出力1シートにデータが移動し、入力用シートがリセットされます。入力済装置は上に入力済と表示されます。）"]
["3. 続いて装置2～装置5も同様の操作を繰りかえす。"]
["4. 訂正のある場合は、訂正したい装置の登録ボタンの下にある「装置○修正」ボタンを押して修正、再度「装置○登録」ボタンを押して下さい。"]
["5. 線量オーバーでも、管理区域外が地下等、人が立ち入るおそれのない場所である場合で「適」判定にしたい場合、判定参考で理由を選択すると「適」になります。"]
["6. 合計出力は各出力と連動し値入力されますが、屋上や地下等総合的に「適」としたい場合は、判定参考に手入力して下さい。"]
[]
[]
["詳細"]
["1. 入力用シート"]
[null,"「このシートをリセット」ボタンで入力用シートをリセットできます。"]
[null,"「初期状態へ」ボタンで全データ（入力用、出力1～5シート全部）を消去します。"]
[]
["2. 出力シート"]
[null,"装置1～5は、出力1～5に対応しています。"]
[]
["3．バージョン情報"]
[null,null,"Ver101","初期配布版"]
[null,null,"Ver102","訂正ボタン追加"]
[null,null,"Ｖｅｒ２０１","距離の入力を１つに"]
[null,null,"Ｖｅｒ２０２　","施設名入力追加、陽極素材のコード変更、撮影条件に任意の値入力可能（エラーが出ますが続けますか？「はい」で入力可能）"]
[]
[]
["4. その他"]
[null,"ファイルはどこに保存しても構いません。"]
[null,"シート名、ファイル名を変更した場合は、一部マクロが動きませんが、計算はできますので結果のみ保存したい場合はファイル名を変更して保存しても構いません。"]
[null,null,"計算式等確認したい場合、入力用シートBR56付近に非表示シートの「シート再表示」ボタンがあります。"]
[null,"　　計算シートを再度非表示にしたい場合は、「計算シートを隠す」ボタンを押して下さい。（全部表示されていないとエラーがでます。）"]
[null,null,"※この機能を使うためには、ブック保護の解除（要パスワード）が必要です。"]